{"text_format":"1","workbook":"xlsx","n_sheets":49,"sheets":["Notes","Plan des comptes 2025","Mapping","Data BG","Import","Ctrl Cptes HF","Notice","Identification","Sommaire","Page de garde","Balance","Donnees comptables","Bilan d'ensemble Actif","Bilan d'ensemble Passif","Compte de resultat d'ensemble","Annexe Principes et ref.","Annexe Methodes","Perimetre 434-1","Perimetre suite 434-1","Etat sur l'actif 435-1","Determination des ecarts 435-2","Reevaluation des ecarts 435-3","Titres de participation 435-4","Liste des prets octroyes 435-5","Stocks 435-6","Creances 435-7","Provisions 435-8","Pensions et retraites 435-9","Passifs 435-10","Dettes 435-11","Emprunts souscrits 435-12","Aide publique 435-13","Dons et cotisations 435-14","Contributions 435-15","Facturation 435-16","Frais de campagne 435-17","Contributions partis 435-18","Contributions HP 435-19","Contributions org. HP 435-20","Concours en nature 435-21","Autres informations","Effectifs 436-1","Engagements financiers 436-2","Redevances 436-3","Honoraires CAC 436-6","Remunerations dirigeants 436-4","Remunerations mandataires 436-5","Prets 436-7","Emprunts 436-8"],"not_rendered":{"charts":0,"images":0,"macros":1,"external_links":1,"defined_names":100,"comments":0,"pivot_tables":0},"unopened":[],"bounds":{"document_bytes":16777216,"sheet_cells":100000,"rows_first":2000,"rows_last":500,"rows_between":2000,"halvings":0,"cell_chars":16384,"cell_head_chars":4096},"cells_cut":0,"cells_raw":0,"read":"whole","date_system":"1900"}

{"sheet":"Notes","index":0,"n_rows":0,"n_cols":0,"rows_kept":0,"cut":false,"hidden":true,"merged":[]}

{"sheet":"Plan des comptes 2025","index":1,"n_rows":836,"n_cols":5,"rows_kept":836,"cut":false,"hidden":false,"merged":[]}
[]
["COMPTES","INTITULES COMPTES"]
[1011,"Capital souscrit - non appelé","Couleurs "]
[1012,"Capital souscrit - appelé, non versé"]
[1013,"Capital souscrit - appelé, versé",null,null,"Comptes identiques au plan de comptes 2024"]
[10131,"Capital non amorti"]
[10132,"Capital amorti",null,null,"Nouveau compte ou nouveau libelllé ou nouveau numéro de compte pour 2025"]
[1018,"Capital souscrit soumis à des réglementations particulières"]
[1025,"Legs et donation avec contrepartie d'actifs immobilisés",null,null,"Comptes spécifiques aux partis maintenus"]
[1041,"Primes d'émission"]
[1042,"Primes de fusion",null,null,"Comptes qui existaient en 2024 et maintenus en 2025"]
[1043,"Primes d'apport"]
[1044,"Primes de conversion d'obligations en actions",null,null,"Comptes spécifiques aux partis  de ANC 2018-03 maintenus"]
[1045,"Bons de souscription d'actions"]
[1051,"Réserve spéciale de réévaluation"]
[1052,"Écart de réévaluation libre"]
[1053,"Réserve de réévaluation"]
[1055,"Écarts de réévaluation (autres opérations légales)"]
[1060,"Réserves"]
[1061,"Ecart d'ouverture du premier bilan"]
[1062,"Réserves libres"]
[1063,"Réserves pour frais de campagnes électorales"]
[1064,"Réserves réglementées"]
[1065,"Réserves - Intérêts des tiers "]
[1066,"Réserves pour frais de manifestations"]
[1068,"Autres réserves"]
[1070,"Ecarts d'équivalence"]
[1090,"Actionnaires : capital souscrit non appelé"]
[1100,"Report à nouveau (solde créditeur)"]
[1190,"Report à nouveau (solde débiteur)"]
[1200,"Résultat de l'exercice (bénéfice)"]
[1209,"Acomptes sur dividendes"]
[1250,"Résultat - intérêts des tiers"]
[1290,"Résultat de l'exercice (perte)"]
[1310,"Subventions d'équipement octroyées"]
[1391,"Subventions d'équipement inscrites au compte de résultat"]
[1450,"Amortissements dérogatoires"]
[1480,"Autres provisions réglementées"]
[1511,"Provisions pour litiges"]
[1512,"Provisions pour garanties données aux clients"]
[1514,"Provisions pour amendes et pénalités"]
[1515,"Provisions pour pertes de change"]
[1516,"Provisions pour pertes sur contrats"]
[1518,"Autres provisions pour risques"]
[1521,"Provisions pour pensions et obligations similaires"]
[1522,"Provisions pour restructurations"]
[1523,"Provisions pour impôts"]
[1524,"Provisions pour renouvellement des immobilisations (entreprises concessionnaires)"]
[1525,"Provisions pour gros entretien ou grandes révisions"]
[1526,"Provisions pour remises en état"]
[1527,"Autres provisions pour charges"]
[1610,"Emprunts auprès des personnes physiques à taux préférentiel"]
[1611,"Emprunts auprès des personnes physiques à taux préférentiel"]
[1620,"Autres emprunts auprès des personnes physiques"]
[1621,"Autres emprunts auprès des personnes physiques"]
[1630,"Emprunts auprès des partis ou groupements politiques"]
[1631,"Emprunts auprès des partis ou groupements politiques"]
[1640,"Emprunts auprès des établissements de crédit"]
[1641,"Emprunts auprès des établissements de crédit"]
[1648,"Intérêts courus sur emprunts auprès des établissements de crédit"]
[1650,"Dépôts et cautionnements reçus"]
[1651,"Dépôts"]
[1655,"Cautionnements"]
[1658,"Intérêts courus sur dépôts et cautionnements reçus"]
[1660,"Participation des salariés aux résultats"]
[1661,"Comptes bloqués"]
[1662,"Fonds de participation"]
[1668,"Intérêts courus sur participation des salariés aux résultats"]
[1670,"Emprunts et dettes assortis de conditions particulières"]
[1671,"Emissions de titres participatifs"]
[1674,"Avances conditionnées de l'Etat"]
[1675,"Emprunts participatifs"]
[1680,"Autres emprunts et dettes assimilées"]
[1681,"Autres emprunts"]
[1685,"Rentes viagères capitalisées"]
[1687,"Autres dettes"]
[168821,"Intérêts courus sur emprunts auprès des personnes physiques à taux préférentiel"]
[168822,"Intérêts courus sur emprunts auprès des personnes physiques"]
[16888,"Intérêts courus sur autres emprunts et dettes assimilées"]
[16889,"sur emprunts auprès des partis et groupements politiques"]
[1690,"Primes de remboursement des obligations"]
[1710,"Dettes rattachées à des participations (groupe)"]
[1740,"Dettes rattachées à des participations (hors groupe)"]
[1780,"Dettes rattachées à des sociétés en participation"]
[2010,"Frais d'établissement"]
[2011,"Frais de constitution"]
[2012,"Frais de premier établissement"]
[2013,"Frais d'augmentation de capital et d'opérations diverses (fusions, scissions, transformations)"]
[2030,"Frais de développement"]
[2050,"Concessions et droits similaires, brevets, licences, marques, procédés, logiciels, droits et valeurs similaires"]
[2060,"Droit au bail"]
[2070,"Fonds commercial"]
[2073,"Ecarts d'acquisition"]
[2080,"Autres immobilisations incorporelles"]
[2081,"Mali de fusion sur actifs incorporels"]
[2110,"Terrains"]
[2111,"Terrains nus"]
[2112,"Terrains aménagés"]
[2113,"Sous-sols et sur-sols"]
[2114,"Terrains de carrières (tréfonds)"]
[2115,"Terrains bâtis"]
[2116,"Compte d'ordre sur immobilisations (art: 6 du décret n° 78-737 du 11 juillet 1978)"]
[2120,"Agencements et aménagements de terrains (même ventilation que celle du compte 211)"]
[2130,"Constructions"]
[2131,"Bâtiments"]
[2135,"Installations générales - agencements - aménagements des constructions (même ventilation que celle du compte 2131)"]
[2138,"Ouvrages d'infrastructure"]
[2140,"Constructions sur sol d'autrui (même ventilation que celle du compte 213)"]
[2150,"Installations techniques, matériels et outillage industriels"]
[2151,"Installations complexes spécialisées"]
[2153,"Installations à caractère spécifique"]
[2154,"Matériel industriel"]
[2155,"Outillage industriel"]
[2157,"Agencements et aménagements de matériel et outillage industriels"]
[2180,"Autres immobilisations corporelles"]
[2181,"Installations générales, agencements, aménagements divers"]
[2182,"Matériel de transport"]
[2183,"Matériel de bureau et matériel informatique"]
[2184,"Mobilier"]
[2185,"Cheptel"]
[2186,"Emballages récupérables"]
[2187,"Mali de fusion sur actifs corporels"]
[2310,"Immobilisations corporelles en cours"]
[2312,"Immobilisations corporelles en cours - Terrains"]
[2313,"Immobilisations corporelles en cours - Constructions"]
[2315,"Immobilisations corporelles en cours - Installations techniques, matériel et outillage industriels"]
[2318,"Immobilisations corporelles en cours - Autres immobilisations corporelles"]
[2320,"Immobilisations incorporelles en cours"]
[2370,"Avances et acomptes versés sur immobilisations incorporelles"]
[2380,"Avances et acomptes versés sur commandes d'immobilisations corporelles"]
[2382,"Terrains"]
[2383,"Constructions"]
[2385,"Installations techniques, matériel et outillage industriels"]
[2388,"Autres immobilisations corporelles"]
[2610,"Titres de participation"]
[2611,"Actions"]
[2618,"Autres titres"]
[2660,"Autres formes de participation"]
[2670,"Créances rattachées à des participations"]
[2671,"Créances rattachées à des participations (groupe)"]
[2674,"Créances rattachées à des participations (hors groupe)"]
[2675,"Versements représentatifs d'apports non capitalisés (appel de fonds)"]
[2676,"Avances consolidables"]
[2677,"Autres créances rattachées à des participations"]
[2678,"Intérêts courus"]
[2680,"Créances rattachées à des sociétés en participation"]
[2681,"Principal"]
[2688,"Intérêts courus"]
[2690,"Versements restant à effectuer sur titres de participation non libérés"]
[2710,"Titres immobilisés autres que les titres immobilisés de l'activité de portefeuille (droit de propriété)"]
[2711,"Actions"]
[2718,"Autres titres"]
[2720,"Titres immobilisés (droit de créance)"]
[2721,"Obligations"]
[2722,"Bons"]
[2730,"Titres immobilisés de l'activité de portefeuille"]
[2741,"Prêts à des partis ou groupements politiques"]
[2742,"Prêts aux candidats"]
[2743,"Prêts aux organisations territoriales ou spécialisées du parti"]
[2744,"Prêts à d'autres organismes"]
[2745,"Prêts au personnel"]
[2748,"Autres prêts"]
[2750,"Dépôts et cautionnements versés"]
[2751,"Dépôts"]
[2755,"Cautionnements"]
[2760,"Autres créances immobilisées"]
[2761,"Créances diverses"]
[2768,"Intérêts courus"]
[2770,"Actions propres ou parts propres"]
[2771,"Actions propres ou parts propres"]
[2772,"Actions propres ou parts propres en voie d’annulation"]
[2780,"Mali de fusion sur actifs financiers"]
[2790,"Versements restant à effectuer sur titres immobilisés non libérés"]
[2800,"Amortissements des immobilisations incorporelles"]
[2801,"Frais d'établissement (même ventilation que celle du compte 201)"]
[2803,"Frais de développement"]
[2805,"Concessions et droits similaires, brevets, licences, logiciels, droits et valeurs similaires"]
[2807,"Fonds commercial"]
[2808,"Autres immobilisations incorporelles"]
[2810,"Amortissements des immobilisations corporelles"]
[2812,"Agencements, aménagements de terrains (même ventilation que celle du compte 212)"]
[2813,"Constructions (même ventilation que celle du compte 213)"]
[2814,"Constructions sur sol d'autrui (même ventilation que celle du compte 214)"]
[2815,"Installations, matériel et outillage industriels (même ventilation que celle du compte 215)"]
[2818,"Autres immobilisations corporelles (même ventilation que celle du compte 218)"]
[2820,"Amortissements des immobilisations mises en concession"]
[2900,"Dépréciations des immobilisations incorporelles"]
[2901,"Frais d'établissement"]
[2903,"Frais de développement"]
[2905,"Marques, procédés, droits et valeurs similaires"]
[2906,"Droit au bail"]
[2907,"Fonds commercial"]
[29073,"Amortissment écarts d'acquisition"]
[2908,"Autres immobilisations incorporelles"]
[2910,"Dépréciations des immobilisations corporelles (même ventilation que celle du compte 21)"]
[2911,"Terrains "]
[2912,"Agencements, aménagements de terrains"]
[2913,"Constructions"]
[2914,"Constructions sur sol d'autrui "]
[2915,"Installations, matériel et outillage industriels "]
[2918,"Autres immobilisations corporelles "]
[2920,"Dépréciations des immobilisations mises en concession"]
[2930,"Dépréciations des immobilisations en cours"]
[2931,"Immobilisations corporelles en cours"]
[2932,"Immobilisations incorporelles en cours"]
[2960,"Dépréciations des participations et créances rattachées à des participations"]
[2961,"Titres de participation"]
[2966,"Autres formes de participation"]
[2967,"Créances rattachées à des participations (même ventilation que celle du compte 267)"]
[2968,"Créances rattachées à des sociétés en participation (même ventilation que celle du compte 268)"]
[2970,"Dépréciations des autres immobilisations financières"]
[2971,"Titres immobilisés autres que les titres immobilisés de l'activité de portefeuille - droit de propriété (même ventilation que celle du compte 271)"]
[2972,"Titres immobilisés - droit de créance "]
[2973,"Titres immobilisés de l'activité de portefeuille"]
[2974,"Prêts (même ventilation que celle du compte 274)"]
[29741,"Prêts (même ventilation que celle du compte 274)"]
[29742,"Prêts (même ventilation que celle du compte 274)"]
[29743,"Prêts (même ventilation que celle du compte 274)"]
[29744,"Prêts (même ventilation que celle du compte 274)"]
[29745,"Prêts (même ventilation que celle du compte 274)"]
[29748,"Prêts (même ventilation que celle du compte 274)"]
[2975,"Dépôts et cautionnements versés "]
[2976,"Autres créances immobilisées "]
[3170,"Matières premières et fournitures"]
[3210,"Matières consommables"]
[3220,"Fournitures consommables"]
[3225,"Fournitures de bureau"]
[3700,"Marchandises"]
[3917,"Dépréciation des matières premières et fournitures"]
[3920,"Dépréciations des autres approvisionnements"]
[3970,"Dépréciations des stocks de marchandises"]
[4000,"Fournisseurs et Comptes rattachés"]
[4010,"Fournisseurs"]
[4011,"Fournisseurs - Achats de biens et prestations de services"]
[4017,"Fournisseurs - Retenues de garantie"]
[4030,"Fournisseurs - Effets à payer"]
[4040,"Fournisseurs d'immobilisations"]
[4041,"Fournisseurs - Achats d'immobilisations"]
[4047,"Fournisseurs d'immobilisations - Retenues de garantie"]
[4050,"Fournisseurs d'immobilisations - Effets à payer"]
[4080,"Fournisseurs - Factures non parvenues"]
[4081,"Fournisseurs"]
[4084,"Fournisseurs d'immobilisations"]
[4088,"Fournisseurs - Intérêts courus"]
[4090,"Fournisseurs débiteurs"]
[4091,"Fournisseurs - Avances et acomptes versés sur commandes"]
[4096,"Fournisseurs - Créances pour emballages et matériel à rendre"]
[4097,"Fournisseurs - Autres avoirs"]
[40971,"Fournisseurs d'exploitation"]
[40974,"Fournisseurs d'immobilisations"]
[4098,"Rabais, remises, ristournes à obtenir et autres avoirs non encore reçus"]
[4100,"Clients et comptes rattachés"]
[4110,"Clients"]
[4111,"Clients - Ventes de biens ou de prestations de services"]
[4117,"Clients - Retenues de garantie"]
[4130,"Clients - Effets à recevoir"]
[4160,"Clients douteux ou litigieux"]
[4180,"Clients - Produits non encore facturés"]
[4181,"Clients - Factures à établir"]
[4188,"Clients - Intérêts courus"]
[4190,"Clients créditeurs"]
[4191,"Clients - Avances et acomptes reçus sur commandes"]
[4196,"Clients - Dettes sur emballages et matériels consignés"]
[4197,"Clients - Autres avoirs"]
[4198,"Rabais, remises, ristournes à accorder et autres avoirs à établir"]
[4210,"Personnel - Rémunérations dues"]
[4211,"Personnel - Rémunérations dues"]
[4220,"Comité social et économique"]
[4240,"Participation des salariés aux résultats"]
[4246,"Réserve spéciale (art: L: 442-2 du code du travail)"]
[4248,"Comptes courants"]
[4250,"Personnel - Avances et acomptes"]
[4260,"Personnel - Dépôts"]
[4270,"Personnel - Oppositions"]
[4280,"Personnel - Charges à payer et produits à recevoir"]
[4282,"Dettes provisionnées pour congés à payer"]
[4284,"Dettes provisionnées pour participation des salariés aux résultats"]
[4286,"Autres charges à payer"]
[4310,"Sécurité sociale"]
[4311,"Sécurité sociale"]
[4370,"Autres organismes sociaux"]
[4371,"Autres organismes sociaux"]
[4372,"Autres organismes sociaux"]
[4373,"Autres organismes sociaux"]
[4374,"Autres organismes sociaux"]
[4375,"Autres organismes sociaux"]
[4376,"Autres organismes sociaux"]
[4377,"Autres organismes sociaux"]
[4380,"Organismes sociaux - Charges à payer et produits à recevoir"]
[4382,"Charges sociales sur congés à payer"]
[4386,"Autres charges à payer"]
[4410,"État - Aides publiques à recevoir"]
[4411,"Aides publiques d'investissement"]
[4417,"Aides publiques d'exploitation "]
[4418,"Aides publiques d'équilibre"]
[4419,"Avances sur aides publiques"]
[4420,"Etat - Impôts et taxes recouvrables sur des tiers"]
[4421,"Etat - PAS"]
[4422,"Etat - Prélèvements forfaitaires non libératoires "]
[4423,"Etat - Retenues et prélèvements sur les distributions"]
[4440,"Etat - Impôts sur les bénéfices"]
[4450,"Etat - Taxes sur le chiffre d'affaires"]
[4452,"T.V.A due intracommunautaire"]
[4455,"Taxes sur le chiffre d'affaires à décaisser"]
[44551,"T.V.A à décaisser"]
[44558,"Taxes assimilées à la T.V.A."]
[4456,"Taxes sur le chiffre d'affaires déductibles"]
[44562,"T.V.A sur immobilisations"]
[44563,"T.V.A transférée par d'autres entreprises"]
[44566,"T.V.A sur autres biens et services"]
[44567,"Crédit de T.V.A à reporter"]
[44568,"Taxes assimilées à la T.V.A."]
[4457,"Taxes sur le chiffre d'affaires collectées par l'entreprise"]
[44571,"T.V.A collectée"]
[44578,"Taxes assimilées à la T.V.A."]
[4458,"Taxes sur le chiffre d'affaires à régulariser ou en attente"]
[44581,"Acomptes - Régime simplifié d'imposition"]
[44582,"Acomptes - Régime du forfait"]
[44583,"Remboursement de taxes sur le chiffre d'affaires demandé"]
[44584,"T.V.A récupérée d'avance"]
[44586,"Taxes sur le chiffre d'affaires sur factures non parvenues"]
[44587,"Taxes sur le chiffre d'affaires sur factures à établir"]
[4460,"Obligations cautionnées"]
[4470,"Autres impôts, taxes et versements assimilés"]
[4471,"Autres impôts, taxes et versements assimilés"]
[4480,"Etat - Charges à payer et produits à recevoir"]
[44811,"Charges fiscales sur congés à payer"]
[44812,"Charges à payer"]
[4482,"Produits à recevoir"]
[4490,"Quotas d'émission à acquérir"]
[4500,"Associations de financement, mandataires financiers, fédérations et autres structures locales"]
[4501,"Associations de financement, mandataires financiers, fédérations et autres structures locales"]
[4502,"Associations de financement, mandataires financiers, fédérations et autres structures locales"]
[4503,"Associations de financement, mandataires financiers, fédérations et autres structures locales"]
[4504,"Associations de financement, mandataires financiers, fédérations et autres structures locales"]
[4510,"Associations de financement, mandataires financiers, fédérations et autres structures locales"]
[4511,"Associations de financement, mandataires financiers, fédérations et autres structures locales"]
[4530,"comptes courants des structures territoriales (sections) "]
[4531,"comptes courants des structures territoriales (sections) "]
[4532,"Dettes et Créances fédérations / sections"]
[4533,"Dettes et Créances fédérations / sections"]
[4534,"Dettes et Créances fédérations / sections"]
[4535,"Dettes et Créances fédérations / sections"]
[4536,"Dettes et Créances fédérations / sections"]
[4537,"Dettes et Créances fédérations / sections"]
[4550,"Associés - Comptes courants"]
[4551,"Principal"]
[4558,"Intérêts courus"]
[4560,"Associés - Opérations sur le capital"]
[4561,"Associés - Comptes d'apport en société"]
[45611,"Apports en nature"]
[45615,"Apports en numéraire"]
[4562,"Apporteurs - Capital appelé, non versé"]
[45621,"Actionnaires - Capital souscrit et appelé, non versé"]
[45625,"Associés - Capital appelé, non versé"]
[4563,"Associés - Versements reçus sur augmentation de capital"]
[4564,"Associés - Versements anticipés"]
[4566,"Actionnaires défaillants"]
[4567,"Associés - Capital à rembourser"]
[4570,"Associés - Dividendes à payer"]
[4580,"Associés - Opérations faites en commun et en G.I.E."]
[4581,"Opérations courantes"]
[4588,"Intérêts courus"]
[4610,"Créances auprès de partis ou groupements politiques"]
[4620,"Créances sur cessions d'immobilisations"]
[4630,"Dettes diverses"]
[4631,"Dettes envers des partis ou groupements politiques"]
[4632,"Dettes envers les candidats"]
[4633,"Dettes envers les organisations territoriales ou spécialisées du parti"]
[4634,"Dettes envers d'autres organismes"]
[4635,"Dettes envers les donateurs et cotisants"]
[4640,"Dettes sur acquisitions de valeurs mobilières de placement"]
[4650,"Créances sur cessions de valeurs mobilières de placement"]
[4670,"Divers comptes débiteurs et produits à recevoir"]
[4671,"Actifs des entités non significatives"]
[4672,"Passifs des entités non significatives"]
[4673,"Autres comptes débiteurs et produits à recevoir"]
[4674,"Autres comptes débiteurs et produits à recevoir"]
[4675,"Autres comptes débiteurs et produits à recevoir"]
[4676,"Débours pour campagne éléctorales"]
[4677,"Autres comptes débiteurs et produits à recevoir"]
[4678,"Autres comptes débiteurs et produits à recevoir"]
[4679,"Autres comptes débiteurs et produits à recevoir"]
[4680,"Divers comptes créditeurs et charges à payer"]
[4681,"Autres comptes créditeurs et charges à payer"]
[4682,"Autres comptes créditeurs et charges à payer"]
[4683,"Autres comptes créditeurs et charges à payer"]
[4684,"Autres comptes créditeurs et charges à payer"]
[4685,"Autres comptes créditeurs et charges à payer"]
[4686,"Autres comptes créditeurs et charges à payer"]
[4687,"Autres comptes créditeurs et charges à payer"]
[4688,"Autres comptes créditeurs et charges à payer"]
[4689,"Autres comptes créditeurs et charges à payer"]
[4710,"Comptes d'attente"]
[4720,"Comptes d'attente"]
[4730,"Comptes d'attente"]
[4740,"Différence d'évaluation - Actif"]
[4750,"Différence d'évaluation - Passif"]
[4760,"Différence de conversion - Actif"]
[4761,"Diminution des créances"]
[4762,"Augmentation des dettes"]
[4768,"Différences compensées par couverture de change"]
[4770,"Différences de conversion - Passif"]
[4771,"Augmentation des créances"]
[4772,"Diminution des dettes"]
[4778,"Différences compensées par couverture de change"]
[4780,"Autres comptes transitoires"]
[4781,"Mali de fusion sur actif circulant"]
[4810,"Frais d'émission des emprunts"]
[4816,"Frais d'émission des emprunts"]
[4860,"Charges constatées d'avance"]
[4870,"Produits constatés d'avance"]
[4880,"Comptes de répartition périodique des charges et des produits"]
[4886,"Charges"]
[4887,"Produits"]
[4910,"Dépréciations des comptes de clients"]
[4950,"Dépréciations des comptes du groupe et des associés"]
[4951,"Comptes du groupe"]
[4955,"Comptes courants des associés"]
[4958,"Opérations faites en commun et en G.I.E."]
[4960,"Dépréciations des comptes de débiteurs divers"]
[4961,"Dépréc. Créances auprès de partis ou groupements politiques "]
[4962,"Créances sur cessions d'immobilisations"]
[4965,"Créances sur cessions de valeurs mobilières de placement"]
[4967,"Autres comptes débiteurs"]
[49671,"Actifs des entités non significatives (amortissements et dépréciations) "]
[5020,"Actions propres"]
[5030,"Actions"]
[5031,"Titres cotés"]
[5035,"Titres non cotés"]
[5040,"Autres titres conférant un droit de propriété"]
[5050,"Obligations et bons émis par la société et rachetés par elle"]
[5060,"Obligations"]
[5061,"Titres cotés"]
[5065,"Titres non cotés"]
[5070,"Bons du Trésor et bons de caisse à court terme"]
[5080,"Autres valeurs mobilières de placement et autres créances assimilées"]
[5081,"Autres valeurs mobilières"]
[5082,"Bons de souscription"]
[5088,"Intérêts courus sur obligations, bons et valeurs assimilés"]
[5090,"Versements restant à effectuer sur valeurs mobilières de placement non libérées"]
[5110,"Valeurs à l'encaissement"]
[5111,"Coupons échus à l'encaissement"]
[5112,"Chèques à encaisser"]
[5113,"Effets à l'encaissement"]
[5114,"Effets à l'escompte"]
[5120,"Banques"]
[5121,"Comptes en monnaie nationale"]
[5122,"Comptes en monnaie nationale"]
[5123,"Comptes en monnaie nationale"]
[5124,"Comptes en devises"]
[5125,"Comptes en monnaie nationale"]
[5126,"Comptes en monnaie nationale"]
[5127,"Comptes en monnaie nationale"]
[5128,"Comptes en monnaie nationale"]
[5129,"Comptes en monnaie nationale"]
[5170,"Autres organismes financiers"]
[5180,"Intérêts courus"]
[5181,"Intérêts courus à payer"]
[5188,"Intérêts courus à recevoir"]
[5190,"Concours bancaires courants"]
[5191,"Crédit de mobilisation de créances commerciales (CMCC)"]
[5193,"Mobilisation de créances nées à l'étranger"]
[5198,"Intérêts courus sur concours bancaires courants"]
[5300,"Caisse siège social"]
[5310,"Caisse siège social"]
[5311,"Caisse en monnaie nationale"]
[5314,"Caisse en devises"]
[5800,"Virement interne"]
[5900,"Dépréciations des valeurs mobilières de placement"]
[5903,"Actions"]
[5904,"Autres titres conférant un droit de propriété"]
[5906,"Obligations"]
[5908,"Autres valeurs mobilières de placement et créances assimilées"]
[6010,"Achats stockés - Matières premières et fournitures"]
[6011,"Achats stockés - Matières premières et fournitures"]
[6012,"Achats stockés - Matières premières et fournitures"]
[6017,"Achats stockés - Matières premières et fournitures"]
[6020,"Achats stockés - Autres approvisionnements"]
[6021,"Matières consommables"]
[6022,"Fournitures consommables"]
[6030,"Variations des stocks d'approvisionnements et de marchandises"]
[6031,"Variations des stocks de matières premières et fournitures"]
[6032,"Variations des stocks des autres approvisionnements"]
[6037,"Variations des stocks de marchandises"]
[6040,"Achats d'études et prestations de services"]
[6050,"Achats de matériel, équipements et travaux"]
[6061,"Fournitures non stockables (eau, énergie)"]
[6063,"Fournitures d'entretien et de petit équipement"]
[6064,"Fournitures administratives"]
[6068,"Autres matières et fournitures"]
[6070,"Achats de marchandises"]
[6071,"Achats de marchandises"]
[6072,"Achats de marchandises"]
[6073,"Achats de marchandises"]
[6074,"Achats de marchandises"]
[6075,"Achats de marchandises"]
[6091,"R.R.R obtenus sur achats de matières premières et fournitures"]
[6092,"R.R.R obtenus sur achats stockés - autres approvisionnements"]
[6094,"R.R.R obtenus sur études et prestations de services "]
[6095,"R.R.R obtenus sur ach de matériel, equipement et travaux"]
[6096,"R.R.R obtenus sur achats non stockés de matières et fournitures "]
[6097,"R.R.R obtenus sur achats de marchandises"]
[6110,"Sous-traitance générale"]
[6120,"Redevances de crédit-bail"]
[6122,"Crédit-bail mobilier"]
[6125,"Crédit-bail immobilier"]
[6130,"Locations"]
[6132,"Locations immobilières"]
[6135,"Locations mobilières"]
[6140,"Charges locatives et de copropriété"]
[6141,"Charges locatives et de copropriété"]
[6150,"Entretien et réparations"]
[6152,"Sur biens immobiliers"]
[6155,"Sur biens mobiliers"]
[6156,"Maintenance"]
[6160,"Primes d'assurances"]
[6161,"Multirisques"]
[6162,"Assurance obligatoire dommage construction"]
[6163,"Assurance-transport"]
[61636,"sur achats"]
[61637,"sur ventes"]
[61638,"sur autres biens"]
[6164,"Risques d'exploitation"]
[6165,"Insolvabilité clients"]
[6170,"Etudes et recherches"]
[6180,"Divers"]
[6181,"Documentation générale"]
[6183,"Documentation technique"]
[6185,"Frais de colloques, séminaires, conférences"]
[6190,"Rabais, remises et ristournes obtenus sur services extérieurs"]
[6210,"Personnel extérieur à l'entité"]
[6211,"Personnel intérimaire"]
[6214,"Personnel détaché ou prêté à l'entité"]
[6220,"Rémunérations d'intermédiaires et honoraires"]
[6221,"Commissions et courtages sur achats"]
[6222,"Commissions et courtages sur ventes"]
[6224,"Rémunérations des transitaires"]
[6225,"Rémunérations d'affacturage"]
[6226,"Honoraires"]
[6227,"Frais d'actes et de contentieux"]
[6228,"Divers"]
[6230,"Propagande et communication"]
[6231,"Presse, publications, télévisions et espaces publicitaires"]
[6232,"Annonces et insertions"]
[6233,"Congrès, manifestations et universités"]
[6234,"Cadeaux à la clientèle"]
[6235,"Primes"]
[6236,"Catalogues et imprimés"]
[6237,"Publications"]
[6238,"Divers (pourboires, dont courant)"]
[6240,"Transports de biens et transports collectifs du personnel"]
[6241,"Transports sur achats"]
[6242,"Transports sur ventes"]
[6243,"Transports entre établissements ou chantiers"]
[6244,"Transports administratifs"]
[6247,"Transports collectifs du personnel"]
[6248,"Divers"]
[6250,"Déplacements, missions et réceptions"]
[6251,"Voyages et déplacements"]
[6255,"Frais de déménagement"]
[6256,"Missions"]
[6257,"Réceptions"]
[6260,"Frais postaux et de télécommunications"]
[6261,"Frais postaux et de télécommunications"]
[6262,"Frais postaux et de télécommunications"]
[6263,"Frais postaux et de télécommunications"]
[6267,"Frais postaux et de télécommunications"]
[6270,"Services bancaires et assimilés"]
[6271,"Frais sur titres (achat, vente, garde)"]
[6272,"Commissions et frais sur émission d'emprunts"]
[6275,"Frais sur effets"]
[6276,"Location de coffres"]
[6278,"Autres frais et commissions sur prestations de services"]
[6280,"Divers"]
[6281,"Concours divers (cotisations)"]
[6282,"Concours divers (cotisations)"]
[6284,"Frais de recrutement de personnel"]
[6288,"Autres charges diverses"]
[6290,"Rabais, remises et ristournes obtenus sur autres services extérieurs"]
[6310,"Impôts, taxes et versements assimilés sur rémunérations (administrations des impôts)"]
[6311,"Taxe sur les salaires"]
[6314,"Cotisation pour défaut d'investissement obligatoire dans la construction"]
[6318,"Autres"]
[6330,"Impôts, taxes et versements assimilés sur rémunérations (autres organismes)"]
[6331,"Versement de transport"]
[6332,"Allocations logement"]
[6333,"Participation des employeurs à la formation professionnelle continue"]
[6334,"Participation des employeurs à l'effort de construction"]
[6335,"Versements libératoires ouvrant droit à l'exonération de la taxe d'apprentissage"]
[6338,"Autres"]
[6350,"Autres impôts, taxes et versements assimilés (administrations des impôts)"]
[6351,"Impôts directs (sauf impôts sur les bénéfices)"]
[63511,"Contribution économique territoriale"]
[63512,"Taxes foncières"]
[63513,"Autres impôts locaux"]
[63514,"Taxe sur les véhicules des sociétés"]
[6352,"Taxe sur le chiffre d'affaires non récupérables"]
[6353,"Impôts indirects"]
[6354,"Droits d'enregistrement et de timbre"]
[63541,"Droits de mutation"]
[6358,"Autres droits"]
[6370,"Autres impôts, taxes et versements assimilés (autres organismes)"]
[6371,"Contribution sociale de solidarité à la charge des sociétés"]
[6372,"Taxes perçues par les organismes publics internationaux"]
[6374,"Impôts et taxes exigibles à l'étranger"]
[6378,"Taxes diverses"]
[6380,"Rappel d'impôts (autres qu'impôts sur les bénéfices)"]
[6410,"Rémunérations du personnel"]
[6411,"Salaires, appointements"]
[6412,"Congés payés"]
[6413,"Primes et gratifications"]
[6414,"Indemnités et avantages divers"]
[6415,"Supplément familial"]
[6440,"Rémunération du travail de l'exploitant"]
[6450,"Charges de sécurité sociale et de prévoyance"]
[6451,"Cotisations à l'URSSAF"]
[6452,"Cotisations aux mutuelles"]
[6453,"Cotisations aux caisses de retraites"]
[6454,"Cotisations à Pôle emploi"]
[6458,"Cotisations aux autres organismes sociaux"]
[6460,"Cotisations sociales personnelles de l'exploitant"]
[6470,"Autres charges sociales"]
[6471,"Prestations directes"]
[6472,"Versements aux comités d'entreprise et d'établissement"]
[6473,"Versements aux comités d'hygiène et de sécurité"]
[6474,"Versements aux autres œuvres sociales"]
[6475,"Médecine du travail, pharmacie"]
[6480,"Autres charges de personnel"]
[6481,"Autres charges de personnel"]
[6491,"Remboursement de charges du personnel (Salaires)"]
[6492,"Remboursement de charges du personnel (Charges)"]
[6510,"Redevances pour concessions, brevets, licences, marques, procédés, solutions informatiques, droits et valeurs similaires"]
[6511,"Redevances pour concessions, brevets, licences, marques, procédés, solutions informatiques"]
[6516,"Droits d'auteur et de reproduction"]
[6518,"Autres droits et valeurs similaires"]
[6530,"Contributions financières"]
[6531,"Contributions aux candidats tenus de déposer un compte de campagne"]
[6532,"Contributions aux candidats non tenus de déposer un compte de campagne"]
[6533,"Prises en charge directes de dépenses électorales"]
[6534,"Contributions aux organisations territoriales ou spécialisées"]
[6535,"Contributions à d'autres partis ou groupements politiques"]
[6536,"Contributions à d'autres organismes"]
[6540,"Pertes sur créances irrécouvrables"]
[6541,"Créances de l'exercice"]
[6544,"Créances des exercices antérieurs"]
[6550,"Quote-part de résultat sur opérations faites en commun"]
[6551,"Quote-part de bénéfice transférée (comptabilité du gérant)"]
[6555,"Quote-part de perte supportée (comptabilité des associés non gérants)"]
[6560,"Pertes de change sur créances et dettes commerciales"]
[6570,"Valeurs comptables des immobilisations incorporelles et corporelles cédées "]
[6580,"Pénalités et autres charges"]
[6581,"Charges des entités non significatives"]
[6582,"Pénalités, amendes fiscales et pénales"]
[6583,"Malis provenant de clauses d'indexation"]
[6586,"Autres charges diverses de gestion"]
[6610,"Charges d'intérêts"]
[6611,"Intérêts des emprunts et dettes"]
[66116,"des emprunts et dettes assimilées"]
[66117,"des dettes rattachées à des participations"]
[6615,"Intérêts des comptes courants et des dépôts créditeurs"]
[6616,"Intérêts bancaires et sur opérations de financement (escompte,...)"]
[6617,"Intérêts des obligations cautionnées"]
[6618,"Intérêts des autres dettes"]
[66181,"des dettes commerciales"]
[66188,"des dettes diverses"]
[6640,"Pertes sur créances liées à des participations"]
[6650,"Escomptes accordés"]
[6660,"Pertes de change financières"]
[6670,"Charges sur cessions d'éléments financiers"]
[6671,"Valeurs comptables des immobilisations financières cédées"]
[6672,"Charges nettes sur cessions de titres immobilisés de l'activité de portefeuille"]
[6673,"Charges nettes sur cessions de valeurs mobilières de placement"]
[6680,"Autres charges financières"]
[6700,"Charges exceptionnelles"]
[6720,"Compte à la disposition des entités pour enregistrer, en cours d'exercice, les charges sur exercices antérieurs"]
[6780,"Autres charges exceptionnelles"]
[6810,"Dotations aux amortissements, aux dépréciations et aux provisions - Charges d'exploitation"]
[6811,"Dotations aux amortissements sur immobilisations incorporelles et corporelles"]
[68111,"Dotations aux Immobilisations incorporelles et frais d'établissement"]
[68112,"Dotations aux Immobilisations corporelles"]
[6815,"Dotations aux provisions d'exploitation"]
[6816,"Dotations aux dépréciations des immobilisations incorporelles et corporelles"]
[681610,"Dotations aux dépréciations des immobilisations incorporelles"]
[681611,"Dotations aux dépréciations des écarts d'acquisition"]
[68162,"Dotations pour dépréciations des immobilisations corporelles"]
[6817,"Dotations aux dépréciation des actifs circulants"]
[68173,"Stocks et en-cours"]
[68174,"Créances"]
[6860,"Dotations aux amortissements, aux dépréciations et aux provisions - Charges financières"]
[6861,"Dotations aux amortissements des primes de remboursement des emprunts"]
[6862,"Dotations aux amortissements des frais d'émission des emprunts"]
[6865,"Dotations aux provisions financières"]
[6866,"Dotations aux dépréciations des éléments financiers"]
[68662,"Immobilisations financières"]
[68665,"Valeurs mobilières de placement"]
[6868,"Autres dotations"]
[6870,"Dotations aux amortissements, aux dépréciations et aux provisions - Charges exceptionnelles"]
[6871,"Dotations aux amortissements exceptionnels des immobilisations"]
[6872,"Dotations aux provisions réglementées (immobilisations)"]
[68725,"Amortissements dérogatoires"]
[6873,"Dotations aux provisions réglementées (stocks)"]
[6874,"Dotations aux autres provisions réglementées"]
[6875,"Dotations aux provisions exceptionnelles"]
[6876,"Dotations aux dépréciations exceptionnelles"]
[6910,"Participation des salariés aux résultats"]
[6950,"Impôts sur les bénéfices"]
[6951,"Impôts dus en France"]
[6952,"Contribution additionnelle à l'impôt sur les bénéfices"]
[6954,"Impôts dus à l'étranger"]
[6960,"Suppléments d'impôt sur les sociétés liés aux distributions"]
[6980,"Intégration fiscale"]
[6981,"Intégration fiscale - Charges"]
[6989,"Intégration fiscale - Produits"]
[6990,"Produits - Reports en arrière des déficits"]
[7010,"Ventes de produits finis"]
[7020,"Ventes de produits intermédiaires"]
[7030,"Ventes de produits résiduels"]
[7040,"Travaux"]
[7050,"Etudes"]
[7060,"Prestations de services"]
[7061,"Manifestations et colloques"]
[7062,"Prestations de services aux candidats"]
[70621,"Prestations de services aux candidats tenus de déposer un compte de campagne"]
[70622,"Prestations de services aux candidats non tenus de déposer un compte de campagne"]
[7063,"Autres prestations de services"]
[7070,"Ventes de marchandises"]
[7071,"Goodies"]
[7072,"Livres"]
[7073,"Autres ventes de marchandises"]
[7074,"Ventes de cartes"]
[7080,"Produits des activités annexes"]
[7081,"Produits des services exploités dans l'intérêt du personnel"]
[7082,"Commissions et courtages"]
[7083,"Locations diverses"]
[7084,"Mise à disposition de personnel facturée"]
[7085,"Ports et frais accessoires facturés"]
[7086,"Bonis sur reprises d'emballages consignés"]
[7087,"Bonifications obtenues des clients et primes sur ventes"]
[7088,"Autres produits d'activités annexes"]
[7090,"Rabais, remises et ristournes accordés"]
[7091,"sur ventes de produits finis"]
[7092,"sur ventes de produits intermédiaires"]
[7094,"sur travaux"]
[7095,"sur études"]
[7096,"sur prestations de services"]
[7097,"sur ventes de marchandises"]
[7098,"sur produits des activités annexes"]
[7130,"Variation des stocks (en-cours de production, produits)"]
[7133,"Variation des en-cours de production de biens"]
[71331,"Produits en cours"]
[71335,"Travaux en cours"]
[7134,"Variation des en-cours de production de services"]
[71341,"Etudes en cours"]
[71345,"Prestations de services en cours"]
[7135,"Variation des stocks de produits"]
[71351,"Produits intermédiaires"]
[71355,"Produits finis"]
[71358,"Produits résiduels"]
[7210,"Immobilisations incorporelles"]
[7220,"Immobilisations corporelles"]
[7410,"Aide publique 1ère fraction"]
[7420,"Aide publique 2ème fraction"]
[7470,"Quote-part des subventions d'investissement virée au résultat de l'exercice"]
[7480,"Autres aides publiques"]
[7510,"Redevances pour concessions, brevets, licences, marques, procédés, solutions informatiques, droits et valeurs similaires"]
[7511,"Redevances pour concessions, brevets, licences, marques, procédés, solutions informatiques"]
[7516,"Droits d'auteur et de reproduction"]
[7518,"Autres droits et valeurs similaires"]
[7520,"Revenus des immeubles non affectés à des activités professionnelles"]
[7530,"Dévolutions"]
[7531,"Dévolutions de comptes de campagne"]
[7532,"Dévolutions de partis ou groupements politiques"]
[7540,"Dons de personnes physiques"]
[7541,"Dons de personnes physiques au mandataire"]
[7542,"Collectes "]
[7550,"Contributions financières de partis  ou groupements politiques"]
[7551,"Quote-part de perte transférée (comptabilité du gérant)"]
[7552,"Contributions financières de partis  ou groupements politiques"]
[7553,"Contributions financières de partis  ou groupements politiques"]
[7554,"Contributions financières de partis  ou groupements politiques"]
[7555,"Quote-part de bénéfice attribuée (comptabilité des associés non-gérants)"]
[7561,"Cotisations des adhérents"]
[7562,"Cotisations des élus"]
[7570,"Produits des cessions d'immobilisations incorporelles et corporelles"]
[7580,"Indemnités et autres produits"]
[7581,"Produits des entités non significatives"]
[7583,"Rentrées sur créances amorties"]
[7584,"Dégrèvements d'impôts autres qu'impôts sur les bénéfices"]
[7585,"Bonis provenant de clauses d'indexation"]
[7586,"Lots"]
[7587,"Indemnités d'assurance"]
[7610,"Produits de participations"]
[7611,"Revenus des titres de participation"]
[7616,"Revenus sur autres formes de participation"]
[7617,"Revenus des créances rattachées à des participations"]
[7620,"Produits des autres immobilisations financières"]
[7621,"Revenus des titres immobilisés"]
[7626,"Revenus des prêts"]
[7627,"Revenus des créances immobilisées"]
[7630,"Revenus des autres créances"]
[7631,"Revenus des créances commerciales"]
[7638,"Revenus des créances diverses"]
[7640,"Revenus des valeurs mobilières de placement"]
[7650,"Escomptes obtenus"]
[7660,"Gains de change financiers"]
[7670,"Produits sur cession d'éléments financiers"]
[7680,"Autres produits financiers"]
[7683,"Bonis provenant du rachat par l'entreprise d'actions et d'obligations émises par elle-même"]
[7720,"(Compte à la disposition des entités pour enregistrer, en cours d'exercice, les produits sur exercices antérieurs)"]
[7780,"Autres produits exceptionnels"]
[7810,"Reprises sur amortissements, dépréciations et provisions (à inscrire dans les produits d'exploitation)"]
[7811,"Reprises sur amortissements des immobilisations incorporelles et corporelles"]
[78111,"Immobilisations incorporelles"]
[78112,"Immobilisations corporelles"]
[7815,"Reprises sur provisions d'exploitation"]
[7816,"Reprises sur dépréciations des immobilisations incorporelles et corporelles"]
[78161,"Immobilisations incorporelles"]
[78162,"Immobilisations corporelles"]
[7817,"Reprises sur dépréciations des actifs circulants"]
[78173,"Stocks et en-cours"]
[78174,"Créances"]
[7860,"Reprises sur dépréciations et provisions (à inscrire dans les produits financiers)"]
[7865,"Reprises sur provisions financières"]
[7866,"Reprises sur dépréciations des éléments financiers"]
[78662,"Immobilisations financières"]
[78665,"Valeurs mobilières de placements"]
[7870,"Reprises sur dépréciations et provisions (à inscrire dans les produits exceptionnels)"]
[7872,"Reprises sur provisions réglementées (immobilisations)"]
[78725,"Amortissements dérogatoires"]
[7873,"Reprises sur provisions réglementées (stocks)"]
[7874,"Reprises sur autres provisions réglementées"]
[7875,"Reprises sur provisions exceptionnelles"]
[7876,"Reprises sur dépréciations exceptionnelles"]
[7910,"Prise en charge directe par le parti"]
[7950,"Intérêts des tiers"]

{"sheet":"Mapping","index":2,"n_rows":843,"n_cols":15,"rows_kept":843,"cut":false,"hidden":false,"merged":[]}
[]
["PCG 1","PCG 2","PCG 3","PCG 4","COMPTES","INTITULES COMPTES","2025-12-31","2024-12-31"]
[{"$f":"LEFT(B3,1)","v":"1"},{"$f":"IF(OR(LEFT(E3,2)=\"42\",LEFT(E3,2)=\"43\",LEFT(E3,2)=\"44\",LEFT(E3,2)=\"45\",LEFT(E3,2)=\"46\",LEFT(E3,2)=\"47\",LEFT(E3,2)=\"51\"),IF(G3<0,LEFT(E3,2)&\"P\",LEFT(E3,2)&\"A\"),LEFT(E3,2))","v":"10"},{"$f":"+LEFT(E3,3)","v":"101"},{"$f":"LEFT(E3,4)","v":"1011"},1011,"Capital souscrit - non appelé",{"$f":"IF(D3=D2,0,SUMIF(Import!B:B,Mapping!D3,Import!G:G)+SUMIF(Import!C:C,Mapping!D3,Import!G:G)+SUMIF(Import!D:D,Mapping!D3,Import!G:G))","v":0},{"$f":"IF(D3=D2,0,SUMIF(Import!B:B,Mapping!D3,Import!H:H)+SUMIF(Import!C:C,Mapping!D3,Import!H:H)+SUMIF(Import!D:D,Mapping!D3,Import!H:H))","v":0}]
[{"$f":"LEFT(B4,1)","v":"1"},"10","101","1012",1012,"Capital souscrit - appelé, non versé",{"$f":"IF(D4=D3,0,SUMIF(Import!B:B,Mapping!D4,Import!G:G)+SUMIF(Import!C:C,Mapping!D4,Import!G:G)+SUMIF(Import!D:D,Mapping!D4,Import!G:G))","v":0},{"$f":"IF(D4=D3,0,SUMIF(Import!B:B,Mapping!D4,Import!H:H)+SUMIF(Import!C:C,Mapping!D4,Import!H:H)+SUMIF(Import!D:D,Mapping!D4,Import!H:H))","v":0}]
["1","10","101","1013",1013,"Capital souscrit - appelé, versé",{"$f":"IF(D5=D4,0,SUMIF(Import!B:B,Mapping!D5,Import!G:G)+SUMIF(Import!C:C,Mapping!D5,Import!G:G)+SUMIF(Import!D:D,Mapping!D5,Import!G:G))","v":0},{"$f":"IF(D5=D4,0,SUMIF(Import!B:B,Mapping!D5,Import!H:H)+SUMIF(Import!C:C,Mapping!D5,Import!H:H)+SUMIF(Import!D:D,Mapping!D5,Import!H:H))","v":0}]
[{"$f":"LEFT(B6,1)","v":"1"},{"$f":"IF(OR(LEFT(E6,2)=\"42\",LEFT(E6,2)=\"43\",LEFT(E6,2)=\"44\",LEFT(E6,2)=\"45\",LEFT(E6,2)=\"46\",LEFT(E6,2)=\"47\",LEFT(E6,2)=\"51\"),IF(G6<0,LEFT(E6,2)&\"P\",LEFT(E6,2)&\"A\"),LEFT(E6,2))","v":"10"},{"$f":"+LEFT(E6,3)","v":"101"},"1013",10131,"Capital non amorti",{"$f":"IF(D6=D5,0,SUMIF(Import!B:B,Mapping!D6,Import!G:G)+SUMIF(Import!C:C,Mapping!D6,Import!G:G)+SUMIF(Import!D:D,Mapping!D6,Import!G:G))","v":0},{"$f":"IF(D6=D5,0,SUMIF(Import!B:B,Mapping!D6,Import!H:H)+SUMIF(Import!C:C,Mapping!D6,Import!H:H)+SUMIF(Import!D:D,Mapping!D6,Import!H:H))","v":0}]
["1","10","101","1013",10132,"Capital amorti",{"$f":"IF(D7=D6,0,SUMIF(Import!B:B,Mapping!D7,Import!G:G)+SUMIF(Import!C:C,Mapping!D7,Import!G:G)+SUMIF(Import!D:D,Mapping!D7,Import!G:G))","v":0},{"$f":"IF(D7=D6,0,SUMIF(Import!B:B,Mapping!D7,Import!H:H)+SUMIF(Import!C:C,Mapping!D7,Import!H:H)+SUMIF(Import!D:D,Mapping!D7,Import!H:H))","v":0}]
["1",{"$f":"IF(OR(LEFT(E8,2)=\"42\",LEFT(E8,2)=\"43\",LEFT(E8,2)=\"44\",LEFT(E8,2)=\"45\",LEFT(E8,2)=\"46\",LEFT(E8,2)=\"47\",LEFT(E8,2)=\"51\"),IF(G8<0,LEFT(E8,2)&\"P\",LEFT(E8,2)&\"A\"),LEFT(E8,2))","v":"10"},{"$f":"+LEFT(E8,3)","v":"101"},"1018",1018,"Capital souscrit soumis à des réglementations particulières",{"$f":"IF(D8=D7,0,SUMIF(Import!B:B,Mapping!D8,Import!G:G)+SUMIF(Import!C:C,Mapping!D8,Import!G:G)+SUMIF(Import!D:D,Mapping!D8,Import!G:G))","v":0},{"$f":"IF(D8=D7,0,SUMIF(Import!B:B,Mapping!D8,Import!H:H)+SUMIF(Import!C:C,Mapping!D8,Import!H:H)+SUMIF(Import!D:D,Mapping!D8,Import!H:H))","v":0}]
["1",{"$f":"IF(OR(LEFT(E9,2)=\"42\",LEFT(E9,2)=\"43\",LEFT(E9,2)=\"44\",LEFT(E9,2)=\"45\",LEFT(E9,2)=\"46\",LEFT(E9,2)=\"47\",LEFT(E9,2)=\"51\"),IF(G9<0,LEFT(E9,2)&\"P\",LEFT(E9,2)&\"A\"),LEFT(E9,2))","v":"10"},{"$f":"+LEFT(E9,3)","v":"102"},"1025",1025,"Legs et donation avec contrepartie d'actifs immobilisés",{"$f":"IF(D9=D8,0,SUMIF(Import!B:B,Mapping!D9,Import!G:G)+SUMIF(Import!C:C,Mapping!D9,Import!G:G)+SUMIF(Import!D:D,Mapping!D9,Import!G:G))","v":0},{"$f":"IF(D9=D8,0,SUMIF(Import!B:B,Mapping!D9,Import!H:H)+SUMIF(Import!C:C,Mapping!D9,Import!H:H)+SUMIF(Import!D:D,Mapping!D9,Import!H:H))","v":0}]
["1","10","104","1041",1041,"Primes d'émission",{"$f":"IF(D10=D9,0,SUMIF(Import!B:B,Mapping!D10,Import!G:G)+SUMIF(Import!C:C,Mapping!D10,Import!G:G)+SUMIF(Import!D:D,Mapping!D10,Import!G:G))","v":0},{"$f":"IF(D10=D9,0,SUMIF(Import!B:B,Mapping!D10,Import!H:H)+SUMIF(Import!C:C,Mapping!D10,Import!H:H)+SUMIF(Import!D:D,Mapping!D10,Import!H:H))","v":0}]
["1","10","104","1042",1042,"Primes de fusion",{"$f":"IF(D11=D10,0,SUMIF(Import!B:B,Mapping!D11,Import!G:G)+SUMIF(Import!C:C,Mapping!D11,Import!G:G)+SUMIF(Import!D:D,Mapping!D11,Import!G:G))","v":0},{"$f":"IF(D11=D10,0,SUMIF(Import!B:B,Mapping!D11,Import!H:H)+SUMIF(Import!C:C,Mapping!D11,Import!H:H)+SUMIF(Import!D:D,Mapping!D11,Import!H:H))","v":0}]
["1","10","104","1043",1043,"Primes d'apport",{"$f":"IF(D12=D11,0,SUMIF(Import!B:B,Mapping!D12,Import!G:G)+SUMIF(Import!C:C,Mapping!D12,Import!G:G)+SUMIF(Import!D:D,Mapping!D12,Import!G:G))","v":0},{"$f":"IF(D12=D11,0,SUMIF(Import!B:B,Mapping!D12,Import!H:H)+SUMIF(Import!C:C,Mapping!D12,Import!H:H)+SUMIF(Import!D:D,Mapping!D12,Import!H:H))","v":0}]
["1","10","104","1044",1044,"Primes de conversion d'obligations en actions",{"$f":"IF(D13=D12,0,SUMIF(Import!B:B,Mapping!D13,Import!G:G)+SUMIF(Import!C:C,Mapping!D13,Import!G:G)+SUMIF(Import!D:D,Mapping!D13,Import!G:G))","v":0},{"$f":"IF(D13=D12,0,SUMIF(Import!B:B,Mapping!D13,Import!H:H)+SUMIF(Import!C:C,Mapping!D13,Import!H:H)+SUMIF(Import!D:D,Mapping!D13,Import!H:H))","v":0}]
["1","10","104","1045",1045,"Bons de souscription d'actions",{"$f":"IF(D14=D13,0,SUMIF(Import!B:B,Mapping!D14,Import!G:G)+SUMIF(Import!C:C,Mapping!D14,Import!G:G)+SUMIF(Import!D:D,Mapping!D14,Import!G:G))","v":0},{"$f":"IF(D14=D13,0,SUMIF(Import!B:B,Mapping!D14,Import!H:H)+SUMIF(Import!C:C,Mapping!D14,Import!H:H)+SUMIF(Import!D:D,Mapping!D14,Import!H:H))","v":0}]
["1","10","105","1051",1051,"Réserve spéciale de réévaluation",{"$f":"IF(D15=D14,0,SUMIF(Import!B:B,Mapping!D15,Import!G:G)+SUMIF(Import!C:C,Mapping!D15,Import!G:G)+SUMIF(Import!D:D,Mapping!D15,Import!G:G))","v":0},{"$f":"IF(D15=D14,0,SUMIF(Import!B:B,Mapping!D15,Import!H:H)+SUMIF(Import!C:C,Mapping!D15,Import!H:H)+SUMIF(Import!D:D,Mapping!D15,Import!H:H))","v":0}]
["1","10","105","1052",1052,"Écart de réévaluation libre",{"$f":"IF(D16=D15,0,SUMIF(Import!B:B,Mapping!D16,Import!G:G)+SUMIF(Import!C:C,Mapping!D16,Import!G:G)+SUMIF(Import!D:D,Mapping!D16,Import!G:G))","v":0},{"$f":"IF(D16=D15,0,SUMIF(Import!B:B,Mapping!D16,Import!H:H)+SUMIF(Import!C:C,Mapping!D16,Import!H:H)+SUMIF(Import!D:D,Mapping!D16,Import!H:H))","v":0}]
["1","10","105","1053",1053,"Réserve de réévaluation",{"$f":"IF(D17=D16,0,SUMIF(Import!B:B,Mapping!D17,Import!G:G)+SUMIF(Import!C:C,Mapping!D17,Import!G:G)+SUMIF(Import!D:D,Mapping!D17,Import!G:G))","v":0},{"$f":"IF(D17=D16,0,SUMIF(Import!B:B,Mapping!D17,Import!H:H)+SUMIF(Import!C:C,Mapping!D17,Import!H:H)+SUMIF(Import!D:D,Mapping!D17,Import!H:H))","v":0}]
["1","10","105","1055",1055,"Écarts de réévaluation (autres opérations légales)",{"$f":"IF(D18=D17,0,SUMIF(Import!B:B,Mapping!D18,Import!G:G)+SUMIF(Import!C:C,Mapping!D18,Import!G:G)+SUMIF(Import!D:D,Mapping!D18,Import!G:G))","v":0},{"$f":"IF(D18=D17,0,SUMIF(Import!B:B,Mapping!D18,Import!H:H)+SUMIF(Import!C:C,Mapping!D18,Import!H:H)+SUMIF(Import!D:D,Mapping!D18,Import!H:H))","v":0}]
["1","10","106","1060",1060,"Réserves",{"$f":"IF(D19=D18,0,SUMIF(Import!B:B,Mapping!D19,Import!G:G)+SUMIF(Import!C:C,Mapping!D19,Import!G:G)+SUMIF(Import!D:D,Mapping!D19,Import!G:G))","v":0},{"$f":"IF(D19=D18,0,SUMIF(Import!B:B,Mapping!D19,Import!H:H)+SUMIF(Import!C:C,Mapping!D19,Import!H:H)+SUMIF(Import!D:D,Mapping!D19,Import!H:H))","v":0}]
["1","10","106","1061",1061,"Ecart d'ouverture du premier bilan",{"$f":"IF(D20=D19,0,SUMIF(Import!B:B,Mapping!D20,Import!G:G)+SUMIF(Import!C:C,Mapping!D20,Import!G:G)+SUMIF(Import!D:D,Mapping!D20,Import!G:G))","v":0},{"$f":"IF(D20=D19,0,SUMIF(Import!B:B,Mapping!D20,Import!H:H)+SUMIF(Import!C:C,Mapping!D20,Import!H:H)+SUMIF(Import!D:D,Mapping!D20,Import!H:H))","v":0}]
["1",{"$f":"IF(OR(LEFT(E21,2)=\"42\",LEFT(E21,2)=\"43\",LEFT(E21,2)=\"44\",LEFT(E21,2)=\"45\",LEFT(E21,2)=\"46\",LEFT(E21,2)=\"47\",LEFT(E21,2)=\"51\"),IF(G21<0,LEFT(E21,2)&\"P\",LEFT(E21,2)&\"A\"),LEFT(E21,2))","v":"10"},{"$f":"+LEFT(E21,3)","v":"106"},"1062",1062,"Réserves libres",{"$f":"IF(D21=D20,0,SUMIF(Import!B:B,Mapping!D21,Import!G:G)+SUMIF(Import!C:C,Mapping!D21,Import!G:G)+SUMIF(Import!D:D,Mapping!D21,Import!G:G))","v":0},{"$f":"IF(D21=D20,0,SUMIF(Import!B:B,Mapping!D21,Import!H:H)+SUMIF(Import!C:C,Mapping!D21,Import!H:H)+SUMIF(Import!D:D,Mapping!D21,Import!H:H))","v":0}]
["1","10","106","1063",1063,"Réserves pour frais de campagnes électorales",{"$f":"IF(D22=D21,0,SUMIF(Import!B:B,Mapping!D22,Import!G:G)+SUMIF(Import!C:C,Mapping!D22,Import!G:G)+SUMIF(Import!D:D,Mapping!D22,Import!G:G))","v":0},{"$f":"IF(D22=D21,0,SUMIF(Import!B:B,Mapping!D22,Import!H:H)+SUMIF(Import!C:C,Mapping!D22,Import!H:H)+SUMIF(Import!D:D,Mapping!D22,Import!H:H))","v":0}]
["1","10","106","1064",1064,"Réserves réglementées",{"$f":"IF(D23=D22,0,SUMIF(Import!B:B,Mapping!D23,Import!G:G)+SUMIF(Import!C:C,Mapping!D23,Import!G:G)+SUMIF(Import!D:D,Mapping!D23,Import!G:G))","v":0},{"$f":"IF(D23=D22,0,SUMIF(Import!B:B,Mapping!D23,Import!H:H)+SUMIF(Import!C:C,Mapping!D23,Import!H:H)+SUMIF(Import!D:D,Mapping!D23,Import!H:H))","v":0}]
["1","10","106","1065",1065,"Réserves - Intérêts des tiers ",{"$f":"IF(D24=D23,0,SUMIF(Import!B:B,Mapping!D24,Import!G:G)+SUMIF(Import!C:C,Mapping!D24,Import!G:G)+SUMIF(Import!D:D,Mapping!D24,Import!G:G))","v":0},{"$f":"IF(D24=D23,0,SUMIF(Import!B:B,Mapping!D24,Import!H:H)+SUMIF(Import!C:C,Mapping!D24,Import!H:H)+SUMIF(Import!D:D,Mapping!D24,Import!H:H))","v":0}]
["1","10","106","1066",1066,"Réserves pour frais de manifestations",{"$f":"IF(D25=D24,0,SUMIF(Import!B:B,Mapping!D25,Import!G:G)+SUMIF(Import!C:C,Mapping!D25,Import!G:G)+SUMIF(Import!D:D,Mapping!D25,Import!G:G))","v":0},{"$f":"IF(D25=D24,0,SUMIF(Import!B:B,Mapping!D25,Import!H:H)+SUMIF(Import!C:C,Mapping!D25,Import!H:H)+SUMIF(Import!D:D,Mapping!D25,Import!H:H))","v":0}]
["1","10","106","1068",1068,"Autres réserves",{"$f":"IF(D26=D25,0,SUMIF(Import!B:B,Mapping!D26,Import!G:G)+SUMIF(Import!C:C,Mapping!D26,Import!G:G)+SUMIF(Import!D:D,Mapping!D26,Import!G:G))","v":0},{"$f":"IF(D26=D25,0,SUMIF(Import!B:B,Mapping!D26,Import!H:H)+SUMIF(Import!C:C,Mapping!D26,Import!H:H)+SUMIF(Import!D:D,Mapping!D26,Import!H:H))","v":0}]
["1","10","107","1070",1070,"Ecarts d'équivalence",{"$f":"IF(D27=D26,0,SUMIF(Import!B:B,Mapping!D27,Import!G:G)+SUMIF(Import!C:C,Mapping!D27,Import!G:G)+SUMIF(Import!D:D,Mapping!D27,Import!G:G))","v":0},{"$f":"IF(D27=D26,0,SUMIF(Import!B:B,Mapping!D27,Import!H:H)+SUMIF(Import!C:C,Mapping!D27,Import!H:H)+SUMIF(Import!D:D,Mapping!D27,Import!H:H))","v":0}]
["1","10","109","1090",1090,"Actionnaires : capital souscrit non appelé",{"$f":"IF(D28=D27,0,SUMIF(Import!B:B,Mapping!D28,Import!G:G)+SUMIF(Import!C:C,Mapping!D28,Import!G:G)+SUMIF(Import!D:D,Mapping!D28,Import!G:G))","v":0},{"$f":"IF(D28=D27,0,SUMIF(Import!B:B,Mapping!D28,Import!H:H)+SUMIF(Import!C:C,Mapping!D28,Import!H:H)+SUMIF(Import!D:D,Mapping!D28,Import!H:H))","v":0}]
[{"$f":"LEFT(B29,1)","v":"1"},{"$f":"IF(OR(LEFT(E29,2)=\"42\",LEFT(E29,2)=\"43\",LEFT(E29,2)=\"44\",LEFT(E29,2)=\"45\",LEFT(E29,2)=\"46\",LEFT(E29,2)=\"47\",LEFT(E29,2)=\"51\"),IF(G29<0,LEFT(E29,2)&\"P\",LEFT(E29,2)&\"A\"),LEFT(E29,2))","v":"11"},{"$f":"+LEFT(E29,3)","v":"110"},{"$f":"LEFT(E29,4)","v":"1100"},1100,"Report à nouveau (solde créditeur)",{"$f":"IF(D29=D25,0,SUMIF(Import!B:B,Mapping!D29,Import!G:G)+SUMIF(Import!C:C,Mapping!D29,Import!G:G)+SUMIF(Import!D:D,Mapping!D29,Import!G:G))","v":0},{"$f":"IF(D29=D25,0,SUMIF(Import!B:B,Mapping!D29,Import!H:H)+SUMIF(Import!C:C,Mapping!D29,Import!H:H)+SUMIF(Import!D:D,Mapping!D29,Import!H:H))","v":0}]
[{"$f":"LEFT(B30,1)","v":"1"},{"$f":"IF(OR(LEFT(E30,2)=\"42\",LEFT(E30,2)=\"43\",LEFT(E30,2)=\"44\",LEFT(E30,2)=\"45\",LEFT(E30,2)=\"46\",LEFT(E30,2)=\"47\",LEFT(E30,2)=\"51\"),IF(G30<0,LEFT(E30,2)&\"P\",LEFT(E30,2)&\"A\"),LEFT(E30,2))","v":"11"},{"$f":"+LEFT(E30,3)","v":"119"},"1190",1190,"Report à nouveau (solde débiteur)",{"$f":"IF(D30=D28,0,SUMIF(Import!B:B,Mapping!D30,Import!G:G)+SUMIF(Import!C:C,Mapping!D30,Import!G:G)+SUMIF(Import!D:D,Mapping!D30,Import!G:G))","v":0},{"$f":"IF(D30=D28,0,SUMIF(Import!B:B,Mapping!D30,Import!H:H)+SUMIF(Import!C:C,Mapping!D30,Import!H:H)+SUMIF(Import!D:D,Mapping!D30,Import!H:H))","v":0}]
["1","12","120",{"$f":"LEFT(E31,4)","v":"1200"},1200,"Résultat de l'exercice (bénéfice)",{"$f":"IF(D31=D30,0,SUMIF(Import!B:B,Mapping!D31,Import!G:G)+SUMIF(Import!C:C,Mapping!D31,Import!G:G)+SUMIF(Import!D:D,Mapping!D31,Import!G:G))","v":0},{"$f":"IF(D31=D28,0,SUMIF(Import!B:B,Mapping!D31,Import!H:H)+SUMIF(Import!C:C,Mapping!D31,Import!H:H)+SUMIF(Import!D:D,Mapping!D31,Import!H:H))","v":0},null,null,null,null,null,null,{"$f":"SUM(G21:G31)","v":0}]
[{"$f":"LEFT(B32,1)","v":"1"},{"$f":"IF(OR(LEFT(E32,2)=\"42\",LEFT(E32,2)=\"43\",LEFT(E32,2)=\"44\",LEFT(E32,2)=\"45\",LEFT(E32,2)=\"46\",LEFT(E32,2)=\"47\",LEFT(E32,2)=\"51\"),IF(G32<0,LEFT(E32,2)&\"P\",LEFT(E32,2)&\"A\"),LEFT(E32,2))","v":"12"},{"$f":"+LEFT(E32,3)","v":"120"},{"$f":"LEFT(E32,4)","v":"1209"},1209,"Acomptes sur dividendes",{"$f":"IF(D32=D31,0,SUMIF(Import!B:B,Mapping!D32,Import!G:G)+SUMIF(Import!C:C,Mapping!D32,Import!G:G)+SUMIF(Import!D:D,Mapping!D32,Import!G:G))","v":0},{"$f":"IF(D32=D27,0,SUMIF(Import!B:B,Mapping!D32,Import!H:H)+SUMIF(Import!C:C,Mapping!D32,Import!H:H)+SUMIF(Import!D:D,Mapping!D32,Import!H:H))","v":0}]
["1","12","125","1250",1250,"Résultat - intérêts des tiers",{"$f":"IF(D33=D32,0,SUMIF(Import!B:B,Mapping!D33,Import!G:G)+SUMIF(Import!C:C,Mapping!D33,Import!G:G)+SUMIF(Import!D:D,Mapping!D33,Import!G:G))","v":0},{"$f":"IF(D33=D28,0,SUMIF(Import!B:B,Mapping!D33,Import!H:H)+SUMIF(Import!C:C,Mapping!D33,Import!H:H)+SUMIF(Import!D:D,Mapping!D33,Import!H:H))","v":0}]
["1","12","129","1290",1290,"Résultat de l'exercice (perte)",{"$f":"IF(D34=D33,0,SUMIF(Import!B:B,Mapping!D34,Import!G:G)+SUMIF(Import!C:C,Mapping!D34,Import!G:G)+SUMIF(Import!D:D,Mapping!D34,Import!G:G))","v":0},{"$f":"IF(D34=D30,0,SUMIF(Import!B:B,Mapping!D34,Import!H:H)+SUMIF(Import!C:C,Mapping!D34,Import!H:H)+SUMIF(Import!D:D,Mapping!D34,Import!H:H))","v":0}]
["1","13","131","1310",1310,"Subventions d'équipement octroyées",{"$f":"IF(D35=D34,0,SUMIF(Import!B:B,Mapping!D35,Import!G:G)+SUMIF(Import!C:C,Mapping!D35,Import!G:G)+SUMIF(Import!D:D,Mapping!D35,Import!G:G))","v":0},{"$f":"IF(D35=D31,0,SUMIF(Import!B:B,Mapping!D35,Import!H:H)+SUMIF(Import!C:C,Mapping!D35,Import!H:H)+SUMIF(Import!D:D,Mapping!D35,Import!H:H))","v":0}]
["1","13","139","1391",1391,"Subventions d'équipement inscrites au compte de résultat",{"$f":"IF(D36=D35,0,SUMIF(Import!B:B,Mapping!D36,Import!G:G)+SUMIF(Import!C:C,Mapping!D36,Import!G:G)+SUMIF(Import!D:D,Mapping!D36,Import!G:G))","v":0},{"$f":"IF(D36=D32,0,SUMIF(Import!B:B,Mapping!D36,Import!H:H)+SUMIF(Import!C:C,Mapping!D36,Import!H:H)+SUMIF(Import!D:D,Mapping!D36,Import!H:H))","v":0}]
["1","14","145","1450",1450,"Amortissements dérogatoires",{"$f":"IF(D37=D36,0,SUMIF(Import!B:B,Mapping!D37,Import!G:G)+SUMIF(Import!C:C,Mapping!D37,Import!G:G)+SUMIF(Import!D:D,Mapping!D37,Import!G:G))","v":0},{"$f":"IF(D37=D33,0,SUMIF(Import!B:B,Mapping!D37,Import!H:H)+SUMIF(Import!C:C,Mapping!D37,Import!H:H)+SUMIF(Import!D:D,Mapping!D37,Import!H:H))","v":0}]
[{"$f":"LEFT(B38,1)","v":"1"},{"$f":"IF(OR(LEFT(E38,2)=\"42\",LEFT(E38,2)=\"43\",LEFT(E38,2)=\"44\",LEFT(E38,2)=\"45\",LEFT(E38,2)=\"46\",LEFT(E38,2)=\"47\",LEFT(E38,2)=\"51\"),IF(G38<0,LEFT(E38,2)&\"P\",LEFT(E38,2)&\"A\"),LEFT(E38,2))","v":"14"},{"$f":"+LEFT(E38,3)","v":"148"},{"$f":"LEFT(E38,4)","v":"1480"},1480,"Autres provisions réglementées",{"$f":"IF(D38=D37,0,SUMIF(Import!B:B,Mapping!D38,Import!G:G)+SUMIF(Import!C:C,Mapping!D38,Import!G:G)+SUMIF(Import!D:D,Mapping!D38,Import!G:G))","v":0},{"$f":"IF(D38=D34,0,SUMIF(Import!B:B,Mapping!D38,Import!H:H)+SUMIF(Import!C:C,Mapping!D38,Import!H:H)+SUMIF(Import!D:D,Mapping!D38,Import!H:H))","v":0}]
["1","15","151","1511",1511,"Provisions pour litiges",{"$f":"IF(D39=D38,0,SUMIF(Import!B:B,Mapping!D39,Import!G:G)+SUMIF(Import!C:C,Mapping!D39,Import!G:G)+SUMIF(Import!D:D,Mapping!D39,Import!G:G))","v":0},{"$f":"IF(D39=D35,0,SUMIF(Import!B:B,Mapping!D39,Import!H:H)+SUMIF(Import!C:C,Mapping!D39,Import!H:H)+SUMIF(Import!D:D,Mapping!D39,Import!H:H))","v":0}]
["1","15",{"$f":"+LEFT(E40,3)","v":"151"},{"$f":"LEFT(E40,4)","v":"1512"},1512,"Provisions pour garanties données aux clients",{"$f":"IF(D40=D39,0,SUMIF(Import!B:B,Mapping!D40,Import!G:G)+SUMIF(Import!C:C,Mapping!D40,Import!G:G)+SUMIF(Import!D:D,Mapping!D40,Import!G:G))","v":0},{"$f":"IF(D40=D36,0,SUMIF(Import!B:B,Mapping!D40,Import!H:H)+SUMIF(Import!C:C,Mapping!D40,Import!H:H)+SUMIF(Import!D:D,Mapping!D40,Import!H:H))","v":0}]
["1","15","151","1514",1514,"Provisions pour amendes et pénalités",{"$f":"IF(D41=D40,0,SUMIF(Import!B:B,Mapping!D41,Import!G:G)+SUMIF(Import!C:C,Mapping!D41,Import!G:G)+SUMIF(Import!D:D,Mapping!D41,Import!G:G))","v":0},{"$f":"IF(D41=D37,0,SUMIF(Import!B:B,Mapping!D41,Import!H:H)+SUMIF(Import!C:C,Mapping!D41,Import!H:H)+SUMIF(Import!D:D,Mapping!D41,Import!H:H))","v":0}]
["1","15","151","1515",1515,"Provisions pour pertes de change",{"$f":"IF(D42=D41,0,SUMIF(Import!B:B,Mapping!D42,Import!G:G)+SUMIF(Import!C:C,Mapping!D42,Import!G:G)+SUMIF(Import!D:D,Mapping!D42,Import!G:G))","v":0},{"$f":"IF(D42=D38,0,SUMIF(Import!B:B,Mapping!D42,Import!H:H)+SUMIF(Import!C:C,Mapping!D42,Import!H:H)+SUMIF(Import!D:D,Mapping!D42,Import!H:H))","v":0}]
["1","15","151","1516",1516,"Provisions pour pertes sur contrats",{"$f":"IF(D43=D42,0,SUMIF(Import!B:B,Mapping!D43,Import!G:G)+SUMIF(Import!C:C,Mapping!D43,Import!G:G)+SUMIF(Import!D:D,Mapping!D43,Import!G:G))","v":0},{"$f":"IF(D43=D39,0,SUMIF(Import!B:B,Mapping!D43,Import!H:H)+SUMIF(Import!C:C,Mapping!D43,Import!H:H)+SUMIF(Import!D:D,Mapping!D43,Import!H:H))","v":0}]
["1","15","151","1518",1518,"Autres provisions pour risques",{"$f":"IF(D44=D43,0,SUMIF(Import!B:B,Mapping!D44,Import!G:G)+SUMIF(Import!C:C,Mapping!D44,Import!G:G)+SUMIF(Import!D:D,Mapping!D44,Import!G:G))","v":0},{"$f":"IF(D44=D40,0,SUMIF(Import!B:B,Mapping!D44,Import!H:H)+SUMIF(Import!C:C,Mapping!D44,Import!H:H)+SUMIF(Import!D:D,Mapping!D44,Import!H:H))","v":0}]
["1","15","152","1521",1521,"Provisions pour pensions et obligations similaires",{"$f":"IF(D45=D44,0,SUMIF(Import!B:B,Mapping!D45,Import!G:G)+SUMIF(Import!C:C,Mapping!D45,Import!G:G)+SUMIF(Import!D:D,Mapping!D45,Import!G:G))","v":0},{"$f":"IF(D45=D41,0,SUMIF(Import!B:B,Mapping!D45,Import!H:H)+SUMIF(Import!C:C,Mapping!D45,Import!H:H)+SUMIF(Import!D:D,Mapping!D45,Import!H:H))","v":0}]
["1","15","152","1522",1522,"Provisions pour restructurations",{"$f":"IF(D46=D45,0,SUMIF(Import!B:B,Mapping!D46,Import!G:G)+SUMIF(Import!C:C,Mapping!D46,Import!G:G)+SUMIF(Import!D:D,Mapping!D46,Import!G:G))","v":0},{"$f":"IF(D46=D42,0,SUMIF(Import!B:B,Mapping!D46,Import!H:H)+SUMIF(Import!C:C,Mapping!D46,Import!H:H)+SUMIF(Import!D:D,Mapping!D46,Import!H:H))","v":0}]
["1","15","152","1523",1523,"Provisions pour impôts",{"$f":"IF(D47=D46,0,SUMIF(Import!B:B,Mapping!D47,Import!G:G)+SUMIF(Import!C:C,Mapping!D47,Import!G:G)+SUMIF(Import!D:D,Mapping!D47,Import!G:G))","v":0},{"$f":"IF(D47=D43,0,SUMIF(Import!B:B,Mapping!D47,Import!H:H)+SUMIF(Import!C:C,Mapping!D47,Import!H:H)+SUMIF(Import!D:D,Mapping!D47,Import!H:H))","v":0}]
["1","15","152","1524",1524,"Provisions pour renouvellement des immobilisations (entreprises concessionnaires)",{"$f":"IF(D48=D47,0,SUMIF(Import!B:B,Mapping!D48,Import!G:G)+SUMIF(Import!C:C,Mapping!D48,Import!G:G)+SUMIF(Import!D:D,Mapping!D48,Import!G:G))","v":0},{"$f":"IF(D48=D44,0,SUMIF(Import!B:B,Mapping!D48,Import!H:H)+SUMIF(Import!C:C,Mapping!D48,Import!H:H)+SUMIF(Import!D:D,Mapping!D48,Import!H:H))","v":0}]
["1","15","152","1525",1525,"Provisions pour gros entretien ou grandes révisions",{"$f":"IF(D49=D48,0,SUMIF(Import!B:B,Mapping!D49,Import!G:G)+SUMIF(Import!C:C,Mapping!D49,Import!G:G)+SUMIF(Import!D:D,Mapping!D49,Import!G:G))","v":0},{"$f":"IF(D49=D45,0,SUMIF(Import!B:B,Mapping!D49,Import!H:H)+SUMIF(Import!C:C,Mapping!D49,Import!H:H)+SUMIF(Import!D:D,Mapping!D49,Import!H:H))","v":0}]
["1","15","152","1526",1526,"Provisions pour remises en état",{"$f":"IF(D50=D49,0,SUMIF(Import!B:B,Mapping!D50,Import!G:G)+SUMIF(Import!C:C,Mapping!D50,Import!G:G)+SUMIF(Import!D:D,Mapping!D50,Import!G:G))","v":0},{"$f":"IF(D50=D46,0,SUMIF(Import!B:B,Mapping!D50,Import!H:H)+SUMIF(Import!C:C,Mapping!D50,Import!H:H)+SUMIF(Import!D:D,Mapping!D50,Import!H:H))","v":0}]
["1","15","152","1527",1527,"Autres Provisions pour charges",{"$f":"IF(D51=D50,0,SUMIF(Import!B:B,Mapping!D51,Import!G:G)+SUMIF(Import!C:C,Mapping!D51,Import!G:G)+SUMIF(Import!D:D,Mapping!D51,Import!G:G))","v":0},{"$f":"IF(D51=D47,0,SUMIF(Import!B:B,Mapping!D51,Import!H:H)+SUMIF(Import!C:C,Mapping!D51,Import!H:H)+SUMIF(Import!D:D,Mapping!D51,Import!H:H))","v":0}]
["1","16","161","1610",1610,"Emprunts auprès des personnes physiques à taux préférentiel",{"$f":"IF(D52=D51,0,SUMIF(Import!B:B,Mapping!D52,Import!G:G)+SUMIF(Import!C:C,Mapping!D52,Import!G:G)+SUMIF(Import!D:D,Mapping!D52,Import!G:G))","v":0},{"$f":"IF(D52=D48,0,SUMIF(Import!B:B,Mapping!D52,Import!H:H)+SUMIF(Import!C:C,Mapping!D52,Import!H:H)+SUMIF(Import!D:D,Mapping!D52,Import!H:H))","v":0}]
["1","16","161","1611",1611,"Emprunts auprès des personnes physiques à taux préférentiel",{"$f":"IF(D53=D52,0,SUMIF(Import!B:B,Mapping!D53,Import!G:G)+SUMIF(Import!C:C,Mapping!D53,Import!G:G)+SUMIF(Import!D:D,Mapping!D53,Import!G:G))","v":0},{"$f":"IF(D53=D49,0,SUMIF(Import!B:B,Mapping!D53,Import!H:H)+SUMIF(Import!C:C,Mapping!D53,Import!H:H)+SUMIF(Import!D:D,Mapping!D53,Import!H:H))","v":0}]
["1","16","162","1620",1620,"Autres emprunts auprès des personnes physiques",{"$f":"IF(D54=D53,0,SUMIF(Import!B:B,Mapping!D54,Import!G:G)+SUMIF(Import!C:C,Mapping!D54,Import!G:G)+SUMIF(Import!D:D,Mapping!D54,Import!G:G))","v":0},{"$f":"IF(D54=D50,0,SUMIF(Import!B:B,Mapping!D54,Import!H:H)+SUMIF(Import!C:C,Mapping!D54,Import!H:H)+SUMIF(Import!D:D,Mapping!D54,Import!H:H))","v":0}]
["1","16","162","1621",1621,"Autres emprunts auprès des personnes physiques",{"$f":"IF(D55=D54,0,SUMIF(Import!B:B,Mapping!D55,Import!G:G)+SUMIF(Import!C:C,Mapping!D55,Import!G:G)+SUMIF(Import!D:D,Mapping!D55,Import!G:G))","v":0},{"$f":"IF(D55=D51,0,SUMIF(Import!B:B,Mapping!D55,Import!H:H)+SUMIF(Import!C:C,Mapping!D55,Import!H:H)+SUMIF(Import!D:D,Mapping!D55,Import!H:H))","v":0}]
["1","16","163","1630",1630,"Emprunts auprès des partis ou groupements politiques",{"$f":"IF(D56=D55,0,SUMIF(Import!B:B,Mapping!D56,Import!G:G)+SUMIF(Import!C:C,Mapping!D56,Import!G:G)+SUMIF(Import!D:D,Mapping!D56,Import!G:G))","v":0},{"$f":"IF(D56=D52,0,SUMIF(Import!B:B,Mapping!D56,Import!H:H)+SUMIF(Import!C:C,Mapping!D56,Import!H:H)+SUMIF(Import!D:D,Mapping!D56,Import!H:H))","v":0}]
["1","16","163","1631",1631,"Emprunts auprès des partis ou groupements politiques",{"$f":"IF(D57=D56,0,SUMIF(Import!B:B,Mapping!D57,Import!G:G)+SUMIF(Import!C:C,Mapping!D57,Import!G:G)+SUMIF(Import!D:D,Mapping!D57,Import!G:G))","v":0},{"$f":"IF(D57=D56,0,SUMIF(Import!B:B,Mapping!D57,Import!H:H)+SUMIF(Import!C:C,Mapping!D57,Import!H:H)+SUMIF(Import!D:D,Mapping!D57,Import!H:H))","v":0}]
["1","16","164","1640",1640,"Emprunts auprès des établissements de crédit",{"$f":"IF(D58=D57,0,SUMIF(Import!B:B,Mapping!D58,Import!G:G)+SUMIF(Import!C:C,Mapping!D58,Import!G:G)+SUMIF(Import!D:D,Mapping!D58,Import!G:G))","v":0},{"$f":"IF(D58=D57,0,SUMIF(Import!B:B,Mapping!D58,Import!H:H)+SUMIF(Import!C:C,Mapping!D58,Import!H:H)+SUMIF(Import!D:D,Mapping!D58,Import!H:H))","v":0}]
["1","16","164","1641",1641,"Emprunts auprès des établissements de crédit",{"$f":"IF(D59=D58,0,SUMIF(Import!B:B,Mapping!D59,Import!G:G)+SUMIF(Import!C:C,Mapping!D59,Import!G:G)+SUMIF(Import!D:D,Mapping!D59,Import!G:G))","v":0},{"$f":"IF(D59=D58,0,SUMIF(Import!B:B,Mapping!D59,Import!H:H)+SUMIF(Import!C:C,Mapping!D59,Import!H:H)+SUMIF(Import!D:D,Mapping!D59,Import!H:H))","v":0}]
[{"$f":"LEFT(B60,1)","v":"1"},{"$f":"IF(OR(LEFT(E60,2)=\"42\",LEFT(E60,2)=\"43\",LEFT(E60,2)=\"44\",LEFT(E60,2)=\"45\",LEFT(E60,2)=\"46\",LEFT(E60,2)=\"47\",LEFT(E60,2)=\"51\"),IF(G60<0,LEFT(E60,2)&\"P\",LEFT(E60,2)&\"A\"),LEFT(E60,2))","v":"16"},{"$f":"+LEFT(E60,3)","v":"164"},{"$f":"LEFT(E60,4)","v":"1648"},1648,"Intérêts courus sur emprunts auprès des établissements de crédit",{"$f":"IF(D60=D59,0,SUMIF(Import!B:B,Mapping!D60,Import!G:G)+SUMIF(Import!C:C,Mapping!D60,Import!G:G)+SUMIF(Import!D:D,Mapping!D60,Import!G:G))","v":0},{"$f":"IF(D60=D59,0,SUMIF(Import!B:B,Mapping!D60,Import!H:H)+SUMIF(Import!C:C,Mapping!D60,Import!H:H)+SUMIF(Import!D:D,Mapping!D60,Import!H:H))","v":0}]
["1","16","165","1650",1650,"Dépôts et cautionnements reçus",{"$f":"IF(D61=D60,0,SUMIF(Import!B:B,Mapping!D61,Import!G:G)+SUMIF(Import!C:C,Mapping!D61,Import!G:G)+SUMIF(Import!D:D,Mapping!D61,Import!G:G))","v":0},{"$f":"IF(D61=D60,0,SUMIF(Import!B:B,Mapping!D61,Import!H:H)+SUMIF(Import!C:C,Mapping!D61,Import!H:H)+SUMIF(Import!D:D,Mapping!D61,Import!H:H))","v":0}]
["1","16","165","1651",1651,"Dépôts",{"$f":"IF(D62=D61,0,SUMIF(Import!B:B,Mapping!D62,Import!G:G)+SUMIF(Import!C:C,Mapping!D62,Import!G:G)+SUMIF(Import!D:D,Mapping!D62,Import!G:G))","v":0},{"$f":"IF(D62=D61,0,SUMIF(Import!B:B,Mapping!D62,Import!H:H)+SUMIF(Import!C:C,Mapping!D62,Import!H:H)+SUMIF(Import!D:D,Mapping!D62,Import!H:H))","v":0}]
["1","16",{"$f":"+LEFT(E63,3)","v":"165"},"1655",1655,"Cautionnements",{"$f":"IF(D63=D62,0,SUMIF(Import!B:B,Mapping!D63,Import!G:G)+SUMIF(Import!C:C,Mapping!D63,Import!G:G)+SUMIF(Import!D:D,Mapping!D63,Import!G:G))","v":0},{"$f":"IF(D63=D62,0,SUMIF(Import!B:B,Mapping!D63,Import!H:H)+SUMIF(Import!C:C,Mapping!D63,Import!H:H)+SUMIF(Import!D:D,Mapping!D63,Import!H:H))","v":0}]
[{"$f":"LEFT(B64,1)","v":"1"},{"$f":"IF(OR(LEFT(E64,2)=\"42\",LEFT(E64,2)=\"43\",LEFT(E64,2)=\"44\",LEFT(E64,2)=\"45\",LEFT(E64,2)=\"46\",LEFT(E64,2)=\"47\",LEFT(E64,2)=\"51\"),IF(G64<0,LEFT(E64,2)&\"P\",LEFT(E64,2)&\"A\"),LEFT(E64,2))","v":"16"},{"$f":"+LEFT(E64,3)","v":"165"},{"$f":"LEFT(E64,4)","v":"1658"},1658,"Intérêts courus sur dépôts et cautionnements reçus",{"$f":"IF(D64=D63,0,SUMIF(Import!B:B,Mapping!D64,Import!G:G)+SUMIF(Import!C:C,Mapping!D64,Import!G:G)+SUMIF(Import!D:D,Mapping!D64,Import!G:G))","v":0},{"$f":"IF(D64=D63,0,SUMIF(Import!B:B,Mapping!D64,Import!H:H)+SUMIF(Import!C:C,Mapping!D64,Import!H:H)+SUMIF(Import!D:D,Mapping!D64,Import!H:H))","v":0}]
["1","16","166","1660",1660,"Participation des salariés aux résultats",{"$f":"IF(D65=D64,0,SUMIF(Import!B:B,Mapping!D65,Import!G:G)+SUMIF(Import!C:C,Mapping!D65,Import!G:G)+SUMIF(Import!D:D,Mapping!D65,Import!G:G))","v":0},{"$f":"IF(D65=D64,0,SUMIF(Import!B:B,Mapping!D65,Import!H:H)+SUMIF(Import!C:C,Mapping!D65,Import!H:H)+SUMIF(Import!D:D,Mapping!D65,Import!H:H))","v":0}]
["1","16",{"$f":"+LEFT(E66,3)","v":"166"},"1661",1661,"Comptes bloqués",{"$f":"IF(D66=D65,0,SUMIF(Import!B:B,Mapping!D66,Import!G:G)+SUMIF(Import!C:C,Mapping!D66,Import!G:G)+SUMIF(Import!D:D,Mapping!D66,Import!G:G))","v":0},{"$f":"IF(D66=D65,0,SUMIF(Import!B:B,Mapping!D66,Import!H:H)+SUMIF(Import!C:C,Mapping!D66,Import!H:H)+SUMIF(Import!D:D,Mapping!D66,Import!H:H))","v":0}]
["1","16","166","1662",1662,"Fonds de participation",{"$f":"IF(D67=D66,0,SUMIF(Import!B:B,Mapping!D67,Import!G:G)+SUMIF(Import!C:C,Mapping!D67,Import!G:G)+SUMIF(Import!D:D,Mapping!D67,Import!G:G))","v":0},{"$f":"IF(D67=D66,0,SUMIF(Import!B:B,Mapping!D67,Import!H:H)+SUMIF(Import!C:C,Mapping!D67,Import!H:H)+SUMIF(Import!D:D,Mapping!D67,Import!H:H))","v":0}]
[{"$f":"LEFT(B68,1)","v":"1"},{"$f":"IF(OR(LEFT(E68,2)=\"42\",LEFT(E68,2)=\"43\",LEFT(E68,2)=\"44\",LEFT(E68,2)=\"45\",LEFT(E68,2)=\"46\",LEFT(E68,2)=\"47\",LEFT(E68,2)=\"51\"),IF(G68<0,LEFT(E68,2)&\"P\",LEFT(E68,2)&\"A\"),LEFT(E68,2))","v":"16"},{"$f":"+LEFT(E68,3)","v":"166"},{"$f":"LEFT(E68,4)","v":"1668"},1668,"Intérêts courus sur participation des salariés aux résultats",{"$f":"IF(D68=D67,0,SUMIF(Import!B:B,Mapping!D68,Import!G:G)+SUMIF(Import!C:C,Mapping!D68,Import!G:G)+SUMIF(Import!D:D,Mapping!D68,Import!G:G))","v":0},{"$f":"IF(D68=D67,0,SUMIF(Import!B:B,Mapping!D68,Import!H:H)+SUMIF(Import!C:C,Mapping!D68,Import!H:H)+SUMIF(Import!D:D,Mapping!D68,Import!H:H))","v":0}]
["1","16","167","1670",1670,"Emprunts et dettes assortis de conditions particulières",{"$f":"IF(D69=D68,0,SUMIF(Import!B:B,Mapping!D69,Import!G:G)+SUMIF(Import!C:C,Mapping!D69,Import!G:G)+SUMIF(Import!D:D,Mapping!D69,Import!G:G))","v":0},{"$f":"IF(D69=D68,0,SUMIF(Import!B:B,Mapping!D69,Import!H:H)+SUMIF(Import!C:C,Mapping!D69,Import!H:H)+SUMIF(Import!D:D,Mapping!D69,Import!H:H))","v":0}]
["1","16","167","1671",1671,"Emissions de titres participatifs",{"$f":"IF(D70=D69,0,SUMIF(Import!B:B,Mapping!D70,Import!G:G)+SUMIF(Import!C:C,Mapping!D70,Import!G:G)+SUMIF(Import!D:D,Mapping!D70,Import!G:G))","v":0},{"$f":"IF(D70=D69,0,SUMIF(Import!B:B,Mapping!D70,Import!H:H)+SUMIF(Import!C:C,Mapping!D70,Import!H:H)+SUMIF(Import!D:D,Mapping!D70,Import!H:H))","v":0}]
[{"$f":"LEFT(B71,1)","v":"1"},{"$f":"IF(OR(LEFT(E71,2)=\"42\",LEFT(E71,2)=\"43\",LEFT(E71,2)=\"44\",LEFT(E71,2)=\"45\",LEFT(E71,2)=\"46\",LEFT(E71,2)=\"47\",LEFT(E71,2)=\"51\"),IF(G71<0,LEFT(E71,2)&\"P\",LEFT(E71,2)&\"A\"),LEFT(E71,2))","v":"16"},{"$f":"+LEFT(E71,3)","v":"167"},"1674",1674,"Avances conditionnées de l'Etat",{"$f":"IF(D71=D70,0,SUMIF(Import!B:B,Mapping!D71,Import!G:G)+SUMIF(Import!C:C,Mapping!D71,Import!G:G)+SUMIF(Import!D:D,Mapping!D71,Import!G:G))","v":0},{"$f":"IF(D71=D70,0,SUMIF(Import!B:B,Mapping!D71,Import!H:H)+SUMIF(Import!C:C,Mapping!D71,Import!H:H)+SUMIF(Import!D:D,Mapping!D71,Import!H:H))","v":0}]
["1","16","167","1675",1675,"Emprunts participatifs",{"$f":"IF(D72=D71,0,SUMIF(Import!B:B,Mapping!D72,Import!G:G)+SUMIF(Import!C:C,Mapping!D72,Import!G:G)+SUMIF(Import!D:D,Mapping!D72,Import!G:G))","v":0},{"$f":"IF(D72=D71,0,SUMIF(Import!B:B,Mapping!D72,Import!H:H)+SUMIF(Import!C:C,Mapping!D72,Import!H:H)+SUMIF(Import!D:D,Mapping!D72,Import!H:H))","v":0}]
["1","16","168","1680",1680,"Autres emprunts et dettes assimilées",{"$f":"IF(D73=D72,0,SUMIF(Import!B:B,Mapping!D73,Import!G:G)+SUMIF(Import!C:C,Mapping!D73,Import!G:G)+SUMIF(Import!D:D,Mapping!D73,Import!G:G))","v":0},{"$f":"IF(D73=D72,0,SUMIF(Import!B:B,Mapping!D73,Import!H:H)+SUMIF(Import!C:C,Mapping!D73,Import!H:H)+SUMIF(Import!D:D,Mapping!D73,Import!H:H))","v":0}]
["1","16","168","1681",1681,"Autres emprunts",{"$f":"IF(D74=D73,0,SUMIF(Import!B:B,Mapping!D74,Import!G:G)+SUMIF(Import!C:C,Mapping!D74,Import!G:G)+SUMIF(Import!D:D,Mapping!D74,Import!G:G))","v":0},{"$f":"IF(D74=D73,0,SUMIF(Import!B:B,Mapping!D74,Import!H:H)+SUMIF(Import!C:C,Mapping!D74,Import!H:H)+SUMIF(Import!D:D,Mapping!D74,Import!H:H))","v":0}]
["1",{"$f":"IF(OR(LEFT(E75,2)=\"42\",LEFT(E75,2)=\"43\",LEFT(E75,2)=\"44\",LEFT(E75,2)=\"45\",LEFT(E75,2)=\"46\",LEFT(E75,2)=\"47\",LEFT(E75,2)=\"51\"),IF(G75<0,LEFT(E75,2)&\"P\",LEFT(E75,2)&\"A\"),LEFT(E75,2))","v":"16"},"168","1685",1685,"Rentes viagères capitalisées",{"$f":"IF(D75=D74,0,SUMIF(Import!B:B,Mapping!D75,Import!G:G)+SUMIF(Import!C:C,Mapping!D75,Import!G:G)+SUMIF(Import!D:D,Mapping!D75,Import!G:G))","v":0},{"$f":"IF(D75=D74,0,SUMIF(Import!B:B,Mapping!D75,Import!H:H)+SUMIF(Import!C:C,Mapping!D75,Import!H:H)+SUMIF(Import!D:D,Mapping!D75,Import!H:H))","v":0}]
["1","16","168","1687",1687,"Autres dettes",{"$f":"IF(D76=D75,0,SUMIF(Import!B:B,Mapping!D76,Import!G:G)+SUMIF(Import!C:C,Mapping!D76,Import!G:G)+SUMIF(Import!D:D,Mapping!D76,Import!G:G))","v":0},{"$f":"IF(D76=D75,0,SUMIF(Import!B:B,Mapping!D76,Import!H:H)+SUMIF(Import!C:C,Mapping!D76,Import!H:H)+SUMIF(Import!D:D,Mapping!D76,Import!H:H))","v":0}]
["1","16","168",{"$f":"LEFT(E77,6)","v":"168821"},168821,"Intérêts courus sur emprunts auprès des personnes physiques à taux préférentiel",{"$f":"IF(D77=D76,0,SUMIF(Import!B:B,Mapping!D77,Import!G:G)+SUMIF(Import!C:C,Mapping!D77,Import!G:G)+SUMIF(Import!D:D,Mapping!D77,Import!G:G))","v":0},{"$f":"IF(D77=D76,0,SUMIF(Import!B:B,Mapping!D77,Import!H:H)+SUMIF(Import!C:C,Mapping!D77,Import!H:H)+SUMIF(Import!D:D,Mapping!D77,Import!H:H))","v":0}]
["1","16","168",{"$f":"LEFT(E78,6)","v":"168822"},168822,"Intérêts courus sur emprunts auprès des personnes physiques",{"$f":"IF(D78=D77,0,SUMIF(Import!B:B,Mapping!D78,Import!G:G)+SUMIF(Import!C:C,Mapping!D78,Import!G:G)+SUMIF(Import!D:D,Mapping!D78,Import!G:G))","v":0},{"$f":"IF(D78=D77,0,SUMIF(Import!B:B,Mapping!D78,Import!H:H)+SUMIF(Import!C:C,Mapping!D78,Import!H:H)+SUMIF(Import!D:D,Mapping!D78,Import!H:H))","v":0}]
["1","16","168",{"$f":"LEFT(E79,5)","v":"16888"},16888,"Intérêts courus sur autres emprunts et dettes assimilées",{"$f":"IF(D79=D78,0,SUMIF(Import!B:B,Mapping!D79,Import!G:G)+SUMIF(Import!C:C,Mapping!D79,Import!G:G)+SUMIF(Import!D:D,Mapping!D79,Import!G:G))","v":0},{"$f":"IF(D79=D78,0,SUMIF(Import!B:B,Mapping!D79,Import!H:H)+SUMIF(Import!C:C,Mapping!D79,Import!H:H)+SUMIF(Import!D:D,Mapping!D79,Import!H:H))","v":0}]
["1","16","168",{"$f":"LEFT(E80,5)","v":"16889"},16889,"sur emprunts auprès des partis et groupements politiques",{"$f":"IF(D80=D79,0,SUMIF(Import!B:B,Mapping!D80,Import!G:G)+SUMIF(Import!C:C,Mapping!D80,Import!G:G)+SUMIF(Import!D:D,Mapping!D80,Import!G:G))","v":0},{"$f":"IF(D80=D79,0,SUMIF(Import!B:B,Mapping!D80,Import!H:H)+SUMIF(Import!C:C,Mapping!D80,Import!H:H)+SUMIF(Import!D:D,Mapping!D80,Import!H:H))","v":0}]
["1","16",{"$f":"+LEFT(E81,3)","v":"169"},{"$f":"LEFT(E81,4)","v":"1690"},1690,"Primes de remboursement des obligations",{"$f":"IF(D81=D80,0,SUMIF(Import!B:B,Mapping!D81,Import!G:G)+SUMIF(Import!C:C,Mapping!D81,Import!G:G)+SUMIF(Import!D:D,Mapping!D81,Import!G:G))","v":0},{"$f":"IF(D81=D80,0,SUMIF(Import!B:B,Mapping!D81,Import!H:H)+SUMIF(Import!C:C,Mapping!D81,Import!H:H)+SUMIF(Import!D:D,Mapping!D81,Import!H:H))","v":0}]
["1","17","171","1710",1710,"Dettes rattachées à des participations (groupe)",{"$f":"IF(D82=D81,0,SUMIF(Import!B:B,Mapping!D82,Import!G:G)+SUMIF(Import!C:C,Mapping!D82,Import!G:G)+SUMIF(Import!D:D,Mapping!D82,Import!G:G))","v":0},{"$f":"IF(D82=D81,0,SUMIF(Import!B:B,Mapping!D82,Import!H:H)+SUMIF(Import!C:C,Mapping!D82,Import!H:H)+SUMIF(Import!D:D,Mapping!D82,Import!H:H))","v":0}]
["1","17","174","1740",1740,"Dettes rattachées à des participations (hors groupe)",{"$f":"IF(D83=D82,0,SUMIF(Import!B:B,Mapping!D83,Import!G:G)+SUMIF(Import!C:C,Mapping!D83,Import!G:G)+SUMIF(Import!D:D,Mapping!D83,Import!G:G))","v":0},{"$f":"IF(D83=D82,0,SUMIF(Import!B:B,Mapping!D83,Import!H:H)+SUMIF(Import!C:C,Mapping!D83,Import!H:H)+SUMIF(Import!D:D,Mapping!D83,Import!H:H))","v":0}]
["1","17","178","1780",1780,"Dettes rattachées à des sociétés en participation",{"$f":"IF(D84=D83,0,SUMIF(Import!B:B,Mapping!D84,Import!G:G)+SUMIF(Import!C:C,Mapping!D84,Import!G:G)+SUMIF(Import!D:D,Mapping!D84,Import!G:G))","v":0},{"$f":"IF(D84=D83,0,SUMIF(Import!B:B,Mapping!D84,Import!H:H)+SUMIF(Import!C:C,Mapping!D84,Import!H:H)+SUMIF(Import!D:D,Mapping!D84,Import!H:H))","v":0}]
[{"$f":"LEFT(B85,1)","v":"2"},"20","201","2010",2010,"Frais d'établissement",{"$f":"IF(D85=D84,0,SUMIF(Import!B:B,Mapping!D85,Import!G:G)+SUMIF(Import!C:C,Mapping!D85,Import!G:G)+SUMIF(Import!D:D,Mapping!D85,Import!G:G))","v":0},{"$f":"IF(D85=D84,0,SUMIF(Import!B:B,Mapping!D85,Import!H:H)+SUMIF(Import!C:C,Mapping!D85,Import!H:H)+SUMIF(Import!D:D,Mapping!D85,Import!H:H))","v":0}]
["2","20","201","2011",2011,"Frais de constitution",{"$f":"IF(D86=D85,0,SUMIF(Import!B:B,Mapping!D86,Import!G:G)+SUMIF(Import!C:C,Mapping!D86,Import!G:G)+SUMIF(Import!D:D,Mapping!D86,Import!G:G))","v":0},{"$f":"IF(D86=D85,0,SUMIF(Import!B:B,Mapping!D86,Import!H:H)+SUMIF(Import!C:C,Mapping!D86,Import!H:H)+SUMIF(Import!D:D,Mapping!D86,Import!H:H))","v":0}]
["2","20","201","2012",2012,"Frais de premier établissement",{"$f":"IF(D87=D86,0,SUMIF(Import!B:B,Mapping!D87,Import!G:G)+SUMIF(Import!C:C,Mapping!D87,Import!G:G)+SUMIF(Import!D:D,Mapping!D87,Import!G:G))","v":0},{"$f":"IF(D87=D86,0,SUMIF(Import!B:B,Mapping!D87,Import!H:H)+SUMIF(Import!C:C,Mapping!D87,Import!H:H)+SUMIF(Import!D:D,Mapping!D87,Import!H:H))","v":0}]
["2","20","201","2013",2013,"Frais d'augmentation de capital et d'opérations diverses (fusions, scissions, transformations)",{"$f":"IF(D88=D87,0,SUMIF(Import!B:B,Mapping!D88,Import!G:G)+SUMIF(Import!C:C,Mapping!D88,Import!G:G)+SUMIF(Import!D:D,Mapping!D88,Import!G:G))","v":0},{"$f":"IF(D88=D87,0,SUMIF(Import!B:B,Mapping!D88,Import!H:H)+SUMIF(Import!C:C,Mapping!D88,Import!H:H)+SUMIF(Import!D:D,Mapping!D88,Import!H:H))","v":0}]
["2","20","203","2030",2030,"Frais de développement",{"$f":"IF(D89=D88,0,SUMIF(Import!B:B,Mapping!D89,Import!G:G)+SUMIF(Import!C:C,Mapping!D89,Import!G:G)+SUMIF(Import!D:D,Mapping!D89,Import!G:G))","v":0},{"$f":"IF(D89=D88,0,SUMIF(Import!B:B,Mapping!D89,Import!H:H)+SUMIF(Import!C:C,Mapping!D89,Import!H:H)+SUMIF(Import!D:D,Mapping!D89,Import!H:H))","v":0}]
["2","20","205","2050",2050,"Concessions et droits similaires, brevets, licences, marques, procédés, logiciels, droits et valeurs similaires",{"$f":"IF(D90=D89,0,SUMIF(Import!B:B,Mapping!D90,Import!G:G)+SUMIF(Import!C:C,Mapping!D90,Import!G:G)+SUMIF(Import!D:D,Mapping!D90,Import!G:G))","v":0},{"$f":"IF(D90=D89,0,SUMIF(Import!B:B,Mapping!D90,Import!H:H)+SUMIF(Import!C:C,Mapping!D90,Import!H:H)+SUMIF(Import!D:D,Mapping!D90,Import!H:H))","v":0}]
["2","20","206",{"$f":"LEFT(E91,5)","v":"2060"},2060,"Droit au bail",{"$f":"IF(D91=D90,0,SUMIF(Import!B:B,Mapping!D91,Import!G:G)+SUMIF(Import!C:C,Mapping!D91,Import!G:G)+SUMIF(Import!D:D,Mapping!D91,Import!G:G))","v":0},{"$f":"IF(D91=D90,0,SUMIF(Import!B:B,Mapping!D91,Import!H:H)+SUMIF(Import!C:C,Mapping!D91,Import!H:H)+SUMIF(Import!D:D,Mapping!D91,Import!H:H))","v":0}]
[{"$f":"LEFT(B92,1)","v":"2"},{"$f":"IF(OR(LEFT(E92,2)=\"42\",LEFT(E92,2)=\"43\",LEFT(E92,2)=\"44\",LEFT(E92,2)=\"45\",LEFT(E92,2)=\"46\",LEFT(E92,2)=\"47\",LEFT(E92,2)=\"51\"),IF(G92<0,LEFT(E92,2)&\"P\",LEFT(E92,2)&\"A\"),LEFT(E92,2))","v":"20"},{"$f":"+LEFT(E92,3)","v":"207"},{"$f":"LEFT(E92,6)","v":"2070"},2070,"Fonds commercial",{"$f":"IF(D92=D91,0,SUMIF(Import!B:B,Mapping!D92,Import!G:G)+SUMIF(Import!C:C,Mapping!D92,Import!G:G)+SUMIF(Import!D:D,Mapping!D92,Import!G:G))","v":0},{"$f":"IF(D92=D91,0,SUMIF(Import!B:B,Mapping!D92,Import!H:H)+SUMIF(Import!C:C,Mapping!D92,Import!H:H)+SUMIF(Import!D:D,Mapping!D92,Import!H:H))","v":0}]
[{"$f":"LEFT(B93,1)","v":"2"},{"$f":"IF(OR(LEFT(E93,2)=\"42\",LEFT(E93,2)=\"43\",LEFT(E93,2)=\"44\",LEFT(E93,2)=\"45\",LEFT(E93,2)=\"46\",LEFT(E93,2)=\"47\",LEFT(E93,2)=\"51\"),IF(G93<0,LEFT(E93,2)&\"P\",LEFT(E93,2)&\"A\"),LEFT(E93,2))","v":"20"},{"$f":"+LEFT(E93,3)","v":"207"},{"$f":"LEFT(E93,6)","v":"2073"},2073,"Ecarts d'acquisition",{"$f":"IF(D93=D92,0,SUMIF(Import!B:B,Mapping!D93,Import!G:G)+SUMIF(Import!C:C,Mapping!D93,Import!G:G)+SUMIF(Import!D:D,Mapping!D93,Import!G:G))","v":0},{"$f":"IF(D93=D92,0,SUMIF(Import!B:B,Mapping!D93,Import!H:H)+SUMIF(Import!C:C,Mapping!D93,Import!H:H)+SUMIF(Import!D:D,Mapping!D93,Import!H:H))","v":0}]
[{"$f":"LEFT(B94,1)","v":"2"},{"$f":"IF(OR(LEFT(E94,2)=\"42\",LEFT(E94,2)=\"43\",LEFT(E94,2)=\"44\",LEFT(E94,2)=\"45\",LEFT(E94,2)=\"46\",LEFT(E94,2)=\"47\",LEFT(E94,2)=\"51\"),IF(G94<0,LEFT(E94,2)&\"P\",LEFT(E94,2)&\"A\"),LEFT(E94,2))","v":"20"},{"$f":"+LEFT(E94,3)","v":"208"},{"$f":"LEFT(E94,6)","v":"2080"},2080,"Autres immobilisations incorporelles",{"$f":"IF(D94=D92,0,SUMIF(Import!B:B,Mapping!D94,Import!G:G)+SUMIF(Import!C:C,Mapping!D94,Import!G:G)+SUMIF(Import!D:D,Mapping!D94,Import!G:G))","v":0},{"$f":"IF(D94=D92,0,SUMIF(Import!B:B,Mapping!D94,Import!H:H)+SUMIF(Import!C:C,Mapping!D94,Import!H:H)+SUMIF(Import!D:D,Mapping!D94,Import!H:H))","v":0}]
["2","20","208",{"$f":"LEFT(E95,5)","v":"2081"},2081,"Mali de fusion sur actifs incorporels",{"$f":"IF(D95=D92,0,SUMIF(Import!B:B,Mapping!D95,Import!G:G)+SUMIF(Import!C:C,Mapping!D95,Import!G:G)+SUMIF(Import!D:D,Mapping!D95,Import!G:G))","v":0},{"$f":"IF(D95=D92,0,SUMIF(Import!B:B,Mapping!D95,Import!H:H)+SUMIF(Import!C:C,Mapping!D95,Import!H:H)+SUMIF(Import!D:D,Mapping!D95,Import!H:H))","v":0}]
["2","21","211","2110",2110,"Terrains",{"$f":"IF(D96=D95,0,SUMIF(Import!B:B,Mapping!D96,Import!G:G)+SUMIF(Import!C:C,Mapping!D96,Import!G:G)+SUMIF(Import!D:D,Mapping!D96,Import!G:G))","v":0},{"$f":"IF(D96=D95,0,SUMIF(Import!B:B,Mapping!D96,Import!H:H)+SUMIF(Import!C:C,Mapping!D96,Import!H:H)+SUMIF(Import!D:D,Mapping!D96,Import!H:H))","v":0}]
["2","21","211","2111",2111,"Terrains nus",{"$f":"IF(D97=D96,0,SUMIF(Import!B:B,Mapping!D97,Import!G:G)+SUMIF(Import!C:C,Mapping!D97,Import!G:G)+SUMIF(Import!D:D,Mapping!D97,Import!G:G))","v":0},{"$f":"IF(D97=D96,0,SUMIF(Import!B:B,Mapping!D97,Import!H:H)+SUMIF(Import!C:C,Mapping!D97,Import!H:H)+SUMIF(Import!D:D,Mapping!D97,Import!H:H))","v":0}]
["2","21","211","2112",2112,"Terrains aménagés",{"$f":"IF(D98=D97,0,SUMIF(Import!B:B,Mapping!D98,Import!G:G)+SUMIF(Import!C:C,Mapping!D98,Import!G:G)+SUMIF(Import!D:D,Mapping!D98,Import!G:G))","v":0},{"$f":"IF(D98=D97,0,SUMIF(Import!B:B,Mapping!D98,Import!H:H)+SUMIF(Import!C:C,Mapping!D98,Import!H:H)+SUMIF(Import!D:D,Mapping!D98,Import!H:H))","v":0}]
["2","21","211","2113",2113,"Sous-sols et sur-sols",{"$f":"IF(D99=D98,0,SUMIF(Import!B:B,Mapping!D99,Import!G:G)+SUMIF(Import!C:C,Mapping!D99,Import!G:G)+SUMIF(Import!D:D,Mapping!D99,Import!G:G))","v":0},{"$f":"IF(D99=D98,0,SUMIF(Import!B:B,Mapping!D99,Import!H:H)+SUMIF(Import!C:C,Mapping!D99,Import!H:H)+SUMIF(Import!D:D,Mapping!D99,Import!H:H))","v":0}]
["2","21","211","2114",2114,"Terrains de carrières (tréfonds)",{"$f":"IF(D100=D99,0,SUMIF(Import!B:B,Mapping!D100,Import!G:G)+SUMIF(Import!C:C,Mapping!D100,Import!G:G)+SUMIF(Import!D:D,Mapping!D100,Import!G:G))","v":0},{"$f":"IF(D100=D99,0,SUMIF(Import!B:B,Mapping!D100,Import!H:H)+SUMIF(Import!C:C,Mapping!D100,Import!H:H)+SUMIF(Import!D:D,Mapping!D100,Import!H:H))","v":0}]
["2","21","211","2115",2115,"Terrains bâtis",{"$f":"IF(D101=D100,0,SUMIF(Import!B:B,Mapping!D101,Import!G:G)+SUMIF(Import!C:C,Mapping!D101,Import!G:G)+SUMIF(Import!D:D,Mapping!D101,Import!G:G))","v":0},{"$f":"IF(D101=D100,0,SUMIF(Import!B:B,Mapping!D101,Import!H:H)+SUMIF(Import!C:C,Mapping!D101,Import!H:H)+SUMIF(Import!D:D,Mapping!D101,Import!H:H))","v":0}]
["2","21","211",{"$f":"LEFT(E102,4)","v":"2116"},2116,"Compte d'ordre sur immobilisations (art: 6 du décret n° 78-737 du 11 juillet 1978)",{"$f":"IF(D102=D101,0,SUMIF(Import!B:B,Mapping!D102,Import!G:G)+SUMIF(Import!C:C,Mapping!D102,Import!G:G)+SUMIF(Import!D:D,Mapping!D102,Import!G:G))","v":0},{"$f":"IF(D102=D101,0,SUMIF(Import!B:B,Mapping!D102,Import!H:H)+SUMIF(Import!C:C,Mapping!D102,Import!H:H)+SUMIF(Import!D:D,Mapping!D102,Import!H:H))","v":0}]
["2","21","212","2120",2120,"Agencements et aménagements de terrains (même ventilation que celle du compte 211)",{"$f":"IF(D103=D102,0,SUMIF(Import!B:B,Mapping!D103,Import!G:G)+SUMIF(Import!C:C,Mapping!D103,Import!G:G)+SUMIF(Import!D:D,Mapping!D103,Import!G:G))","v":0},{"$f":"IF(D103=D102,0,SUMIF(Import!B:B,Mapping!D103,Import!H:H)+SUMIF(Import!C:C,Mapping!D103,Import!H:H)+SUMIF(Import!D:D,Mapping!D103,Import!H:H))","v":0}]
["2","21","213","2130",2130,"Constructions",{"$f":"IF(D104=D103,0,SUMIF(Import!B:B,Mapping!D104,Import!G:G)+SUMIF(Import!C:C,Mapping!D104,Import!G:G)+SUMIF(Import!D:D,Mapping!D104,Import!G:G))","v":0},{"$f":"IF(D104=D103,0,SUMIF(Import!B:B,Mapping!D104,Import!H:H)+SUMIF(Import!C:C,Mapping!D104,Import!H:H)+SUMIF(Import!D:D,Mapping!D104,Import!H:H))","v":0}]
["2","21","213","2131",2131,"Bâtiments",{"$f":"IF(D105=D104,0,SUMIF(Import!B:B,Mapping!D105,Import!G:G)+SUMIF(Import!C:C,Mapping!D105,Import!G:G)+SUMIF(Import!D:D,Mapping!D105,Import!G:G))","v":0},{"$f":"IF(D105=D104,0,SUMIF(Import!B:B,Mapping!D105,Import!H:H)+SUMIF(Import!C:C,Mapping!D105,Import!H:H)+SUMIF(Import!D:D,Mapping!D105,Import!H:H))","v":0}]
["2","21","213","2135",2135,"Installations générales - agencements - aménagements des constructions (même ventilation que celle du compte 2131)",{"$f":"IF(D106=D105,0,SUMIF(Import!B:B,Mapping!D106,Import!G:G)+SUMIF(Import!C:C,Mapping!D106,Import!G:G)+SUMIF(Import!D:D,Mapping!D106,Import!G:G))","v":0},{"$f":"IF(D106=D105,0,SUMIF(Import!B:B,Mapping!D106,Import!H:H)+SUMIF(Import!C:C,Mapping!D106,Import!H:H)+SUMIF(Import!D:D,Mapping!D106,Import!H:H))","v":0}]
["2","21",{"$f":"+LEFT(E107,3)","v":"213"},"2138",2138,"Ouvrages d'infrastructure",{"$f":"IF(D107=D106,0,SUMIF(Import!B:B,Mapping!D107,Import!G:G)+SUMIF(Import!C:C,Mapping!D107,Import!G:G)+SUMIF(Import!D:D,Mapping!D107,Import!G:G))","v":0},{"$f":"IF(D107=D106,0,SUMIF(Import!B:B,Mapping!D107,Import!H:H)+SUMIF(Import!C:C,Mapping!D107,Import!H:H)+SUMIF(Import!D:D,Mapping!D107,Import!H:H))","v":0}]
["2","21","214","2140",2140,"Constructions sur sol d'autrui (même ventilation que celle du compte 213)",{"$f":"IF(D108=D107,0,SUMIF(Import!B:B,Mapping!D108,Import!G:G)+SUMIF(Import!C:C,Mapping!D108,Import!G:G)+SUMIF(Import!D:D,Mapping!D108,Import!G:G))","v":0},{"$f":"IF(D108=D107,0,SUMIF(Import!B:B,Mapping!D108,Import!H:H)+SUMIF(Import!C:C,Mapping!D108,Import!H:H)+SUMIF(Import!D:D,Mapping!D108,Import!H:H))","v":0}]
["2","21","215","2150",2150,"Installations techniques, matériels et outillage industriels",{"$f":"IF(D109=D108,0,SUMIF(Import!B:B,Mapping!D109,Import!G:G)+SUMIF(Import!C:C,Mapping!D109,Import!G:G)+SUMIF(Import!D:D,Mapping!D109,Import!G:G))","v":0},{"$f":"IF(D109=D108,0,SUMIF(Import!B:B,Mapping!D109,Import!H:H)+SUMIF(Import!C:C,Mapping!D109,Import!H:H)+SUMIF(Import!D:D,Mapping!D109,Import!H:H))","v":0}]
["2","21","215","2151",2151,"Installations complexes spécialisées",{"$f":"IF(D110=D109,0,SUMIF(Import!B:B,Mapping!D110,Import!G:G)+SUMIF(Import!C:C,Mapping!D110,Import!G:G)+SUMIF(Import!D:D,Mapping!D110,Import!G:G))","v":0},{"$f":"IF(D110=D109,0,SUMIF(Import!B:B,Mapping!D110,Import!H:H)+SUMIF(Import!C:C,Mapping!D110,Import!H:H)+SUMIF(Import!D:D,Mapping!D110,Import!H:H))","v":0}]
["2",{"$f":"IF(OR(LEFT(E111,2)=\"42\",LEFT(E111,2)=\"43\",LEFT(E111,2)=\"44\",LEFT(E111,2)=\"45\",LEFT(E111,2)=\"46\",LEFT(E111,2)=\"47\",LEFT(E111,2)=\"51\"),IF(G111<0,LEFT(E111,2)&\"P\",LEFT(E111,2)&\"A\"),LEFT(E111,2))","v":"21"},{"$f":"+LEFT(E111,3)","v":"215"},"2153",2153,"Installations à caractère spécifique",{"$f":"IF(D111=D110,0,SUMIF(Import!B:B,Mapping!D111,Import!G:G)+SUMIF(Import!C:C,Mapping!D111,Import!G:G)+SUMIF(Import!D:D,Mapping!D111,Import!G:G))","v":0},{"$f":"IF(D111=D110,0,SUMIF(Import!B:B,Mapping!D111,Import!H:H)+SUMIF(Import!C:C,Mapping!D111,Import!H:H)+SUMIF(Import!D:D,Mapping!D111,Import!H:H))","v":0}]
["2","21","215","2154",2154,"Matériel industriel",{"$f":"IF(D112=D111,0,SUMIF(Import!B:B,Mapping!D112,Import!G:G)+SUMIF(Import!C:C,Mapping!D112,Import!G:G)+SUMIF(Import!D:D,Mapping!D112,Import!G:G))","v":0},{"$f":"IF(D112=D111,0,SUMIF(Import!B:B,Mapping!D112,Import!H:H)+SUMIF(Import!C:C,Mapping!D112,Import!H:H)+SUMIF(Import!D:D,Mapping!D112,Import!H:H))","v":0}]
["2","21","215","2155",2155,"Outillage industriel",{"$f":"IF(D113=D112,0,SUMIF(Import!B:B,Mapping!D113,Import!G:G)+SUMIF(Import!C:C,Mapping!D113,Import!G:G)+SUMIF(Import!D:D,Mapping!D113,Import!G:G))","v":0},{"$f":"IF(D113=D112,0,SUMIF(Import!B:B,Mapping!D113,Import!H:H)+SUMIF(Import!C:C,Mapping!D113,Import!H:H)+SUMIF(Import!D:D,Mapping!D113,Import!H:H))","v":0}]
["2","21","215","2157",2157,"Agencements et aménagements de matériel et outillage industriels",{"$f":"IF(D114=D113,0,SUMIF(Import!B:B,Mapping!D114,Import!G:G)+SUMIF(Import!C:C,Mapping!D114,Import!G:G)+SUMIF(Import!D:D,Mapping!D114,Import!G:G))","v":0},{"$f":"IF(D114=D113,0,SUMIF(Import!B:B,Mapping!D114,Import!H:H)+SUMIF(Import!C:C,Mapping!D114,Import!H:H)+SUMIF(Import!D:D,Mapping!D114,Import!H:H))","v":0}]
["2","21","218","2180",2180,"Autres immobilisations corporelles",{"$f":"IF(D115=D114,0,SUMIF(Import!B:B,Mapping!D115,Import!G:G)+SUMIF(Import!C:C,Mapping!D115,Import!G:G)+SUMIF(Import!D:D,Mapping!D115,Import!G:G))","v":0},{"$f":"IF(D115=D114,0,SUMIF(Import!B:B,Mapping!D115,Import!H:H)+SUMIF(Import!C:C,Mapping!D115,Import!H:H)+SUMIF(Import!D:D,Mapping!D115,Import!H:H))","v":0}]
["2","21","218","2181",2181,"Installations générales, agencements, aménagements divers",{"$f":"IF(D116=D115,0,SUMIF(Import!B:B,Mapping!D116,Import!G:G)+SUMIF(Import!C:C,Mapping!D116,Import!G:G)+SUMIF(Import!D:D,Mapping!D116,Import!G:G))","v":0},{"$f":"IF(D116=D115,0,SUMIF(Import!B:B,Mapping!D116,Import!H:H)+SUMIF(Import!C:C,Mapping!D116,Import!H:H)+SUMIF(Import!D:D,Mapping!D116,Import!H:H))","v":0}]
["2","21","218","2182",2182,"Matériel de transport",{"$f":"IF(D117=D116,0,SUMIF(Import!B:B,Mapping!D117,Import!G:G)+SUMIF(Import!C:C,Mapping!D117,Import!G:G)+SUMIF(Import!D:D,Mapping!D117,Import!G:G))","v":0},{"$f":"IF(D117=D116,0,SUMIF(Import!B:B,Mapping!D117,Import!H:H)+SUMIF(Import!C:C,Mapping!D117,Import!H:H)+SUMIF(Import!D:D,Mapping!D117,Import!H:H))","v":0}]
["2","21","218","2183",2183,"Matériel de bureau et matériel informatique",{"$f":"IF(D118=D117,0,SUMIF(Import!B:B,Mapping!D118,Import!G:G)+SUMIF(Import!C:C,Mapping!D118,Import!G:G)+SUMIF(Import!D:D,Mapping!D118,Import!G:G))","v":0},{"$f":"IF(D118=D117,0,SUMIF(Import!B:B,Mapping!D118,Import!H:H)+SUMIF(Import!C:C,Mapping!D118,Import!H:H)+SUMIF(Import!D:D,Mapping!D118,Import!H:H))","v":0}]
["2","21","218","2184",2184,"Mobilier",{"$f":"IF(D119=D118,0,SUMIF(Import!B:B,Mapping!D119,Import!G:G)+SUMIF(Import!C:C,Mapping!D119,Import!G:G)+SUMIF(Import!D:D,Mapping!D119,Import!G:G))","v":0},{"$f":"IF(D119=D118,0,SUMIF(Import!B:B,Mapping!D119,Import!H:H)+SUMIF(Import!C:C,Mapping!D119,Import!H:H)+SUMIF(Import!D:D,Mapping!D119,Import!H:H))","v":0}]
["2","21","218","2185",2185,"Cheptel",{"$f":"IF(D120=D119,0,SUMIF(Import!B:B,Mapping!D120,Import!G:G)+SUMIF(Import!C:C,Mapping!D120,Import!G:G)+SUMIF(Import!D:D,Mapping!D120,Import!G:G))","v":0},{"$f":"IF(D120=D119,0,SUMIF(Import!B:B,Mapping!D120,Import!H:H)+SUMIF(Import!C:C,Mapping!D120,Import!H:H)+SUMIF(Import!D:D,Mapping!D120,Import!H:H))","v":0}]
["2","21","218","2186",2186,"Emballages récupérables",{"$f":"IF(D121=D120,0,SUMIF(Import!B:B,Mapping!D121,Import!G:G)+SUMIF(Import!C:C,Mapping!D121,Import!G:G)+SUMIF(Import!D:D,Mapping!D121,Import!G:G))","v":0},{"$f":"IF(D121=D120,0,SUMIF(Import!B:B,Mapping!D121,Import!H:H)+SUMIF(Import!C:C,Mapping!D121,Import!H:H)+SUMIF(Import!D:D,Mapping!D121,Import!H:H))","v":0}]
["2","21","218","2187",2187,"Mali de fusion sur actifs corporels",{"$f":"IF(D122=D121,0,SUMIF(Import!B:B,Mapping!D122,Import!G:G)+SUMIF(Import!C:C,Mapping!D122,Import!G:G)+SUMIF(Import!D:D,Mapping!D122,Import!G:G))","v":0},{"$f":"IF(D122=D121,0,SUMIF(Import!B:B,Mapping!D122,Import!H:H)+SUMIF(Import!C:C,Mapping!D122,Import!H:H)+SUMIF(Import!D:D,Mapping!D122,Import!H:H))","v":0}]
["2","23","231","2310",2310,"Immobilisations corporelles en cours",{"$f":"IF(D123=D122,0,SUMIF(Import!B:B,Mapping!D123,Import!G:G)+SUMIF(Import!C:C,Mapping!D123,Import!G:G)+SUMIF(Import!D:D,Mapping!D123,Import!G:G))","v":0},{"$f":"IF(D123=D122,0,SUMIF(Import!B:B,Mapping!D123,Import!H:H)+SUMIF(Import!C:C,Mapping!D123,Import!H:H)+SUMIF(Import!D:D,Mapping!D123,Import!H:H))","v":0}]
["2","23","231","2312",2312,"Immobilisations corporelles en cours - Terrains",{"$f":"IF(D124=D123,0,SUMIF(Import!B:B,Mapping!D124,Import!G:G)+SUMIF(Import!C:C,Mapping!D124,Import!G:G)+SUMIF(Import!D:D,Mapping!D124,Import!G:G))","v":0},{"$f":"IF(D124=D123,0,SUMIF(Import!B:B,Mapping!D124,Import!H:H)+SUMIF(Import!C:C,Mapping!D124,Import!H:H)+SUMIF(Import!D:D,Mapping!D124,Import!H:H))","v":0}]
["2","23","231","2313",2313,"Immobilisations corporelles en cours - Constructions",{"$f":"IF(D125=D124,0,SUMIF(Import!B:B,Mapping!D125,Import!G:G)+SUMIF(Import!C:C,Mapping!D125,Import!G:G)+SUMIF(Import!D:D,Mapping!D125,Import!G:G))","v":0},{"$f":"IF(D125=D124,0,SUMIF(Import!B:B,Mapping!D125,Import!H:H)+SUMIF(Import!C:C,Mapping!D125,Import!H:H)+SUMIF(Import!D:D,Mapping!D125,Import!H:H))","v":0}]
["2","23","231","2315",2315,"Immobilisations corporelles en cours - Installations techniques, matériel et outillage industriels",{"$f":"IF(D126=D125,0,SUMIF(Import!B:B,Mapping!D126,Import!G:G)+SUMIF(Import!C:C,Mapping!D126,Import!G:G)+SUMIF(Import!D:D,Mapping!D126,Import!G:G))","v":0},{"$f":"IF(D126=D125,0,SUMIF(Import!B:B,Mapping!D126,Import!H:H)+SUMIF(Import!C:C,Mapping!D126,Import!H:H)+SUMIF(Import!D:D,Mapping!D126,Import!H:H))","v":0}]
["2","23","231",{"$f":"LEFT(E127,4)","v":"2318"},2318,"Immobilisations corporelles en cours - Autres immobilisations corporelles",{"$f":"IF(D127=D126,0,SUMIF(Import!B:B,Mapping!D127,Import!G:G)+SUMIF(Import!C:C,Mapping!D127,Import!G:G)+SUMIF(Import!D:D,Mapping!D127,Import!G:G))","v":0},{"$f":"IF(D127=D126,0,SUMIF(Import!B:B,Mapping!D127,Import!H:H)+SUMIF(Import!C:C,Mapping!D127,Import!H:H)+SUMIF(Import!D:D,Mapping!D127,Import!H:H))","v":0}]
["2","23","232",{"$f":"LEFT(E128,4)","v":"2320"},2320,"Immobilisations incorporelles en cours",{"$f":"IF(D128=D127,0,SUMIF(Import!B:B,Mapping!D128,Import!G:G)+SUMIF(Import!C:C,Mapping!D128,Import!G:G)+SUMIF(Import!D:D,Mapping!D128,Import!G:G))","v":0},{"$f":"IF(D128=D127,0,SUMIF(Import!B:B,Mapping!D128,Import!H:H)+SUMIF(Import!C:C,Mapping!D128,Import!H:H)+SUMIF(Import!D:D,Mapping!D128,Import!H:H))","v":0}]
["2","23","237","2370",2370,"Avances et acomptes versés sur immobilisations incorporelles",{"$f":"IF(D129=D128,0,SUMIF(Import!B:B,Mapping!D129,Import!G:G)+SUMIF(Import!C:C,Mapping!D129,Import!G:G)+SUMIF(Import!D:D,Mapping!D129,Import!G:G))","v":0},{"$f":"IF(D129=D128,0,SUMIF(Import!B:B,Mapping!D129,Import!H:H)+SUMIF(Import!C:C,Mapping!D129,Import!H:H)+SUMIF(Import!D:D,Mapping!D129,Import!H:H))","v":0}]
["2","23","238","2380",2380,"Avances et acomptes versés sur commandes d'immobilisations corporelles",{"$f":"IF(D130=D129,0,SUMIF(Import!B:B,Mapping!D130,Import!G:G)+SUMIF(Import!C:C,Mapping!D130,Import!G:G)+SUMIF(Import!D:D,Mapping!D130,Import!G:G))","v":0},{"$f":"IF(D130=D129,0,SUMIF(Import!B:B,Mapping!D130,Import!H:H)+SUMIF(Import!C:C,Mapping!D130,Import!H:H)+SUMIF(Import!D:D,Mapping!D130,Import!H:H))","v":0}]
["2","23","238","2382",2382,"Terrains",{"$f":"IF(D131=D130,0,SUMIF(Import!B:B,Mapping!D131,Import!G:G)+SUMIF(Import!C:C,Mapping!D131,Import!G:G)+SUMIF(Import!D:D,Mapping!D131,Import!G:G))","v":0},{"$f":"IF(D131=D130,0,SUMIF(Import!B:B,Mapping!D131,Import!H:H)+SUMIF(Import!C:C,Mapping!D131,Import!H:H)+SUMIF(Import!D:D,Mapping!D131,Import!H:H))","v":0}]
["2","23","238","2383",2383,"Constructions",{"$f":"IF(D132=D131,0,SUMIF(Import!B:B,Mapping!D132,Import!G:G)+SUMIF(Import!C:C,Mapping!D132,Import!G:G)+SUMIF(Import!D:D,Mapping!D132,Import!G:G))","v":0},{"$f":"IF(D132=D131,0,SUMIF(Import!B:B,Mapping!D132,Import!H:H)+SUMIF(Import!C:C,Mapping!D132,Import!H:H)+SUMIF(Import!D:D,Mapping!D132,Import!H:H))","v":0}]
["2","23","238","2385",2385,"Installations techniques, matériel et outillage industriels",{"$f":"IF(D133=D132,0,SUMIF(Import!B:B,Mapping!D133,Import!G:G)+SUMIF(Import!C:C,Mapping!D133,Import!G:G)+SUMIF(Import!D:D,Mapping!D133,Import!G:G))","v":0},{"$f":"IF(D133=D132,0,SUMIF(Import!B:B,Mapping!D133,Import!H:H)+SUMIF(Import!C:C,Mapping!D133,Import!H:H)+SUMIF(Import!D:D,Mapping!D133,Import!H:H))","v":0}]
["2","23","238",{"$f":"LEFT(E134,4)","v":"2388"},2388,"Autres immobilisations corporelles",{"$f":"IF(D134=D133,0,SUMIF(Import!B:B,Mapping!D134,Import!G:G)+SUMIF(Import!C:C,Mapping!D134,Import!G:G)+SUMIF(Import!D:D,Mapping!D134,Import!G:G))","v":0},{"$f":"IF(D134=D133,0,SUMIF(Import!B:B,Mapping!D134,Import!H:H)+SUMIF(Import!C:C,Mapping!D134,Import!H:H)+SUMIF(Import!D:D,Mapping!D134,Import!H:H))","v":0}]
["2","26","261",{"$f":"LEFT(E135,4)","v":"2610"},2610,"Titres de participation",{"$f":"IF(D135=D134,0,SUMIF(Import!B:B,Mapping!D135,Import!G:G)+SUMIF(Import!C:C,Mapping!D135,Import!G:G)+SUMIF(Import!D:D,Mapping!D135,Import!G:G))","v":0},{"$f":"IF(D135=D134,0,SUMIF(Import!B:B,Mapping!D135,Import!H:H)+SUMIF(Import!C:C,Mapping!D135,Import!H:H)+SUMIF(Import!D:D,Mapping!D135,Import!H:H))","v":0}]
[{"$f":"LEFT(B136,1)","v":"2"},"26","261","2611",2611,"Actions",{"$f":"IF(D136=D135,0,SUMIF(Import!B:B,Mapping!D136,Import!G:G)+SUMIF(Import!C:C,Mapping!D136,Import!G:G)+SUMIF(Import!D:D,Mapping!D136,Import!G:G))","v":0},{"$f":"IF(D136=D135,0,SUMIF(Import!B:B,Mapping!D136,Import!H:H)+SUMIF(Import!C:C,Mapping!D136,Import!H:H)+SUMIF(Import!D:D,Mapping!D136,Import!H:H))","v":0}]
["2","26","261","2618",2618,"Autres titres",{"$f":"IF(D137=D136,0,SUMIF(Import!B:B,Mapping!D137,Import!G:G)+SUMIF(Import!C:C,Mapping!D137,Import!G:G)+SUMIF(Import!D:D,Mapping!D137,Import!G:G))","v":0},{"$f":"IF(D137=D136,0,SUMIF(Import!B:B,Mapping!D137,Import!H:H)+SUMIF(Import!C:C,Mapping!D137,Import!H:H)+SUMIF(Import!D:D,Mapping!D137,Import!H:H))","v":0}]
["2","26","266","2660",2660,"Autres formes de participation",{"$f":"IF(D138=D137,0,SUMIF(Import!B:B,Mapping!D138,Import!G:G)+SUMIF(Import!C:C,Mapping!D138,Import!G:G)+SUMIF(Import!D:D,Mapping!D138,Import!G:G))","v":0},{"$f":"IF(D138=D137,0,SUMIF(Import!B:B,Mapping!D138,Import!H:H)+SUMIF(Import!C:C,Mapping!D138,Import!H:H)+SUMIF(Import!D:D,Mapping!D138,Import!H:H))","v":0}]
["2",{"$f":"IF(OR(LEFT(E139,2)=\"42\",LEFT(E139,2)=\"43\",LEFT(E139,2)=\"44\",LEFT(E139,2)=\"45\",LEFT(E139,2)=\"46\",LEFT(E139,2)=\"47\",LEFT(E139,2)=\"51\"),IF(G139<0,LEFT(E139,2)&\"P\",LEFT(E139,2)&\"A\"),LEFT(E139,2))","v":"26"},"267","2670",2670,"Créances rattachées à des participations",{"$f":"IF(D139=D138,0,SUMIF(Import!B:B,Mapping!D139,Import!G:G)+SUMIF(Import!C:C,Mapping!D139,Import!G:G)+SUMIF(Import!D:D,Mapping!D139,Import!G:G))","v":0},{"$f":"IF(D139=D138,0,SUMIF(Import!B:B,Mapping!D139,Import!H:H)+SUMIF(Import!C:C,Mapping!D139,Import!H:H)+SUMIF(Import!D:D,Mapping!D139,Import!H:H))","v":0}]
["2","26","267","2671",2671,"Créances rattachées à des participations (groupe)",{"$f":"IF(D140=D139,0,SUMIF(Import!B:B,Mapping!D140,Import!G:G)+SUMIF(Import!C:C,Mapping!D140,Import!G:G)+SUMIF(Import!D:D,Mapping!D140,Import!G:G))","v":0},{"$f":"IF(D140=D139,0,SUMIF(Import!B:B,Mapping!D140,Import!H:H)+SUMIF(Import!C:C,Mapping!D140,Import!H:H)+SUMIF(Import!D:D,Mapping!D140,Import!H:H))","v":0}]
["2","26","267","2674",2674,"Créances rattachées à des participations (hors groupe)",{"$f":"IF(D141=D140,0,SUMIF(Import!B:B,Mapping!D141,Import!G:G)+SUMIF(Import!C:C,Mapping!D141,Import!G:G)+SUMIF(Import!D:D,Mapping!D141,Import!G:G))","v":0},{"$f":"IF(D141=D140,0,SUMIF(Import!B:B,Mapping!D141,Import!H:H)+SUMIF(Import!C:C,Mapping!D141,Import!H:H)+SUMIF(Import!D:D,Mapping!D141,Import!H:H))","v":0}]
["2","26","267","2675",2675,"Versements représentatifs d'apports non capitalisés (appel de fonds)",{"$f":"IF(D142=D141,0,SUMIF(Import!B:B,Mapping!D142,Import!G:G)+SUMIF(Import!C:C,Mapping!D142,Import!G:G)+SUMIF(Import!D:D,Mapping!D142,Import!G:G))","v":0},{"$f":"IF(D142=D141,0,SUMIF(Import!B:B,Mapping!D142,Import!H:H)+SUMIF(Import!C:C,Mapping!D142,Import!H:H)+SUMIF(Import!D:D,Mapping!D142,Import!H:H))","v":0}]
["2","26","267","2676",2676,"Avances consolidables",{"$f":"IF(D143=D142,0,SUMIF(Import!B:B,Mapping!D143,Import!G:G)+SUMIF(Import!C:C,Mapping!D143,Import!G:G)+SUMIF(Import!D:D,Mapping!D143,Import!G:G))","v":0},{"$f":"IF(D143=D142,0,SUMIF(Import!B:B,Mapping!D143,Import!H:H)+SUMIF(Import!C:C,Mapping!D143,Import!H:H)+SUMIF(Import!D:D,Mapping!D143,Import!H:H))","v":0}]
["2","26","267","2677",2677,"Autres créances rattachées à des participations",{"$f":"IF(D144=D143,0,SUMIF(Import!B:B,Mapping!D144,Import!G:G)+SUMIF(Import!C:C,Mapping!D144,Import!G:G)+SUMIF(Import!D:D,Mapping!D144,Import!G:G))","v":0},{"$f":"IF(D144=D143,0,SUMIF(Import!B:B,Mapping!D144,Import!H:H)+SUMIF(Import!C:C,Mapping!D144,Import!H:H)+SUMIF(Import!D:D,Mapping!D144,Import!H:H))","v":0}]
["2","26","267","2678",2678,"Intérêts courus",{"$f":"IF(D145=D144,0,SUMIF(Import!B:B,Mapping!D145,Import!G:G)+SUMIF(Import!C:C,Mapping!D145,Import!G:G)+SUMIF(Import!D:D,Mapping!D145,Import!G:G))","v":0},{"$f":"IF(D145=D144,0,SUMIF(Import!B:B,Mapping!D145,Import!H:H)+SUMIF(Import!C:C,Mapping!D145,Import!H:H)+SUMIF(Import!D:D,Mapping!D145,Import!H:H))","v":0}]
["2","26","268","2680",2680,"Créances rattachées à des sociétés en participation",{"$f":"IF(D146=D145,0,SUMIF(Import!B:B,Mapping!D146,Import!G:G)+SUMIF(Import!C:C,Mapping!D146,Import!G:G)+SUMIF(Import!D:D,Mapping!D146,Import!G:G))","v":0},{"$f":"IF(D146=D145,0,SUMIF(Import!B:B,Mapping!D146,Import!H:H)+SUMIF(Import!C:C,Mapping!D146,Import!H:H)+SUMIF(Import!D:D,Mapping!D146,Import!H:H))","v":0}]
["2","26","268","2681",2681,"Principal",{"$f":"IF(D147=D146,0,SUMIF(Import!B:B,Mapping!D147,Import!G:G)+SUMIF(Import!C:C,Mapping!D147,Import!G:G)+SUMIF(Import!D:D,Mapping!D147,Import!G:G))","v":0},{"$f":"IF(D147=D146,0,SUMIF(Import!B:B,Mapping!D147,Import!H:H)+SUMIF(Import!C:C,Mapping!D147,Import!H:H)+SUMIF(Import!D:D,Mapping!D147,Import!H:H))","v":0}]
["2","26","268","2688",2688,"Intérêts courus",{"$f":"IF(D148=D147,0,SUMIF(Import!B:B,Mapping!D148,Import!G:G)+SUMIF(Import!C:C,Mapping!D148,Import!G:G)+SUMIF(Import!D:D,Mapping!D148,Import!G:G))","v":0},{"$f":"IF(D148=D147,0,SUMIF(Import!B:B,Mapping!D148,Import!H:H)+SUMIF(Import!C:C,Mapping!D148,Import!H:H)+SUMIF(Import!D:D,Mapping!D148,Import!H:H))","v":0}]
["2","26","269","2690",2690,"Versements restant à effectuer sur titres de participation non libérés",{"$f":"IF(D149=D148,0,SUMIF(Import!B:B,Mapping!D149,Import!G:G)+SUMIF(Import!C:C,Mapping!D149,Import!G:G)+SUMIF(Import!D:D,Mapping!D149,Import!G:G))","v":0},{"$f":"IF(D149=D148,0,SUMIF(Import!B:B,Mapping!D149,Import!H:H)+SUMIF(Import!C:C,Mapping!D149,Import!H:H)+SUMIF(Import!D:D,Mapping!D149,Import!H:H))","v":0}]
["2","27","271","2710",2710,"Titres immobilisés autres que les titres immobilisés de l'activité de portefeuille (droit de propriété)",{"$f":"IF(D150=D149,0,SUMIF(Import!B:B,Mapping!D150,Import!G:G)+SUMIF(Import!C:C,Mapping!D150,Import!G:G)+SUMIF(Import!D:D,Mapping!D150,Import!G:G))","v":0},{"$f":"IF(D150=D149,0,SUMIF(Import!B:B,Mapping!D150,Import!H:H)+SUMIF(Import!C:C,Mapping!D150,Import!H:H)+SUMIF(Import!D:D,Mapping!D150,Import!H:H))","v":0}]
["2","27",{"$f":"+LEFT(E151,3)","v":"271"},"2711",2711,"Actions",{"$f":"IF(D151=D150,0,SUMIF(Import!B:B,Mapping!D151,Import!G:G)+SUMIF(Import!C:C,Mapping!D151,Import!G:G)+SUMIF(Import!D:D,Mapping!D151,Import!G:G))","v":0},{"$f":"IF(D151=D150,0,SUMIF(Import!B:B,Mapping!D151,Import!H:H)+SUMIF(Import!C:C,Mapping!D151,Import!H:H)+SUMIF(Import!D:D,Mapping!D151,Import!H:H))","v":0}]
["2","27","271","2718",2718,"Autres titres",{"$f":"IF(D152=D151,0,SUMIF(Import!B:B,Mapping!D152,Import!G:G)+SUMIF(Import!C:C,Mapping!D152,Import!G:G)+SUMIF(Import!D:D,Mapping!D152,Import!G:G))","v":0},{"$f":"IF(D152=D151,0,SUMIF(Import!B:B,Mapping!D152,Import!H:H)+SUMIF(Import!C:C,Mapping!D152,Import!H:H)+SUMIF(Import!D:D,Mapping!D152,Import!H:H))","v":0}]
["2","27","272","2720",2720,"Titres immobilisés (droit de créance)",{"$f":"IF(D153=D152,0,SUMIF(Import!B:B,Mapping!D153,Import!G:G)+SUMIF(Import!C:C,Mapping!D153,Import!G:G)+SUMIF(Import!D:D,Mapping!D153,Import!G:G))","v":0},{"$f":"IF(D153=D152,0,SUMIF(Import!B:B,Mapping!D153,Import!H:H)+SUMIF(Import!C:C,Mapping!D153,Import!H:H)+SUMIF(Import!D:D,Mapping!D153,Import!H:H))","v":0}]
["2","27","272","2721",2721,"Obligations",{"$f":"IF(D154=D153,0,SUMIF(Import!B:B,Mapping!D154,Import!G:G)+SUMIF(Import!C:C,Mapping!D154,Import!G:G)+SUMIF(Import!D:D,Mapping!D154,Import!G:G))","v":0},{"$f":"IF(D154=D153,0,SUMIF(Import!B:B,Mapping!D154,Import!H:H)+SUMIF(Import!C:C,Mapping!D154,Import!H:H)+SUMIF(Import!D:D,Mapping!D154,Import!H:H))","v":0}]
["2","27","272","2722",2722,"Bons",{"$f":"IF(D155=D154,0,SUMIF(Import!B:B,Mapping!D155,Import!G:G)+SUMIF(Import!C:C,Mapping!D155,Import!G:G)+SUMIF(Import!D:D,Mapping!D155,Import!G:G))","v":0},{"$f":"IF(D155=D154,0,SUMIF(Import!B:B,Mapping!D155,Import!H:H)+SUMIF(Import!C:C,Mapping!D155,Import!H:H)+SUMIF(Import!D:D,Mapping!D155,Import!H:H))","v":0}]
["2","27","273","2730",2730,"Titres immobilisés de l'activité de portefeuille",{"$f":"IF(D156=D155,0,SUMIF(Import!B:B,Mapping!D156,Import!G:G)+SUMIF(Import!C:C,Mapping!D156,Import!G:G)+SUMIF(Import!D:D,Mapping!D156,Import!G:G))","v":0},{"$f":"IF(D156=D155,0,SUMIF(Import!B:B,Mapping!D156,Import!H:H)+SUMIF(Import!C:C,Mapping!D156,Import!H:H)+SUMIF(Import!D:D,Mapping!D156,Import!H:H))","v":0}]
["2","27","274","2741",2741,"Prêts à des partis ou groupements politiques",{"$f":"IF(D157=D156,0,SUMIF(Import!B:B,Mapping!D157,Import!G:G)+SUMIF(Import!C:C,Mapping!D157,Import!G:G)+SUMIF(Import!D:D,Mapping!D157,Import!G:G))","v":0},{"$f":"IF(D157=D156,0,SUMIF(Import!B:B,Mapping!D157,Import!H:H)+SUMIF(Import!C:C,Mapping!D157,Import!H:H)+SUMIF(Import!D:D,Mapping!D157,Import!H:H))","v":0}]
["2","27","274","2742",2742,"Prêts aux candidats",{"$f":"IF(D158=D157,0,SUMIF(Import!B:B,Mapping!D158,Import!G:G)+SUMIF(Import!C:C,Mapping!D158,Import!G:G)+SUMIF(Import!D:D,Mapping!D158,Import!G:G))","v":0},{"$f":"IF(D158=D157,0,SUMIF(Import!B:B,Mapping!D158,Import!H:H)+SUMIF(Import!C:C,Mapping!D158,Import!H:H)+SUMIF(Import!D:D,Mapping!D158,Import!H:H))","v":0}]
["2","27","274","2743",2743,"Prêts aux organisations territoriales ou spécialisées du parti",{"$f":"IF(D159=D158,0,SUMIF(Import!B:B,Mapping!D159,Import!G:G)+SUMIF(Import!C:C,Mapping!D159,Import!G:G)+SUMIF(Import!D:D,Mapping!D159,Import!G:G))","v":0},{"$f":"IF(D159=D158,0,SUMIF(Import!B:B,Mapping!D159,Import!H:H)+SUMIF(Import!C:C,Mapping!D159,Import!H:H)+SUMIF(Import!D:D,Mapping!D159,Import!H:H))","v":0}]
["2","27","274","2744",2744,"Prêts à d'autres organismes",{"$f":"IF(D160=D159,0,SUMIF(Import!B:B,Mapping!D160,Import!G:G)+SUMIF(Import!C:C,Mapping!D160,Import!G:G)+SUMIF(Import!D:D,Mapping!D160,Import!G:G))","v":0},{"$f":"IF(D160=D159,0,SUMIF(Import!B:B,Mapping!D160,Import!H:H)+SUMIF(Import!C:C,Mapping!D160,Import!H:H)+SUMIF(Import!D:D,Mapping!D160,Import!H:H))","v":0}]
["2","27","274","2745",2745,"Prêts au personnel",{"$f":"IF(D161=D160,0,SUMIF(Import!B:B,Mapping!D161,Import!G:G)+SUMIF(Import!C:C,Mapping!D161,Import!G:G)+SUMIF(Import!D:D,Mapping!D161,Import!G:G))","v":0},{"$f":"IF(D161=D160,0,SUMIF(Import!B:B,Mapping!D161,Import!H:H)+SUMIF(Import!C:C,Mapping!D161,Import!H:H)+SUMIF(Import!D:D,Mapping!D161,Import!H:H))","v":0}]
["2","27","274","2748",2748,"Autres prêts",{"$f":"IF(D162=D161,0,SUMIF(Import!B:B,Mapping!D162,Import!G:G)+SUMIF(Import!C:C,Mapping!D162,Import!G:G)+SUMIF(Import!D:D,Mapping!D162,Import!G:G))","v":0},{"$f":"IF(D162=D161,0,SUMIF(Import!B:B,Mapping!D162,Import!H:H)+SUMIF(Import!C:C,Mapping!D162,Import!H:H)+SUMIF(Import!D:D,Mapping!D162,Import!H:H))","v":0}]
["2","27","275","2750",2750,"Dépôts et cautionnements versés",{"$f":"IF(D163=D162,0,SUMIF(Import!B:B,Mapping!D163,Import!G:G)+SUMIF(Import!C:C,Mapping!D163,Import!G:G)+SUMIF(Import!D:D,Mapping!D163,Import!G:G))","v":0},{"$f":"IF(D163=D162,0,SUMIF(Import!B:B,Mapping!D163,Import!H:H)+SUMIF(Import!C:C,Mapping!D163,Import!H:H)+SUMIF(Import!D:D,Mapping!D163,Import!H:H))","v":0}]
["2","27","275","2751",2751,"Dépôts",{"$f":"IF(D164=D163,0,SUMIF(Import!B:B,Mapping!D164,Import!G:G)+SUMIF(Import!C:C,Mapping!D164,Import!G:G)+SUMIF(Import!D:D,Mapping!D164,Import!G:G))","v":0},{"$f":"IF(D164=D163,0,SUMIF(Import!B:B,Mapping!D164,Import!H:H)+SUMIF(Import!C:C,Mapping!D164,Import!H:H)+SUMIF(Import!D:D,Mapping!D164,Import!H:H))","v":0}]
["2","27","275","2755",2755,"Cautionnements",{"$f":"IF(D165=D164,0,SUMIF(Import!B:B,Mapping!D165,Import!G:G)+SUMIF(Import!C:C,Mapping!D165,Import!G:G)+SUMIF(Import!D:D,Mapping!D165,Import!G:G))","v":0},{"$f":"IF(D165=D164,0,SUMIF(Import!B:B,Mapping!D165,Import!H:H)+SUMIF(Import!C:C,Mapping!D165,Import!H:H)+SUMIF(Import!D:D,Mapping!D165,Import!H:H))","v":0}]
["2","27","276","2760",2760,"Autres créances immobilisées",{"$f":"IF(D166=D165,0,SUMIF(Import!B:B,Mapping!D166,Import!G:G)+SUMIF(Import!C:C,Mapping!D166,Import!G:G)+SUMIF(Import!D:D,Mapping!D166,Import!G:G))","v":0},{"$f":"IF(D166=D165,0,SUMIF(Import!B:B,Mapping!D166,Import!H:H)+SUMIF(Import!C:C,Mapping!D166,Import!H:H)+SUMIF(Import!D:D,Mapping!D166,Import!H:H))","v":0}]
["2","27","276",{"$f":"LEFT(E167,4)","v":"2761"},2761,"Créances diverses",{"$f":"IF(D167=D166,0,SUMIF(Import!B:B,Mapping!D167,Import!G:G)+SUMIF(Import!C:C,Mapping!D167,Import!G:G)+SUMIF(Import!D:D,Mapping!D167,Import!G:G))","v":0},{"$f":"IF(D167=D166,0,SUMIF(Import!B:B,Mapping!D167,Import!H:H)+SUMIF(Import!C:C,Mapping!D167,Import!H:H)+SUMIF(Import!D:D,Mapping!D167,Import!H:H))","v":0}]
[{"$f":"LEFT(B168,1)","v":"2"},{"$f":"IF(OR(LEFT(E168,2)=\"42\",LEFT(E168,2)=\"43\",LEFT(E168,2)=\"44\",LEFT(E168,2)=\"45\",LEFT(E168,2)=\"46\",LEFT(E168,2)=\"47\",LEFT(E168,2)=\"51\"),IF(G168<0,LEFT(E168,2)&\"P\",LEFT(E168,2)&\"A\"),LEFT(E168,2))","v":"27"},{"$f":"+LEFT(E168,3)","v":"276"},{"$f":"LEFT(E168,4)","v":"2768"},2768,"Intérêts courus",{"$f":"IF(D168=D167,0,SUMIF(Import!B:B,Mapping!D168,Import!G:G)+SUMIF(Import!C:C,Mapping!D168,Import!G:G)+SUMIF(Import!D:D,Mapping!D168,Import!G:G))","v":0},{"$f":"IF(D168=D167,0,SUMIF(Import!B:B,Mapping!D168,Import!H:H)+SUMIF(Import!C:C,Mapping!D168,Import!H:H)+SUMIF(Import!D:D,Mapping!D168,Import!H:H))","v":0}]
["2","27","277",{"$f":"LEFT(E169,4)","v":"2770"},2770,"Actions propres ou parts propres",{"$f":"IF(D169=D168,0,SUMIF(Import!B:B,Mapping!D169,Import!G:G)+SUMIF(Import!C:C,Mapping!D169,Import!G:G)+SUMIF(Import!D:D,Mapping!D169,Import!G:G))","v":0},{"$f":"IF(D169=D168,0,SUMIF(Import!B:B,Mapping!D169,Import!H:H)+SUMIF(Import!C:C,Mapping!D169,Import!H:H)+SUMIF(Import!D:D,Mapping!D169,Import!H:H))","v":0}]
["2","27","277","2771",2771,"Actions propres ou parts propres",{"$f":"IF(D170=D169,0,SUMIF(Import!B:B,Mapping!D170,Import!G:G)+SUMIF(Import!C:C,Mapping!D170,Import!G:G)+SUMIF(Import!D:D,Mapping!D170,Import!G:G))","v":0},{"$f":"IF(D170=D169,0,SUMIF(Import!B:B,Mapping!D170,Import!H:H)+SUMIF(Import!C:C,Mapping!D170,Import!H:H)+SUMIF(Import!D:D,Mapping!D170,Import!H:H))","v":0}]
["2","27","277","2772",2772,"Actions propres ou parts propres en voie d’annulation",{"$f":"IF(D171=D170,0,SUMIF(Import!B:B,Mapping!D171,Import!G:G)+SUMIF(Import!C:C,Mapping!D171,Import!G:G)+SUMIF(Import!D:D,Mapping!D171,Import!G:G))","v":0},{"$f":"IF(D171=D170,0,SUMIF(Import!B:B,Mapping!D171,Import!H:H)+SUMIF(Import!C:C,Mapping!D171,Import!H:H)+SUMIF(Import!D:D,Mapping!D171,Import!H:H))","v":0}]
["2","27","278","2780",2780,"Mali de fusion sur actifs financiers",{"$f":"IF(D172=D171,0,SUMIF(Import!B:B,Mapping!D172,Import!G:G)+SUMIF(Import!C:C,Mapping!D172,Import!G:G)+SUMIF(Import!D:D,Mapping!D172,Import!G:G))","v":0},{"$f":"IF(D172=D171,0,SUMIF(Import!B:B,Mapping!D172,Import!H:H)+SUMIF(Import!C:C,Mapping!D172,Import!H:H)+SUMIF(Import!D:D,Mapping!D172,Import!H:H))","v":0}]
["2","27","279","2790",2790,"Versements restant à effectuer sur titres immobilisés non libérés",{"$f":"IF(D173=D172,0,SUMIF(Import!B:B,Mapping!D173,Import!G:G)+SUMIF(Import!C:C,Mapping!D173,Import!G:G)+SUMIF(Import!D:D,Mapping!D173,Import!G:G))","v":0},{"$f":"IF(D173=D172,0,SUMIF(Import!B:B,Mapping!D173,Import!H:H)+SUMIF(Import!C:C,Mapping!D173,Import!H:H)+SUMIF(Import!D:D,Mapping!D173,Import!H:H))","v":0}]
["2","28","280",{"$f":"LEFT(E174,4)","v":"2800"},2800,"Amortissements des immobilisations incorporelles",{"$f":"IF(D174=D173,0,SUMIF(Import!B:B,Mapping!D174,Import!G:G)+SUMIF(Import!C:C,Mapping!D174,Import!G:G)+SUMIF(Import!D:D,Mapping!D174,Import!G:G))","v":0},{"$f":"IF(D174=D173,0,SUMIF(Import!B:B,Mapping!D174,Import!H:H)+SUMIF(Import!C:C,Mapping!D174,Import!H:H)+SUMIF(Import!D:D,Mapping!D174,Import!H:H))","v":0}]
["2","28","280",{"$f":"LEFT(E175,4)","v":"2801"},2801,"Frais d'établissement (même ventilation que celle du compte 201)",{"$f":"IF(D175=D174,0,SUMIF(Import!B:B,Mapping!D175,Import!G:G)+SUMIF(Import!C:C,Mapping!D175,Import!G:G)+SUMIF(Import!D:D,Mapping!D175,Import!G:G))","v":0},{"$f":"IF(D175=D174,0,SUMIF(Import!B:B,Mapping!D175,Import!H:H)+SUMIF(Import!C:C,Mapping!D175,Import!H:H)+SUMIF(Import!D:D,Mapping!D175,Import!H:H))","v":0}]
["2","28","280","2803",2803,"Frais de développement",{"$f":"IF(D176=D175,0,SUMIF(Import!B:B,Mapping!D176,Import!G:G)+SUMIF(Import!C:C,Mapping!D176,Import!G:G)+SUMIF(Import!D:D,Mapping!D176,Import!G:G))","v":0},{"$f":"IF(D176=D175,0,SUMIF(Import!B:B,Mapping!D176,Import!H:H)+SUMIF(Import!C:C,Mapping!D176,Import!H:H)+SUMIF(Import!D:D,Mapping!D176,Import!H:H))","v":0}]
["2","28","280","2805",2805,"Concessions et droits similaires, brevets, licences, logiciels, droits et valeurs similaires",{"$f":"IF(D177=D176,0,SUMIF(Import!B:B,Mapping!D177,Import!G:G)+SUMIF(Import!C:C,Mapping!D177,Import!G:G)+SUMIF(Import!D:D,Mapping!D177,Import!G:G))","v":0},{"$f":"IF(D177=D176,0,SUMIF(Import!B:B,Mapping!D177,Import!H:H)+SUMIF(Import!C:C,Mapping!D177,Import!H:H)+SUMIF(Import!D:D,Mapping!D177,Import!H:H))","v":0}]
["2","28","280","2807",2807,"Fonds commercial",{"$f":"IF(D178=D177,0,SUMIF(Import!B:B,Mapping!D178,Import!G:G)+SUMIF(Import!C:C,Mapping!D178,Import!G:G)+SUMIF(Import!D:D,Mapping!D178,Import!G:G))","v":0},{"$f":"IF(D178=D177,0,SUMIF(Import!B:B,Mapping!D178,Import!H:H)+SUMIF(Import!C:C,Mapping!D178,Import!H:H)+SUMIF(Import!D:D,Mapping!D178,Import!H:H))","v":0}]
["2","28","280","2808",2808,"Autres immobilisations incorporelles",{"$f":"IF(D179=D178,0,SUMIF(Import!B:B,Mapping!D179,Import!G:G)+SUMIF(Import!C:C,Mapping!D179,Import!G:G)+SUMIF(Import!D:D,Mapping!D179,Import!G:G))","v":0},{"$f":"IF(D179=D178,0,SUMIF(Import!B:B,Mapping!D179,Import!H:H)+SUMIF(Import!C:C,Mapping!D179,Import!H:H)+SUMIF(Import!D:D,Mapping!D179,Import!H:H))","v":0}]
["2","28","281","2810",2810,"Amortissements des immobilisations corporelles",{"$f":"IF(D180=D179,0,SUMIF(Import!B:B,Mapping!D180,Import!G:G)+SUMIF(Import!C:C,Mapping!D180,Import!G:G)+SUMIF(Import!D:D,Mapping!D180,Import!G:G))","v":0},{"$f":"IF(D180=D179,0,SUMIF(Import!B:B,Mapping!D180,Import!H:H)+SUMIF(Import!C:C,Mapping!D180,Import!H:H)+SUMIF(Import!D:D,Mapping!D180,Import!H:H))","v":0}]
["2","28","281","2812",2812,"Agencements, aménagements de terrains (même ventilation que celle du compte 212)",{"$f":"IF(D181=D180,0,SUMIF(Import!B:B,Mapping!D181,Import!G:G)+SUMIF(Import!C:C,Mapping!D181,Import!G:G)+SUMIF(Import!D:D,Mapping!D181,Import!G:G))","v":0},{"$f":"IF(D181=D180,0,SUMIF(Import!B:B,Mapping!D181,Import!H:H)+SUMIF(Import!C:C,Mapping!D181,Import!H:H)+SUMIF(Import!D:D,Mapping!D181,Import!H:H))","v":0}]
["2","28","281","2813",2813,"Constructions (même ventilation que celle du compte 213)",{"$f":"IF(D182=D181,0,SUMIF(Import!B:B,Mapping!D182,Import!G:G)+SUMIF(Import!C:C,Mapping!D182,Import!G:G)+SUMIF(Import!D:D,Mapping!D182,Import!G:G))","v":0},{"$f":"IF(D182=D181,0,SUMIF(Import!B:B,Mapping!D182,Import!H:H)+SUMIF(Import!C:C,Mapping!D182,Import!H:H)+SUMIF(Import!D:D,Mapping!D182,Import!H:H))","v":0}]
["2","28","281","2814",2814,"Constructions sur sol d'autrui (même ventilation que celle du compte 214)",{"$f":"IF(D183=D182,0,SUMIF(Import!B:B,Mapping!D183,Import!G:G)+SUMIF(Import!C:C,Mapping!D183,Import!G:G)+SUMIF(Import!D:D,Mapping!D183,Import!G:G))","v":0},{"$f":"IF(D183=D182,0,SUMIF(Import!B:B,Mapping!D183,Import!H:H)+SUMIF(Import!C:C,Mapping!D183,Import!H:H)+SUMIF(Import!D:D,Mapping!D183,Import!H:H))","v":0}]
["2","28","281","2815",2815,"Installations, matériel et outillage industriels (même ventilation que celle du compte 215)",{"$f":"IF(D184=D183,0,SUMIF(Import!B:B,Mapping!D184,Import!G:G)+SUMIF(Import!C:C,Mapping!D184,Import!G:G)+SUMIF(Import!D:D,Mapping!D184,Import!G:G))","v":0},{"$f":"IF(D184=D183,0,SUMIF(Import!B:B,Mapping!D184,Import!H:H)+SUMIF(Import!C:C,Mapping!D184,Import!H:H)+SUMIF(Import!D:D,Mapping!D184,Import!H:H))","v":0}]
["2","28","281","2818",2818,"Autres immobilisations corporelles (même ventilation que celle du compte 218)",{"$f":"IF(D185=D184,0,SUMIF(Import!B:B,Mapping!D185,Import!G:G)+SUMIF(Import!C:C,Mapping!D185,Import!G:G)+SUMIF(Import!D:D,Mapping!D185,Import!G:G))","v":0},{"$f":"IF(D185=D184,0,SUMIF(Import!B:B,Mapping!D185,Import!H:H)+SUMIF(Import!C:C,Mapping!D185,Import!H:H)+SUMIF(Import!D:D,Mapping!D185,Import!H:H))","v":0}]
["2","28","282","2820",2820,"Amortissements des immobilisations mises en concession",{"$f":"IF(D186=D185,0,SUMIF(Import!B:B,Mapping!D186,Import!G:G)+SUMIF(Import!C:C,Mapping!D186,Import!G:G)+SUMIF(Import!D:D,Mapping!D186,Import!G:G))","v":0},{"$f":"IF(D186=D185,0,SUMIF(Import!B:B,Mapping!D186,Import!H:H)+SUMIF(Import!C:C,Mapping!D186,Import!H:H)+SUMIF(Import!D:D,Mapping!D186,Import!H:H))","v":0}]
["2","29","290","2900",2900,"Dépréciations des immobilisations incorporelles",{"$f":"IF(D187=D186,0,SUMIF(Import!B:B,Mapping!D187,Import!G:G)+SUMIF(Import!C:C,Mapping!D187,Import!G:G)+SUMIF(Import!D:D,Mapping!D187,Import!G:G))","v":0},{"$f":"IF(D187=D186,0,SUMIF(Import!B:B,Mapping!D187,Import!H:H)+SUMIF(Import!C:C,Mapping!D187,Import!H:H)+SUMIF(Import!D:D,Mapping!D187,Import!H:H))","v":0}]
["2","29","290","2901",2901,"Frais d'établissement",{"$f":"IF(D188=D187,0,SUMIF(Import!B:B,Mapping!D188,Import!G:G)+SUMIF(Import!C:C,Mapping!D188,Import!G:G)+SUMIF(Import!D:D,Mapping!D188,Import!G:G))","v":0},{"$f":"IF(D188=D187,0,SUMIF(Import!B:B,Mapping!D188,Import!H:H)+SUMIF(Import!C:C,Mapping!D188,Import!H:H)+SUMIF(Import!D:D,Mapping!D188,Import!H:H))","v":0}]
["2","29","290","2903",2903,"Frais de développement",{"$f":"IF(D189=D188,0,SUMIF(Import!B:B,Mapping!D189,Import!G:G)+SUMIF(Import!C:C,Mapping!D189,Import!G:G)+SUMIF(Import!D:D,Mapping!D189,Import!G:G))","v":0},{"$f":"IF(D189=D188,0,SUMIF(Import!B:B,Mapping!D189,Import!H:H)+SUMIF(Import!C:C,Mapping!D189,Import!H:H)+SUMIF(Import!D:D,Mapping!D189,Import!H:H))","v":0}]
["2","29","290","2905",2905,"Marques, procédés, droits et valeurs similaires",{"$f":"IF(D190=D189,0,SUMIF(Import!B:B,Mapping!D190,Import!G:G)+SUMIF(Import!C:C,Mapping!D190,Import!G:G)+SUMIF(Import!D:D,Mapping!D190,Import!G:G))","v":0},{"$f":"IF(D190=D189,0,SUMIF(Import!B:B,Mapping!D190,Import!H:H)+SUMIF(Import!C:C,Mapping!D190,Import!H:H)+SUMIF(Import!D:D,Mapping!D190,Import!H:H))","v":0}]
[{"$f":"LEFT(B191,1)","v":"2"},{"$f":"IF(OR(LEFT(E191,2)=\"42\",LEFT(E191,2)=\"43\",LEFT(E191,2)=\"44\",LEFT(E191,2)=\"45\",LEFT(E191,2)=\"46\",LEFT(E191,2)=\"47\",LEFT(E191,2)=\"51\"),IF(G191<0,LEFT(E191,2)&\"P\",LEFT(E191,2)&\"A\"),LEFT(E191,2))","v":"29"},{"$f":"+LEFT(E191,3)","v":"290"},"2906",2906,"Droit au bail",{"$f":"IF(D191=D190,0,SUMIF(Import!B:B,Mapping!D191,Import!G:G)+SUMIF(Import!C:C,Mapping!D191,Import!G:G)+SUMIF(Import!D:D,Mapping!D191,Import!G:G))","v":0},{"$f":"IF(D191=D190,0,SUMIF(Import!B:B,Mapping!D191,Import!H:H)+SUMIF(Import!C:C,Mapping!D191,Import!H:H)+SUMIF(Import!D:D,Mapping!D191,Import!H:H))","v":0}]
["2","29","290","2907",2907,"Fonds commercial",{"$f":"IF(D192=D191,0,SUMIF(Import!B:B,Mapping!D192,Import!G:G)+SUMIF(Import!C:C,Mapping!D192,Import!G:G)+SUMIF(Import!D:D,Mapping!D192,Import!G:G))","v":0},{"$f":"IF(D192=D191,0,SUMIF(Import!B:B,Mapping!D192,Import!H:H)+SUMIF(Import!C:C,Mapping!D192,Import!H:H)+SUMIF(Import!D:D,Mapping!D192,Import!H:H))","v":0}]
[{"$f":"LEFT(B193,1)","v":"2"},{"$f":"IF(OR(LEFT(E193,2)=\"42\",LEFT(E193,2)=\"43\",LEFT(E193,2)=\"44\",LEFT(E193,2)=\"45\",LEFT(E193,2)=\"46\",LEFT(E193,2)=\"47\",LEFT(E193,2)=\"51\"),IF(G193<0,LEFT(E193,2)&\"P\",LEFT(E193,2)&\"A\"),LEFT(E193,2))","v":"29"},{"$f":"+LEFT(E193,3)","v":"290"},{"$f":"LEFT(E193,5)","v":"29073"},29073,"Amortissement écarts d'acquisition",{"$f":"IF(D193=D192,0,SUMIF(Import!B:B,Mapping!D193,Import!G:G)+SUMIF(Import!C:C,Mapping!D193,Import!G:G)+SUMIF(Import!D:D,Mapping!D193,Import!G:G))","v":0},{"$f":"IF(D193=D192,0,SUMIF(Import!B:B,Mapping!D193,Import!H:H)+SUMIF(Import!C:C,Mapping!D193,Import!H:H)+SUMIF(Import!D:D,Mapping!D193,Import!H:H))","v":0}]
["2","29","290","2908",2908,"Autres immobilisations incorporelles",{"$f":"IF(D194=D192,0,SUMIF(Import!B:B,Mapping!D194,Import!G:G)+SUMIF(Import!C:C,Mapping!D194,Import!G:G)+SUMIF(Import!D:D,Mapping!D194,Import!G:G))","v":0},{"$f":"IF(D194=D192,0,SUMIF(Import!B:B,Mapping!D194,Import!H:H)+SUMIF(Import!C:C,Mapping!D194,Import!H:H)+SUMIF(Import!D:D,Mapping!D194,Import!H:H))","v":0}]
["2","29","291","2910",2910,"Dépréciations des immobilisations corporelles (même ventilation que celle du compte 21)",{"$f":"IF(D195=D194,0,SUMIF(Import!B:B,Mapping!D195,Import!G:G)+SUMIF(Import!C:C,Mapping!D195,Import!G:G)+SUMIF(Import!D:D,Mapping!D195,Import!G:G))","v":0},{"$f":"IF(D195=D194,0,SUMIF(Import!B:B,Mapping!D195,Import!H:H)+SUMIF(Import!C:C,Mapping!D195,Import!H:H)+SUMIF(Import!D:D,Mapping!D195,Import!H:H))","v":0}]
["2","29","291","2911",2911,"Terrains ",{"$f":"IF(D196=D195,0,SUMIF(Import!B:B,Mapping!D196,Import!G:G)+SUMIF(Import!C:C,Mapping!D196,Import!G:G)+SUMIF(Import!D:D,Mapping!D196,Import!G:G))","v":0},{"$f":"IF(D196=D195,0,SUMIF(Import!B:B,Mapping!D196,Import!H:H)+SUMIF(Import!C:C,Mapping!D196,Import!H:H)+SUMIF(Import!D:D,Mapping!D196,Import!H:H))","v":0}]
["2","29","291","2912",2912,"Agencements, aménagements de terrains",{"$f":"IF(D197=D196,0,SUMIF(Import!B:B,Mapping!D197,Import!G:G)+SUMIF(Import!C:C,Mapping!D197,Import!G:G)+SUMIF(Import!D:D,Mapping!D197,Import!G:G))","v":0},{"$f":"IF(D197=D196,0,SUMIF(Import!B:B,Mapping!D197,Import!H:H)+SUMIF(Import!C:C,Mapping!D197,Import!H:H)+SUMIF(Import!D:D,Mapping!D197,Import!H:H))","v":0}]
["2","29","291","2913",2913,"Constructions",{"$f":"IF(D198=D197,0,SUMIF(Import!B:B,Mapping!D198,Import!G:G)+SUMIF(Import!C:C,Mapping!D198,Import!G:G)+SUMIF(Import!D:D,Mapping!D198,Import!G:G))","v":0},{"$f":"IF(D198=D197,0,SUMIF(Import!B:B,Mapping!D198,Import!H:H)+SUMIF(Import!C:C,Mapping!D198,Import!H:H)+SUMIF(Import!D:D,Mapping!D198,Import!H:H))","v":0}]
["2","29","291","2914",2914,"Constructions sur sol d'autrui ",{"$f":"IF(D199=D198,0,SUMIF(Import!B:B,Mapping!D199,Import!G:G)+SUMIF(Import!C:C,Mapping!D199,Import!G:G)+SUMIF(Import!D:D,Mapping!D199,Import!G:G))","v":0},{"$f":"IF(D199=D198,0,SUMIF(Import!B:B,Mapping!D199,Import!H:H)+SUMIF(Import!C:C,Mapping!D199,Import!H:H)+SUMIF(Import!D:D,Mapping!D199,Import!H:H))","v":0}]
["2","29","291","2915",2915,"Installations, matériel et outillage industriels ",{"$f":"IF(D200=D199,0,SUMIF(Import!B:B,Mapping!D200,Import!G:G)+SUMIF(Import!C:C,Mapping!D200,Import!G:G)+SUMIF(Import!D:D,Mapping!D200,Import!G:G))","v":0},{"$f":"IF(D200=D199,0,SUMIF(Import!B:B,Mapping!D200,Import!H:H)+SUMIF(Import!C:C,Mapping!D200,Import!H:H)+SUMIF(Import!D:D,Mapping!D200,Import!H:H))","v":0}]
[{"$f":"LEFT(B201,1)","v":"2"},{"$f":"IF(OR(LEFT(E201,2)=\"42\",LEFT(E201,2)=\"43\",LEFT(E201,2)=\"44\",LEFT(E201,2)=\"45\",LEFT(E201,2)=\"46\",LEFT(E201,2)=\"47\",LEFT(E201,2)=\"51\"),IF(G201<0,LEFT(E201,2)&\"P\",LEFT(E201,2)&\"A\"),LEFT(E201,2))","v":"29"},{"$f":"+LEFT(E201,3)","v":"291"},"2918",2918,"Autres immobilisations corporelles ",{"$f":"IF(D201=D200,0,SUMIF(Import!B:B,Mapping!D201,Import!G:G)+SUMIF(Import!C:C,Mapping!D201,Import!G:G)+SUMIF(Import!D:D,Mapping!D201,Import!G:G))","v":0},{"$f":"IF(D201=D200,0,SUMIF(Import!B:B,Mapping!D201,Import!H:H)+SUMIF(Import!C:C,Mapping!D201,Import!H:H)+SUMIF(Import!D:D,Mapping!D201,Import!H:H))","v":0}]
["2","29","292","2920",2920,"Dépréciations des immobilisations mises en concession",{"$f":"IF(D202=D201,0,SUMIF(Import!B:B,Mapping!D202,Import!G:G)+SUMIF(Import!C:C,Mapping!D202,Import!G:G)+SUMIF(Import!D:D,Mapping!D202,Import!G:G))","v":0},{"$f":"IF(D202=D201,0,SUMIF(Import!B:B,Mapping!D202,Import!H:H)+SUMIF(Import!C:C,Mapping!D202,Import!H:H)+SUMIF(Import!D:D,Mapping!D202,Import!H:H))","v":0}]
["2","29","293","2930",2930,"Dépréciations des immobilisations en cours",{"$f":"IF(D203=D202,0,SUMIF(Import!B:B,Mapping!D203,Import!G:G)+SUMIF(Import!C:C,Mapping!D203,Import!G:G)+SUMIF(Import!D:D,Mapping!D203,Import!G:G))","v":0},{"$f":"IF(D203=D202,0,SUMIF(Import!B:B,Mapping!D203,Import!H:H)+SUMIF(Import!C:C,Mapping!D203,Import!H:H)+SUMIF(Import!D:D,Mapping!D203,Import!H:H))","v":0}]
[{"$f":"LEFT(B204,1)","v":"2"},"29","293","2931",2931,"Immobilisations corporelles en cours",{"$f":"IF(D204=D203,0,SUMIF(Import!B:B,Mapping!D204,Import!G:G)+SUMIF(Import!C:C,Mapping!D204,Import!G:G)+SUMIF(Import!D:D,Mapping!D204,Import!G:G))","v":0},{"$f":"IF(D204=D203,0,SUMIF(Import!B:B,Mapping!D204,Import!H:H)+SUMIF(Import!C:C,Mapping!D204,Import!H:H)+SUMIF(Import!D:D,Mapping!D204,Import!H:H))","v":0}]
["2","29","293","2932",2932,"Immobilisations incorporelles en cours",{"$f":"IF(D205=D204,0,SUMIF(Import!B:B,Mapping!D205,Import!G:G)+SUMIF(Import!C:C,Mapping!D205,Import!G:G)+SUMIF(Import!D:D,Mapping!D205,Import!G:G))","v":0},{"$f":"IF(D205=D204,0,SUMIF(Import!B:B,Mapping!D205,Import!H:H)+SUMIF(Import!C:C,Mapping!D205,Import!H:H)+SUMIF(Import!D:D,Mapping!D205,Import!H:H))","v":0}]
[{"$f":"LEFT(B206,1)","v":"2"},{"$f":"IF(OR(LEFT(E206,2)=\"42\",LEFT(E206,2)=\"43\",LEFT(E206,2)=\"44\",LEFT(E206,2)=\"45\",LEFT(E206,2)=\"46\",LEFT(E206,2)=\"47\",LEFT(E206,2)=\"51\"),IF(G206<0,LEFT(E206,2)&\"P\",LEFT(E206,2)&\"A\"),LEFT(E206,2))","v":"29"},{"$f":"+LEFT(E206,3)","v":"296"},"2960",2960,"Dépréciations des participations et créances rattachées à des participations",{"$f":"IF(D206=D205,0,SUMIF(Import!B:B,Mapping!D206,Import!G:G)+SUMIF(Import!C:C,Mapping!D206,Import!G:G)+SUMIF(Import!D:D,Mapping!D206,Import!G:G))","v":0},{"$f":"IF(D206=D205,0,SUMIF(Import!B:B,Mapping!D206,Import!H:H)+SUMIF(Import!C:C,Mapping!D206,Import!H:H)+SUMIF(Import!D:D,Mapping!D206,Import!H:H))","v":0}]
["2","29","296","2961",2961,"Titres de participation",{"$f":"IF(D207=D206,0,SUMIF(Import!B:B,Mapping!D207,Import!G:G)+SUMIF(Import!C:C,Mapping!D207,Import!G:G)+SUMIF(Import!D:D,Mapping!D207,Import!G:G))","v":0},{"$f":"IF(D207=D206,0,SUMIF(Import!B:B,Mapping!D207,Import!H:H)+SUMIF(Import!C:C,Mapping!D207,Import!H:H)+SUMIF(Import!D:D,Mapping!D207,Import!H:H))","v":0}]
["2",{"$f":"IF(OR(LEFT(E208,2)=\"42\",LEFT(E208,2)=\"43\",LEFT(E208,2)=\"44\",LEFT(E208,2)=\"45\",LEFT(E208,2)=\"46\",LEFT(E208,2)=\"47\",LEFT(E208,2)=\"51\"),IF(G208<0,LEFT(E208,2)&\"P\",LEFT(E208,2)&\"A\"),LEFT(E208,2))","v":"29"},"296",{"$f":"LEFT(E208,5)","v":"2966"},2966,"Autres formes de participation",{"$f":"IF(D208=D207,0,SUMIF(Import!B:B,Mapping!D208,Import!G:G)+SUMIF(Import!C:C,Mapping!D208,Import!G:G)+SUMIF(Import!D:D,Mapping!D208,Import!G:G))","v":0},{"$f":"IF(D208=D207,0,SUMIF(Import!B:B,Mapping!D208,Import!H:H)+SUMIF(Import!C:C,Mapping!D208,Import!H:H)+SUMIF(Import!D:D,Mapping!D208,Import!H:H))","v":0}]
["2","29","296","2967",2967,"Créances rattachées à des participations (même ventilation que celle du compte 267)",{"$f":"IF(D209=D208,0,SUMIF(Import!B:B,Mapping!D209,Import!G:G)+SUMIF(Import!C:C,Mapping!D209,Import!G:G)+SUMIF(Import!D:D,Mapping!D209,Import!G:G))","v":0},{"$f":"IF(D209=D208,0,SUMIF(Import!B:B,Mapping!D209,Import!H:H)+SUMIF(Import!C:C,Mapping!D209,Import!H:H)+SUMIF(Import!D:D,Mapping!D209,Import!H:H))","v":0}]
["2","29","296","2968",2968,"Créances rattachées à des sociétés en participation (même ventilation que celle du compte 268)",{"$f":"IF(D210=D209,0,SUMIF(Import!B:B,Mapping!D210,Import!G:G)+SUMIF(Import!C:C,Mapping!D210,Import!G:G)+SUMIF(Import!D:D,Mapping!D210,Import!G:G))","v":0},{"$f":"IF(D210=D209,0,SUMIF(Import!B:B,Mapping!D210,Import!H:H)+SUMIF(Import!C:C,Mapping!D210,Import!H:H)+SUMIF(Import!D:D,Mapping!D210,Import!H:H))","v":0}]
["2","29","297","2970",2970,"Dépréciations des autres immobilisations financières",{"$f":"IF(D211=D210,0,SUMIF(Import!B:B,Mapping!D211,Import!G:G)+SUMIF(Import!C:C,Mapping!D211,Import!G:G)+SUMIF(Import!D:D,Mapping!D211,Import!G:G))","v":0},{"$f":"IF(D211=D210,0,SUMIF(Import!B:B,Mapping!D211,Import!H:H)+SUMIF(Import!C:C,Mapping!D211,Import!H:H)+SUMIF(Import!D:D,Mapping!D211,Import!H:H))","v":0}]
["2","29","297",{"$f":"LEFT(E212,4)","v":"2971"},2971,"Titres immobilisés autres que les titres immobilisés de l'activité de portefeuille - droit de propriété (même ventilation que celle du compte 271)",{"$f":"IF(D212=D211,0,SUMIF(Import!B:B,Mapping!D212,Import!G:G)+SUMIF(Import!C:C,Mapping!D212,Import!G:G)+SUMIF(Import!D:D,Mapping!D212,Import!G:G))","v":0},{"$f":"IF(D212=D211,0,SUMIF(Import!B:B,Mapping!D212,Import!H:H)+SUMIF(Import!C:C,Mapping!D212,Import!H:H)+SUMIF(Import!D:D,Mapping!D212,Import!H:H))","v":0}]
["2","29","297","2972",2972,"Titres immobilisés - droit de créance ",{"$f":"IF(D213=D212,0,SUMIF(Import!B:B,Mapping!D213,Import!G:G)+SUMIF(Import!C:C,Mapping!D213,Import!G:G)+SUMIF(Import!D:D,Mapping!D213,Import!G:G))","v":0},{"$f":"IF(D213=D212,0,SUMIF(Import!B:B,Mapping!D213,Import!H:H)+SUMIF(Import!C:C,Mapping!D213,Import!H:H)+SUMIF(Import!D:D,Mapping!D213,Import!H:H))","v":0}]
["2","29","297","2973",2973,"Titres immobilisés de l'activité de portefeuille",{"$f":"IF(D214=D213,0,SUMIF(Import!B:B,Mapping!D214,Import!G:G)+SUMIF(Import!C:C,Mapping!D214,Import!G:G)+SUMIF(Import!D:D,Mapping!D214,Import!G:G))","v":0},{"$f":"IF(D214=D213,0,SUMIF(Import!B:B,Mapping!D214,Import!H:H)+SUMIF(Import!C:C,Mapping!D214,Import!H:H)+SUMIF(Import!D:D,Mapping!D214,Import!H:H))","v":0}]
["2","29","297","2974",2974,"Prêts (même ventilation que celle du compte 274)",{"$f":"IF(D215=D214,0,SUMIF(Import!B:B,Mapping!D215,Import!G:G)+SUMIF(Import!C:C,Mapping!D215,Import!G:G)+SUMIF(Import!D:D,Mapping!D215,Import!G:G))","v":0},{"$f":"IF(D215=D214,0,SUMIF(Import!B:B,Mapping!D215,Import!H:H)+SUMIF(Import!C:C,Mapping!D215,Import!H:H)+SUMIF(Import!D:D,Mapping!D215,Import!H:H))","v":0}]
["2","29","297",{"$f":"LEFT(E216,5)","v":"29741"},29741,"Prêts (même ventilation que celle du compte 274)",{"$f":"IF(D216=D215,0,SUMIF(Import!B:B,Mapping!D216,Import!G:G)+SUMIF(Import!C:C,Mapping!D216,Import!G:G)+SUMIF(Import!D:D,Mapping!D216,Import!G:G))","v":0},{"$f":"IF(D216=D215,0,SUMIF(Import!B:B,Mapping!D216,Import!H:H)+SUMIF(Import!C:C,Mapping!D216,Import!H:H)+SUMIF(Import!D:D,Mapping!D216,Import!H:H))","v":0}]
["2","29","297","29742",29742,"Prêts (même ventilation que celle du compte 274)",{"$f":"IF(D217=D216,0,SUMIF(Import!B:B,Mapping!D217,Import!G:G)+SUMIF(Import!C:C,Mapping!D217,Import!G:G)+SUMIF(Import!D:D,Mapping!D217,Import!G:G))","v":0},{"$f":"IF(D217=D216,0,SUMIF(Import!B:B,Mapping!D217,Import!H:H)+SUMIF(Import!C:C,Mapping!D217,Import!H:H)+SUMIF(Import!D:D,Mapping!D217,Import!H:H))","v":0}]
["2","29","297","29743",29743,"Prêts (même ventilation que celle du compte 274)",{"$f":"IF(D218=D217,0,SUMIF(Import!B:B,Mapping!D218,Import!G:G)+SUMIF(Import!C:C,Mapping!D218,Import!G:G)+SUMIF(Import!D:D,Mapping!D218,Import!G:G))","v":0},{"$f":"IF(D218=D217,0,SUMIF(Import!B:B,Mapping!D218,Import!H:H)+SUMIF(Import!C:C,Mapping!D218,Import!H:H)+SUMIF(Import!D:D,Mapping!D218,Import!H:H))","v":0}]
["2","29","297","29744",29744,"Prêts (même ventilation que celle du compte 274)",{"$f":"IF(D219=D218,0,SUMIF(Import!B:B,Mapping!D219,Import!G:G)+SUMIF(Import!C:C,Mapping!D219,Import!G:G)+SUMIF(Import!D:D,Mapping!D219,Import!G:G))","v":0},{"$f":"IF(D219=D218,0,SUMIF(Import!B:B,Mapping!D219,Import!H:H)+SUMIF(Import!C:C,Mapping!D219,Import!H:H)+SUMIF(Import!D:D,Mapping!D219,Import!H:H))","v":0}]
["2","29","297","29745",29745,"Prêts (même ventilation que celle du compte 274)",{"$f":"IF(D220=D219,0,SUMIF(Import!B:B,Mapping!D220,Import!G:G)+SUMIF(Import!C:C,Mapping!D220,Import!G:G)+SUMIF(Import!D:D,Mapping!D220,Import!G:G))","v":0},{"$f":"IF(D220=D219,0,SUMIF(Import!B:B,Mapping!D220,Import!H:H)+SUMIF(Import!C:C,Mapping!D220,Import!H:H)+SUMIF(Import!D:D,Mapping!D220,Import!H:H))","v":0}]
["2","29","297","29748",29748,"Prêts (même ventilation que celle du compte 274)",{"$f":"IF(D221=D220,0,SUMIF(Import!B:B,Mapping!D221,Import!G:G)+SUMIF(Import!C:C,Mapping!D221,Import!G:G)+SUMIF(Import!D:D,Mapping!D221,Import!G:G))","v":0},{"$f":"IF(D221=D220,0,SUMIF(Import!B:B,Mapping!D221,Import!H:H)+SUMIF(Import!C:C,Mapping!D221,Import!H:H)+SUMIF(Import!D:D,Mapping!D221,Import!H:H))","v":0}]
["2","29","297","2975",2975,"Dépôts et cautionnements versés ",{"$f":"IF(D222=D221,0,SUMIF(Import!B:B,Mapping!D222,Import!G:G)+SUMIF(Import!C:C,Mapping!D222,Import!G:G)+SUMIF(Import!D:D,Mapping!D222,Import!G:G))","v":0},{"$f":"IF(D222=D221,0,SUMIF(Import!B:B,Mapping!D222,Import!H:H)+SUMIF(Import!C:C,Mapping!D222,Import!H:H)+SUMIF(Import!D:D,Mapping!D222,Import!H:H))","v":0}]
["2","29","297","2976",2976,"Autres créances immobilisées ",{"$f":"IF(D223=D222,0,SUMIF(Import!B:B,Mapping!D223,Import!G:G)+SUMIF(Import!C:C,Mapping!D223,Import!G:G)+SUMIF(Import!D:D,Mapping!D223,Import!G:G))","v":0},{"$f":"IF(D223=D222,0,SUMIF(Import!B:B,Mapping!D223,Import!H:H)+SUMIF(Import!C:C,Mapping!D223,Import!H:H)+SUMIF(Import!D:D,Mapping!D223,Import!H:H))","v":0}]
["3","31","317","3170",3170,"Matières premières et fournitures",{"$f":"IF(D224=D223,0,SUMIF(Import!B:B,Mapping!D224,Import!G:G)+SUMIF(Import!C:C,Mapping!D224,Import!G:G)+SUMIF(Import!D:D,Mapping!D224,Import!G:G))","v":0},{"$f":"IF(D224=D223,0,SUMIF(Import!B:B,Mapping!D224,Import!H:H)+SUMIF(Import!C:C,Mapping!D224,Import!H:H)+SUMIF(Import!D:D,Mapping!D224,Import!H:H))","v":0}]
["3","32",{"$f":"+LEFT(E225,3)","v":"321"},"3210",3210,"Matières consommables",{"$f":"IF(D225=D224,0,SUMIF(Import!B:B,Mapping!D225,Import!G:G)+SUMIF(Import!C:C,Mapping!D225,Import!G:G)+SUMIF(Import!D:D,Mapping!D225,Import!G:G))","v":0},{"$f":"IF(D225=D224,0,SUMIF(Import!B:B,Mapping!D225,Import!H:H)+SUMIF(Import!C:C,Mapping!D225,Import!H:H)+SUMIF(Import!D:D,Mapping!D225,Import!H:H))","v":0}]
["3","32",{"$f":"+LEFT(E226,3)","v":"322"},{"$f":"LEFT(E226,5)","v":"3220"},3220,"Fournitures consommables",{"$f":"IF(D226=D225,0,SUMIF(Import!B:B,Mapping!D226,Import!G:G)+SUMIF(Import!C:C,Mapping!D226,Import!G:G)+SUMIF(Import!D:D,Mapping!D226,Import!G:G))","v":0},{"$f":"IF(D226=D225,0,SUMIF(Import!B:B,Mapping!D226,Import!H:H)+SUMIF(Import!C:C,Mapping!D226,Import!H:H)+SUMIF(Import!D:D,Mapping!D226,Import!H:H))","v":0}]
["3","32","322","3225",3225,"Fournitures de bureau",{"$f":"IF(D227=D226,0,SUMIF(Import!B:B,Mapping!D227,Import!G:G)+SUMIF(Import!C:C,Mapping!D227,Import!G:G)+SUMIF(Import!D:D,Mapping!D227,Import!G:G))","v":0},{"$f":"IF(D227=D226,0,SUMIF(Import!B:B,Mapping!D227,Import!H:H)+SUMIF(Import!C:C,Mapping!D227,Import!H:H)+SUMIF(Import!D:D,Mapping!D227,Import!H:H))","v":0}]
["3","37",{"$f":"+LEFT(E228,3)","v":"370"},"3700",3700,"Marchandises",{"$f":"IF(D228=D227,0,SUMIF(Import!B:B,Mapping!D228,Import!G:G)+SUMIF(Import!C:C,Mapping!D228,Import!G:G)+SUMIF(Import!D:D,Mapping!D228,Import!G:G))","v":0},{"$f":"IF(D228=D227,0,SUMIF(Import!B:B,Mapping!D228,Import!H:H)+SUMIF(Import!C:C,Mapping!D228,Import!H:H)+SUMIF(Import!D:D,Mapping!D228,Import!H:H))","v":0}]
["3","39","391","3917",3917,"Dépréciation des matières premières et fournitures",{"$f":"IF(D229=D228,0,SUMIF(Import!B:B,Mapping!D229,Import!G:G)+SUMIF(Import!C:C,Mapping!D229,Import!G:G)+SUMIF(Import!D:D,Mapping!D229,Import!G:G))","v":0},{"$f":"IF(D229=D228,0,SUMIF(Import!B:B,Mapping!D229,Import!H:H)+SUMIF(Import!C:C,Mapping!D229,Import!H:H)+SUMIF(Import!D:D,Mapping!D229,Import!H:H))","v":0}]
["3","39","392","3920",3920,"Dépréciations des autres approvisionnements",{"$f":"IF(D230=D229,0,SUMIF(Import!B:B,Mapping!D230,Import!G:G)+SUMIF(Import!C:C,Mapping!D230,Import!G:G)+SUMIF(Import!D:D,Mapping!D230,Import!G:G))","v":0},{"$f":"IF(D230=D229,0,SUMIF(Import!B:B,Mapping!D230,Import!H:H)+SUMIF(Import!C:C,Mapping!D230,Import!H:H)+SUMIF(Import!D:D,Mapping!D230,Import!H:H))","v":0}]
["3","39","397","3970",3970,"Dépréciations des stocks de marchandises",{"$f":"IF(D231=D230,0,SUMIF(Import!B:B,Mapping!D231,Import!G:G)+SUMIF(Import!C:C,Mapping!D231,Import!G:G)+SUMIF(Import!D:D,Mapping!D231,Import!G:G))","v":0},{"$f":"IF(D231=D230,0,SUMIF(Import!B:B,Mapping!D231,Import!H:H)+SUMIF(Import!C:C,Mapping!D231,Import!H:H)+SUMIF(Import!D:D,Mapping!D231,Import!H:H))","v":0}]
["4","40","400","4000",4000,"Fournisseurs et Comptes rattachés",{"$f":"IF(D232=D231,0,SUMIF(Import!B:B,Mapping!D232,Import!G:G)+SUMIF(Import!C:C,Mapping!D232,Import!G:G)+SUMIF(Import!D:D,Mapping!D232,Import!G:G))","v":0},{"$f":"IF(D232=D231,0,SUMIF(Import!B:B,Mapping!D232,Import!H:H)+SUMIF(Import!C:C,Mapping!D232,Import!H:H)+SUMIF(Import!D:D,Mapping!D232,Import!H:H))","v":0}]
["4","40","401","4010",4010,"Fournisseurs",{"$f":"IF(D233=D232,0,SUMIF(Import!B:B,Mapping!D233,Import!G:G)+SUMIF(Import!C:C,Mapping!D233,Import!G:G)+SUMIF(Import!D:D,Mapping!D233,Import!G:G))","v":0},{"$f":"IF(D233=D232,0,SUMIF(Import!B:B,Mapping!D233,Import!H:H)+SUMIF(Import!C:C,Mapping!D233,Import!H:H)+SUMIF(Import!D:D,Mapping!D233,Import!H:H))","v":0}]
["4","40","401",{"$f":"LEFT(E234,4)","v":"4011"},4011,"Fournisseurs - Achats de biens et prestations de services",{"$f":"IF(D234=D233,0,SUMIF(Import!B:B,Mapping!D234,Import!G:G)+SUMIF(Import!C:C,Mapping!D234,Import!G:G)+SUMIF(Import!D:D,Mapping!D234,Import!G:G))","v":0},{"$f":"IF(D234=D233,0,SUMIF(Import!B:B,Mapping!D234,Import!H:H)+SUMIF(Import!C:C,Mapping!D234,Import!H:H)+SUMIF(Import!D:D,Mapping!D234,Import!H:H))","v":0}]
["4","40","401","4017",4017,"Fournisseurs - Retenues de garantie",{"$f":"IF(D235=D234,0,SUMIF(Import!B:B,Mapping!D235,Import!G:G)+SUMIF(Import!C:C,Mapping!D235,Import!G:G)+SUMIF(Import!D:D,Mapping!D235,Import!G:G))","v":0},{"$f":"IF(D235=D234,0,SUMIF(Import!B:B,Mapping!D235,Import!H:H)+SUMIF(Import!C:C,Mapping!D235,Import!H:H)+SUMIF(Import!D:D,Mapping!D235,Import!H:H))","v":0}]
["4","40","403","4030",4030,"Fournisseurs - Effets à payer",{"$f":"IF(D236=D235,0,SUMIF(Import!B:B,Mapping!D236,Import!G:G)+SUMIF(Import!C:C,Mapping!D236,Import!G:G)+SUMIF(Import!D:D,Mapping!D236,Import!G:G))","v":0},{"$f":"IF(D236=D235,0,SUMIF(Import!B:B,Mapping!D236,Import!H:H)+SUMIF(Import!C:C,Mapping!D236,Import!H:H)+SUMIF(Import!D:D,Mapping!D236,Import!H:H))","v":0}]
["4","40","404","4040",4040,"Fournisseurs d'immobilisations",{"$f":"IF(D237=D236,0,SUMIF(Import!B:B,Mapping!D237,Import!G:G)+SUMIF(Import!C:C,Mapping!D237,Import!G:G)+SUMIF(Import!D:D,Mapping!D237,Import!G:G))","v":0},{"$f":"IF(D237=D236,0,SUMIF(Import!B:B,Mapping!D237,Import!H:H)+SUMIF(Import!C:C,Mapping!D237,Import!H:H)+SUMIF(Import!D:D,Mapping!D237,Import!H:H))","v":0}]
["4","40","404","4041",4041,"Fournisseurs - Achats d'immobilisations",{"$f":"IF(D238=D237,0,SUMIF(Import!B:B,Mapping!D238,Import!G:G)+SUMIF(Import!C:C,Mapping!D238,Import!G:G)+SUMIF(Import!D:D,Mapping!D238,Import!G:G))","v":0},{"$f":"IF(D238=D237,0,SUMIF(Import!B:B,Mapping!D238,Import!H:H)+SUMIF(Import!C:C,Mapping!D238,Import!H:H)+SUMIF(Import!D:D,Mapping!D238,Import!H:H))","v":0}]
["4","40","404","4047",4047,"Fournisseurs d'immobilisations - Retenues de garantie",{"$f":"IF(D239=D238,0,SUMIF(Import!B:B,Mapping!D239,Import!G:G)+SUMIF(Import!C:C,Mapping!D239,Import!G:G)+SUMIF(Import!D:D,Mapping!D239,Import!G:G))","v":0},{"$f":"IF(D239=D238,0,SUMIF(Import!B:B,Mapping!D239,Import!H:H)+SUMIF(Import!C:C,Mapping!D239,Import!H:H)+SUMIF(Import!D:D,Mapping!D239,Import!H:H))","v":0}]
["4","40","405",{"$f":"LEFT(E240,4)","v":"4050"},4050,"Fournisseurs d'immobilisations - Effets à payer",{"$f":"IF(D240=D239,0,SUMIF(Import!B:B,Mapping!D240,Import!G:G)+SUMIF(Import!C:C,Mapping!D240,Import!G:G)+SUMIF(Import!D:D,Mapping!D240,Import!G:G))","v":0},{"$f":"IF(D240=D239,0,SUMIF(Import!B:B,Mapping!D240,Import!H:H)+SUMIF(Import!C:C,Mapping!D240,Import!H:H)+SUMIF(Import!D:D,Mapping!D240,Import!H:H))","v":0}]
["4","40","408","4080",4080,"Fournisseurs - Factures non parvenues",{"$f":"IF(D241=D240,0,SUMIF(Import!B:B,Mapping!D241,Import!G:G)+SUMIF(Import!C:C,Mapping!D241,Import!G:G)+SUMIF(Import!D:D,Mapping!D241,Import!G:G))","v":0},{"$f":"IF(D241=D240,0,SUMIF(Import!B:B,Mapping!D241,Import!H:H)+SUMIF(Import!C:C,Mapping!D241,Import!H:H)+SUMIF(Import!D:D,Mapping!D241,Import!H:H))","v":0}]
["4","40","408","4081",4081,"Fournisseurs",{"$f":"IF(D242=D241,0,SUMIF(Import!B:B,Mapping!D242,Import!G:G)+SUMIF(Import!C:C,Mapping!D242,Import!G:G)+SUMIF(Import!D:D,Mapping!D242,Import!G:G))","v":0},{"$f":"IF(D242=D241,0,SUMIF(Import!B:B,Mapping!D242,Import!H:H)+SUMIF(Import!C:C,Mapping!D242,Import!H:H)+SUMIF(Import!D:D,Mapping!D242,Import!H:H))","v":0}]
["4","40","408","4084",4084,"Fournisseurs d'immobilisations",{"$f":"IF(D243=D242,0,SUMIF(Import!B:B,Mapping!D243,Import!G:G)+SUMIF(Import!C:C,Mapping!D243,Import!G:G)+SUMIF(Import!D:D,Mapping!D243,Import!G:G))","v":0},{"$f":"IF(D243=D242,0,SUMIF(Import!B:B,Mapping!D243,Import!H:H)+SUMIF(Import!C:C,Mapping!D243,Import!H:H)+SUMIF(Import!D:D,Mapping!D243,Import!H:H))","v":0}]
["4","40","408","4088",4088,"Fournisseurs - Intérêts courus",{"$f":"IF(D244=D243,0,SUMIF(Import!B:B,Mapping!D244,Import!G:G)+SUMIF(Import!C:C,Mapping!D244,Import!G:G)+SUMIF(Import!D:D,Mapping!D244,Import!G:G))","v":0},{"$f":"IF(D244=D243,0,SUMIF(Import!B:B,Mapping!D244,Import!H:H)+SUMIF(Import!C:C,Mapping!D244,Import!H:H)+SUMIF(Import!D:D,Mapping!D244,Import!H:H))","v":0}]
["4","40","409","4090",4090,"Fournisseurs débiteurs",{"$f":"IF(D245=D244,0,SUMIF(Import!B:B,Mapping!D245,Import!G:G)+SUMIF(Import!C:C,Mapping!D245,Import!G:G)+SUMIF(Import!D:D,Mapping!D245,Import!G:G))","v":0},{"$f":"IF(D245=D244,0,SUMIF(Import!B:B,Mapping!D245,Import!H:H)+SUMIF(Import!C:C,Mapping!D245,Import!H:H)+SUMIF(Import!D:D,Mapping!D245,Import!H:H))","v":0}]
["4","40","409","4091",4091,"Fournisseurs - Avances et acomptes versés sur commandes",{"$f":"IF(D246=D245,0,SUMIF(Import!B:B,Mapping!D246,Import!G:G)+SUMIF(Import!C:C,Mapping!D246,Import!G:G)+SUMIF(Import!D:D,Mapping!D246,Import!G:G))","v":0},{"$f":"IF(D246=D245,0,SUMIF(Import!B:B,Mapping!D246,Import!H:H)+SUMIF(Import!C:C,Mapping!D246,Import!H:H)+SUMIF(Import!D:D,Mapping!D246,Import!H:H))","v":0}]
["4","40","409","4096",4096,"Fournisseurs - Créances pour emballages et matériel à rendre",{"$f":"IF(D247=D246,0,SUMIF(Import!B:B,Mapping!D247,Import!G:G)+SUMIF(Import!C:C,Mapping!D247,Import!G:G)+SUMIF(Import!D:D,Mapping!D247,Import!G:G))","v":0},{"$f":"IF(D247=D246,0,SUMIF(Import!B:B,Mapping!D247,Import!H:H)+SUMIF(Import!C:C,Mapping!D247,Import!H:H)+SUMIF(Import!D:D,Mapping!D247,Import!H:H))","v":0}]
["4","40",{"$f":"+LEFT(E248,3)","v":"409"},"4097",4097,"Fournisseurs - Autres avoirs",{"$f":"IF(D248=D247,0,SUMIF(Import!B:B,Mapping!D248,Import!G:G)+SUMIF(Import!C:C,Mapping!D248,Import!G:G)+SUMIF(Import!D:D,Mapping!D248,Import!G:G))","v":0},{"$f":"IF(D248=D247,0,SUMIF(Import!B:B,Mapping!D248,Import!H:H)+SUMIF(Import!C:C,Mapping!D248,Import!H:H)+SUMIF(Import!D:D,Mapping!D248,Import!H:H))","v":0}]
["4","40","409","4097",40971,"Fournisseurs d'exploitation",{"$f":"IF(D249=D248,0,SUMIF(Import!B:B,Mapping!D249,Import!G:G)+SUMIF(Import!C:C,Mapping!D249,Import!G:G)+SUMIF(Import!D:D,Mapping!D249,Import!G:G))","v":0},{"$f":"IF(D249=D248,0,SUMIF(Import!B:B,Mapping!D249,Import!H:H)+SUMIF(Import!C:C,Mapping!D249,Import!H:H)+SUMIF(Import!D:D,Mapping!D249,Import!H:H))","v":0}]
["4","40","409","4097",40974,"Fournisseurs d'immobilisations",{"$f":"IF(D250=D249,0,SUMIF(Import!B:B,Mapping!D250,Import!G:G)+SUMIF(Import!C:C,Mapping!D250,Import!G:G)+SUMIF(Import!D:D,Mapping!D250,Import!G:G))","v":0},{"$f":"IF(D250=D249,0,SUMIF(Import!B:B,Mapping!D250,Import!H:H)+SUMIF(Import!C:C,Mapping!D250,Import!H:H)+SUMIF(Import!D:D,Mapping!D250,Import!H:H))","v":0}]
["4","40","409","4098",4098,"Rabais, remises, ristournes à obtenir et autres avoirs non encore reçus",{"$f":"IF(D251=D250,0,SUMIF(Import!B:B,Mapping!D251,Import!G:G)+SUMIF(Import!C:C,Mapping!D251,Import!G:G)+SUMIF(Import!D:D,Mapping!D251,Import!G:G))","v":0},{"$f":"IF(D251=D250,0,SUMIF(Import!B:B,Mapping!D251,Import!H:H)+SUMIF(Import!C:C,Mapping!D251,Import!H:H)+SUMIF(Import!D:D,Mapping!D251,Import!H:H))","v":0}]
["4","41","410","4100",4100,"Clients et comptes rattachés",{"$f":"IF(D252=D251,0,SUMIF(Import!B:B,Mapping!D252,Import!G:G)+SUMIF(Import!C:C,Mapping!D252,Import!G:G)+SUMIF(Import!D:D,Mapping!D252,Import!G:G))","v":0},{"$f":"IF(D252=D251,0,SUMIF(Import!B:B,Mapping!D252,Import!H:H)+SUMIF(Import!C:C,Mapping!D252,Import!H:H)+SUMIF(Import!D:D,Mapping!D252,Import!H:H))","v":0}]
["4","41","411","4110",4110,"Clients",{"$f":"IF(D253=D252,0,SUMIF(Import!B:B,Mapping!D253,Import!G:G)+SUMIF(Import!C:C,Mapping!D253,Import!G:G)+SUMIF(Import!D:D,Mapping!D253,Import!G:G))","v":0},{"$f":"IF(D253=D252,0,SUMIF(Import!B:B,Mapping!D253,Import!H:H)+SUMIF(Import!C:C,Mapping!D253,Import!H:H)+SUMIF(Import!D:D,Mapping!D253,Import!H:H))","v":0}]
["4","41","411","4111",4111,"Clients - Ventes de biens ou de prestations de services",{"$f":"IF(D254=D253,0,SUMIF(Import!B:B,Mapping!D254,Import!G:G)+SUMIF(Import!C:C,Mapping!D254,Import!G:G)+SUMIF(Import!D:D,Mapping!D254,Import!G:G))","v":0},{"$f":"IF(D254=D253,0,SUMIF(Import!B:B,Mapping!D254,Import!H:H)+SUMIF(Import!C:C,Mapping!D254,Import!H:H)+SUMIF(Import!D:D,Mapping!D254,Import!H:H))","v":0}]
["4","41","411","4117",4117,"Clients - Retenues de garantie",{"$f":"IF(D255=D254,0,SUMIF(Import!B:B,Mapping!D255,Import!G:G)+SUMIF(Import!C:C,Mapping!D255,Import!G:G)+SUMIF(Import!D:D,Mapping!D255,Import!G:G))","v":0},{"$f":"IF(D255=D254,0,SUMIF(Import!B:B,Mapping!D255,Import!H:H)+SUMIF(Import!C:C,Mapping!D255,Import!H:H)+SUMIF(Import!D:D,Mapping!D255,Import!H:H))","v":0}]
["4","41","413","4130",4130,"Clients - Effets à recevoir",{"$f":"IF(D256=D255,0,SUMIF(Import!B:B,Mapping!D256,Import!G:G)+SUMIF(Import!C:C,Mapping!D256,Import!G:G)+SUMIF(Import!D:D,Mapping!D256,Import!G:G))","v":0},{"$f":"IF(D256=D255,0,SUMIF(Import!B:B,Mapping!D256,Import!H:H)+SUMIF(Import!C:C,Mapping!D256,Import!H:H)+SUMIF(Import!D:D,Mapping!D256,Import!H:H))","v":0}]
["4","41","416","4160",4160,"Clients douteux ou litigieux",{"$f":"IF(D257=D256,0,SUMIF(Import!B:B,Mapping!D257,Import!G:G)+SUMIF(Import!C:C,Mapping!D257,Import!G:G)+SUMIF(Import!D:D,Mapping!D257,Import!G:G))","v":0},{"$f":"IF(D257=D256,0,SUMIF(Import!B:B,Mapping!D257,Import!H:H)+SUMIF(Import!C:C,Mapping!D257,Import!H:H)+SUMIF(Import!D:D,Mapping!D257,Import!H:H))","v":0}]
["4","41","418","4180",4180,"Clients - Produits non encore facturés",{"$f":"IF(D258=D257,0,SUMIF(Import!B:B,Mapping!D258,Import!G:G)+SUMIF(Import!C:C,Mapping!D258,Import!G:G)+SUMIF(Import!D:D,Mapping!D258,Import!G:G))","v":0},{"$f":"IF(D258=D257,0,SUMIF(Import!B:B,Mapping!D258,Import!H:H)+SUMIF(Import!C:C,Mapping!D258,Import!H:H)+SUMIF(Import!D:D,Mapping!D258,Import!H:H))","v":0}]
["4","41","418","4181",4181,"Clients - Factures à établir",{"$f":"IF(D259=D258,0,SUMIF(Import!B:B,Mapping!D259,Import!G:G)+SUMIF(Import!C:C,Mapping!D259,Import!G:G)+SUMIF(Import!D:D,Mapping!D259,Import!G:G))","v":0},{"$f":"IF(D259=D258,0,SUMIF(Import!B:B,Mapping!D259,Import!H:H)+SUMIF(Import!C:C,Mapping!D259,Import!H:H)+SUMIF(Import!D:D,Mapping!D259,Import!H:H))","v":0}]
["4","41","418","4188",4188,"Clients - Intérêts courus",{"$f":"IF(D260=D259,0,SUMIF(Import!B:B,Mapping!D260,Import!G:G)+SUMIF(Import!C:C,Mapping!D260,Import!G:G)+SUMIF(Import!D:D,Mapping!D260,Import!G:G))","v":0},{"$f":"IF(D260=D259,0,SUMIF(Import!B:B,Mapping!D260,Import!H:H)+SUMIF(Import!C:C,Mapping!D260,Import!H:H)+SUMIF(Import!D:D,Mapping!D260,Import!H:H))","v":0}]
["4","41","419","4190",4190,"Clients créditeurs",{"$f":"IF(D261=D260,0,SUMIF(Import!B:B,Mapping!D261,Import!G:G)+SUMIF(Import!C:C,Mapping!D261,Import!G:G)+SUMIF(Import!D:D,Mapping!D261,Import!G:G))","v":0},{"$f":"IF(D261=D260,0,SUMIF(Import!B:B,Mapping!D261,Import!H:H)+SUMIF(Import!C:C,Mapping!D261,Import!H:H)+SUMIF(Import!D:D,Mapping!D261,Import!H:H))","v":0}]
[{"$f":"LEFT(B262,1)","v":"4"},{"$f":"IF(OR(LEFT(E262,2)=\"42\",LEFT(E262,2)=\"43\",LEFT(E262,2)=\"44\",LEFT(E262,2)=\"45\",LEFT(E262,2)=\"46\",LEFT(E262,2)=\"47\",LEFT(E262,2)=\"51\"),IF(G262<0,LEFT(E262,2)&\"P\",LEFT(E262,2)&\"A\"),LEFT(E262,2))","v":"41"},{"$f":"+LEFT(E262,3)","v":"419"},{"$f":"LEFT(E262,4)","v":"4191"},4191,"Clients - Avances et acomptes reçus sur commandes",{"$f":"IF(D262=D261,0,SUMIF(Import!B:B,Mapping!D262,Import!G:G)+SUMIF(Import!C:C,Mapping!D262,Import!G:G)+SUMIF(Import!D:D,Mapping!D262,Import!G:G))","v":0},{"$f":"IF(D262=D261,0,SUMIF(Import!B:B,Mapping!D262,Import!H:H)+SUMIF(Import!C:C,Mapping!D262,Import!H:H)+SUMIF(Import!D:D,Mapping!D262,Import!H:H))","v":0}]
["4","41","419","4196",4196,"Clients - Dettes sur emballages et matériels consignés",{"$f":"IF(D263=D262,0,SUMIF(Import!B:B,Mapping!D263,Import!G:G)+SUMIF(Import!C:C,Mapping!D263,Import!G:G)+SUMIF(Import!D:D,Mapping!D263,Import!G:G))","v":0},{"$f":"IF(D263=D262,0,SUMIF(Import!B:B,Mapping!D263,Import!H:H)+SUMIF(Import!C:C,Mapping!D263,Import!H:H)+SUMIF(Import!D:D,Mapping!D263,Import!H:H))","v":0}]
["4","41","419","4197",4197,"Clients - Autres avoirs",{"$f":"IF(D264=D263,0,SUMIF(Import!B:B,Mapping!D264,Import!G:G)+SUMIF(Import!C:C,Mapping!D264,Import!G:G)+SUMIF(Import!D:D,Mapping!D264,Import!G:G))","v":0},{"$f":"IF(D264=D263,0,SUMIF(Import!B:B,Mapping!D264,Import!H:H)+SUMIF(Import!C:C,Mapping!D264,Import!H:H)+SUMIF(Import!D:D,Mapping!D264,Import!H:H))","v":0}]
["4","41",{"$f":"+LEFT(E265,3)","v":"419"},"4198",4198,"Rabais, remises, ristournes à accorder et autres avoirs à établir",{"$f":"IF(D265=D264,0,SUMIF(Import!B:B,Mapping!D265,Import!G:G)+SUMIF(Import!C:C,Mapping!D265,Import!G:G)+SUMIF(Import!D:D,Mapping!D265,Import!G:G))","v":0},{"$f":"IF(D265=D264,0,SUMIF(Import!B:B,Mapping!D265,Import!H:H)+SUMIF(Import!C:C,Mapping!D265,Import!H:H)+SUMIF(Import!D:D,Mapping!D265,Import!H:H))","v":0}]
["4","42A","421","4210",4210,"Personnel - Rémunérations dues",{"$f":"IF(D266=D265,0,SUMIF(Import!B:B,Mapping!D266,Import!G:G)+SUMIF(Import!C:C,Mapping!D266,Import!G:G)+SUMIF(Import!D:D,Mapping!D266,Import!G:G))","v":0},{"$f":"IF(D266=D265,0,SUMIF(Import!B:B,Mapping!D266,Import!H:H)+SUMIF(Import!C:C,Mapping!D266,Import!H:H)+SUMIF(Import!D:D,Mapping!D266,Import!H:H))","v":0}]
["4","42A","421","4211",4211,"Personnel - Rémunérations dues",{"$f":"IF(D267=D266,0,SUMIF(Import!B:B,Mapping!D267,Import!G:G)+SUMIF(Import!C:C,Mapping!D267,Import!G:G)+SUMIF(Import!D:D,Mapping!D267,Import!G:G))","v":0},{"$f":"IF(D267=D266,0,SUMIF(Import!B:B,Mapping!D267,Import!H:H)+SUMIF(Import!C:C,Mapping!D267,Import!H:H)+SUMIF(Import!D:D,Mapping!D267,Import!H:H))","v":0}]
["4","42A","422","4220",4220,"Comité social et économique",{"$f":"IF(D268=D267,0,SUMIF(Import!B:B,Mapping!D268,Import!G:G)+SUMIF(Import!C:C,Mapping!D268,Import!G:G)+SUMIF(Import!D:D,Mapping!D268,Import!G:G))","v":0},{"$f":"IF(D268=D267,0,SUMIF(Import!B:B,Mapping!D268,Import!H:H)+SUMIF(Import!C:C,Mapping!D268,Import!H:H)+SUMIF(Import!D:D,Mapping!D268,Import!H:H))","v":0}]
[{"$f":"LEFT(B269,1)","v":"4"},"42A","424","4240",4240,"Participation des salariés aux résultats",{"$f":"IF(D269=D268,0,SUMIF(Import!B:B,Mapping!D269,Import!G:G)+SUMIF(Import!C:C,Mapping!D269,Import!G:G)+SUMIF(Import!D:D,Mapping!D269,Import!G:G))","v":0},{"$f":"IF(D269=D268,0,SUMIF(Import!B:B,Mapping!D269,Import!H:H)+SUMIF(Import!C:C,Mapping!D269,Import!H:H)+SUMIF(Import!D:D,Mapping!D269,Import!H:H))","v":0}]
["4","42A","424","4246",4246,"Réserve spéciale (art: L: 442-2 du code du travail)",{"$f":"IF(D270=D269,0,SUMIF(Import!B:B,Mapping!D270,Import!G:G)+SUMIF(Import!C:C,Mapping!D270,Import!G:G)+SUMIF(Import!D:D,Mapping!D270,Import!G:G))","v":0},{"$f":"IF(D270=D269,0,SUMIF(Import!B:B,Mapping!D270,Import!H:H)+SUMIF(Import!C:C,Mapping!D270,Import!H:H)+SUMIF(Import!D:D,Mapping!D270,Import!H:H))","v":0}]
["4","42A","424","4248",4248,"Comptes courants",{"$f":"IF(D271=D270,0,SUMIF(Import!B:B,Mapping!D271,Import!G:G)+SUMIF(Import!C:C,Mapping!D271,Import!G:G)+SUMIF(Import!D:D,Mapping!D271,Import!G:G))","v":0},{"$f":"IF(D271=D270,0,SUMIF(Import!B:B,Mapping!D271,Import!H:H)+SUMIF(Import!C:C,Mapping!D271,Import!H:H)+SUMIF(Import!D:D,Mapping!D271,Import!H:H))","v":0}]
["4",{"$f":"IF(OR(LEFT(E272,2)=\"42\",LEFT(E272,2)=\"43\",LEFT(E272,2)=\"44\",LEFT(E272,2)=\"45\",LEFT(E272,2)=\"46\",LEFT(E272,2)=\"47\",LEFT(E272,2)=\"51\"),IF(G272<0,LEFT(E272,2)&\"P\",LEFT(E272,2)&\"A\"),LEFT(E272,2))","v":"42A"},"425","4250",4250,"Personnel - Avances et acomptes",{"$f":"IF(D272=D271,0,SUMIF(Import!B:B,Mapping!D272,Import!G:G)+SUMIF(Import!C:C,Mapping!D272,Import!G:G)+SUMIF(Import!D:D,Mapping!D272,Import!G:G))","v":0},{"$f":"IF(D272=D271,0,SUMIF(Import!B:B,Mapping!D272,Import!H:H)+SUMIF(Import!C:C,Mapping!D272,Import!H:H)+SUMIF(Import!D:D,Mapping!D272,Import!H:H))","v":0}]
["4","42A","426","4260",4260,"Personnel - Dépôts",{"$f":"IF(D273=D272,0,SUMIF(Import!B:B,Mapping!D273,Import!G:G)+SUMIF(Import!C:C,Mapping!D273,Import!G:G)+SUMIF(Import!D:D,Mapping!D273,Import!G:G))","v":0},{"$f":"IF(D273=D272,0,SUMIF(Import!B:B,Mapping!D273,Import!H:H)+SUMIF(Import!C:C,Mapping!D273,Import!H:H)+SUMIF(Import!D:D,Mapping!D273,Import!H:H))","v":0}]
["4","42A","427","4270",4270,"Personnel - Oppositions",{"$f":"IF(D274=D273,0,SUMIF(Import!B:B,Mapping!D274,Import!G:G)+SUMIF(Import!C:C,Mapping!D274,Import!G:G)+SUMIF(Import!D:D,Mapping!D274,Import!G:G))","v":0},{"$f":"IF(D274=D273,0,SUMIF(Import!B:B,Mapping!D274,Import!H:H)+SUMIF(Import!C:C,Mapping!D274,Import!H:H)+SUMIF(Import!D:D,Mapping!D274,Import!H:H))","v":0}]
["4","42A","428","4280",4280,"Personnel - Charges à payer et produits à recevoir",{"$f":"IF(D275=D274,0,SUMIF(Import!B:B,Mapping!D275,Import!G:G)+SUMIF(Import!C:C,Mapping!D275,Import!G:G)+SUMIF(Import!D:D,Mapping!D275,Import!G:G))","v":0},{"$f":"IF(D275=D274,0,SUMIF(Import!B:B,Mapping!D275,Import!H:H)+SUMIF(Import!C:C,Mapping!D275,Import!H:H)+SUMIF(Import!D:D,Mapping!D275,Import!H:H))","v":0}]
["4","42A","428","4282",4282,"Dettes provisionnées pour congés à payer",{"$f":"IF(D276=D275,0,SUMIF(Import!B:B,Mapping!D276,Import!G:G)+SUMIF(Import!C:C,Mapping!D276,Import!G:G)+SUMIF(Import!D:D,Mapping!D276,Import!G:G))","v":0},{"$f":"IF(D276=D275,0,SUMIF(Import!B:B,Mapping!D276,Import!H:H)+SUMIF(Import!C:C,Mapping!D276,Import!H:H)+SUMIF(Import!D:D,Mapping!D276,Import!H:H))","v":0}]
[{"$f":"LEFT(B277,1)","v":"4"},{"$f":"IF(OR(LEFT(E277,2)=\"42\",LEFT(E277,2)=\"43\",LEFT(E277,2)=\"44\",LEFT(E277,2)=\"45\",LEFT(E277,2)=\"46\",LEFT(E277,2)=\"47\",LEFT(E277,2)=\"51\"),IF(G277<0,LEFT(E277,2)&\"P\",LEFT(E277,2)&\"A\"),LEFT(E277,2))","v":"42A"},{"$f":"+LEFT(E277,3)","v":"428"},{"$f":"LEFT(E277,4)","v":"4284"},4284,"Dettes provisionnées pour participation des salariés aux résultats",{"$f":"IF(D277=D276,0,SUMIF(Import!B:B,Mapping!D277,Import!G:G)+SUMIF(Import!C:C,Mapping!D277,Import!G:G)+SUMIF(Import!D:D,Mapping!D277,Import!G:G))","v":0},{"$f":"IF(D277=D276,0,SUMIF(Import!B:B,Mapping!D277,Import!H:H)+SUMIF(Import!C:C,Mapping!D277,Import!H:H)+SUMIF(Import!D:D,Mapping!D277,Import!H:H))","v":0}]
["4","42A","428","4286",4286,"Autres charges à payer",{"$f":"IF(D278=D277,0,SUMIF(Import!B:B,Mapping!D278,Import!G:G)+SUMIF(Import!C:C,Mapping!D278,Import!G:G)+SUMIF(Import!D:D,Mapping!D278,Import!G:G))","v":0},{"$f":"IF(D278=D277,0,SUMIF(Import!B:B,Mapping!D278,Import!H:H)+SUMIF(Import!C:C,Mapping!D278,Import!H:H)+SUMIF(Import!D:D,Mapping!D278,Import!H:H))","v":0}]
["4","43A","431","4310",4310,"Sécurité sociale",{"$f":"IF(D279=D278,0,SUMIF(Import!B:B,Mapping!D279,Import!G:G)+SUMIF(Import!C:C,Mapping!D279,Import!G:G)+SUMIF(Import!D:D,Mapping!D279,Import!G:G))","v":0},{"$f":"IF(D279=D278,0,SUMIF(Import!B:B,Mapping!D279,Import!H:H)+SUMIF(Import!C:C,Mapping!D279,Import!H:H)+SUMIF(Import!D:D,Mapping!D279,Import!H:H))","v":0}]
["4","43A","431","4311",4311,"Sécurité sociale",{"$f":"IF(D280=D279,0,SUMIF(Import!B:B,Mapping!D280,Import!G:G)+SUMIF(Import!C:C,Mapping!D280,Import!G:G)+SUMIF(Import!D:D,Mapping!D280,Import!G:G))","v":0},{"$f":"IF(D280=D279,0,SUMIF(Import!B:B,Mapping!D280,Import!H:H)+SUMIF(Import!C:C,Mapping!D280,Import!H:H)+SUMIF(Import!D:D,Mapping!D280,Import!H:H))","v":0}]
["4","43A","437","4370",4370,"Autres organismes sociaux",{"$f":"IF(D281=D280,0,SUMIF(Import!B:B,Mapping!D281,Import!G:G)+SUMIF(Import!C:C,Mapping!D281,Import!G:G)+SUMIF(Import!D:D,Mapping!D281,Import!G:G))","v":0},{"$f":"IF(D281=D280,0,SUMIF(Import!B:B,Mapping!D281,Import!H:H)+SUMIF(Import!C:C,Mapping!D281,Import!H:H)+SUMIF(Import!D:D,Mapping!D281,Import!H:H))","v":0}]
["4","43A","437","4371",4371,"Autres organismes sociaux",{"$f":"IF(D282=D281,0,SUMIF(Import!B:B,Mapping!D282,Import!G:G)+SUMIF(Import!C:C,Mapping!D282,Import!G:G)+SUMIF(Import!D:D,Mapping!D282,Import!G:G))","v":0},{"$f":"IF(D282=D281,0,SUMIF(Import!B:B,Mapping!D282,Import!H:H)+SUMIF(Import!C:C,Mapping!D282,Import!H:H)+SUMIF(Import!D:D,Mapping!D282,Import!H:H))","v":0}]
["4","43A","437","4372",4372,"Autres organismes sociaux",{"$f":"IF(D283=D282,0,SUMIF(Import!B:B,Mapping!D283,Import!G:G)+SUMIF(Import!C:C,Mapping!D283,Import!G:G)+SUMIF(Import!D:D,Mapping!D283,Import!G:G))","v":0},{"$f":"IF(D283=D282,0,SUMIF(Import!B:B,Mapping!D283,Import!H:H)+SUMIF(Import!C:C,Mapping!D283,Import!H:H)+SUMIF(Import!D:D,Mapping!D283,Import!H:H))","v":0}]
["4","43A","437","4373",4373,"Autres organismes sociaux",{"$f":"IF(D284=D283,0,SUMIF(Import!B:B,Mapping!D284,Import!G:G)+SUMIF(Import!C:C,Mapping!D284,Import!G:G)+SUMIF(Import!D:D,Mapping!D284,Import!G:G))","v":0},{"$f":"IF(D284=D283,0,SUMIF(Import!B:B,Mapping!D284,Import!H:H)+SUMIF(Import!C:C,Mapping!D284,Import!H:H)+SUMIF(Import!D:D,Mapping!D284,Import!H:H))","v":0}]
["4","43A","437","4374",4374,"Autres organismes sociaux",{"$f":"IF(D285=D284,0,SUMIF(Import!B:B,Mapping!D285,Import!G:G)+SUMIF(Import!C:C,Mapping!D285,Import!G:G)+SUMIF(Import!D:D,Mapping!D285,Import!G:G))","v":0},{"$f":"IF(D285=D284,0,SUMIF(Import!B:B,Mapping!D285,Import!H:H)+SUMIF(Import!C:C,Mapping!D285,Import!H:H)+SUMIF(Import!D:D,Mapping!D285,Import!H:H))","v":0}]
["4","43A","437","4375",4375,"Autres organismes sociaux",{"$f":"IF(D286=D285,0,SUMIF(Import!B:B,Mapping!D286,Import!G:G)+SUMIF(Import!C:C,Mapping!D286,Import!G:G)+SUMIF(Import!D:D,Mapping!D286,Import!G:G))","v":0},{"$f":"IF(D286=D285,0,SUMIF(Import!B:B,Mapping!D286,Import!H:H)+SUMIF(Import!C:C,Mapping!D286,Import!H:H)+SUMIF(Import!D:D,Mapping!D286,Import!H:H))","v":0}]
["4","43A","437","4376",4376,"Autres organismes sociaux",{"$f":"IF(D287=D286,0,SUMIF(Import!B:B,Mapping!D287,Import!G:G)+SUMIF(Import!C:C,Mapping!D287,Import!G:G)+SUMIF(Import!D:D,Mapping!D287,Import!G:G))","v":0},{"$f":"IF(D287=D286,0,SUMIF(Import!B:B,Mapping!D287,Import!H:H)+SUMIF(Import!C:C,Mapping!D287,Import!H:H)+SUMIF(Import!D:D,Mapping!D287,Import!H:H))","v":0}]
["4","43A","437","4377",4377,"Autres organismes sociaux",{"$f":"IF(D288=D287,0,SUMIF(Import!B:B,Mapping!D288,Import!G:G)+SUMIF(Import!C:C,Mapping!D288,Import!G:G)+SUMIF(Import!D:D,Mapping!D288,Import!G:G))","v":0},{"$f":"IF(D288=D287,0,SUMIF(Import!B:B,Mapping!D288,Import!H:H)+SUMIF(Import!C:C,Mapping!D288,Import!H:H)+SUMIF(Import!D:D,Mapping!D288,Import!H:H))","v":0}]
["4","43A",{"$f":"+LEFT(E289,3)","v":"438"},"4380",4380,"Organismes sociaux - Charges à payer et produits à recevoir",{"$f":"IF(D289=D288,0,SUMIF(Import!B:B,Mapping!D289,Import!G:G)+SUMIF(Import!C:C,Mapping!D289,Import!G:G)+SUMIF(Import!D:D,Mapping!D289,Import!G:G))","v":0},{"$f":"IF(D289=D288,0,SUMIF(Import!B:B,Mapping!D289,Import!H:H)+SUMIF(Import!C:C,Mapping!D289,Import!H:H)+SUMIF(Import!D:D,Mapping!D289,Import!H:H))","v":0}]
["4","43A",{"$f":"+LEFT(E290,3)","v":"438"},"4382",4382,"Charges sociales sur congés à payer",{"$f":"IF(D290=D289,0,SUMIF(Import!B:B,Mapping!D290,Import!G:G)+SUMIF(Import!C:C,Mapping!D290,Import!G:G)+SUMIF(Import!D:D,Mapping!D290,Import!G:G))","v":0},{"$f":"IF(D290=D289,0,SUMIF(Import!B:B,Mapping!D290,Import!H:H)+SUMIF(Import!C:C,Mapping!D290,Import!H:H)+SUMIF(Import!D:D,Mapping!D290,Import!H:H))","v":0}]
["4","43A","438","4386",4386,"Autres charges à payer",{"$f":"IF(D291=D290,0,SUMIF(Import!B:B,Mapping!D291,Import!G:G)+SUMIF(Import!C:C,Mapping!D291,Import!G:G)+SUMIF(Import!D:D,Mapping!D291,Import!G:G))","v":0},{"$f":"IF(D291=D290,0,SUMIF(Import!B:B,Mapping!D291,Import!H:H)+SUMIF(Import!C:C,Mapping!D291,Import!H:H)+SUMIF(Import!D:D,Mapping!D291,Import!H:H))","v":0}]
["4","44A",{"$f":"+LEFT(E292,3)","v":"441"},"4410",4410,"État - Aides publiques à recevoir",{"$f":"IF(D292=D291,0,SUMIF(Import!B:B,Mapping!D292,Import!G:G)+SUMIF(Import!C:C,Mapping!D292,Import!G:G)+SUMIF(Import!D:D,Mapping!D292,Import!G:G))","v":0},{"$f":"IF(D292=D291,0,SUMIF(Import!B:B,Mapping!D292,Import!H:H)+SUMIF(Import!C:C,Mapping!D292,Import!H:H)+SUMIF(Import!D:D,Mapping!D292,Import!H:H))","v":0}]
["4","44A",{"$f":"+LEFT(E293,3)","v":"441"},"4411",4411,"Aides publiques d'investissement",{"$f":"IF(D293=D292,0,SUMIF(Import!B:B,Mapping!D293,Import!G:G)+SUMIF(Import!C:C,Mapping!D293,Import!G:G)+SUMIF(Import!D:D,Mapping!D293,Import!G:G))","v":0},{"$f":"IF(D293=D292,0,SUMIF(Import!B:B,Mapping!D293,Import!H:H)+SUMIF(Import!C:C,Mapping!D293,Import!H:H)+SUMIF(Import!D:D,Mapping!D293,Import!H:H))","v":0}]
["4","44A",{"$f":"+LEFT(E294,3)","v":"441"},"4417",4417,"Aides publiques d'exploitation ",{"$f":"IF(D294=D293,0,SUMIF(Import!B:B,Mapping!D294,Import!G:G)+SUMIF(Import!C:C,Mapping!D294,Import!G:G)+SUMIF(Import!D:D,Mapping!D294,Import!G:G))","v":0},{"$f":"IF(D294=D293,0,SUMIF(Import!B:B,Mapping!D294,Import!H:H)+SUMIF(Import!C:C,Mapping!D294,Import!H:H)+SUMIF(Import!D:D,Mapping!D294,Import!H:H))","v":0}]
["4","44A",{"$f":"+LEFT(E295,3)","v":"441"},"4418",4418,"Aides publiques d'équilibre",{"$f":"IF(D295=D294,0,SUMIF(Import!B:B,Mapping!D295,Import!G:G)+SUMIF(Import!C:C,Mapping!D295,Import!G:G)+SUMIF(Import!D:D,Mapping!D295,Import!G:G))","v":0},{"$f":"IF(D295=D294,0,SUMIF(Import!B:B,Mapping!D295,Import!H:H)+SUMIF(Import!C:C,Mapping!D295,Import!H:H)+SUMIF(Import!D:D,Mapping!D295,Import!H:H))","v":0}]
["4","44A",{"$f":"+LEFT(E296,3)","v":"441"},"4419",4419,"Avances sur aides publiques",{"$f":"IF(D296=D295,0,SUMIF(Import!B:B,Mapping!D296,Import!G:G)+SUMIF(Import!C:C,Mapping!D296,Import!G:G)+SUMIF(Import!D:D,Mapping!D296,Import!G:G))","v":0},{"$f":"IF(D296=D295,0,SUMIF(Import!B:B,Mapping!D296,Import!H:H)+SUMIF(Import!C:C,Mapping!D296,Import!H:H)+SUMIF(Import!D:D,Mapping!D296,Import!H:H))","v":0}]
["4","44A","442","4420",4420,"Etat - Impôts et taxes recouvrables sur des tiers",{"$f":"IF(D297=D296,0,SUMIF(Import!B:B,Mapping!D297,Import!G:G)+SUMIF(Import!C:C,Mapping!D297,Import!G:G)+SUMIF(Import!D:D,Mapping!D297,Import!G:G))","v":0},{"$f":"IF(D297=D296,0,SUMIF(Import!B:B,Mapping!D297,Import!H:H)+SUMIF(Import!C:C,Mapping!D297,Import!H:H)+SUMIF(Import!D:D,Mapping!D297,Import!H:H))","v":0}]
["4","44A",{"$f":"+LEFT(E298,3)","v":"442"},"4421",4421,"Etat - PAS",{"$f":"IF(D298=D297,0,SUMIF(Import!B:B,Mapping!D298,Import!G:G)+SUMIF(Import!C:C,Mapping!D298,Import!G:G)+SUMIF(Import!D:D,Mapping!D298,Import!G:G))","v":0},{"$f":"IF(D298=D297,0,SUMIF(Import!B:B,Mapping!D298,Import!H:H)+SUMIF(Import!C:C,Mapping!D298,Import!H:H)+SUMIF(Import!D:D,Mapping!D298,Import!H:H))","v":0}]
["4","44A",{"$f":"+LEFT(E299,3)","v":"442"},"4422",4422,"Etat - Prélèvements forfaitaires non libératoires ",{"$f":"IF(D299=D298,0,SUMIF(Import!B:B,Mapping!D299,Import!G:G)+SUMIF(Import!C:C,Mapping!D299,Import!G:G)+SUMIF(Import!D:D,Mapping!D299,Import!G:G))","v":0},{"$f":"IF(D299=D298,0,SUMIF(Import!B:B,Mapping!D299,Import!H:H)+SUMIF(Import!C:C,Mapping!D299,Import!H:H)+SUMIF(Import!D:D,Mapping!D299,Import!H:H))","v":0}]
["4","44A","442","4423",4423,"Etat - Retenues et prélèvements sur les distributions",{"$f":"IF(D300=D299,0,SUMIF(Import!B:B,Mapping!D300,Import!G:G)+SUMIF(Import!C:C,Mapping!D300,Import!G:G)+SUMIF(Import!D:D,Mapping!D300,Import!G:G))","v":0},{"$f":"IF(D300=D299,0,SUMIF(Import!B:B,Mapping!D300,Import!H:H)+SUMIF(Import!C:C,Mapping!D300,Import!H:H)+SUMIF(Import!D:D,Mapping!D300,Import!H:H))","v":0}]
["4","44A",{"$f":"+LEFT(E301,3)","v":"444"},"4440",4440,"Etat - Impôts sur les bénéfices",{"$f":"IF(D301=D300,0,SUMIF(Import!B:B,Mapping!D301,Import!G:G)+SUMIF(Import!C:C,Mapping!D301,Import!G:G)+SUMIF(Import!D:D,Mapping!D301,Import!G:G))","v":0},{"$f":"IF(D301=D300,0,SUMIF(Import!B:B,Mapping!D301,Import!H:H)+SUMIF(Import!C:C,Mapping!D301,Import!H:H)+SUMIF(Import!D:D,Mapping!D301,Import!H:H))","v":0}]
["4","44A","445","4450",4450,"Etat - Taxes sur le chiffre d'affaires",{"$f":"IF(D302=D301,0,SUMIF(Import!B:B,Mapping!D302,Import!G:G)+SUMIF(Import!C:C,Mapping!D302,Import!G:G)+SUMIF(Import!D:D,Mapping!D302,Import!G:G))","v":0},{"$f":"IF(D302=D301,0,SUMIF(Import!B:B,Mapping!D302,Import!H:H)+SUMIF(Import!C:C,Mapping!D302,Import!H:H)+SUMIF(Import!D:D,Mapping!D302,Import!H:H))","v":0}]
["4","44A","445","4452",4452,"T.V.A due intracommunautaire",{"$f":"IF(D303=D302,0,SUMIF(Import!B:B,Mapping!D303,Import!G:G)+SUMIF(Import!C:C,Mapping!D303,Import!G:G)+SUMIF(Import!D:D,Mapping!D303,Import!G:G))","v":0},{"$f":"IF(D303=D302,0,SUMIF(Import!B:B,Mapping!D303,Import!H:H)+SUMIF(Import!C:C,Mapping!D303,Import!H:H)+SUMIF(Import!D:D,Mapping!D303,Import!H:H))","v":0}]
["4","44A","445","4455",4455,"Taxes sur le chiffre d'affaires à décaisser",{"$f":"IF(D304=D303,0,SUMIF(Import!B:B,Mapping!D304,Import!G:G)+SUMIF(Import!C:C,Mapping!D304,Import!G:G)+SUMIF(Import!D:D,Mapping!D304,Import!G:G))","v":0},{"$f":"IF(D304=D303,0,SUMIF(Import!B:B,Mapping!D304,Import!H:H)+SUMIF(Import!C:C,Mapping!D304,Import!H:H)+SUMIF(Import!D:D,Mapping!D304,Import!H:H))","v":0}]
["4","44A","445","4455",44551,"T.V.A à décaisser",{"$f":"IF(D305=D304,0,SUMIF(Import!B:B,Mapping!D305,Import!G:G)+SUMIF(Import!C:C,Mapping!D305,Import!G:G)+SUMIF(Import!D:D,Mapping!D305,Import!G:G))","v":0},{"$f":"IF(D305=D304,0,SUMIF(Import!B:B,Mapping!D305,Import!H:H)+SUMIF(Import!C:C,Mapping!D305,Import!H:H)+SUMIF(Import!D:D,Mapping!D305,Import!H:H))","v":0}]
["4","44A","445","4455",44558,"Taxes assimilées à la T.V.A.",{"$f":"IF(D306=D305,0,SUMIF(Import!B:B,Mapping!D306,Import!G:G)+SUMIF(Import!C:C,Mapping!D306,Import!G:G)+SUMIF(Import!D:D,Mapping!D306,Import!G:G))","v":0},{"$f":"IF(D306=D305,0,SUMIF(Import!B:B,Mapping!D306,Import!H:H)+SUMIF(Import!C:C,Mapping!D306,Import!H:H)+SUMIF(Import!D:D,Mapping!D306,Import!H:H))","v":0}]
["4","44A","445","4456",4456,"Taxes sur le chiffre d'affaires déductibles",{"$f":"IF(D307=D306,0,SUMIF(Import!B:B,Mapping!D307,Import!G:G)+SUMIF(Import!C:C,Mapping!D307,Import!G:G)+SUMIF(Import!D:D,Mapping!D307,Import!G:G))","v":0},{"$f":"IF(D307=D306,0,SUMIF(Import!B:B,Mapping!D307,Import!H:H)+SUMIF(Import!C:C,Mapping!D307,Import!H:H)+SUMIF(Import!D:D,Mapping!D307,Import!H:H))","v":0}]
["4","44A","445","4456",44562,"T.V.A sur immobilisations",{"$f":"IF(D308=D307,0,SUMIF(Import!B:B,Mapping!D308,Import!G:G)+SUMIF(Import!C:C,Mapping!D308,Import!G:G)+SUMIF(Import!D:D,Mapping!D308,Import!G:G))","v":0},{"$f":"IF(D308=D307,0,SUMIF(Import!B:B,Mapping!D308,Import!H:H)+SUMIF(Import!C:C,Mapping!D308,Import!H:H)+SUMIF(Import!D:D,Mapping!D308,Import!H:H))","v":0}]
["4","44A","445","4456",44563,"T.V.A transférée par d'autres entreprises",{"$f":"IF(D309=D308,0,SUMIF(Import!B:B,Mapping!D309,Import!G:G)+SUMIF(Import!C:C,Mapping!D309,Import!G:G)+SUMIF(Import!D:D,Mapping!D309,Import!G:G))","v":0},{"$f":"IF(D309=D308,0,SUMIF(Import!B:B,Mapping!D309,Import!H:H)+SUMIF(Import!C:C,Mapping!D309,Import!H:H)+SUMIF(Import!D:D,Mapping!D309,Import!H:H))","v":0}]
[{"$f":"LEFT(B310,1)","v":"4"},{"$f":"IF(OR(LEFT(E310,2)=\"42\",LEFT(E310,2)=\"43\",LEFT(E310,2)=\"44\",LEFT(E310,2)=\"45\",LEFT(E310,2)=\"46\",LEFT(E310,2)=\"47\",LEFT(E310,2)=\"51\"),IF(G310<0,LEFT(E310,2)&\"P\",LEFT(E310,2)&\"A\"),LEFT(E310,2))","v":"44A"},{"$f":"+LEFT(E310,3)","v":"445"},{"$f":"LEFT(E310,4)","v":"4456"},44566,"T.V.A sur autres biens et services",{"$f":"IF(D310=D309,0,SUMIF(Import!B:B,Mapping!D310,Import!G:G)+SUMIF(Import!C:C,Mapping!D310,Import!G:G)+SUMIF(Import!D:D,Mapping!D310,Import!G:G))","v":0},{"$f":"IF(D310=D309,0,SUMIF(Import!B:B,Mapping!D310,Import!H:H)+SUMIF(Import!C:C,Mapping!D310,Import!H:H)+SUMIF(Import!D:D,Mapping!D310,Import!H:H))","v":0}]
["4","44A","445","4456",44567,"Crédit de T.V.A à reporter",{"$f":"IF(D311=D310,0,SUMIF(Import!B:B,Mapping!D311,Import!G:G)+SUMIF(Import!C:C,Mapping!D311,Import!G:G)+SUMIF(Import!D:D,Mapping!D311,Import!G:G))","v":0},{"$f":"IF(D311=D310,0,SUMIF(Import!B:B,Mapping!D311,Import!H:H)+SUMIF(Import!C:C,Mapping!D311,Import!H:H)+SUMIF(Import!D:D,Mapping!D311,Import!H:H))","v":0}]
["4","44A","445","4456",44568,"Taxes assimilées à la T.V.A.",{"$f":"IF(D312=D311,0,SUMIF(Import!B:B,Mapping!D312,Import!G:G)+SUMIF(Import!C:C,Mapping!D312,Import!G:G)+SUMIF(Import!D:D,Mapping!D312,Import!G:G))","v":0},{"$f":"IF(D312=D311,0,SUMIF(Import!B:B,Mapping!D312,Import!H:H)+SUMIF(Import!C:C,Mapping!D312,Import!H:H)+SUMIF(Import!D:D,Mapping!D312,Import!H:H))","v":0}]
["4","44A","445","4457",4457,"Taxes sur le chiffre d'affaires collectées par l'entreprise",{"$f":"IF(D313=D312,0,SUMIF(Import!B:B,Mapping!D313,Import!G:G)+SUMIF(Import!C:C,Mapping!D313,Import!G:G)+SUMIF(Import!D:D,Mapping!D313,Import!G:G))","v":0},{"$f":"IF(D313=D312,0,SUMIF(Import!B:B,Mapping!D313,Import!H:H)+SUMIF(Import!C:C,Mapping!D313,Import!H:H)+SUMIF(Import!D:D,Mapping!D313,Import!H:H))","v":0}]
["4","44A","445","4457",44571,"T.V.A collectée",{"$f":"IF(D314=D313,0,SUMIF(Import!B:B,Mapping!D314,Import!G:G)+SUMIF(Import!C:C,Mapping!D314,Import!G:G)+SUMIF(Import!D:D,Mapping!D314,Import!G:G))","v":0},{"$f":"IF(D314=D313,0,SUMIF(Import!B:B,Mapping!D314,Import!H:H)+SUMIF(Import!C:C,Mapping!D314,Import!H:H)+SUMIF(Import!D:D,Mapping!D314,Import!H:H))","v":0}]
["4","44A",{"$f":"+LEFT(E315,3)","v":"445"},"4457",44578,"Taxes assimilées à la T.V.A.",{"$f":"IF(D315=D314,0,SUMIF(Import!B:B,Mapping!D315,Import!G:G)+SUMIF(Import!C:C,Mapping!D315,Import!G:G)+SUMIF(Import!D:D,Mapping!D315,Import!G:G))","v":0},{"$f":"IF(D315=D314,0,SUMIF(Import!B:B,Mapping!D315,Import!H:H)+SUMIF(Import!C:C,Mapping!D315,Import!H:H)+SUMIF(Import!D:D,Mapping!D315,Import!H:H))","v":0}]
["4","44A","445","4458",4458,"Taxes sur le chiffre d'affaires à régulariser ou en attente",{"$f":"IF(D316=D315,0,SUMIF(Import!B:B,Mapping!D316,Import!G:G)+SUMIF(Import!C:C,Mapping!D316,Import!G:G)+SUMIF(Import!D:D,Mapping!D316,Import!G:G))","v":0},{"$f":"IF(D316=D315,0,SUMIF(Import!B:B,Mapping!D316,Import!H:H)+SUMIF(Import!C:C,Mapping!D316,Import!H:H)+SUMIF(Import!D:D,Mapping!D316,Import!H:H))","v":0}]
["4","44A","445","4458",44581,"Acomptes - Régime simplifié d'imposition",{"$f":"IF(D317=D316,0,SUMIF(Import!B:B,Mapping!D317,Import!G:G)+SUMIF(Import!C:C,Mapping!D317,Import!G:G)+SUMIF(Import!D:D,Mapping!D317,Import!G:G))","v":0},{"$f":"IF(D317=D316,0,SUMIF(Import!B:B,Mapping!D317,Import!H:H)+SUMIF(Import!C:C,Mapping!D317,Import!H:H)+SUMIF(Import!D:D,Mapping!D317,Import!H:H))","v":0}]
["4","44A","445","4458",44582,"Acomptes - Régime du forfait",{"$f":"IF(D318=D317,0,SUMIF(Import!B:B,Mapping!D318,Import!G:G)+SUMIF(Import!C:C,Mapping!D318,Import!G:G)+SUMIF(Import!D:D,Mapping!D318,Import!G:G))","v":0},{"$f":"IF(D318=D317,0,SUMIF(Import!B:B,Mapping!D318,Import!H:H)+SUMIF(Import!C:C,Mapping!D318,Import!H:H)+SUMIF(Import!D:D,Mapping!D318,Import!H:H))","v":0}]
["4","44A","445","4458",44583,"Remboursement de taxes sur le chiffre d'affaires demandé",{"$f":"IF(D319=D318,0,SUMIF(Import!B:B,Mapping!D319,Import!G:G)+SUMIF(Import!C:C,Mapping!D319,Import!G:G)+SUMIF(Import!D:D,Mapping!D319,Import!G:G))","v":0},{"$f":"IF(D319=D318,0,SUMIF(Import!B:B,Mapping!D319,Import!H:H)+SUMIF(Import!C:C,Mapping!D319,Import!H:H)+SUMIF(Import!D:D,Mapping!D319,Import!H:H))","v":0}]
["4","44A","445",{"$f":"LEFT(E320,4)","v":"4458"},44584,"T.V.A récupérée d'avance",{"$f":"IF(D320=D319,0,SUMIF(Import!B:B,Mapping!D320,Import!G:G)+SUMIF(Import!C:C,Mapping!D320,Import!G:G)+SUMIF(Import!D:D,Mapping!D320,Import!G:G))","v":0},{"$f":"IF(D320=D319,0,SUMIF(Import!B:B,Mapping!D320,Import!H:H)+SUMIF(Import!C:C,Mapping!D320,Import!H:H)+SUMIF(Import!D:D,Mapping!D320,Import!H:H))","v":0}]
[{"$f":"LEFT(B321,1)","v":"4"},{"$f":"IF(OR(LEFT(E321,2)=\"42\",LEFT(E321,2)=\"43\",LEFT(E321,2)=\"44\",LEFT(E321,2)=\"45\",LEFT(E321,2)=\"46\",LEFT(E321,2)=\"47\",LEFT(E321,2)=\"51\"),IF(G321<0,LEFT(E321,2)&\"P\",LEFT(E321,2)&\"A\"),LEFT(E321,2))","v":"44A"},{"$f":"+LEFT(E321,3)","v":"445"},{"$f":"LEFT(E321,4)","v":"4458"},44586,"Taxes sur le chiffre d'affaires sur factures non parvenues",{"$f":"IF(D321=D320,0,SUMIF(Import!B:B,Mapping!D321,Import!G:G)+SUMIF(Import!C:C,Mapping!D321,Import!G:G)+SUMIF(Import!D:D,Mapping!D321,Import!G:G))","v":0},{"$f":"IF(D321=D320,0,SUMIF(Import!B:B,Mapping!D321,Import!H:H)+SUMIF(Import!C:C,Mapping!D321,Import!H:H)+SUMIF(Import!D:D,Mapping!D321,Import!H:H))","v":0}]
[{"$f":"LEFT(B322,1)","v":"4"},{"$f":"IF(OR(LEFT(E322,2)=\"42\",LEFT(E322,2)=\"43\",LEFT(E322,2)=\"44\",LEFT(E322,2)=\"45\",LEFT(E322,2)=\"46\",LEFT(E322,2)=\"47\",LEFT(E322,2)=\"51\"),IF(G322<0,LEFT(E322,2)&\"P\",LEFT(E322,2)&\"A\"),LEFT(E322,2))","v":"44A"},{"$f":"+LEFT(E322,3)","v":"445"},{"$f":"LEFT(E322,4)","v":"4458"},44587,"Taxes sur le chiffre d'affaires sur factures à établir",{"$f":"IF(D322=D321,0,SUMIF(Import!B:B,Mapping!D322,Import!G:G)+SUMIF(Import!C:C,Mapping!D322,Import!G:G)+SUMIF(Import!D:D,Mapping!D322,Import!G:G))","v":0},{"$f":"IF(D322=D321,0,SUMIF(Import!B:B,Mapping!D322,Import!H:H)+SUMIF(Import!C:C,Mapping!D322,Import!H:H)+SUMIF(Import!D:D,Mapping!D322,Import!H:H))","v":0}]
["4","44A","446","4460",4460,"Obligations cautionnées",{"$f":"IF(D323=D322,0,SUMIF(Import!B:B,Mapping!D323,Import!G:G)+SUMIF(Import!C:C,Mapping!D323,Import!G:G)+SUMIF(Import!D:D,Mapping!D323,Import!G:G))","v":0},{"$f":"IF(D323=D322,0,SUMIF(Import!B:B,Mapping!D323,Import!H:H)+SUMIF(Import!C:C,Mapping!D323,Import!H:H)+SUMIF(Import!D:D,Mapping!D323,Import!H:H))","v":0}]
[{"$f":"LEFT(B324,1)","v":"4"},{"$f":"IF(OR(LEFT(E324,2)=\"42\",LEFT(E324,2)=\"43\",LEFT(E324,2)=\"44\",LEFT(E324,2)=\"45\",LEFT(E324,2)=\"46\",LEFT(E324,2)=\"47\",LEFT(E324,2)=\"51\"),IF(G324<0,LEFT(E324,2)&\"P\",LEFT(E324,2)&\"A\"),LEFT(E324,2))","v":"44A"},{"$f":"+LEFT(E324,3)","v":"447"},{"$f":"LEFT(E324,4)","v":"4470"},4470,"Autres impôts, taxes et versements assimilés",{"$f":"IF(D324=D323,0,SUMIF(Import!B:B,Mapping!D324,Import!G:G)+SUMIF(Import!C:C,Mapping!D324,Import!G:G)+SUMIF(Import!D:D,Mapping!D324,Import!G:G))","v":0},{"$f":"IF(D324=D323,0,SUMIF(Import!B:B,Mapping!D324,Import!H:H)+SUMIF(Import!C:C,Mapping!D324,Import!H:H)+SUMIF(Import!D:D,Mapping!D324,Import!H:H))","v":0}]
[{"$f":"LEFT(B325,1)","v":"4"},{"$f":"IF(OR(LEFT(E325,2)=\"42\",LEFT(E325,2)=\"43\",LEFT(E325,2)=\"44\",LEFT(E325,2)=\"45\",LEFT(E325,2)=\"46\",LEFT(E325,2)=\"47\",LEFT(E325,2)=\"51\"),IF(G325<0,LEFT(E325,2)&\"P\",LEFT(E325,2)&\"A\"),LEFT(E325,2))","v":"44A"},{"$f":"+LEFT(E325,3)","v":"447"},{"$f":"LEFT(E325,4)","v":"4471"},4471,"Autres impôts, taxes et versements assimilés",{"$f":"IF(D325=D324,0,SUMIF(Import!B:B,Mapping!D325,Import!G:G)+SUMIF(Import!C:C,Mapping!D325,Import!G:G)+SUMIF(Import!D:D,Mapping!D325,Import!G:G))","v":0},{"$f":"IF(D325=D324,0,SUMIF(Import!B:B,Mapping!D325,Import!H:H)+SUMIF(Import!C:C,Mapping!D325,Import!H:H)+SUMIF(Import!D:D,Mapping!D325,Import!H:H))","v":0}]
[{"$f":"LEFT(B326,1)","v":"4"},{"$f":"IF(OR(LEFT(E326,2)=\"42\",LEFT(E326,2)=\"43\",LEFT(E326,2)=\"44\",LEFT(E326,2)=\"45\",LEFT(E326,2)=\"46\",LEFT(E326,2)=\"47\",LEFT(E326,2)=\"51\"),IF(G326<0,LEFT(E326,2)&\"P\",LEFT(E326,2)&\"A\"),LEFT(E326,2))","v":"44A"},{"$f":"+LEFT(E326,3)","v":"448"},{"$f":"LEFT(E326,4)","v":"4480"},4480,"Etat - Charges à payer et produits à recevoir",{"$f":"IF(D326=D325,0,SUMIF(Import!B:B,Mapping!D326,Import!G:G)+SUMIF(Import!C:C,Mapping!D326,Import!G:G)+SUMIF(Import!D:D,Mapping!D326,Import!G:G))","v":0},{"$f":"IF(D326=D325,0,SUMIF(Import!B:B,Mapping!D326,Import!H:H)+SUMIF(Import!C:C,Mapping!D326,Import!H:H)+SUMIF(Import!D:D,Mapping!D326,Import!H:H))","v":0}]
[{"$f":"LEFT(B327,1)","v":"4"},{"$f":"IF(OR(LEFT(E327,2)=\"42\",LEFT(E327,2)=\"43\",LEFT(E327,2)=\"44\",LEFT(E327,2)=\"45\",LEFT(E327,2)=\"46\",LEFT(E327,2)=\"47\",LEFT(E327,2)=\"51\"),IF(G327<0,LEFT(E327,2)&\"P\",LEFT(E327,2)&\"A\"),LEFT(E327,2))","v":"44A"},{"$f":"+LEFT(E327,3)","v":"448"},{"$f":"LEFT(E327,4)","v":"4481"},44811,"Charges fiscales sur congés à payer",{"$f":"IF(D327=D326,0,SUMIF(Import!B:B,Mapping!D327,Import!G:G)+SUMIF(Import!C:C,Mapping!D327,Import!G:G)+SUMIF(Import!D:D,Mapping!D327,Import!G:G))","v":0},{"$f":"IF(D327=D326,0,SUMIF(Import!B:B,Mapping!D327,Import!H:H)+SUMIF(Import!C:C,Mapping!D327,Import!H:H)+SUMIF(Import!D:D,Mapping!D327,Import!H:H))","v":0}]
[{"$f":"LEFT(B328,1)","v":"4"},{"$f":"IF(OR(LEFT(E328,2)=\"42\",LEFT(E328,2)=\"43\",LEFT(E328,2)=\"44\",LEFT(E328,2)=\"45\",LEFT(E328,2)=\"46\",LEFT(E328,2)=\"47\",LEFT(E328,2)=\"51\"),IF(G328<0,LEFT(E328,2)&\"P\",LEFT(E328,2)&\"A\"),LEFT(E328,2))","v":"44A"},{"$f":"+LEFT(E328,3)","v":"448"},{"$f":"LEFT(E328,4)","v":"4481"},44812,"Charges à payer",{"$f":"IF(D328=D327,0,SUMIF(Import!B:B,Mapping!D328,Import!G:G)+SUMIF(Import!C:C,Mapping!D328,Import!G:G)+SUMIF(Import!D:D,Mapping!D328,Import!G:G))","v":0},{"$f":"IF(D328=D327,0,SUMIF(Import!B:B,Mapping!D328,Import!H:H)+SUMIF(Import!C:C,Mapping!D328,Import!H:H)+SUMIF(Import!D:D,Mapping!D328,Import!H:H))","v":0}]
["4","44A","448","4482",4482,"Produits à recevoir",{"$f":"IF(D329=D328,0,SUMIF(Import!B:B,Mapping!D329,Import!G:G)+SUMIF(Import!C:C,Mapping!D329,Import!G:G)+SUMIF(Import!D:D,Mapping!D329,Import!G:G))","v":0},{"$f":"IF(D329=D328,0,SUMIF(Import!B:B,Mapping!D329,Import!H:H)+SUMIF(Import!C:C,Mapping!D329,Import!H:H)+SUMIF(Import!D:D,Mapping!D329,Import!H:H))","v":0}]
[{"$f":"LEFT(B330,1)","v":"4"},{"$f":"IF(OR(LEFT(E330,2)=\"42\",LEFT(E330,2)=\"43\",LEFT(E330,2)=\"44\",LEFT(E330,2)=\"45\",LEFT(E330,2)=\"46\",LEFT(E330,2)=\"47\",LEFT(E330,2)=\"51\"),IF(G330<0,LEFT(E330,2)&\"P\",LEFT(E330,2)&\"A\"),LEFT(E330,2))","v":"44A"},{"$f":"+LEFT(E330,3)","v":"449"},{"$f":"LEFT(E330,4)","v":"4490"},4490,"Quotas d'émission à acquérir",{"$f":"IF(D330=D329,0,SUMIF(Import!B:B,Mapping!D330,Import!G:G)+SUMIF(Import!C:C,Mapping!D330,Import!G:G)+SUMIF(Import!D:D,Mapping!D330,Import!G:G))","v":0},{"$f":"IF(D330=D329,0,SUMIF(Import!B:B,Mapping!D330,Import!H:H)+SUMIF(Import!C:C,Mapping!D330,Import!H:H)+SUMIF(Import!D:D,Mapping!D330,Import!H:H))","v":0}]
[{"$f":"LEFT(B331,1)","v":"4"},{"$f":"IF(OR(LEFT(E331,2)=\"42\",LEFT(E331,2)=\"43\",LEFT(E331,2)=\"44\",LEFT(E331,2)=\"45\",LEFT(E331,2)=\"46\",LEFT(E331,2)=\"47\",LEFT(E331,2)=\"51\"),IF(G331<0,LEFT(E331,2)&\"P\",LEFT(E331,2)&\"A\"),LEFT(E331,2))","v":"45A"},{"$f":"+LEFT(E331,3)","v":"450"},{"$f":"LEFT(E331,4)","v":"4500"},4500,"Associations de financement, mandataires financiers, fédérations et autres structures locales",{"$f":"IF(D331=D330,0,SUMIF(Import!B:B,Mapping!D331,Import!G:G)+SUMIF(Import!C:C,Mapping!D331,Import!G:G)+SUMIF(Import!D:D,Mapping!D331,Import!G:G))","v":0},{"$f":"IF(D331=D330,0,SUMIF(Import!B:B,Mapping!D331,Import!H:H)+SUMIF(Import!C:C,Mapping!D331,Import!H:H)+SUMIF(Import!D:D,Mapping!D331,Import!H:H))","v":0}]
["4","45A","450",{"$f":"LEFT(E332,4)","v":"4501"},4501,"Associations de financement, mandataires financiers, fédérations et autres structures locales",{"$f":"IF(D332=D331,0,SUMIF(Import!B:B,Mapping!D332,Import!G:G)+SUMIF(Import!C:C,Mapping!D332,Import!G:G)+SUMIF(Import!D:D,Mapping!D332,Import!G:G))","v":0},{"$f":"IF(D332=D331,0,SUMIF(Import!B:B,Mapping!D332,Import!H:H)+SUMIF(Import!C:C,Mapping!D332,Import!H:H)+SUMIF(Import!D:D,Mapping!D332,Import!H:H))","v":0}]
[{"$f":"LEFT(B333,1)","v":"4"},{"$f":"IF(OR(LEFT(E333,2)=\"42\",LEFT(E333,2)=\"43\",LEFT(E333,2)=\"44\",LEFT(E333,2)=\"45\",LEFT(E333,2)=\"46\",LEFT(E333,2)=\"47\",LEFT(E333,2)=\"51\"),IF(G333<0,LEFT(E333,2)&\"P\",LEFT(E333,2)&\"A\"),LEFT(E333,2))","v":"45A"},{"$f":"+LEFT(E333,3)","v":"450"},{"$f":"LEFT(E333,5)","v":"4502"},4502,"Associations de financement, mandataires financiers, fédérations et autres structures locales",{"$f":"IF(D333=D332,0,SUMIF(Import!B:B,Mapping!D333,Import!G:G)+SUMIF(Import!C:C,Mapping!D333,Import!G:G)+SUMIF(Import!D:D,Mapping!D333,Import!G:G))","v":0},{"$f":"IF(D333=D332,0,SUMIF(Import!B:B,Mapping!D333,Import!H:H)+SUMIF(Import!C:C,Mapping!D333,Import!H:H)+SUMIF(Import!D:D,Mapping!D333,Import!H:H))","v":0}]
["4","45A","450","4503",4503,"Associations de financement, mandataires financiers, fédérations et autres structures locales",{"$f":"IF(D334=D333,0,SUMIF(Import!B:B,Mapping!D334,Import!G:G)+SUMIF(Import!C:C,Mapping!D334,Import!G:G)+SUMIF(Import!D:D,Mapping!D334,Import!G:G))","v":0},{"$f":"IF(D334=D333,0,SUMIF(Import!B:B,Mapping!D334,Import!H:H)+SUMIF(Import!C:C,Mapping!D334,Import!H:H)+SUMIF(Import!D:D,Mapping!D334,Import!H:H))","v":0}]
["4","45A","450","4504",4504,"Associations de financement, mandataires financiers, fédérations et autres structures locales",{"$f":"IF(D335=D334,0,SUMIF(Import!B:B,Mapping!D335,Import!G:G)+SUMIF(Import!C:C,Mapping!D335,Import!G:G)+SUMIF(Import!D:D,Mapping!D335,Import!G:G))","v":0},{"$f":"IF(D335=D334,0,SUMIF(Import!B:B,Mapping!D335,Import!H:H)+SUMIF(Import!C:C,Mapping!D335,Import!H:H)+SUMIF(Import!D:D,Mapping!D335,Import!H:H))","v":0}]
["4","45A","451","4510",4510,"Associations de financement, mandataires financiers, fédérations et autres structures locales",{"$f":"IF(D336=D335,0,SUMIF(Import!B:B,Mapping!D336,Import!G:G)+SUMIF(Import!C:C,Mapping!D336,Import!G:G)+SUMIF(Import!D:D,Mapping!D336,Import!G:G))","v":0},{"$f":"IF(D336=D335,0,SUMIF(Import!B:B,Mapping!D336,Import!H:H)+SUMIF(Import!C:C,Mapping!D336,Import!H:H)+SUMIF(Import!D:D,Mapping!D336,Import!H:H))","v":0}]
["4","45A","451","4511",4511,"Associations de financement, mandataires financiers, fédérations et autres structures locales",{"$f":"IF(D337=D336,0,SUMIF(Import!B:B,Mapping!D337,Import!G:G)+SUMIF(Import!C:C,Mapping!D337,Import!G:G)+SUMIF(Import!D:D,Mapping!D337,Import!G:G))","v":0},{"$f":"IF(D337=D336,0,SUMIF(Import!B:B,Mapping!D337,Import!H:H)+SUMIF(Import!C:C,Mapping!D337,Import!H:H)+SUMIF(Import!D:D,Mapping!D337,Import!H:H))","v":0}]
["4","45A","453","4530",4530,"comptes courants des structures territoriales (sections) ",{"$f":"IF(D338=D337,0,SUMIF(Import!B:B,Mapping!D338,Import!G:G)+SUMIF(Import!C:C,Mapping!D338,Import!G:G)+SUMIF(Import!D:D,Mapping!D338,Import!G:G))","v":0},{"$f":"IF(D338=D337,0,SUMIF(Import!B:B,Mapping!D338,Import!H:H)+SUMIF(Import!C:C,Mapping!D338,Import!H:H)+SUMIF(Import!D:D,Mapping!D338,Import!H:H))","v":0}]
["4","45A","453","4531",4531,"comptes courants des structures territoriales (sections) ",{"$f":"IF(D339=D338,0,SUMIF(Import!B:B,Mapping!D339,Import!G:G)+SUMIF(Import!C:C,Mapping!D339,Import!G:G)+SUMIF(Import!D:D,Mapping!D339,Import!G:G))","v":0},{"$f":"IF(D339=D338,0,SUMIF(Import!B:B,Mapping!D339,Import!H:H)+SUMIF(Import!C:C,Mapping!D339,Import!H:H)+SUMIF(Import!D:D,Mapping!D339,Import!H:H))","v":0}]
[{"$f":"LEFT(B340,1)","v":"4"},{"$f":"IF(OR(LEFT(E340,2)=\"42\",LEFT(E340,2)=\"43\",LEFT(E340,2)=\"44\",LEFT(E340,2)=\"45\",LEFT(E340,2)=\"46\",LEFT(E340,2)=\"47\",LEFT(E340,2)=\"51\"),IF(G340<0,LEFT(E340,2)&\"P\",LEFT(E340,2)&\"A\"),LEFT(E340,2))","v":"45A"},{"$f":"+LEFT(E340,3)","v":"453"},{"$f":"LEFT(E340,4)","v":"4532"},4532,"Dettes et Créances fédérations / sections",{"$f":"IF(D340=D339,0,SUMIF(Import!B:B,Mapping!D340,Import!G:G)+SUMIF(Import!C:C,Mapping!D340,Import!G:G)+SUMIF(Import!D:D,Mapping!D340,Import!G:G))","v":0},{"$f":"IF(D340=D339,0,SUMIF(Import!B:B,Mapping!D340,Import!H:H)+SUMIF(Import!C:C,Mapping!D340,Import!H:H)+SUMIF(Import!D:D,Mapping!D340,Import!H:H))","v":0}]
["4","45A","453","4533",4533,"Dettes et Créances fédérations / sections",{"$f":"IF(D341=D340,0,SUMIF(Import!B:B,Mapping!D341,Import!G:G)+SUMIF(Import!C:C,Mapping!D341,Import!G:G)+SUMIF(Import!D:D,Mapping!D341,Import!G:G))","v":0},{"$f":"IF(D341=D340,0,SUMIF(Import!B:B,Mapping!D341,Import!H:H)+SUMIF(Import!C:C,Mapping!D341,Import!H:H)+SUMIF(Import!D:D,Mapping!D341,Import!H:H))","v":0}]
["4","45A","453","4534",4534,"Dettes et Créances fédérations / sections",{"$f":"IF(D342=D341,0,SUMIF(Import!B:B,Mapping!D342,Import!G:G)+SUMIF(Import!C:C,Mapping!D342,Import!G:G)+SUMIF(Import!D:D,Mapping!D342,Import!G:G))","v":0},{"$f":"IF(D342=D341,0,SUMIF(Import!B:B,Mapping!D342,Import!H:H)+SUMIF(Import!C:C,Mapping!D342,Import!H:H)+SUMIF(Import!D:D,Mapping!D342,Import!H:H))","v":0}]
["4","45A","453","4535",4535,"Dettes et Créances fédérations / sections",{"$f":"IF(D343=D342,0,SUMIF(Import!B:B,Mapping!D343,Import!G:G)+SUMIF(Import!C:C,Mapping!D343,Import!G:G)+SUMIF(Import!D:D,Mapping!D343,Import!G:G))","v":0},{"$f":"IF(D343=D342,0,SUMIF(Import!B:B,Mapping!D343,Import!H:H)+SUMIF(Import!C:C,Mapping!D343,Import!H:H)+SUMIF(Import!D:D,Mapping!D343,Import!H:H))","v":0}]
["4","45A","453","4536",4536,"Dettes et Créances fédérations / sections",{"$f":"IF(D344=D343,0,SUMIF(Import!B:B,Mapping!D344,Import!G:G)+SUMIF(Import!C:C,Mapping!D344,Import!G:G)+SUMIF(Import!D:D,Mapping!D344,Import!G:G))","v":0},{"$f":"IF(D344=D343,0,SUMIF(Import!B:B,Mapping!D344,Import!H:H)+SUMIF(Import!C:C,Mapping!D344,Import!H:H)+SUMIF(Import!D:D,Mapping!D344,Import!H:H))","v":0}]
["4","45A","453","4537",4537,"Dettes et Créances fédérations / sections",{"$f":"IF(D345=D344,0,SUMIF(Import!B:B,Mapping!D345,Import!G:G)+SUMIF(Import!C:C,Mapping!D345,Import!G:G)+SUMIF(Import!D:D,Mapping!D345,Import!G:G))","v":0},{"$f":"IF(D345=D344,0,SUMIF(Import!B:B,Mapping!D345,Import!H:H)+SUMIF(Import!C:C,Mapping!D345,Import!H:H)+SUMIF(Import!D:D,Mapping!D345,Import!H:H))","v":0}]
["4","45A","455","4550",4550,"Associés - Comptes courants",{"$f":"IF(D346=D345,0,SUMIF(Import!B:B,Mapping!D346,Import!G:G)+SUMIF(Import!C:C,Mapping!D346,Import!G:G)+SUMIF(Import!D:D,Mapping!D346,Import!G:G))","v":0},{"$f":"IF(D346=D345,0,SUMIF(Import!B:B,Mapping!D346,Import!H:H)+SUMIF(Import!C:C,Mapping!D346,Import!H:H)+SUMIF(Import!D:D,Mapping!D346,Import!H:H))","v":0}]
[{"$f":"LEFT(B347,1)","v":"4"},{"$f":"IF(OR(LEFT(E347,2)=\"42\",LEFT(E347,2)=\"43\",LEFT(E347,2)=\"44\",LEFT(E347,2)=\"45\",LEFT(E347,2)=\"46\",LEFT(E347,2)=\"47\",LEFT(E347,2)=\"51\"),IF(G347<0,LEFT(E347,2)&\"P\",LEFT(E347,2)&\"A\"),LEFT(E347,2))","v":"45A"},"455","4551",4551,"Principal",{"$f":"IF(D347=D346,0,SUMIF(Import!B:B,Mapping!D347,Import!G:G)+SUMIF(Import!C:C,Mapping!D347,Import!G:G)+SUMIF(Import!D:D,Mapping!D347,Import!G:G))","v":0},{"$f":"IF(D347=D346,0,SUMIF(Import!B:B,Mapping!D347,Import!H:H)+SUMIF(Import!C:C,Mapping!D347,Import!H:H)+SUMIF(Import!D:D,Mapping!D347,Import!H:H))","v":0}]
["4","45A","455","4558",4558,"Intérêts courus",{"$f":"IF(D348=D347,0,SUMIF(Import!B:B,Mapping!D348,Import!G:G)+SUMIF(Import!C:C,Mapping!D348,Import!G:G)+SUMIF(Import!D:D,Mapping!D348,Import!G:G))","v":0},{"$f":"IF(D348=D347,0,SUMIF(Import!B:B,Mapping!D348,Import!H:H)+SUMIF(Import!C:C,Mapping!D348,Import!H:H)+SUMIF(Import!D:D,Mapping!D348,Import!H:H))","v":0}]
["4","45A","456","4560",4560,"Associés - Opérations sur le capital",{"$f":"IF(D349=D348,0,SUMIF(Import!B:B,Mapping!D349,Import!G:G)+SUMIF(Import!C:C,Mapping!D349,Import!G:G)+SUMIF(Import!D:D,Mapping!D349,Import!G:G))","v":0},{"$f":"IF(D349=D348,0,SUMIF(Import!B:B,Mapping!D349,Import!H:H)+SUMIF(Import!C:C,Mapping!D349,Import!H:H)+SUMIF(Import!D:D,Mapping!D349,Import!H:H))","v":0}]
["4",{"$f":"IF(OR(LEFT(E350,2)=\"42\",LEFT(E350,2)=\"43\",LEFT(E350,2)=\"44\",LEFT(E350,2)=\"45\",LEFT(E350,2)=\"46\",LEFT(E350,2)=\"47\",LEFT(E350,2)=\"51\"),IF(G350<0,LEFT(E350,2)&\"P\",LEFT(E350,2)&\"A\"),LEFT(E350,2))","v":"45A"},{"$f":"+LEFT(E350,3)","v":"456"},"4561",4561,"Associés - Comptes d'apport en société",{"$f":"IF(D350=D349,0,SUMIF(Import!B:B,Mapping!D350,Import!G:G)+SUMIF(Import!C:C,Mapping!D350,Import!G:G)+SUMIF(Import!D:D,Mapping!D350,Import!G:G))","v":0},{"$f":"IF(D350=D349,0,SUMIF(Import!B:B,Mapping!D350,Import!H:H)+SUMIF(Import!C:C,Mapping!D350,Import!H:H)+SUMIF(Import!D:D,Mapping!D350,Import!H:H))","v":0}]
["4","45A","456","4561",45611,"Apports en nature",{"$f":"IF(D351=D350,0,SUMIF(Import!B:B,Mapping!D351,Import!G:G)+SUMIF(Import!C:C,Mapping!D351,Import!G:G)+SUMIF(Import!D:D,Mapping!D351,Import!G:G))","v":0},{"$f":"IF(D351=D350,0,SUMIF(Import!B:B,Mapping!D351,Import!H:H)+SUMIF(Import!C:C,Mapping!D351,Import!H:H)+SUMIF(Import!D:D,Mapping!D351,Import!H:H))","v":0}]
["4","45A","456","4561",45615,"Apports en numéraire",{"$f":"IF(D352=D351,0,SUMIF(Import!B:B,Mapping!D352,Import!G:G)+SUMIF(Import!C:C,Mapping!D352,Import!G:G)+SUMIF(Import!D:D,Mapping!D352,Import!G:G))","v":0},{"$f":"IF(D352=D351,0,SUMIF(Import!B:B,Mapping!D352,Import!H:H)+SUMIF(Import!C:C,Mapping!D352,Import!H:H)+SUMIF(Import!D:D,Mapping!D352,Import!H:H))","v":0}]
["4","45A","456","4562",4562,"Apporteurs - Capital appelé, non versé",{"$f":"IF(D353=D352,0,SUMIF(Import!B:B,Mapping!D353,Import!G:G)+SUMIF(Import!C:C,Mapping!D353,Import!G:G)+SUMIF(Import!D:D,Mapping!D353,Import!G:G))","v":0},{"$f":"IF(D353=D352,0,SUMIF(Import!B:B,Mapping!D353,Import!H:H)+SUMIF(Import!C:C,Mapping!D353,Import!H:H)+SUMIF(Import!D:D,Mapping!D353,Import!H:H))","v":0}]
["4","45A","456","4562",45621,"Actionnaires - Capital souscrit et appelé, non versé",{"$f":"IF(D354=D353,0,SUMIF(Import!B:B,Mapping!D354,Import!G:G)+SUMIF(Import!C:C,Mapping!D354,Import!G:G)+SUMIF(Import!D:D,Mapping!D354,Import!G:G))","v":0},{"$f":"IF(D354=D353,0,SUMIF(Import!B:B,Mapping!D354,Import!H:H)+SUMIF(Import!C:C,Mapping!D354,Import!H:H)+SUMIF(Import!D:D,Mapping!D354,Import!H:H))","v":0}]
["4","45A","456","4562",45625,"Associés - Capital appelé, non versé",{"$f":"IF(D355=D354,0,SUMIF(Import!B:B,Mapping!D355,Import!G:G)+SUMIF(Import!C:C,Mapping!D355,Import!G:G)+SUMIF(Import!D:D,Mapping!D355,Import!G:G))","v":0},{"$f":"IF(D355=D354,0,SUMIF(Import!B:B,Mapping!D355,Import!H:H)+SUMIF(Import!C:C,Mapping!D355,Import!H:H)+SUMIF(Import!D:D,Mapping!D355,Import!H:H))","v":0}]
["4","45A","456","4563",4563,"Associés - Versements reçus sur augmentation de capital",{"$f":"IF(D356=D355,0,SUMIF(Import!B:B,Mapping!D356,Import!G:G)+SUMIF(Import!C:C,Mapping!D356,Import!G:G)+SUMIF(Import!D:D,Mapping!D356,Import!G:G))","v":0},{"$f":"IF(D356=D355,0,SUMIF(Import!B:B,Mapping!D356,Import!H:H)+SUMIF(Import!C:C,Mapping!D356,Import!H:H)+SUMIF(Import!D:D,Mapping!D356,Import!H:H))","v":0}]
["4","45A","456","4564",4564,"Associés - Versements anticipés",{"$f":"IF(D357=D356,0,SUMIF(Import!B:B,Mapping!D357,Import!G:G)+SUMIF(Import!C:C,Mapping!D357,Import!G:G)+SUMIF(Import!D:D,Mapping!D357,Import!G:G))","v":0},{"$f":"IF(D357=D356,0,SUMIF(Import!B:B,Mapping!D357,Import!H:H)+SUMIF(Import!C:C,Mapping!D357,Import!H:H)+SUMIF(Import!D:D,Mapping!D357,Import!H:H))","v":0}]
["4","45A","456","4566",4566,"Actionnaires défaillants",{"$f":"IF(D358=D357,0,SUMIF(Import!B:B,Mapping!D358,Import!G:G)+SUMIF(Import!C:C,Mapping!D358,Import!G:G)+SUMIF(Import!D:D,Mapping!D358,Import!G:G))","v":0},{"$f":"IF(D358=D357,0,SUMIF(Import!B:B,Mapping!D358,Import!H:H)+SUMIF(Import!C:C,Mapping!D358,Import!H:H)+SUMIF(Import!D:D,Mapping!D358,Import!H:H))","v":0}]
["4","45A","456","4567",4567,"Associés - Capital à rembourser",{"$f":"IF(D359=D358,0,SUMIF(Import!B:B,Mapping!D359,Import!G:G)+SUMIF(Import!C:C,Mapping!D359,Import!G:G)+SUMIF(Import!D:D,Mapping!D359,Import!G:G))","v":0},{"$f":"IF(D359=D358,0,SUMIF(Import!B:B,Mapping!D359,Import!H:H)+SUMIF(Import!C:C,Mapping!D359,Import!H:H)+SUMIF(Import!D:D,Mapping!D359,Import!H:H))","v":0}]
["4","45A","457","4570",4570,"Associés - Dividendes à payer",{"$f":"IF(D360=D359,0,SUMIF(Import!B:B,Mapping!D360,Import!G:G)+SUMIF(Import!C:C,Mapping!D360,Import!G:G)+SUMIF(Import!D:D,Mapping!D360,Import!G:G))","v":0},{"$f":"IF(D360=D359,0,SUMIF(Import!B:B,Mapping!D360,Import!H:H)+SUMIF(Import!C:C,Mapping!D360,Import!H:H)+SUMIF(Import!D:D,Mapping!D360,Import!H:H))","v":0}]
["4","45A","458","4580",4580,"Associés - Opérations faites en commun et en G.I.E.",{"$f":"IF(D361=D360,0,SUMIF(Import!B:B,Mapping!D361,Import!G:G)+SUMIF(Import!C:C,Mapping!D361,Import!G:G)+SUMIF(Import!D:D,Mapping!D361,Import!G:G))","v":0},{"$f":"IF(D361=D360,0,SUMIF(Import!B:B,Mapping!D361,Import!H:H)+SUMIF(Import!C:C,Mapping!D361,Import!H:H)+SUMIF(Import!D:D,Mapping!D361,Import!H:H))","v":0}]
["4","45A","458","4581",4581,"Opérations courantes",{"$f":"IF(D362=D361,0,SUMIF(Import!B:B,Mapping!D362,Import!G:G)+SUMIF(Import!C:C,Mapping!D362,Import!G:G)+SUMIF(Import!D:D,Mapping!D362,Import!G:G))","v":0},{"$f":"IF(D362=D361,0,SUMIF(Import!B:B,Mapping!D362,Import!H:H)+SUMIF(Import!C:C,Mapping!D362,Import!H:H)+SUMIF(Import!D:D,Mapping!D362,Import!H:H))","v":0}]
["4","45A","458","4588",4588,"Intérêts courus",{"$f":"IF(D363=D362,0,SUMIF(Import!B:B,Mapping!D363,Import!G:G)+SUMIF(Import!C:C,Mapping!D363,Import!G:G)+SUMIF(Import!D:D,Mapping!D363,Import!G:G))","v":0},{"$f":"IF(D363=D362,0,SUMIF(Import!B:B,Mapping!D363,Import!H:H)+SUMIF(Import!C:C,Mapping!D363,Import!H:H)+SUMIF(Import!D:D,Mapping!D363,Import!H:H))","v":0}]
["4","46A","461","4610",4610,"Créances auprès de partis ou groupements politiques",{"$f":"IF(D364=D363,0,SUMIF(Import!B:B,Mapping!D364,Import!G:G)+SUMIF(Import!C:C,Mapping!D364,Import!G:G)+SUMIF(Import!D:D,Mapping!D364,Import!G:G))","v":0},{"$f":"IF(D364=D363,0,SUMIF(Import!B:B,Mapping!D364,Import!H:H)+SUMIF(Import!C:C,Mapping!D364,Import!H:H)+SUMIF(Import!D:D,Mapping!D364,Import!H:H))","v":0}]
["4","46A","462","4620",4620,"Créances sur cessions d'immobilisations",{"$f":"IF(D365=D364,0,SUMIF(Import!B:B,Mapping!D365,Import!G:G)+SUMIF(Import!C:C,Mapping!D365,Import!G:G)+SUMIF(Import!D:D,Mapping!D365,Import!G:G))","v":0},{"$f":"IF(D365=D364,0,SUMIF(Import!B:B,Mapping!D365,Import!H:H)+SUMIF(Import!C:C,Mapping!D365,Import!H:H)+SUMIF(Import!D:D,Mapping!D365,Import!H:H))","v":0}]
["4","46A","463","4630",4630,"Dettes diverses",{"$f":"IF(D366=D365,0,SUMIF(Import!B:B,Mapping!D366,Import!G:G)+SUMIF(Import!C:C,Mapping!D366,Import!G:G)+SUMIF(Import!D:D,Mapping!D366,Import!G:G))","v":0},{"$f":"IF(D366=D365,0,SUMIF(Import!B:B,Mapping!D366,Import!H:H)+SUMIF(Import!C:C,Mapping!D366,Import!H:H)+SUMIF(Import!D:D,Mapping!D366,Import!H:H))","v":0}]
["4","46A","463","4631",4631,"Dettes envers des partis ou groupements politiques",{"$f":"IF(D367=D366,0,SUMIF(Import!B:B,Mapping!D367,Import!G:G)+SUMIF(Import!C:C,Mapping!D367,Import!G:G)+SUMIF(Import!D:D,Mapping!D367,Import!G:G))","v":0},{"$f":"IF(D367=D366,0,SUMIF(Import!B:B,Mapping!D367,Import!H:H)+SUMIF(Import!C:C,Mapping!D367,Import!H:H)+SUMIF(Import!D:D,Mapping!D367,Import!H:H))","v":0}]
["4","46A","463","4632",4632,"Dettes envers les candidats",{"$f":"IF(D368=D367,0,SUMIF(Import!B:B,Mapping!D368,Import!G:G)+SUMIF(Import!C:C,Mapping!D368,Import!G:G)+SUMIF(Import!D:D,Mapping!D368,Import!G:G))","v":0},{"$f":"IF(D368=D367,0,SUMIF(Import!B:B,Mapping!D368,Import!H:H)+SUMIF(Import!C:C,Mapping!D368,Import!H:H)+SUMIF(Import!D:D,Mapping!D368,Import!H:H))","v":0}]
["4","46A","463","4633",4633,"Dettes envers les organisations territoriales ou spécialisées du parti",{"$f":"IF(D369=D368,0,SUMIF(Import!B:B,Mapping!D369,Import!G:G)+SUMIF(Import!C:C,Mapping!D369,Import!G:G)+SUMIF(Import!D:D,Mapping!D369,Import!G:G))","v":0},{"$f":"IF(D369=D368,0,SUMIF(Import!B:B,Mapping!D369,Import!H:H)+SUMIF(Import!C:C,Mapping!D369,Import!H:H)+SUMIF(Import!D:D,Mapping!D369,Import!H:H))","v":0}]
["4","46A","463","4634",4634,"Dettes envers d'autres organismes",{"$f":"IF(D370=D369,0,SUMIF(Import!B:B,Mapping!D370,Import!G:G)+SUMIF(Import!C:C,Mapping!D370,Import!G:G)+SUMIF(Import!D:D,Mapping!D370,Import!G:G))","v":0},{"$f":"IF(D370=D369,0,SUMIF(Import!B:B,Mapping!D370,Import!H:H)+SUMIF(Import!C:C,Mapping!D370,Import!H:H)+SUMIF(Import!D:D,Mapping!D370,Import!H:H))","v":0}]
["4","46A","463","4635",4635,"Dettes envers les donateurs et cotisants",{"$f":"IF(D371=D370,0,SUMIF(Import!B:B,Mapping!D371,Import!G:G)+SUMIF(Import!C:C,Mapping!D371,Import!G:G)+SUMIF(Import!D:D,Mapping!D371,Import!G:G))","v":0},{"$f":"IF(D371=D370,0,SUMIF(Import!B:B,Mapping!D371,Import!H:H)+SUMIF(Import!C:C,Mapping!D371,Import!H:H)+SUMIF(Import!D:D,Mapping!D371,Import!H:H))","v":0}]
["4","46A","464","4640",4640,"Dettes sur acquisitions de valeurs mobilières de placement",{"$f":"IF(D372=D371,0,SUMIF(Import!B:B,Mapping!D372,Import!G:G)+SUMIF(Import!C:C,Mapping!D372,Import!G:G)+SUMIF(Import!D:D,Mapping!D372,Import!G:G))","v":0},{"$f":"IF(D372=D371,0,SUMIF(Import!B:B,Mapping!D372,Import!H:H)+SUMIF(Import!C:C,Mapping!D372,Import!H:H)+SUMIF(Import!D:D,Mapping!D372,Import!H:H))","v":0}]
["4","46A","465","4650",4650,"Créances sur cessions de valeurs mobilières de placement",{"$f":"IF(D373=D372,0,SUMIF(Import!B:B,Mapping!D373,Import!G:G)+SUMIF(Import!C:C,Mapping!D373,Import!G:G)+SUMIF(Import!D:D,Mapping!D373,Import!G:G))","v":0},{"$f":"IF(D373=D372,0,SUMIF(Import!B:B,Mapping!D373,Import!H:H)+SUMIF(Import!C:C,Mapping!D373,Import!H:H)+SUMIF(Import!D:D,Mapping!D373,Import!H:H))","v":0}]
["4","46A","467","4670",4670,"Divers comptes débiteurs et produits à recevoir",{"$f":"IF(D374=D373,0,SUMIF(Import!B:B,Mapping!D374,Import!G:G)+SUMIF(Import!C:C,Mapping!D374,Import!G:G)+SUMIF(Import!D:D,Mapping!D374,Import!G:G))","v":0},{"$f":"IF(D374=D373,0,SUMIF(Import!B:B,Mapping!D374,Import!H:H)+SUMIF(Import!C:C,Mapping!D374,Import!H:H)+SUMIF(Import!D:D,Mapping!D374,Import!H:H))","v":0}]
["4","46A","467","4671",4671,"Actifs des entités non significatives",{"$f":"IF(D375=D374,0,SUMIF(Import!B:B,Mapping!D375,Import!G:G)+SUMIF(Import!C:C,Mapping!D375,Import!G:G)+SUMIF(Import!D:D,Mapping!D375,Import!G:G))","v":0},{"$f":"IF(D375=D374,0,SUMIF(Import!B:B,Mapping!D375,Import!H:H)+SUMIF(Import!C:C,Mapping!D375,Import!H:H)+SUMIF(Import!D:D,Mapping!D375,Import!H:H))","v":0}]
["4","46A","467","4672",4672,"Passifs des entités non significatives",{"$f":"IF(D376=D375,0,SUMIF(Import!B:B,Mapping!D376,Import!G:G)+SUMIF(Import!C:C,Mapping!D376,Import!G:G)+SUMIF(Import!D:D,Mapping!D376,Import!G:G))","v":0},{"$f":"IF(D376=D375,0,SUMIF(Import!B:B,Mapping!D376,Import!H:H)+SUMIF(Import!C:C,Mapping!D376,Import!H:H)+SUMIF(Import!D:D,Mapping!D376,Import!H:H))","v":0}]
["4","46A","467","4673",4673,"Autres comptes débiteurs et produits à recevoir",{"$f":"IF(D377=D376,0,SUMIF(Import!B:B,Mapping!D377,Import!G:G)+SUMIF(Import!C:C,Mapping!D377,Import!G:G)+SUMIF(Import!D:D,Mapping!D377,Import!G:G))","v":0},{"$f":"IF(D377=D376,0,SUMIF(Import!B:B,Mapping!D377,Import!H:H)+SUMIF(Import!C:C,Mapping!D377,Import!H:H)+SUMIF(Import!D:D,Mapping!D377,Import!H:H))","v":0}]
["4","46A","467","4674",4674,"Autres comptes débiteurs et produits à recevoir",{"$f":"IF(D378=D377,0,SUMIF(Import!B:B,Mapping!D378,Import!G:G)+SUMIF(Import!C:C,Mapping!D378,Import!G:G)+SUMIF(Import!D:D,Mapping!D378,Import!G:G))","v":0},{"$f":"IF(D378=D377,0,SUMIF(Import!B:B,Mapping!D378,Import!H:H)+SUMIF(Import!C:C,Mapping!D378,Import!H:H)+SUMIF(Import!D:D,Mapping!D378,Import!H:H))","v":0}]
["4","46A","467","4675",4675,"Autres comptes débiteurs et produits à recevoir",{"$f":"IF(D379=D378,0,SUMIF(Import!B:B,Mapping!D379,Import!G:G)+SUMIF(Import!C:C,Mapping!D379,Import!G:G)+SUMIF(Import!D:D,Mapping!D379,Import!G:G))","v":0},{"$f":"IF(D379=D378,0,SUMIF(Import!B:B,Mapping!D379,Import!H:H)+SUMIF(Import!C:C,Mapping!D379,Import!H:H)+SUMIF(Import!D:D,Mapping!D379,Import!H:H))","v":0}]
["4","46A","467","4676",4676,"Autres comptes débiteurs et produits à recevoir",{"$f":"IF(D380=D379,0,SUMIF(Import!B:B,Mapping!D380,Import!G:G)+SUMIF(Import!C:C,Mapping!D380,Import!G:G)+SUMIF(Import!D:D,Mapping!D380,Import!G:G))","v":0},{"$f":"IF(D380=D379,0,SUMIF(Import!B:B,Mapping!D380,Import!H:H)+SUMIF(Import!C:C,Mapping!D380,Import!H:H)+SUMIF(Import!D:D,Mapping!D380,Import!H:H))","v":0}]
["4","46A","467","4677",4677,"Autres comptes débiteurs et produits à recevoir",{"$f":"IF(D381=D380,0,SUMIF(Import!B:B,Mapping!D381,Import!G:G)+SUMIF(Import!C:C,Mapping!D381,Import!G:G)+SUMIF(Import!D:D,Mapping!D381,Import!G:G))","v":0},{"$f":"IF(D381=D380,0,SUMIF(Import!B:B,Mapping!D381,Import!H:H)+SUMIF(Import!C:C,Mapping!D381,Import!H:H)+SUMIF(Import!D:D,Mapping!D381,Import!H:H))","v":0}]
["4","46A","467","4678",4678,"Autres comptes débiteurs et produits à recevoir",{"$f":"IF(D382=D381,0,SUMIF(Import!B:B,Mapping!D382,Import!G:G)+SUMIF(Import!C:C,Mapping!D382,Import!G:G)+SUMIF(Import!D:D,Mapping!D382,Import!G:G))","v":0},{"$f":"IF(D382=D381,0,SUMIF(Import!B:B,Mapping!D382,Import!H:H)+SUMIF(Import!C:C,Mapping!D382,Import!H:H)+SUMIF(Import!D:D,Mapping!D382,Import!H:H))","v":0}]
["4","46A","467","4679",4679,"Autres comptes débiteurs et produits à recevoir",{"$f":"IF(D383=D382,0,SUMIF(Import!B:B,Mapping!D383,Import!G:G)+SUMIF(Import!C:C,Mapping!D383,Import!G:G)+SUMIF(Import!D:D,Mapping!D383,Import!G:G))","v":0},{"$f":"IF(D383=D382,0,SUMIF(Import!B:B,Mapping!D383,Import!H:H)+SUMIF(Import!C:C,Mapping!D383,Import!H:H)+SUMIF(Import!D:D,Mapping!D383,Import!H:H))","v":0}]
["4","46A","468","4680",4680,"Divers comptes créditeurs et charges à payer",{"$f":"IF(D384=D383,0,SUMIF(Import!B:B,Mapping!D384,Import!G:G)+SUMIF(Import!C:C,Mapping!D384,Import!G:G)+SUMIF(Import!D:D,Mapping!D384,Import!G:G))","v":0},{"$f":"IF(D384=D383,0,SUMIF(Import!B:B,Mapping!D384,Import!H:H)+SUMIF(Import!C:C,Mapping!D384,Import!H:H)+SUMIF(Import!D:D,Mapping!D384,Import!H:H))","v":0}]
["4","46A","468","4681",4681,"Autres comptes créditeurs et charges à payer",{"$f":"IF(D385=D384,0,SUMIF(Import!B:B,Mapping!D385,Import!G:G)+SUMIF(Import!C:C,Mapping!D385,Import!G:G)+SUMIF(Import!D:D,Mapping!D385,Import!G:G))","v":0},{"$f":"IF(D385=D384,0,SUMIF(Import!B:B,Mapping!D385,Import!H:H)+SUMIF(Import!C:C,Mapping!D385,Import!H:H)+SUMIF(Import!D:D,Mapping!D385,Import!H:H))","v":0}]
["4","46A",{"$f":"+LEFT(E386,3)","v":"468"},"4682",4682,"Autres comptes créditeurs et charges à payer",{"$f":"IF(D386=D385,0,SUMIF(Import!B:B,Mapping!D386,Import!G:G)+SUMIF(Import!C:C,Mapping!D386,Import!G:G)+SUMIF(Import!D:D,Mapping!D386,Import!G:G))","v":0},{"$f":"IF(D386=D385,0,SUMIF(Import!B:B,Mapping!D386,Import!H:H)+SUMIF(Import!C:C,Mapping!D386,Import!H:H)+SUMIF(Import!D:D,Mapping!D386,Import!H:H))","v":0}]
["4","46A","468","4683",4683,"Autres comptes créditeurs et charges à payer",{"$f":"IF(D387=D386,0,SUMIF(Import!B:B,Mapping!D387,Import!G:G)+SUMIF(Import!C:C,Mapping!D387,Import!G:G)+SUMIF(Import!D:D,Mapping!D387,Import!G:G))","v":0},{"$f":"IF(D387=D386,0,SUMIF(Import!B:B,Mapping!D387,Import!H:H)+SUMIF(Import!C:C,Mapping!D387,Import!H:H)+SUMIF(Import!D:D,Mapping!D387,Import!H:H))","v":0}]
["4","46A","468","4684",4684,"Autres comptes créditeurs et charges à payer",{"$f":"IF(D388=D387,0,SUMIF(Import!B:B,Mapping!D388,Import!G:G)+SUMIF(Import!C:C,Mapping!D388,Import!G:G)+SUMIF(Import!D:D,Mapping!D388,Import!G:G))","v":0},{"$f":"IF(D388=D387,0,SUMIF(Import!B:B,Mapping!D388,Import!H:H)+SUMIF(Import!C:C,Mapping!D388,Import!H:H)+SUMIF(Import!D:D,Mapping!D388,Import!H:H))","v":0}]
["4","46A","468","4685",4685,"Autres comptes créditeurs et charges à payer",{"$f":"IF(D389=D388,0,SUMIF(Import!B:B,Mapping!D389,Import!G:G)+SUMIF(Import!C:C,Mapping!D389,Import!G:G)+SUMIF(Import!D:D,Mapping!D389,Import!G:G))","v":0},{"$f":"IF(D389=D388,0,SUMIF(Import!B:B,Mapping!D389,Import!H:H)+SUMIF(Import!C:C,Mapping!D389,Import!H:H)+SUMIF(Import!D:D,Mapping!D389,Import!H:H))","v":0}]
["4","46A","468","4686",4686,"Autres comptes créditeurs et charges à payer",{"$f":"IF(D390=D389,0,SUMIF(Import!B:B,Mapping!D390,Import!G:G)+SUMIF(Import!C:C,Mapping!D390,Import!G:G)+SUMIF(Import!D:D,Mapping!D390,Import!G:G))","v":0},{"$f":"IF(D390=D389,0,SUMIF(Import!B:B,Mapping!D390,Import!H:H)+SUMIF(Import!C:C,Mapping!D390,Import!H:H)+SUMIF(Import!D:D,Mapping!D390,Import!H:H))","v":0}]
[{"$f":"LEFT(B391,1)","v":"4"},{"$f":"IF(OR(LEFT(E391,2)=\"42\",LEFT(E391,2)=\"43\",LEFT(E391,2)=\"44\",LEFT(E391,2)=\"45\",LEFT(E391,2)=\"46\",LEFT(E391,2)=\"47\",LEFT(E391,2)=\"51\"),IF(G391<0,LEFT(E391,2)&\"P\",LEFT(E391,2)&\"A\"),LEFT(E391,2))","v":"46A"},{"$f":"+LEFT(E391,3)","v":"468"},"4687",4687,"Autres comptes créditeurs et charges à payer",{"$f":"IF(D391=D390,0,SUMIF(Import!B:B,Mapping!D391,Import!G:G)+SUMIF(Import!C:C,Mapping!D391,Import!G:G)+SUMIF(Import!D:D,Mapping!D391,Import!G:G))","v":0},{"$f":"IF(D391=D390,0,SUMIF(Import!B:B,Mapping!D391,Import!H:H)+SUMIF(Import!C:C,Mapping!D391,Import!H:H)+SUMIF(Import!D:D,Mapping!D391,Import!H:H))","v":0}]
["4","46A","468","4688",4688,"Autres comptes créditeurs et charges à payer",{"$f":"IF(D392=D391,0,SUMIF(Import!B:B,Mapping!D392,Import!G:G)+SUMIF(Import!C:C,Mapping!D392,Import!G:G)+SUMIF(Import!D:D,Mapping!D392,Import!G:G))","v":0},{"$f":"IF(D392=D391,0,SUMIF(Import!B:B,Mapping!D392,Import!H:H)+SUMIF(Import!C:C,Mapping!D392,Import!H:H)+SUMIF(Import!D:D,Mapping!D392,Import!H:H))","v":0}]
["4","46A","468","4689",4689,"Autres comptes créditeurs et charges à payer",{"$f":"IF(D393=D392,0,SUMIF(Import!B:B,Mapping!D393,Import!G:G)+SUMIF(Import!C:C,Mapping!D393,Import!G:G)+SUMIF(Import!D:D,Mapping!D393,Import!G:G))","v":0},{"$f":"IF(D393=D392,0,SUMIF(Import!B:B,Mapping!D393,Import!H:H)+SUMIF(Import!C:C,Mapping!D393,Import!H:H)+SUMIF(Import!D:D,Mapping!D393,Import!H:H))","v":0}]
[{"$f":"LEFT(B394,1)","v":"4"},"47A","471","4710",4710,"Comptes d'attente",{"$f":"IF(D394=D393,0,SUMIF(Import!B:B,Mapping!D394,Import!G:G)+SUMIF(Import!C:C,Mapping!D394,Import!G:G)+SUMIF(Import!D:D,Mapping!D394,Import!G:G))","v":0},{"$f":"IF(D394=D393,0,SUMIF(Import!B:B,Mapping!D394,Import!H:H)+SUMIF(Import!C:C,Mapping!D394,Import!H:H)+SUMIF(Import!D:D,Mapping!D394,Import!H:H))","v":0}]
["4","47A","472","4720",4720,"Comptes d'attente",{"$f":"IF(D395=D394,0,SUMIF(Import!B:B,Mapping!D395,Import!G:G)+SUMIF(Import!C:C,Mapping!D395,Import!G:G)+SUMIF(Import!D:D,Mapping!D395,Import!G:G))","v":0},{"$f":"IF(D395=D394,0,SUMIF(Import!B:B,Mapping!D395,Import!H:H)+SUMIF(Import!C:C,Mapping!D395,Import!H:H)+SUMIF(Import!D:D,Mapping!D395,Import!H:H))","v":0}]
["4","47A","473","4730",4730,"Comptes d'attente",{"$f":"IF(D396=D395,0,SUMIF(Import!B:B,Mapping!D396,Import!G:G)+SUMIF(Import!C:C,Mapping!D396,Import!G:G)+SUMIF(Import!D:D,Mapping!D396,Import!G:G))","v":0},{"$f":"IF(D396=D395,0,SUMIF(Import!B:B,Mapping!D396,Import!H:H)+SUMIF(Import!C:C,Mapping!D396,Import!H:H)+SUMIF(Import!D:D,Mapping!D396,Import!H:H))","v":0}]
["4","47A","474","4740",4740,"Différence d'évaluation - Actif",{"$f":"IF(D397=D396,0,SUMIF(Import!B:B,Mapping!D397,Import!G:G)+SUMIF(Import!C:C,Mapping!D397,Import!G:G)+SUMIF(Import!D:D,Mapping!D397,Import!G:G))","v":0},{"$f":"IF(D397=D396,0,SUMIF(Import!B:B,Mapping!D397,Import!H:H)+SUMIF(Import!C:C,Mapping!D397,Import!H:H)+SUMIF(Import!D:D,Mapping!D397,Import!H:H))","v":0}]
[{"$f":"LEFT(B398,1)","v":"4"},{"$f":"IF(OR(LEFT(E398,2)=\"42\",LEFT(E398,2)=\"43\",LEFT(E398,2)=\"44\",LEFT(E398,2)=\"45\",LEFT(E398,2)=\"46\",LEFT(E398,2)=\"47\",LEFT(E398,2)=\"51\"),IF(G398<0,LEFT(E398,2)&\"P\",LEFT(E398,2)&\"A\"),LEFT(E398,2))","v":"47A"},{"$f":"+LEFT(E398,3)","v":"475"},"4750",4750,"Différence d'évaluation - Passif",{"$f":"IF(D398=D397,0,SUMIF(Import!B:B,Mapping!D398,Import!G:G)+SUMIF(Import!C:C,Mapping!D398,Import!G:G)+SUMIF(Import!D:D,Mapping!D398,Import!G:G))","v":0},{"$f":"IF(D398=D397,0,SUMIF(Import!B:B,Mapping!D398,Import!H:H)+SUMIF(Import!C:C,Mapping!D398,Import!H:H)+SUMIF(Import!D:D,Mapping!D398,Import!H:H))","v":0}]
["4","47A","476","4760",4760,"Différence de conversion - Actif",{"$f":"IF(D399=D398,0,SUMIF(Import!B:B,Mapping!D399,Import!G:G)+SUMIF(Import!C:C,Mapping!D399,Import!G:G)+SUMIF(Import!D:D,Mapping!D399,Import!G:G))","v":0},{"$f":"IF(D399=D398,0,SUMIF(Import!B:B,Mapping!D399,Import!H:H)+SUMIF(Import!C:C,Mapping!D399,Import!H:H)+SUMIF(Import!D:D,Mapping!D399,Import!H:H))","v":0}]
["4",{"$f":"IF(OR(LEFT(E400,2)=\"42\",LEFT(E400,2)=\"43\",LEFT(E400,2)=\"44\",LEFT(E400,2)=\"45\",LEFT(E400,2)=\"46\",LEFT(E400,2)=\"47\",LEFT(E400,2)=\"51\"),IF(G400<0,LEFT(E400,2)&\"P\",LEFT(E400,2)&\"A\"),LEFT(E400,2))","v":"47A"},"476","4761",4761,"Diminution des créances",{"$f":"IF(D400=D399,0,SUMIF(Import!B:B,Mapping!D400,Import!G:G)+SUMIF(Import!C:C,Mapping!D400,Import!G:G)+SUMIF(Import!D:D,Mapping!D400,Import!G:G))","v":0},{"$f":"IF(D400=D399,0,SUMIF(Import!B:B,Mapping!D400,Import!H:H)+SUMIF(Import!C:C,Mapping!D400,Import!H:H)+SUMIF(Import!D:D,Mapping!D400,Import!H:H))","v":0}]
["4","47A","476","4762",4762,"Augmentation des dettes",{"$f":"IF(D401=D400,0,SUMIF(Import!B:B,Mapping!D401,Import!G:G)+SUMIF(Import!C:C,Mapping!D401,Import!G:G)+SUMIF(Import!D:D,Mapping!D401,Import!G:G))","v":0},{"$f":"IF(D401=D400,0,SUMIF(Import!B:B,Mapping!D401,Import!H:H)+SUMIF(Import!C:C,Mapping!D401,Import!H:H)+SUMIF(Import!D:D,Mapping!D401,Import!H:H))","v":0}]
["4","47A","476","4768",4768,"Différences compensées par couverture de change",{"$f":"IF(D402=D401,0,SUMIF(Import!B:B,Mapping!D402,Import!G:G)+SUMIF(Import!C:C,Mapping!D402,Import!G:G)+SUMIF(Import!D:D,Mapping!D402,Import!G:G))","v":0},{"$f":"IF(D402=D401,0,SUMIF(Import!B:B,Mapping!D402,Import!H:H)+SUMIF(Import!C:C,Mapping!D402,Import!H:H)+SUMIF(Import!D:D,Mapping!D402,Import!H:H))","v":0}]
["4","47A","477","4770",4770,"Différences de conversion - Passif",{"$f":"IF(D403=D402,0,SUMIF(Import!B:B,Mapping!D403,Import!G:G)+SUMIF(Import!C:C,Mapping!D403,Import!G:G)+SUMIF(Import!D:D,Mapping!D403,Import!G:G))","v":0},{"$f":"IF(D403=D402,0,SUMIF(Import!B:B,Mapping!D403,Import!H:H)+SUMIF(Import!C:C,Mapping!D403,Import!H:H)+SUMIF(Import!D:D,Mapping!D403,Import!H:H))","v":0}]
["4","47A","477","4771",4771,"Augmentation des créances",{"$f":"IF(D404=D403,0,SUMIF(Import!B:B,Mapping!D404,Import!G:G)+SUMIF(Import!C:C,Mapping!D404,Import!G:G)+SUMIF(Import!D:D,Mapping!D404,Import!G:G))","v":0},{"$f":"IF(D404=D403,0,SUMIF(Import!B:B,Mapping!D404,Import!H:H)+SUMIF(Import!C:C,Mapping!D404,Import!H:H)+SUMIF(Import!D:D,Mapping!D404,Import!H:H))","v":0}]
["4","47A","477","4772",4772,"Diminution des dettes",{"$f":"IF(D405=D404,0,SUMIF(Import!B:B,Mapping!D405,Import!G:G)+SUMIF(Import!C:C,Mapping!D405,Import!G:G)+SUMIF(Import!D:D,Mapping!D405,Import!G:G))","v":0},{"$f":"IF(D405=D404,0,SUMIF(Import!B:B,Mapping!D405,Import!H:H)+SUMIF(Import!C:C,Mapping!D405,Import!H:H)+SUMIF(Import!D:D,Mapping!D405,Import!H:H))","v":0}]
["4","47A","477","4778",4778,"Différences compensées par couverture de change",{"$f":"IF(D406=D405,0,SUMIF(Import!B:B,Mapping!D406,Import!G:G)+SUMIF(Import!C:C,Mapping!D406,Import!G:G)+SUMIF(Import!D:D,Mapping!D406,Import!G:G))","v":0},{"$f":"IF(D406=D405,0,SUMIF(Import!B:B,Mapping!D406,Import!H:H)+SUMIF(Import!C:C,Mapping!D406,Import!H:H)+SUMIF(Import!D:D,Mapping!D406,Import!H:H))","v":0}]
["4","47A","478","4780",4780,"Autres comptes transitoires",{"$f":"IF(D407=D406,0,SUMIF(Import!B:B,Mapping!D407,Import!G:G)+SUMIF(Import!C:C,Mapping!D407,Import!G:G)+SUMIF(Import!D:D,Mapping!D407,Import!G:G))","v":0},{"$f":"IF(D407=D406,0,SUMIF(Import!B:B,Mapping!D407,Import!H:H)+SUMIF(Import!C:C,Mapping!D407,Import!H:H)+SUMIF(Import!D:D,Mapping!D407,Import!H:H))","v":0}]
["4","47A","478","4781",4781,"Mali de fusion sur actif circulant",{"$f":"IF(D408=D407,0,SUMIF(Import!B:B,Mapping!D408,Import!G:G)+SUMIF(Import!C:C,Mapping!D408,Import!G:G)+SUMIF(Import!D:D,Mapping!D408,Import!G:G))","v":0},{"$f":"IF(D408=D407,0,SUMIF(Import!B:B,Mapping!D408,Import!H:H)+SUMIF(Import!C:C,Mapping!D408,Import!H:H)+SUMIF(Import!D:D,Mapping!D408,Import!H:H))","v":0}]
["4","48","481","4810",4810,"Frais d'émission des emprunts",{"$f":"IF(D409=D408,0,SUMIF(Import!B:B,Mapping!D409,Import!G:G)+SUMIF(Import!C:C,Mapping!D409,Import!G:G)+SUMIF(Import!D:D,Mapping!D409,Import!G:G))","v":0},{"$f":"IF(D409=D408,0,SUMIF(Import!B:B,Mapping!D409,Import!H:H)+SUMIF(Import!C:C,Mapping!D409,Import!H:H)+SUMIF(Import!D:D,Mapping!D409,Import!H:H))","v":0}]
["4","48","481",{"$f":"LEFT(E410,4)","v":"4816"},4816,"Frais d'émission des emprunts",{"$f":"IF(D410=D409,0,SUMIF(Import!B:B,Mapping!D410,Import!G:G)+SUMIF(Import!C:C,Mapping!D410,Import!G:G)+SUMIF(Import!D:D,Mapping!D410,Import!G:G))","v":0},{"$f":"IF(D410=D409,0,SUMIF(Import!B:B,Mapping!D410,Import!H:H)+SUMIF(Import!C:C,Mapping!D410,Import!H:H)+SUMIF(Import!D:D,Mapping!D410,Import!H:H))","v":0}]
["4","48","486","4860",4860,"Charges constatées d'avance",{"$f":"IF(D411=D410,0,SUMIF(Import!B:B,Mapping!D411,Import!G:G)+SUMIF(Import!C:C,Mapping!D411,Import!G:G)+SUMIF(Import!D:D,Mapping!D411,Import!G:G))","v":0},{"$f":"IF(D411=D410,0,SUMIF(Import!B:B,Mapping!D411,Import!H:H)+SUMIF(Import!C:C,Mapping!D411,Import!H:H)+SUMIF(Import!D:D,Mapping!D411,Import!H:H))","v":0}]
["4","48","487","4870",4870,"Produits constatés d'avance",{"$f":"IF(D412=D411,0,SUMIF(Import!B:B,Mapping!D412,Import!G:G)+SUMIF(Import!C:C,Mapping!D412,Import!G:G)+SUMIF(Import!D:D,Mapping!D412,Import!G:G))","v":0},{"$f":"IF(D412=D411,0,SUMIF(Import!B:B,Mapping!D412,Import!H:H)+SUMIF(Import!C:C,Mapping!D412,Import!H:H)+SUMIF(Import!D:D,Mapping!D412,Import!H:H))","v":0}]
["4","48","488","4880",4880,"Comptes de répartition périodique des charges et des produits",{"$f":"IF(D413=D412,0,SUMIF(Import!B:B,Mapping!D413,Import!G:G)+SUMIF(Import!C:C,Mapping!D413,Import!G:G)+SUMIF(Import!D:D,Mapping!D413,Import!G:G))","v":0},{"$f":"IF(D413=D412,0,SUMIF(Import!B:B,Mapping!D413,Import!H:H)+SUMIF(Import!C:C,Mapping!D413,Import!H:H)+SUMIF(Import!D:D,Mapping!D413,Import!H:H))","v":0}]
["4","48",{"$f":"+LEFT(E414,3)","v":"488"},"4886",4886,"Charges",{"$f":"IF(D414=D413,0,SUMIF(Import!B:B,Mapping!D414,Import!G:G)+SUMIF(Import!C:C,Mapping!D414,Import!G:G)+SUMIF(Import!D:D,Mapping!D414,Import!G:G))","v":0},{"$f":"IF(D414=D413,0,SUMIF(Import!B:B,Mapping!D414,Import!H:H)+SUMIF(Import!C:C,Mapping!D414,Import!H:H)+SUMIF(Import!D:D,Mapping!D414,Import!H:H))","v":0}]
["4","48","488","4887",4887,"Produits",{"$f":"IF(D415=D414,0,SUMIF(Import!B:B,Mapping!D415,Import!G:G)+SUMIF(Import!C:C,Mapping!D415,Import!G:G)+SUMIF(Import!D:D,Mapping!D415,Import!G:G))","v":0},{"$f":"IF(D415=D414,0,SUMIF(Import!B:B,Mapping!D415,Import!H:H)+SUMIF(Import!C:C,Mapping!D415,Import!H:H)+SUMIF(Import!D:D,Mapping!D415,Import!H:H))","v":0}]
["4","49","491","4910",4910,"Dépréciations des comptes de clients",{"$f":"IF(D416=D415,0,SUMIF(Import!B:B,Mapping!D416,Import!G:G)+SUMIF(Import!C:C,Mapping!D416,Import!G:G)+SUMIF(Import!D:D,Mapping!D416,Import!G:G))","v":0},{"$f":"IF(D416=D415,0,SUMIF(Import!B:B,Mapping!D416,Import!H:H)+SUMIF(Import!C:C,Mapping!D416,Import!H:H)+SUMIF(Import!D:D,Mapping!D416,Import!H:H))","v":0}]
["4",{"$f":"IF(OR(LEFT(E417,2)=\"42\",LEFT(E417,2)=\"43\",LEFT(E417,2)=\"44\",LEFT(E417,2)=\"45\",LEFT(E417,2)=\"46\",LEFT(E417,2)=\"47\",LEFT(E417,2)=\"48\",LEFT(E417,2)=\"51\"),IF(G417<0,LEFT(E417,2)&\"P\",LEFT(E417,2)&\"A\"),LEFT(E417,2))","v":"49"},"495","4950",4950,"Dépréciations des comptes du groupe et des associés",{"$f":"IF(D417=D416,0,SUMIF(Import!B:B,Mapping!D417,Import!G:G)+SUMIF(Import!C:C,Mapping!D417,Import!G:G)+SUMIF(Import!D:D,Mapping!D417,Import!G:G))","v":0},{"$f":"IF(D417=D416,0,SUMIF(Import!B:B,Mapping!D417,Import!H:H)+SUMIF(Import!C:C,Mapping!D417,Import!H:H)+SUMIF(Import!D:D,Mapping!D417,Import!H:H))","v":0}]
["4","49","495","4951",4951,"Comptes du groupe",{"$f":"IF(D418=D417,0,SUMIF(Import!B:B,Mapping!D418,Import!G:G)+SUMIF(Import!C:C,Mapping!D418,Import!G:G)+SUMIF(Import!D:D,Mapping!D418,Import!G:G))","v":0},{"$f":"IF(D418=D417,0,SUMIF(Import!B:B,Mapping!D418,Import!H:H)+SUMIF(Import!C:C,Mapping!D418,Import!H:H)+SUMIF(Import!D:D,Mapping!D418,Import!H:H))","v":0}]
["4","49","495","4955",4955,"Comptes courants des associés",{"$f":"IF(D419=D418,0,SUMIF(Import!B:B,Mapping!D419,Import!G:G)+SUMIF(Import!C:C,Mapping!D419,Import!G:G)+SUMIF(Import!D:D,Mapping!D419,Import!G:G))","v":0},{"$f":"IF(D419=D418,0,SUMIF(Import!B:B,Mapping!D419,Import!H:H)+SUMIF(Import!C:C,Mapping!D419,Import!H:H)+SUMIF(Import!D:D,Mapping!D419,Import!H:H))","v":0}]
["4",{"$f":"IF(OR(LEFT(E420,2)=\"42\",LEFT(E420,2)=\"43\",LEFT(E420,2)=\"44\",LEFT(E420,2)=\"45\",LEFT(E420,2)=\"46\",LEFT(E420,2)=\"47\",LEFT(E420,2)=\"48\",LEFT(E420,2)=\"51\"),IF(G420<0,LEFT(E420,2)&\"P\",LEFT(E420,2)&\"A\"),LEFT(E420,2))","v":"49"},"495","4958",4958,"Opérations faites en commun et en G.I.E.",{"$f":"IF(D420=D419,0,SUMIF(Import!B:B,Mapping!D420,Import!G:G)+SUMIF(Import!C:C,Mapping!D420,Import!G:G)+SUMIF(Import!D:D,Mapping!D420,Import!G:G))","v":0},{"$f":"IF(D420=D419,0,SUMIF(Import!B:B,Mapping!D420,Import!H:H)+SUMIF(Import!C:C,Mapping!D420,Import!H:H)+SUMIF(Import!D:D,Mapping!D420,Import!H:H))","v":0}]
["4",{"$f":"IF(OR(LEFT(E421,2)=\"42\",LEFT(E421,2)=\"43\",LEFT(E421,2)=\"44\",LEFT(E421,2)=\"45\",LEFT(E421,2)=\"46\",LEFT(E421,2)=\"47\",LEFT(E421,2)=\"48\",LEFT(E421,2)=\"51\"),IF(G421<0,LEFT(E421,2)&\"P\",LEFT(E421,2)&\"A\"),LEFT(E421,2))","v":"49"},"496","4960",4960,"Dépréciations des comptes de débiteurs divers",{"$f":"IF(D421=D420,0,SUMIF(Import!B:B,Mapping!D421,Import!G:G)+SUMIF(Import!C:C,Mapping!D421,Import!G:G)+SUMIF(Import!D:D,Mapping!D421,Import!G:G))","v":0},{"$f":"IF(D421=D420,0,SUMIF(Import!B:B,Mapping!D421,Import!H:H)+SUMIF(Import!C:C,Mapping!D421,Import!H:H)+SUMIF(Import!D:D,Mapping!D421,Import!H:H))","v":0}]
["4",{"$f":"IF(OR(LEFT(E422,2)=\"42\",LEFT(E422,2)=\"43\",LEFT(E422,2)=\"44\",LEFT(E422,2)=\"45\",LEFT(E422,2)=\"46\",LEFT(E422,2)=\"47\",LEFT(E422,2)=\"48\",LEFT(E422,2)=\"51\"),IF(G422<0,LEFT(E422,2)&\"P\",LEFT(E422,2)&\"A\"),LEFT(E422,2))","v":"49"},"496",{"$f":"LEFT(E422,5)","v":"4961"},4961,"Dépréc. Créances auprès de partis ou groupements politiques ",{"$f":"IF(D422=D421,0,SUMIF(Import!B:B,Mapping!D422,Import!G:G)+SUMIF(Import!C:C,Mapping!D422,Import!G:G)+SUMIF(Import!D:D,Mapping!D422,Import!G:G))","v":0},{"$f":"IF(D422=D421,0,SUMIF(Import!B:B,Mapping!D422,Import!H:H)+SUMIF(Import!C:C,Mapping!D422,Import!H:H)+SUMIF(Import!D:D,Mapping!D422,Import!H:H))","v":0}]
["4",{"$f":"IF(OR(LEFT(E423,2)=\"42\",LEFT(E423,2)=\"43\",LEFT(E423,2)=\"44\",LEFT(E423,2)=\"45\",LEFT(E423,2)=\"46\",LEFT(E423,2)=\"47\",LEFT(E423,2)=\"48\",LEFT(E423,2)=\"51\"),IF(G423<0,LEFT(E423,2)&\"P\",LEFT(E423,2)&\"A\"),LEFT(E423,2))","v":"49"},"496","4962",4962,"Créances sur cessions d'immobilisations",{"$f":"IF(D423=D422,0,SUMIF(Import!B:B,Mapping!D423,Import!G:G)+SUMIF(Import!C:C,Mapping!D423,Import!G:G)+SUMIF(Import!D:D,Mapping!D423,Import!G:G))","v":0},{"$f":"IF(D423=D422,0,SUMIF(Import!B:B,Mapping!D423,Import!H:H)+SUMIF(Import!C:C,Mapping!D423,Import!H:H)+SUMIF(Import!D:D,Mapping!D423,Import!H:H))","v":0}]
["4","49","496","4965",4965,"Créances sur cessions de valeurs mobilières de placement",{"$f":"IF(D424=D423,0,SUMIF(Import!B:B,Mapping!D424,Import!G:G)+SUMIF(Import!C:C,Mapping!D424,Import!G:G)+SUMIF(Import!D:D,Mapping!D424,Import!G:G))","v":0},{"$f":"IF(D424=D423,0,SUMIF(Import!B:B,Mapping!D424,Import!H:H)+SUMIF(Import!C:C,Mapping!D424,Import!H:H)+SUMIF(Import!D:D,Mapping!D424,Import!H:H))","v":0}]
["4","49","496","4967",4967,"Autres comptes débiteurs",{"$f":"IF(D425=D424,0,SUMIF(Import!B:B,Mapping!D425,Import!G:G)+SUMIF(Import!C:C,Mapping!D425,Import!G:G)+SUMIF(Import!D:D,Mapping!D425,Import!G:G))","v":0},{"$f":"IF(D425=D424,0,SUMIF(Import!B:B,Mapping!D425,Import!H:H)+SUMIF(Import!C:C,Mapping!D425,Import!H:H)+SUMIF(Import!D:D,Mapping!D425,Import!H:H))","v":0}]
["4","49","496",{"$f":"LEFT(E426,5)","v":"49671"},49671,"Actifs des entités non significatives (amortissements et dépréciations) ",{"$f":"IF(D426=D425,0,SUMIF(Import!B:B,Mapping!D426,Import!G:G)+SUMIF(Import!C:C,Mapping!D426,Import!G:G)+SUMIF(Import!D:D,Mapping!D426,Import!G:G))","v":0},{"$f":"IF(D426=D425,0,SUMIF(Import!B:B,Mapping!D426,Import!H:H)+SUMIF(Import!C:C,Mapping!D426,Import!H:H)+SUMIF(Import!D:D,Mapping!D426,Import!H:H))","v":0}]
["5","50","502","5020",5020,"Actions propres",{"$f":"IF(D427=D426,0,SUMIF(Import!B:B,Mapping!D427,Import!G:G)+SUMIF(Import!C:C,Mapping!D427,Import!G:G)+SUMIF(Import!D:D,Mapping!D427,Import!G:G))","v":0},{"$f":"IF(D427=D426,0,SUMIF(Import!B:B,Mapping!D427,Import!H:H)+SUMIF(Import!C:C,Mapping!D427,Import!H:H)+SUMIF(Import!D:D,Mapping!D427,Import!H:H))","v":0}]
["5","50","503","5030",5030,"Actions",{"$f":"IF(D428=D427,0,SUMIF(Import!B:B,Mapping!D428,Import!G:G)+SUMIF(Import!C:C,Mapping!D428,Import!G:G)+SUMIF(Import!D:D,Mapping!D428,Import!G:G))","v":0},{"$f":"IF(D428=D427,0,SUMIF(Import!B:B,Mapping!D428,Import!H:H)+SUMIF(Import!C:C,Mapping!D428,Import!H:H)+SUMIF(Import!D:D,Mapping!D428,Import!H:H))","v":0}]
["5","50","503","5031",5031,"Titres cotés",{"$f":"IF(D429=D428,0,SUMIF(Import!B:B,Mapping!D429,Import!G:G)+SUMIF(Import!C:C,Mapping!D429,Import!G:G)+SUMIF(Import!D:D,Mapping!D429,Import!G:G))","v":0},{"$f":"IF(D429=D428,0,SUMIF(Import!B:B,Mapping!D429,Import!H:H)+SUMIF(Import!C:C,Mapping!D429,Import!H:H)+SUMIF(Import!D:D,Mapping!D429,Import!H:H))","v":0}]
["5","50","503","5035",5035,"Titres non cotés",{"$f":"IF(D430=D429,0,SUMIF(Import!B:B,Mapping!D430,Import!G:G)+SUMIF(Import!C:C,Mapping!D430,Import!G:G)+SUMIF(Import!D:D,Mapping!D430,Import!G:G))","v":0},{"$f":"IF(D430=D429,0,SUMIF(Import!B:B,Mapping!D430,Import!H:H)+SUMIF(Import!C:C,Mapping!D430,Import!H:H)+SUMIF(Import!D:D,Mapping!D430,Import!H:H))","v":0}]
["5","50","504","5040",5040,"Autres titres conférant un droit de propriété",{"$f":"IF(D431=D430,0,SUMIF(Import!B:B,Mapping!D431,Import!G:G)+SUMIF(Import!C:C,Mapping!D431,Import!G:G)+SUMIF(Import!D:D,Mapping!D431,Import!G:G))","v":0},{"$f":"IF(D431=D430,0,SUMIF(Import!B:B,Mapping!D431,Import!H:H)+SUMIF(Import!C:C,Mapping!D431,Import!H:H)+SUMIF(Import!D:D,Mapping!D431,Import!H:H))","v":0}]
["5","50","505","5050",5050,"Obligations et bons émis par la société et rachetés par elle",{"$f":"IF(D432=D431,0,SUMIF(Import!B:B,Mapping!D432,Import!G:G)+SUMIF(Import!C:C,Mapping!D432,Import!G:G)+SUMIF(Import!D:D,Mapping!D432,Import!G:G))","v":0},{"$f":"IF(D432=D431,0,SUMIF(Import!B:B,Mapping!D432,Import!H:H)+SUMIF(Import!C:C,Mapping!D432,Import!H:H)+SUMIF(Import!D:D,Mapping!D432,Import!H:H))","v":0}]
["5","50","506","5060",5060,"Obligations",{"$f":"IF(D433=D432,0,SUMIF(Import!B:B,Mapping!D433,Import!G:G)+SUMIF(Import!C:C,Mapping!D433,Import!G:G)+SUMIF(Import!D:D,Mapping!D433,Import!G:G))","v":0},{"$f":"IF(D433=D432,0,SUMIF(Import!B:B,Mapping!D433,Import!H:H)+SUMIF(Import!C:C,Mapping!D433,Import!H:H)+SUMIF(Import!D:D,Mapping!D433,Import!H:H))","v":0}]
["5","50","506","5061",5061,"Titres cotés",{"$f":"IF(D434=D433,0,SUMIF(Import!B:B,Mapping!D434,Import!G:G)+SUMIF(Import!C:C,Mapping!D434,Import!G:G)+SUMIF(Import!D:D,Mapping!D434,Import!G:G))","v":0},{"$f":"IF(D434=D433,0,SUMIF(Import!B:B,Mapping!D434,Import!H:H)+SUMIF(Import!C:C,Mapping!D434,Import!H:H)+SUMIF(Import!D:D,Mapping!D434,Import!H:H))","v":0}]
[{"$f":"LEFT(B435,1)","v":"5"},{"$f":"IF(OR(LEFT(E435,2)=\"42\",LEFT(E435,2)=\"43\",LEFT(E435,2)=\"44\",LEFT(E435,2)=\"45\",LEFT(E435,2)=\"46\",LEFT(E435,2)=\"47\",LEFT(E435,2)=\"51\"),IF(G435<0,LEFT(E435,2)&\"P\",LEFT(E435,2)&\"A\"),LEFT(E435,2))","v":"50"},{"$f":"+LEFT(E435,3)","v":"506"},{"$f":"LEFT(E435,5)","v":"5065"},5065,"Titres non cotés",{"$f":"IF(D435=D434,0,SUMIF(Import!B:B,Mapping!D435,Import!G:G)+SUMIF(Import!C:C,Mapping!D435,Import!G:G)+SUMIF(Import!D:D,Mapping!D435,Import!G:G))","v":0},{"$f":"IF(D435=D434,0,SUMIF(Import!B:B,Mapping!D435,Import!H:H)+SUMIF(Import!C:C,Mapping!D435,Import!H:H)+SUMIF(Import!D:D,Mapping!D435,Import!H:H))","v":0}]
["5","50","507","5070",5070,"Bons du Trésor et bons de caisse à court terme",{"$f":"IF(D436=D435,0,SUMIF(Import!B:B,Mapping!D436,Import!G:G)+SUMIF(Import!C:C,Mapping!D436,Import!G:G)+SUMIF(Import!D:D,Mapping!D436,Import!G:G))","v":0},{"$f":"IF(D436=D435,0,SUMIF(Import!B:B,Mapping!D436,Import!H:H)+SUMIF(Import!C:C,Mapping!D436,Import!H:H)+SUMIF(Import!D:D,Mapping!D436,Import!H:H))","v":0}]
["5","50","508","5080",5080,"Autres valeurs mobilières de placement et autres créances assimilées",{"$f":"IF(D437=D436,0,SUMIF(Import!B:B,Mapping!D437,Import!G:G)+SUMIF(Import!C:C,Mapping!D437,Import!G:G)+SUMIF(Import!D:D,Mapping!D437,Import!G:G))","v":0},{"$f":"IF(D437=D436,0,SUMIF(Import!B:B,Mapping!D437,Import!H:H)+SUMIF(Import!C:C,Mapping!D437,Import!H:H)+SUMIF(Import!D:D,Mapping!D437,Import!H:H))","v":0}]
["5","50","508","5081",5081,"Autres valeurs mobilières",{"$f":"IF(D438=D437,0,SUMIF(Import!B:B,Mapping!D438,Import!G:G)+SUMIF(Import!C:C,Mapping!D438,Import!G:G)+SUMIF(Import!D:D,Mapping!D438,Import!G:G))","v":0},{"$f":"IF(D438=D437,0,SUMIF(Import!B:B,Mapping!D438,Import!H:H)+SUMIF(Import!C:C,Mapping!D438,Import!H:H)+SUMIF(Import!D:D,Mapping!D438,Import!H:H))","v":0}]
["5","50","508","5082",5082,"Bons de souscription",{"$f":"IF(D439=D438,0,SUMIF(Import!B:B,Mapping!D439,Import!G:G)+SUMIF(Import!C:C,Mapping!D439,Import!G:G)+SUMIF(Import!D:D,Mapping!D439,Import!G:G))","v":0},{"$f":"IF(D439=D438,0,SUMIF(Import!B:B,Mapping!D439,Import!H:H)+SUMIF(Import!C:C,Mapping!D439,Import!H:H)+SUMIF(Import!D:D,Mapping!D439,Import!H:H))","v":0}]
["5","50","508","5088",5088,"Intérêts courus sur obligations, bons et valeurs assimilés",{"$f":"IF(D440=D439,0,SUMIF(Import!B:B,Mapping!D440,Import!G:G)+SUMIF(Import!C:C,Mapping!D440,Import!G:G)+SUMIF(Import!D:D,Mapping!D440,Import!G:G))","v":0},{"$f":"IF(D440=D439,0,SUMIF(Import!B:B,Mapping!D440,Import!H:H)+SUMIF(Import!C:C,Mapping!D440,Import!H:H)+SUMIF(Import!D:D,Mapping!D440,Import!H:H))","v":0}]
["5","50","509","5090",5090,"Versements restant à effectuer sur valeurs mobilières de placement non libérées",{"$f":"IF(D441=D440,0,SUMIF(Import!B:B,Mapping!D441,Import!G:G)+SUMIF(Import!C:C,Mapping!D441,Import!G:G)+SUMIF(Import!D:D,Mapping!D441,Import!G:G))","v":0},{"$f":"IF(D441=D440,0,SUMIF(Import!B:B,Mapping!D441,Import!H:H)+SUMIF(Import!C:C,Mapping!D441,Import!H:H)+SUMIF(Import!D:D,Mapping!D441,Import!H:H))","v":0}]
["5","51A","511","5110",5110,"Valeurs à l'encaissement",{"$f":"IF(D442=D441,0,SUMIF(Import!B:B,Mapping!D442,Import!G:G)+SUMIF(Import!C:C,Mapping!D442,Import!G:G)+SUMIF(Import!D:D,Mapping!D442,Import!G:G))","v":0},{"$f":"IF(D442=D441,0,SUMIF(Import!B:B,Mapping!D442,Import!H:H)+SUMIF(Import!C:C,Mapping!D442,Import!H:H)+SUMIF(Import!D:D,Mapping!D442,Import!H:H))","v":0}]
["5","51A","511","5111",5111,"Coupons échus à l'encaissement",{"$f":"IF(D443=D442,0,SUMIF(Import!B:B,Mapping!D443,Import!G:G)+SUMIF(Import!C:C,Mapping!D443,Import!G:G)+SUMIF(Import!D:D,Mapping!D443,Import!G:G))","v":0},{"$f":"IF(D443=D442,0,SUMIF(Import!B:B,Mapping!D443,Import!H:H)+SUMIF(Import!C:C,Mapping!D443,Import!H:H)+SUMIF(Import!D:D,Mapping!D443,Import!H:H))","v":0}]
["5","51A","511","5112",5112,"Chèques à encaisser",{"$f":"IF(D444=D443,0,SUMIF(Import!B:B,Mapping!D444,Import!G:G)+SUMIF(Import!C:C,Mapping!D444,Import!G:G)+SUMIF(Import!D:D,Mapping!D444,Import!G:G))","v":0},{"$f":"IF(D444=D443,0,SUMIF(Import!B:B,Mapping!D444,Import!H:H)+SUMIF(Import!C:C,Mapping!D444,Import!H:H)+SUMIF(Import!D:D,Mapping!D444,Import!H:H))","v":0}]
["5","51A",{"$f":"+LEFT(E445,3)","v":"511"},"5113",5113,"Effets à l'encaissement",{"$f":"IF(D445=D444,0,SUMIF(Import!B:B,Mapping!D445,Import!G:G)+SUMIF(Import!C:C,Mapping!D445,Import!G:G)+SUMIF(Import!D:D,Mapping!D445,Import!G:G))","v":0},{"$f":"IF(D445=D444,0,SUMIF(Import!B:B,Mapping!D445,Import!H:H)+SUMIF(Import!C:C,Mapping!D445,Import!H:H)+SUMIF(Import!D:D,Mapping!D445,Import!H:H))","v":0}]
["5","51A","511","5114",5114,"Effets à l'escompte",{"$f":"IF(D446=D445,0,SUMIF(Import!B:B,Mapping!D446,Import!G:G)+SUMIF(Import!C:C,Mapping!D446,Import!G:G)+SUMIF(Import!D:D,Mapping!D446,Import!G:G))","v":0},{"$f":"IF(D446=D445,0,SUMIF(Import!B:B,Mapping!D446,Import!H:H)+SUMIF(Import!C:C,Mapping!D446,Import!H:H)+SUMIF(Import!D:D,Mapping!D446,Import!H:H))","v":0}]
["5","51A","512","5120",5120,"Banques",{"$f":"IF(D447=D446,0,SUMIF(Import!B:B,Mapping!D447,Import!G:G)+SUMIF(Import!C:C,Mapping!D447,Import!G:G)+SUMIF(Import!D:D,Mapping!D447,Import!G:G))","v":0},{"$f":"IF(D447=D446,0,SUMIF(Import!B:B,Mapping!D447,Import!H:H)+SUMIF(Import!C:C,Mapping!D447,Import!H:H)+SUMIF(Import!D:D,Mapping!D447,Import!H:H))","v":0}]
["5","51A","512","5121",5121,"Comptes en monnaie nationale",{"$f":"IF(D448=D447,0,SUMIF(Import!B:B,Mapping!D448,Import!G:G)+SUMIF(Import!C:C,Mapping!D448,Import!G:G)+SUMIF(Import!D:D,Mapping!D448,Import!G:G))","v":0},{"$f":"IF(D448=D447,0,SUMIF(Import!B:B,Mapping!D448,Import!H:H)+SUMIF(Import!C:C,Mapping!D448,Import!H:H)+SUMIF(Import!D:D,Mapping!D448,Import!H:H))","v":0}]
["5","51A","512","5122",5122,"Comptes en monnaie nationale",{"$f":"IF(D449=D448,0,SUMIF(Import!B:B,Mapping!D449,Import!G:G)+SUMIF(Import!C:C,Mapping!D449,Import!G:G)+SUMIF(Import!D:D,Mapping!D449,Import!G:G))","v":0},{"$f":"IF(D449=D448,0,SUMIF(Import!B:B,Mapping!D449,Import!H:H)+SUMIF(Import!C:C,Mapping!D449,Import!H:H)+SUMIF(Import!D:D,Mapping!D449,Import!H:H))","v":0}]
["5","51A",{"$f":"+LEFT(E450,3)","v":"512"},"5123",5123,"Comptes en monnaie nationale",{"$f":"IF(D450=D449,0,SUMIF(Import!B:B,Mapping!D450,Import!G:G)+SUMIF(Import!C:C,Mapping!D450,Import!G:G)+SUMIF(Import!D:D,Mapping!D450,Import!G:G))","v":0},{"$f":"IF(D450=D449,0,SUMIF(Import!B:B,Mapping!D450,Import!H:H)+SUMIF(Import!C:C,Mapping!D450,Import!H:H)+SUMIF(Import!D:D,Mapping!D450,Import!H:H))","v":0}]
["5","51A","512","5124",5124,"Comptes en devises",{"$f":"IF(D451=D450,0,SUMIF(Import!B:B,Mapping!D451,Import!G:G)+SUMIF(Import!C:C,Mapping!D451,Import!G:G)+SUMIF(Import!D:D,Mapping!D451,Import!G:G))","v":0},{"$f":"IF(D451=D450,0,SUMIF(Import!B:B,Mapping!D451,Import!H:H)+SUMIF(Import!C:C,Mapping!D451,Import!H:H)+SUMIF(Import!D:D,Mapping!D451,Import!H:H))","v":0}]
["5","51A","512","5125",5125,"Comptes en monnaie nationale",{"$f":"IF(D452=D451,0,SUMIF(Import!B:B,Mapping!D452,Import!G:G)+SUMIF(Import!C:C,Mapping!D452,Import!G:G)+SUMIF(Import!D:D,Mapping!D452,Import!G:G))","v":0},{"$f":"IF(D452=D451,0,SUMIF(Import!B:B,Mapping!D452,Import!H:H)+SUMIF(Import!C:C,Mapping!D452,Import!H:H)+SUMIF(Import!D:D,Mapping!D452,Import!H:H))","v":0}]
["5","51A","512","5126",5126,"Comptes en monnaie nationale",{"$f":"IF(D453=D452,0,SUMIF(Import!B:B,Mapping!D453,Import!G:G)+SUMIF(Import!C:C,Mapping!D453,Import!G:G)+SUMIF(Import!D:D,Mapping!D453,Import!G:G))","v":0},{"$f":"IF(D453=D452,0,SUMIF(Import!B:B,Mapping!D453,Import!H:H)+SUMIF(Import!C:C,Mapping!D453,Import!H:H)+SUMIF(Import!D:D,Mapping!D453,Import!H:H))","v":0}]
["5","51A","512","5127",5127,"Comptes en monnaie nationale",{"$f":"IF(D454=D453,0,SUMIF(Import!B:B,Mapping!D454,Import!G:G)+SUMIF(Import!C:C,Mapping!D454,Import!G:G)+SUMIF(Import!D:D,Mapping!D454,Import!G:G))","v":0},{"$f":"IF(D454=D453,0,SUMIF(Import!B:B,Mapping!D454,Import!H:H)+SUMIF(Import!C:C,Mapping!D454,Import!H:H)+SUMIF(Import!D:D,Mapping!D454,Import!H:H))","v":0}]
["5","51A","512","5128",5128,"Comptes en monnaie nationale",{"$f":"IF(D455=D454,0,SUMIF(Import!B:B,Mapping!D455,Import!G:G)+SUMIF(Import!C:C,Mapping!D455,Import!G:G)+SUMIF(Import!D:D,Mapping!D455,Import!G:G))","v":0},{"$f":"IF(D455=D454,0,SUMIF(Import!B:B,Mapping!D455,Import!H:H)+SUMIF(Import!C:C,Mapping!D455,Import!H:H)+SUMIF(Import!D:D,Mapping!D455,Import!H:H))","v":0}]
["5","51A","512","5129",5129,"Comptes en monnaie nationale",{"$f":"IF(D456=D455,0,SUMIF(Import!B:B,Mapping!D456,Import!G:G)+SUMIF(Import!C:C,Mapping!D456,Import!G:G)+SUMIF(Import!D:D,Mapping!D456,Import!G:G))","v":0},{"$f":"IF(D456=D455,0,SUMIF(Import!B:B,Mapping!D456,Import!H:H)+SUMIF(Import!C:C,Mapping!D456,Import!H:H)+SUMIF(Import!D:D,Mapping!D456,Import!H:H))","v":0}]
["5","51A","517","5170",5170,"Autres organismes financiers",{"$f":"IF(D457=D456,0,SUMIF(Import!B:B,Mapping!D457,Import!G:G)+SUMIF(Import!C:C,Mapping!D457,Import!G:G)+SUMIF(Import!D:D,Mapping!D457,Import!G:G))","v":0},{"$f":"IF(D457=D456,0,SUMIF(Import!B:B,Mapping!D457,Import!H:H)+SUMIF(Import!C:C,Mapping!D457,Import!H:H)+SUMIF(Import!D:D,Mapping!D457,Import!H:H))","v":0}]
["5","51A","518","5180",5180,"Intérêts courus",{"$f":"IF(D458=D457,0,SUMIF(Import!B:B,Mapping!D458,Import!G:G)+SUMIF(Import!C:C,Mapping!D458,Import!G:G)+SUMIF(Import!D:D,Mapping!D458,Import!G:G))","v":0},{"$f":"IF(D458=D457,0,SUMIF(Import!B:B,Mapping!D458,Import!H:H)+SUMIF(Import!C:C,Mapping!D458,Import!H:H)+SUMIF(Import!D:D,Mapping!D458,Import!H:H))","v":0}]
[{"$f":"LEFT(B459,1)","v":"5"},"51A","518","5181",5181,"Intérêts courus à payer",{"$f":"IF(D459=D458,0,SUMIF(Import!B:B,Mapping!D459,Import!G:G)+SUMIF(Import!C:C,Mapping!D459,Import!G:G)+SUMIF(Import!D:D,Mapping!D459,Import!G:G))","v":0},{"$f":"IF(D459=D458,0,SUMIF(Import!B:B,Mapping!D459,Import!H:H)+SUMIF(Import!C:C,Mapping!D459,Import!H:H)+SUMIF(Import!D:D,Mapping!D459,Import!H:H))","v":0}]
["5","51A","518","5188",5188,"Intérêts courus à recevoir",{"$f":"IF(D460=D459,0,SUMIF(Import!B:B,Mapping!D460,Import!G:G)+SUMIF(Import!C:C,Mapping!D460,Import!G:G)+SUMIF(Import!D:D,Mapping!D460,Import!G:G))","v":0},{"$f":"IF(D460=D459,0,SUMIF(Import!B:B,Mapping!D460,Import!H:H)+SUMIF(Import!C:C,Mapping!D460,Import!H:H)+SUMIF(Import!D:D,Mapping!D460,Import!H:H))","v":0}]
["5","51A","519","5190",5190,"Concours bancaires courants",{"$f":"IF(D461=D460,0,SUMIF(Import!B:B,Mapping!D461,Import!G:G)+SUMIF(Import!C:C,Mapping!D461,Import!G:G)+SUMIF(Import!D:D,Mapping!D461,Import!G:G))","v":0},{"$f":"IF(D461=D460,0,SUMIF(Import!B:B,Mapping!D461,Import!H:H)+SUMIF(Import!C:C,Mapping!D461,Import!H:H)+SUMIF(Import!D:D,Mapping!D461,Import!H:H))","v":0}]
["5","51A","519","5191",5191,"Crédit de mobilisation de créances commerciales (CMCC)",{"$f":"IF(D462=D461,0,SUMIF(Import!B:B,Mapping!D462,Import!G:G)+SUMIF(Import!C:C,Mapping!D462,Import!G:G)+SUMIF(Import!D:D,Mapping!D462,Import!G:G))","v":0},{"$f":"IF(D462=D461,0,SUMIF(Import!B:B,Mapping!D462,Import!H:H)+SUMIF(Import!C:C,Mapping!D462,Import!H:H)+SUMIF(Import!D:D,Mapping!D462,Import!H:H))","v":0}]
["5",{"$f":"IF(OR(LEFT(E463,2)=\"42\",LEFT(E463,2)=\"43\",LEFT(E463,2)=\"44\",LEFT(E463,2)=\"45\",LEFT(E463,2)=\"46\",LEFT(E463,2)=\"47\",LEFT(E463,2)=\"51\"),IF(G463<0,LEFT(E463,2)&\"P\",LEFT(E463,2)&\"A\"),LEFT(E463,2))","v":"51A"},"519","5193",5193,"Mobilisation de créances nées à l'étranger",{"$f":"IF(D463=D462,0,SUMIF(Import!B:B,Mapping!D463,Import!G:G)+SUMIF(Import!C:C,Mapping!D463,Import!G:G)+SUMIF(Import!D:D,Mapping!D463,Import!G:G))","v":0},{"$f":"IF(D463=D462,0,SUMIF(Import!B:B,Mapping!D463,Import!H:H)+SUMIF(Import!C:C,Mapping!D463,Import!H:H)+SUMIF(Import!D:D,Mapping!D463,Import!H:H))","v":0}]
["5","51A",{"$f":"+LEFT(E464,3)","v":"519"},"5198",5198,"Intérêts courus sur concours bancaires courants",{"$f":"IF(D464=D463,0,SUMIF(Import!B:B,Mapping!D464,Import!G:G)+SUMIF(Import!C:C,Mapping!D464,Import!G:G)+SUMIF(Import!D:D,Mapping!D464,Import!G:G))","v":0},{"$f":"IF(D464=D463,0,SUMIF(Import!B:B,Mapping!D464,Import!H:H)+SUMIF(Import!C:C,Mapping!D464,Import!H:H)+SUMIF(Import!D:D,Mapping!D464,Import!H:H))","v":0}]
["5","53","530","5300",5300,"Caisse siège social",{"$f":"IF(D465=D464,0,SUMIF(Import!B:B,Mapping!D465,Import!G:G)+SUMIF(Import!C:C,Mapping!D465,Import!G:G)+SUMIF(Import!D:D,Mapping!D465,Import!G:G))","v":0},{"$f":"IF(D465=D464,0,SUMIF(Import!B:B,Mapping!D465,Import!H:H)+SUMIF(Import!C:C,Mapping!D465,Import!H:H)+SUMIF(Import!D:D,Mapping!D465,Import!H:H))","v":0}]
["5","53","531","5310",5310,"Caisse siège social",{"$f":"IF(D466=D465,0,SUMIF(Import!B:B,Mapping!D466,Import!G:G)+SUMIF(Import!C:C,Mapping!D466,Import!G:G)+SUMIF(Import!D:D,Mapping!D466,Import!G:G))","v":0},{"$f":"IF(D466=D465,0,SUMIF(Import!B:B,Mapping!D466,Import!H:H)+SUMIF(Import!C:C,Mapping!D466,Import!H:H)+SUMIF(Import!D:D,Mapping!D466,Import!H:H))","v":0}]
["5","53","531","5311",5311,"Caisse en monnaie nationale",{"$f":"IF(D467=D466,0,SUMIF(Import!B:B,Mapping!D467,Import!G:G)+SUMIF(Import!C:C,Mapping!D467,Import!G:G)+SUMIF(Import!D:D,Mapping!D467,Import!G:G))","v":0},{"$f":"IF(D467=D466,0,SUMIF(Import!B:B,Mapping!D467,Import!H:H)+SUMIF(Import!C:C,Mapping!D467,Import!H:H)+SUMIF(Import!D:D,Mapping!D467,Import!H:H))","v":0}]
["5","53","531","5314",5314,"Caisse en devises",{"$f":"IF(D468=D467,0,SUMIF(Import!B:B,Mapping!D468,Import!G:G)+SUMIF(Import!C:C,Mapping!D468,Import!G:G)+SUMIF(Import!D:D,Mapping!D468,Import!G:G))","v":0},{"$f":"IF(D468=D467,0,SUMIF(Import!B:B,Mapping!D468,Import!H:H)+SUMIF(Import!C:C,Mapping!D468,Import!H:H)+SUMIF(Import!D:D,Mapping!D468,Import!H:H))","v":0}]
["5","58","580","5800",5800,"Virement interne",{"$f":"IF(D469=D468,0,SUMIF(Import!B:B,Mapping!D469,Import!G:G)+SUMIF(Import!C:C,Mapping!D469,Import!G:G)+SUMIF(Import!D:D,Mapping!D469,Import!G:G))","v":0},{"$f":"IF(D469=D468,0,SUMIF(Import!B:B,Mapping!D469,Import!H:H)+SUMIF(Import!C:C,Mapping!D469,Import!H:H)+SUMIF(Import!D:D,Mapping!D469,Import!H:H))","v":0}]
["5","59","590","5900",5900,"Dépréciations des valeurs mobilières de placement",{"$f":"IF(D470=D469,0,SUMIF(Import!B:B,Mapping!D470,Import!G:G)+SUMIF(Import!C:C,Mapping!D470,Import!G:G)+SUMIF(Import!D:D,Mapping!D470,Import!G:G))","v":0},{"$f":"IF(D470=D469,0,SUMIF(Import!B:B,Mapping!D470,Import!H:H)+SUMIF(Import!C:C,Mapping!D470,Import!H:H)+SUMIF(Import!D:D,Mapping!D470,Import!H:H))","v":0}]
["5","59","590","5903",5903,"Actions",{"$f":"IF(D471=D470,0,SUMIF(Import!B:B,Mapping!D471,Import!G:G)+SUMIF(Import!C:C,Mapping!D471,Import!G:G)+SUMIF(Import!D:D,Mapping!D471,Import!G:G))","v":0},{"$f":"IF(D471=D470,0,SUMIF(Import!B:B,Mapping!D471,Import!H:H)+SUMIF(Import!C:C,Mapping!D471,Import!H:H)+SUMIF(Import!D:D,Mapping!D471,Import!H:H))","v":0}]
["5","59","590","5904",5904,"Autres titres conférant un droit de propriété",{"$f":"IF(D472=D471,0,SUMIF(Import!B:B,Mapping!D472,Import!G:G)+SUMIF(Import!C:C,Mapping!D472,Import!G:G)+SUMIF(Import!D:D,Mapping!D472,Import!G:G))","v":0},{"$f":"IF(D472=D471,0,SUMIF(Import!B:B,Mapping!D472,Import!H:H)+SUMIF(Import!C:C,Mapping!D472,Import!H:H)+SUMIF(Import!D:D,Mapping!D472,Import!H:H))","v":0}]
["5","59","590","5906",5906,"Obligations",{"$f":"IF(D473=D472,0,SUMIF(Import!B:B,Mapping!D473,Import!G:G)+SUMIF(Import!C:C,Mapping!D473,Import!G:G)+SUMIF(Import!D:D,Mapping!D473,Import!G:G))","v":0},{"$f":"IF(D473=D472,0,SUMIF(Import!B:B,Mapping!D473,Import!H:H)+SUMIF(Import!C:C,Mapping!D473,Import!H:H)+SUMIF(Import!D:D,Mapping!D473,Import!H:H))","v":0}]
["5","59","590","5908",5908,"Autres valeurs mobilières de placement et créances assimilées",{"$f":"IF(D474=D473,0,SUMIF(Import!B:B,Mapping!D474,Import!G:G)+SUMIF(Import!C:C,Mapping!D474,Import!G:G)+SUMIF(Import!D:D,Mapping!D474,Import!G:G))","v":0},{"$f":"IF(D474=D473,0,SUMIF(Import!B:B,Mapping!D474,Import!H:H)+SUMIF(Import!C:C,Mapping!D474,Import!H:H)+SUMIF(Import!D:D,Mapping!D474,Import!H:H))","v":0}]
["6","60",{"$f":"+LEFT(E475,3)","v":"601"},"6010",6010,"Achats stockés - Matières premières et fournitures",{"$f":"IF(D475=D474,0,SUMIF(Import!B:B,Mapping!D475,Import!G:G)+SUMIF(Import!C:C,Mapping!D475,Import!G:G)+SUMIF(Import!D:D,Mapping!D475,Import!G:G))","v":0},{"$f":"IF(D475=D474,0,SUMIF(Import!B:B,Mapping!D475,Import!H:H)+SUMIF(Import!C:C,Mapping!D475,Import!H:H)+SUMIF(Import!D:D,Mapping!D475,Import!H:H))","v":0}]
["6","60","601","6011",6011,"Achats stockés - Matières premières et fournitures",{"$f":"IF(D476=D475,0,SUMIF(Import!B:B,Mapping!D476,Import!G:G)+SUMIF(Import!C:C,Mapping!D476,Import!G:G)+SUMIF(Import!D:D,Mapping!D476,Import!G:G))","v":0},{"$f":"IF(D476=D475,0,SUMIF(Import!B:B,Mapping!D476,Import!H:H)+SUMIF(Import!C:C,Mapping!D476,Import!H:H)+SUMIF(Import!D:D,Mapping!D476,Import!H:H))","v":0}]
["6","60",{"$f":"+LEFT(E477,3)","v":"601"},"6012",6012,"Achats stockés - Matières premières et fournitures",{"$f":"IF(D477=D476,0,SUMIF(Import!B:B,Mapping!D477,Import!G:G)+SUMIF(Import!C:C,Mapping!D477,Import!G:G)+SUMIF(Import!D:D,Mapping!D477,Import!G:G))","v":0},{"$f":"IF(D477=D476,0,SUMIF(Import!B:B,Mapping!D477,Import!H:H)+SUMIF(Import!C:C,Mapping!D477,Import!H:H)+SUMIF(Import!D:D,Mapping!D477,Import!H:H))","v":0}]
["6","60","601","6017",6017,"Achats stockés - Matières premières et fournitures",{"$f":"IF(D478=D477,0,SUMIF(Import!B:B,Mapping!D478,Import!G:G)+SUMIF(Import!C:C,Mapping!D478,Import!G:G)+SUMIF(Import!D:D,Mapping!D478,Import!G:G))","v":0},{"$f":"IF(D478=D477,0,SUMIF(Import!B:B,Mapping!D478,Import!H:H)+SUMIF(Import!C:C,Mapping!D478,Import!H:H)+SUMIF(Import!D:D,Mapping!D478,Import!H:H))","v":0}]
["6","60","602","6020",6020,"Achats stockés - Autres approvisionnements",{"$f":"IF(D479=D478,0,SUMIF(Import!B:B,Mapping!D479,Import!G:G)+SUMIF(Import!C:C,Mapping!D479,Import!G:G)+SUMIF(Import!D:D,Mapping!D479,Import!G:G))","v":0},{"$f":"IF(D479=D478,0,SUMIF(Import!B:B,Mapping!D479,Import!H:H)+SUMIF(Import!C:C,Mapping!D479,Import!H:H)+SUMIF(Import!D:D,Mapping!D479,Import!H:H))","v":0}]
["6","60",{"$f":"+LEFT(E480,3)","v":"602"},"6021",6021,"Matières consommables",{"$f":"IF(D480=D479,0,SUMIF(Import!B:B,Mapping!D480,Import!G:G)+SUMIF(Import!C:C,Mapping!D480,Import!G:G)+SUMIF(Import!D:D,Mapping!D480,Import!G:G))","v":0},{"$f":"IF(D480=D479,0,SUMIF(Import!B:B,Mapping!D480,Import!H:H)+SUMIF(Import!C:C,Mapping!D480,Import!H:H)+SUMIF(Import!D:D,Mapping!D480,Import!H:H))","v":0}]
["6","60","602","6022",6022,"Fournitures consommables",{"$f":"IF(D481=D480,0,SUMIF(Import!B:B,Mapping!D481,Import!G:G)+SUMIF(Import!C:C,Mapping!D481,Import!G:G)+SUMIF(Import!D:D,Mapping!D481,Import!G:G))","v":0},{"$f":"IF(D481=D480,0,SUMIF(Import!B:B,Mapping!D481,Import!H:H)+SUMIF(Import!C:C,Mapping!D481,Import!H:H)+SUMIF(Import!D:D,Mapping!D481,Import!H:H))","v":0}]
["6","60",{"$f":"+LEFT(E482,3)","v":"603"},"6030",6030,"Variations des stocks d'approvisionnements et de marchandises",{"$f":"IF(D482=D481,0,SUMIF(Import!B:B,Mapping!D482,Import!G:G)+SUMIF(Import!C:C,Mapping!D482,Import!G:G)+SUMIF(Import!D:D,Mapping!D482,Import!G:G))","v":0},{"$f":"IF(D482=D481,0,SUMIF(Import!B:B,Mapping!D482,Import!H:H)+SUMIF(Import!C:C,Mapping!D482,Import!H:H)+SUMIF(Import!D:D,Mapping!D482,Import!H:H))","v":0}]
["6","60","603","6031",6031,"Variations des stocks de matières premières et fournitures",{"$f":"IF(D483=D482,0,SUMIF(Import!B:B,Mapping!D483,Import!G:G)+SUMIF(Import!C:C,Mapping!D483,Import!G:G)+SUMIF(Import!D:D,Mapping!D483,Import!G:G))","v":0},{"$f":"IF(D483=D482,0,SUMIF(Import!B:B,Mapping!D483,Import!H:H)+SUMIF(Import!C:C,Mapping!D483,Import!H:H)+SUMIF(Import!D:D,Mapping!D483,Import!H:H))","v":0}]
["6","60","603","6032",6032,"Variations des stocks des autres approvisionnements",{"$f":"IF(D484=D483,0,SUMIF(Import!B:B,Mapping!D484,Import!G:G)+SUMIF(Import!C:C,Mapping!D484,Import!G:G)+SUMIF(Import!D:D,Mapping!D484,Import!G:G))","v":0},{"$f":"IF(D484=D483,0,SUMIF(Import!B:B,Mapping!D484,Import!H:H)+SUMIF(Import!C:C,Mapping!D484,Import!H:H)+SUMIF(Import!D:D,Mapping!D484,Import!H:H))","v":0}]
[{"$f":"LEFT(B485,1)","v":"6"},{"$f":"IF(OR(LEFT(E485,2)=\"42\",LEFT(E485,2)=\"43\",LEFT(E485,2)=\"44\",LEFT(E485,2)=\"45\",LEFT(E485,2)=\"46\",LEFT(E485,2)=\"47\",LEFT(E485,2)=\"51\"),IF(G485<0,LEFT(E485,2)&\"P\",LEFT(E485,2)&\"A\"),LEFT(E485,2))","v":"60"},{"$f":"+LEFT(E485,3)","v":"603"},{"$f":"LEFT(E485,4)","v":"6037"},6037,"Variations des stocks de marchandises",{"$f":"IF(D485=D484,0,SUMIF(Import!B:B,Mapping!D485,Import!G:G)+SUMIF(Import!C:C,Mapping!D485,Import!G:G)+SUMIF(Import!D:D,Mapping!D485,Import!G:G))","v":0},{"$f":"IF(D485=D484,0,SUMIF(Import!B:B,Mapping!D485,Import!H:H)+SUMIF(Import!C:C,Mapping!D485,Import!H:H)+SUMIF(Import!D:D,Mapping!D485,Import!H:H))","v":0}]
["6","60","604","6040",6040,"Achats d'études et prestations de services",{"$f":"IF(D486=D485,0,SUMIF(Import!B:B,Mapping!D486,Import!G:G)+SUMIF(Import!C:C,Mapping!D486,Import!G:G)+SUMIF(Import!D:D,Mapping!D486,Import!G:G))","v":0},{"$f":"IF(D486=D485,0,SUMIF(Import!B:B,Mapping!D486,Import!H:H)+SUMIF(Import!C:C,Mapping!D486,Import!H:H)+SUMIF(Import!D:D,Mapping!D486,Import!H:H))","v":0}]
["6","60","605","6050",6050,"Achats de matériel, équipements et travaux",{"$f":"IF(D487=D486,0,SUMIF(Import!B:B,Mapping!D487,Import!G:G)+SUMIF(Import!C:C,Mapping!D487,Import!G:G)+SUMIF(Import!D:D,Mapping!D487,Import!G:G))","v":0},{"$f":"IF(D487=D486,0,SUMIF(Import!B:B,Mapping!D487,Import!H:H)+SUMIF(Import!C:C,Mapping!D487,Import!H:H)+SUMIF(Import!D:D,Mapping!D487,Import!H:H))","v":0}]
["6","60","606","6061",6061,"Fournitures non stockables (eau, énergie)",{"$f":"IF(D488=D487,0,SUMIF(Import!B:B,Mapping!D488,Import!G:G)+SUMIF(Import!C:C,Mapping!D488,Import!G:G)+SUMIF(Import!D:D,Mapping!D488,Import!G:G))","v":0},{"$f":"IF(D488=D487,0,SUMIF(Import!B:B,Mapping!D488,Import!H:H)+SUMIF(Import!C:C,Mapping!D488,Import!H:H)+SUMIF(Import!D:D,Mapping!D488,Import!H:H))","v":0}]
["6","60","606","6063",6063,"Fournitures d'entretien et de petit équipement",{"$f":"IF(D489=D488,0,SUMIF(Import!B:B,Mapping!D489,Import!G:G)+SUMIF(Import!C:C,Mapping!D489,Import!G:G)+SUMIF(Import!D:D,Mapping!D489,Import!G:G))","v":0},{"$f":"IF(D489=D488,0,SUMIF(Import!B:B,Mapping!D489,Import!H:H)+SUMIF(Import!C:C,Mapping!D489,Import!H:H)+SUMIF(Import!D:D,Mapping!D489,Import!H:H))","v":0}]
["6","60","606","6064",6064,"Fournitures administratives",{"$f":"IF(D490=D489,0,SUMIF(Import!B:B,Mapping!D490,Import!G:G)+SUMIF(Import!C:C,Mapping!D490,Import!G:G)+SUMIF(Import!D:D,Mapping!D490,Import!G:G))","v":0},{"$f":"IF(D490=D489,0,SUMIF(Import!B:B,Mapping!D490,Import!H:H)+SUMIF(Import!C:C,Mapping!D490,Import!H:H)+SUMIF(Import!D:D,Mapping!D490,Import!H:H))","v":0}]
["6","60","606","6068",6068,"Autres matières et fournitures",{"$f":"IF(D491=D490,0,SUMIF(Import!B:B,Mapping!D491,Import!G:G)+SUMIF(Import!C:C,Mapping!D491,Import!G:G)+SUMIF(Import!D:D,Mapping!D491,Import!G:G))","v":0},{"$f":"IF(D491=D490,0,SUMIF(Import!B:B,Mapping!D491,Import!H:H)+SUMIF(Import!C:C,Mapping!D491,Import!H:H)+SUMIF(Import!D:D,Mapping!D491,Import!H:H))","v":0}]
["6","60","607","6070",6070,"Achats de marchandises",{"$f":"IF(D492=D491,0,SUMIF(Import!B:B,Mapping!D492,Import!G:G)+SUMIF(Import!C:C,Mapping!D492,Import!G:G)+SUMIF(Import!D:D,Mapping!D492,Import!G:G))","v":0},{"$f":"IF(D492=D491,0,SUMIF(Import!B:B,Mapping!D492,Import!H:H)+SUMIF(Import!C:C,Mapping!D492,Import!H:H)+SUMIF(Import!D:D,Mapping!D492,Import!H:H))","v":0}]
["6","60","607","6071",6071,"Achats de marchandises",{"$f":"IF(D493=D492,0,SUMIF(Import!B:B,Mapping!D493,Import!G:G)+SUMIF(Import!C:C,Mapping!D493,Import!G:G)+SUMIF(Import!D:D,Mapping!D493,Import!G:G))","v":0},{"$f":"IF(D493=D492,0,SUMIF(Import!B:B,Mapping!D493,Import!H:H)+SUMIF(Import!C:C,Mapping!D493,Import!H:H)+SUMIF(Import!D:D,Mapping!D493,Import!H:H))","v":0}]
["6","60",{"$f":"+LEFT(E494,3)","v":"607"},"6072",6072,"Achats de marchandises",{"$f":"IF(D494=D493,0,SUMIF(Import!B:B,Mapping!D494,Import!G:G)+SUMIF(Import!C:C,Mapping!D494,Import!G:G)+SUMIF(Import!D:D,Mapping!D494,Import!G:G))","v":0},{"$f":"IF(D494=D493,0,SUMIF(Import!B:B,Mapping!D494,Import!H:H)+SUMIF(Import!C:C,Mapping!D494,Import!H:H)+SUMIF(Import!D:D,Mapping!D494,Import!H:H))","v":0}]
["6","60",{"$f":"+LEFT(E495,3)","v":"607"},"6073",6073,"Achats de marchandises",{"$f":"IF(D495=D494,0,SUMIF(Import!B:B,Mapping!D495,Import!G:G)+SUMIF(Import!C:C,Mapping!D495,Import!G:G)+SUMIF(Import!D:D,Mapping!D495,Import!G:G))","v":0},{"$f":"IF(D495=D494,0,SUMIF(Import!B:B,Mapping!D495,Import!H:H)+SUMIF(Import!C:C,Mapping!D495,Import!H:H)+SUMIF(Import!D:D,Mapping!D495,Import!H:H))","v":0}]
[{"$f":"LEFT(B496,1)","v":"6"},{"$f":"IF(OR(LEFT(E496,2)=\"42\",LEFT(E496,2)=\"43\",LEFT(E496,2)=\"44\",LEFT(E496,2)=\"45\",LEFT(E496,2)=\"46\",LEFT(E496,2)=\"47\",LEFT(E496,2)=\"51\"),IF(G496<0,LEFT(E496,2)&\"P\",LEFT(E496,2)&\"A\"),LEFT(E496,2))","v":"60"},"607",{"$f":"LEFT(E496,4)","v":"6074"},6074,"Achats de marchandises",{"$f":"IF(D496=D495,0,SUMIF(Import!B:B,Mapping!D496,Import!G:G)+SUMIF(Import!C:C,Mapping!D496,Import!G:G)+SUMIF(Import!D:D,Mapping!D496,Import!G:G))","v":0},{"$f":"IF(D496=D495,0,SUMIF(Import!B:B,Mapping!D496,Import!H:H)+SUMIF(Import!C:C,Mapping!D496,Import!H:H)+SUMIF(Import!D:D,Mapping!D496,Import!H:H))","v":0}]
["6","60","607","6075",6075,"Achats de marchandises",{"$f":"IF(D497=D496,0,SUMIF(Import!B:B,Mapping!D497,Import!G:G)+SUMIF(Import!C:C,Mapping!D497,Import!G:G)+SUMIF(Import!D:D,Mapping!D497,Import!G:G))","v":0},{"$f":"IF(D497=D496,0,SUMIF(Import!B:B,Mapping!D497,Import!H:H)+SUMIF(Import!C:C,Mapping!D497,Import!H:H)+SUMIF(Import!D:D,Mapping!D497,Import!H:H))","v":0}]
[{"$f":"LEFT(B498,1)","v":"6"},{"$f":"IF(OR(LEFT(E498,2)=\"42\",LEFT(E498,2)=\"43\",LEFT(E498,2)=\"44\",LEFT(E498,2)=\"45\",LEFT(E498,2)=\"46\",LEFT(E498,2)=\"47\",LEFT(E498,2)=\"51\"),IF(G498<0,LEFT(E498,2)&\"P\",LEFT(E498,2)&\"A\"),LEFT(E498,2))","v":"60"},{"$f":"+LEFT(E498,3)","v":"609"},{"$f":"LEFT(E498,4)","v":"6091"},6091,"R.R.R obtenus sur achats de matières premières et fournitures",{"$f":"IF(D498=D497,0,SUMIF(Import!B:B,Mapping!D498,Import!G:G)+SUMIF(Import!C:C,Mapping!D498,Import!G:G)+SUMIF(Import!D:D,Mapping!D498,Import!G:G))","v":0},{"$f":"IF(D498=D497,0,SUMIF(Import!B:B,Mapping!D498,Import!H:H)+SUMIF(Import!C:C,Mapping!D498,Import!H:H)+SUMIF(Import!D:D,Mapping!D498,Import!H:H))","v":0}]
["6","60","609","6092",6092,"R.R.R obtenus sur achats stockés - autres approvisionnements",{"$f":"IF(D499=D498,0,SUMIF(Import!B:B,Mapping!D499,Import!G:G)+SUMIF(Import!C:C,Mapping!D499,Import!G:G)+SUMIF(Import!D:D,Mapping!D499,Import!G:G))","v":0},{"$f":"IF(D499=D498,0,SUMIF(Import!B:B,Mapping!D499,Import!H:H)+SUMIF(Import!C:C,Mapping!D499,Import!H:H)+SUMIF(Import!D:D,Mapping!D499,Import!H:H))","v":0}]
[{"$f":"LEFT(B500,1)","v":"6"},{"$f":"IF(OR(LEFT(E500,2)=\"42\",LEFT(E500,2)=\"43\",LEFT(E500,2)=\"44\",LEFT(E500,2)=\"45\",LEFT(E500,2)=\"46\",LEFT(E500,2)=\"47\",LEFT(E500,2)=\"51\"),IF(G500<0,LEFT(E500,2)&\"P\",LEFT(E500,2)&\"A\"),LEFT(E500,2))","v":"60"},{"$f":"+LEFT(E500,3)","v":"609"},{"$f":"LEFT(E500,4)","v":"6094"},6094,"R.R.R obtenus sur études et prestations de services ",{"$f":"IF(D500=D499,0,SUMIF(Import!B:B,Mapping!D500,Import!G:G)+SUMIF(Import!C:C,Mapping!D500,Import!G:G)+SUMIF(Import!D:D,Mapping!D500,Import!G:G))","v":0},{"$f":"IF(D500=D499,0,SUMIF(Import!B:B,Mapping!D500,Import!H:H)+SUMIF(Import!C:C,Mapping!D500,Import!H:H)+SUMIF(Import!D:D,Mapping!D500,Import!H:H))","v":0}]
["6","60","609","6095",6095,"R.R.R obtenus sur ach de matériel, equipement et travaux",{"$f":"IF(D501=D500,0,SUMIF(Import!B:B,Mapping!D501,Import!G:G)+SUMIF(Import!C:C,Mapping!D501,Import!G:G)+SUMIF(Import!D:D,Mapping!D501,Import!G:G))","v":0},{"$f":"IF(D501=D500,0,SUMIF(Import!B:B,Mapping!D501,Import!H:H)+SUMIF(Import!C:C,Mapping!D501,Import!H:H)+SUMIF(Import!D:D,Mapping!D501,Import!H:H))","v":0}]
["6","60","609","6096",6096,"R.R.R obtenus sur achats non stockés de matières et fournitures ",{"$f":"IF(D502=D501,0,SUMIF(Import!B:B,Mapping!D502,Import!G:G)+SUMIF(Import!C:C,Mapping!D502,Import!G:G)+SUMIF(Import!D:D,Mapping!D502,Import!G:G))","v":0},{"$f":"IF(D502=D501,0,SUMIF(Import!B:B,Mapping!D502,Import!H:H)+SUMIF(Import!C:C,Mapping!D502,Import!H:H)+SUMIF(Import!D:D,Mapping!D502,Import!H:H))","v":0}]
["6","60","609","6097",6097,"R.R.R obtenus sur achats de marchandises",{"$f":"IF(D503=D502,0,SUMIF(Import!B:B,Mapping!D503,Import!G:G)+SUMIF(Import!C:C,Mapping!D503,Import!G:G)+SUMIF(Import!D:D,Mapping!D503,Import!G:G))","v":0},{"$f":"IF(D503=D502,0,SUMIF(Import!B:B,Mapping!D503,Import!H:H)+SUMIF(Import!C:C,Mapping!D503,Import!H:H)+SUMIF(Import!D:D,Mapping!D503,Import!H:H))","v":0}]
["6","61","611","6110",6110,"Sous-traitance générale",{"$f":"IF(D504=D503,0,SUMIF(Import!B:B,Mapping!D504,Import!G:G)+SUMIF(Import!C:C,Mapping!D504,Import!G:G)+SUMIF(Import!D:D,Mapping!D504,Import!G:G))","v":0},{"$f":"IF(D504=D503,0,SUMIF(Import!B:B,Mapping!D504,Import!H:H)+SUMIF(Import!C:C,Mapping!D504,Import!H:H)+SUMIF(Import!D:D,Mapping!D504,Import!H:H))","v":0}]
["6","61","612","6120",6120,"Redevances de crédit-bail",{"$f":"IF(D505=D504,0,SUMIF(Import!B:B,Mapping!D505,Import!G:G)+SUMIF(Import!C:C,Mapping!D505,Import!G:G)+SUMIF(Import!D:D,Mapping!D505,Import!G:G))","v":0},{"$f":"IF(D505=D504,0,SUMIF(Import!B:B,Mapping!D505,Import!H:H)+SUMIF(Import!C:C,Mapping!D505,Import!H:H)+SUMIF(Import!D:D,Mapping!D505,Import!H:H))","v":0}]
["6","61","612","6122",6122,"Crédit-bail mobilier",{"$f":"IF(D506=D505,0,SUMIF(Import!B:B,Mapping!D506,Import!G:G)+SUMIF(Import!C:C,Mapping!D506,Import!G:G)+SUMIF(Import!D:D,Mapping!D506,Import!G:G))","v":0},{"$f":"IF(D506=D505,0,SUMIF(Import!B:B,Mapping!D506,Import!H:H)+SUMIF(Import!C:C,Mapping!D506,Import!H:H)+SUMIF(Import!D:D,Mapping!D506,Import!H:H))","v":0}]
["6","61","612","6125",6125,"Crédit-bail immobilier",{"$f":"IF(D507=D506,0,SUMIF(Import!B:B,Mapping!D507,Import!G:G)+SUMIF(Import!C:C,Mapping!D507,Import!G:G)+SUMIF(Import!D:D,Mapping!D507,Import!G:G))","v":0},{"$f":"IF(D507=D506,0,SUMIF(Import!B:B,Mapping!D507,Import!H:H)+SUMIF(Import!C:C,Mapping!D507,Import!H:H)+SUMIF(Import!D:D,Mapping!D507,Import!H:H))","v":0}]
["6","61","613",{"$f":"LEFT(E508,4)","v":"6130"},6130,"Locations",{"$f":"IF(D508=D507,0,SUMIF(Import!B:B,Mapping!D508,Import!G:G)+SUMIF(Import!C:C,Mapping!D508,Import!G:G)+SUMIF(Import!D:D,Mapping!D508,Import!G:G))","v":0},{"$f":"IF(D508=D507,0,SUMIF(Import!B:B,Mapping!D508,Import!H:H)+SUMIF(Import!C:C,Mapping!D508,Import!H:H)+SUMIF(Import!D:D,Mapping!D508,Import!H:H))","v":0}]
["6","61",{"$f":"+LEFT(E509,3)","v":"613"},"6132",6132,"Locations immobilières",{"$f":"IF(D509=D508,0,SUMIF(Import!B:B,Mapping!D509,Import!G:G)+SUMIF(Import!C:C,Mapping!D509,Import!G:G)+SUMIF(Import!D:D,Mapping!D509,Import!G:G))","v":0},{"$f":"IF(D509=D508,0,SUMIF(Import!B:B,Mapping!D509,Import!H:H)+SUMIF(Import!C:C,Mapping!D509,Import!H:H)+SUMIF(Import!D:D,Mapping!D509,Import!H:H))","v":0}]
["6","61",{"$f":"+LEFT(E510,3)","v":"613"},"6135",6135,"Locations mobilières",{"$f":"IF(D510=D509,0,SUMIF(Import!B:B,Mapping!D510,Import!G:G)+SUMIF(Import!C:C,Mapping!D510,Import!G:G)+SUMIF(Import!D:D,Mapping!D510,Import!G:G))","v":0},{"$f":"IF(D510=D509,0,SUMIF(Import!B:B,Mapping!D510,Import!H:H)+SUMIF(Import!C:C,Mapping!D510,Import!H:H)+SUMIF(Import!D:D,Mapping!D510,Import!H:H))","v":0}]
["6","61",{"$f":"+LEFT(E511,3)","v":"614"},"6140",6140,"Charges locatives et de copropriété",{"$f":"IF(D511=D510,0,SUMIF(Import!B:B,Mapping!D511,Import!G:G)+SUMIF(Import!C:C,Mapping!D511,Import!G:G)+SUMIF(Import!D:D,Mapping!D511,Import!G:G))","v":0},{"$f":"IF(D511=D510,0,SUMIF(Import!B:B,Mapping!D511,Import!H:H)+SUMIF(Import!C:C,Mapping!D511,Import!H:H)+SUMIF(Import!D:D,Mapping!D511,Import!H:H))","v":0}]
["6","61","614","6141",6141,"Charges locatives et de copropriété",{"$f":"IF(D512=D511,0,SUMIF(Import!B:B,Mapping!D512,Import!G:G)+SUMIF(Import!C:C,Mapping!D512,Import!G:G)+SUMIF(Import!D:D,Mapping!D512,Import!G:G))","v":0},{"$f":"IF(D512=D511,0,SUMIF(Import!B:B,Mapping!D512,Import!H:H)+SUMIF(Import!C:C,Mapping!D512,Import!H:H)+SUMIF(Import!D:D,Mapping!D512,Import!H:H))","v":0}]
[{"$f":"LEFT(B513,1)","v":"6"},{"$f":"IF(OR(LEFT(E513,2)=\"42\",LEFT(E513,2)=\"43\",LEFT(E513,2)=\"44\",LEFT(E513,2)=\"45\",LEFT(E513,2)=\"46\",LEFT(E513,2)=\"47\",LEFT(E513,2)=\"51\"),IF(G513<0,LEFT(E513,2)&\"P\",LEFT(E513,2)&\"A\"),LEFT(E513,2))","v":"61"},{"$f":"+LEFT(E513,3)","v":"615"},{"$f":"LEFT(E513,4)","v":"6150"},6150,"Entretien et réparations",{"$f":"IF(D513=D512,0,SUMIF(Import!B:B,Mapping!D513,Import!G:G)+SUMIF(Import!C:C,Mapping!D513,Import!G:G)+SUMIF(Import!D:D,Mapping!D513,Import!G:G))","v":0},{"$f":"IF(D513=D511,0,SUMIF(Import!B:B,Mapping!D513,Import!H:H)+SUMIF(Import!C:C,Mapping!D513,Import!H:H)+SUMIF(Import!D:D,Mapping!D513,Import!H:H))","v":0}]
[6,"61","615","6152",6152,"Sur biens immobiliers",{"$f":"IF(D514=D513,0,SUMIF(Import!B:B,Mapping!D514,Import!G:G)+SUMIF(Import!C:C,Mapping!D514,Import!G:G)+SUMIF(Import!D:D,Mapping!D514,Import!G:G))","v":0},{"$f":"IF(D514=D512,0,SUMIF(Import!B:B,Mapping!D514,Import!H:H)+SUMIF(Import!C:C,Mapping!D514,Import!H:H)+SUMIF(Import!D:D,Mapping!D514,Import!H:H))","v":0}]
["6","61","615","6155",6155,"Sur biens mobiliers",{"$f":"IF(D515=D513,0,SUMIF(Import!B:B,Mapping!D515,Import!G:G)+SUMIF(Import!C:C,Mapping!D515,Import!G:G)+SUMIF(Import!D:D,Mapping!D515,Import!G:G))","v":0},{"$f":"IF(D515=D505,0,SUMIF(Import!B:B,Mapping!D515,Import!H:H)+SUMIF(Import!C:C,Mapping!D515,Import!H:H)+SUMIF(Import!D:D,Mapping!D515,Import!H:H))","v":0}]
[{"$f":"LEFT(B516,1)","v":"6"},{"$f":"IF(OR(LEFT(E516,2)=\"42\",LEFT(E516,2)=\"43\",LEFT(E516,2)=\"44\",LEFT(E516,2)=\"45\",LEFT(E516,2)=\"46\",LEFT(E516,2)=\"47\",LEFT(E516,2)=\"51\"),IF(G516<0,LEFT(E516,2)&\"P\",LEFT(E516,2)&\"A\"),LEFT(E516,2))","v":"61"},{"$f":"+LEFT(E516,3)","v":"615"},{"$f":"LEFT(E516,4)","v":"6156"},6156,"Maintenance",{"$f":"IF(D516=D515,0,SUMIF(Import!B:B,Mapping!D516,Import!G:G)+SUMIF(Import!C:C,Mapping!D516,Import!G:G)+SUMIF(Import!D:D,Mapping!D516,Import!G:G))","v":0},{"$f":"IF(D516=D506,0,SUMIF(Import!B:B,Mapping!D516,Import!H:H)+SUMIF(Import!C:C,Mapping!D516,Import!H:H)+SUMIF(Import!D:D,Mapping!D516,Import!H:H))","v":0}]
["6","61","616","6160",6160,"Primes d'assurances",{"$f":"IF(D517=D516,0,SUMIF(Import!B:B,Mapping!D517,Import!G:G)+SUMIF(Import!C:C,Mapping!D517,Import!G:G)+SUMIF(Import!D:D,Mapping!D517,Import!G:G))","v":0},{"$f":"IF(D517=D507,0,SUMIF(Import!B:B,Mapping!D517,Import!H:H)+SUMIF(Import!C:C,Mapping!D517,Import!H:H)+SUMIF(Import!D:D,Mapping!D517,Import!H:H))","v":0}]
[{"$f":"LEFT(B518,1)","v":"6"},{"$f":"IF(OR(LEFT(E518,2)=\"42\",LEFT(E518,2)=\"43\",LEFT(E518,2)=\"44\",LEFT(E518,2)=\"45\",LEFT(E518,2)=\"46\",LEFT(E518,2)=\"47\",LEFT(E518,2)=\"51\"),IF(G518<0,LEFT(E518,2)&\"P\",LEFT(E518,2)&\"A\"),LEFT(E518,2))","v":"61"},{"$f":"+LEFT(E518,3)","v":"616"},{"$f":"LEFT(E518,4)","v":"6161"},6161,"Multirisques",{"$f":"IF(D518=D517,0,SUMIF(Import!B:B,Mapping!D518,Import!G:G)+SUMIF(Import!C:C,Mapping!D518,Import!G:G)+SUMIF(Import!D:D,Mapping!D518,Import!G:G))","v":0},{"$f":"IF(D518=D508,0,SUMIF(Import!B:B,Mapping!D518,Import!H:H)+SUMIF(Import!C:C,Mapping!D518,Import!H:H)+SUMIF(Import!D:D,Mapping!D518,Import!H:H))","v":0}]
["6","61","616","6162",6162,"Assurance obligatoire dommage construction",{"$f":"IF(D519=D518,0,SUMIF(Import!B:B,Mapping!D519,Import!G:G)+SUMIF(Import!C:C,Mapping!D519,Import!G:G)+SUMIF(Import!D:D,Mapping!D519,Import!G:G))","v":0},{"$f":"IF(D519=D509,0,SUMIF(Import!B:B,Mapping!D519,Import!H:H)+SUMIF(Import!C:C,Mapping!D519,Import!H:H)+SUMIF(Import!D:D,Mapping!D519,Import!H:H))","v":0}]
[{"$f":"LEFT(B520,1)","v":"6"},{"$f":"IF(OR(LEFT(E520,2)=\"42\",LEFT(E520,2)=\"43\",LEFT(E520,2)=\"44\",LEFT(E520,2)=\"45\",LEFT(E520,2)=\"46\",LEFT(E520,2)=\"47\",LEFT(E520,2)=\"51\"),IF(G520<0,LEFT(E520,2)&\"P\",LEFT(E520,2)&\"A\"),LEFT(E520,2))","v":"61"},{"$f":"+LEFT(E520,3)","v":"616"},{"$f":"LEFT(E520,4)","v":"6163"},6163,"Assurance-transport",{"$f":"IF(D520=D519,0,SUMIF(Import!B:B,Mapping!D520,Import!G:G)+SUMIF(Import!C:C,Mapping!D520,Import!G:G)+SUMIF(Import!D:D,Mapping!D520,Import!G:G))","v":0},{"$f":"IF(D520=D510,0,SUMIF(Import!B:B,Mapping!D520,Import!H:H)+SUMIF(Import!C:C,Mapping!D520,Import!H:H)+SUMIF(Import!D:D,Mapping!D520,Import!H:H))","v":0}]
["6","61","616",{"$f":"LEFT(E521,5)","v":"61636"},61636,"sur achats",{"$f":"IF(D521=D520,0,SUMIF(Import!B:B,Mapping!D521,Import!G:G)+SUMIF(Import!C:C,Mapping!D521,Import!G:G)+SUMIF(Import!D:D,Mapping!D521,Import!G:G))","v":0},{"$f":"IF(D521=D511,0,SUMIF(Import!B:B,Mapping!D521,Import!H:H)+SUMIF(Import!C:C,Mapping!D521,Import!H:H)+SUMIF(Import!D:D,Mapping!D521,Import!H:H))","v":0}]
["6","61",{"$f":"+LEFT(E522,3)","v":"616"},{"$f":"LEFT(E522,5)","v":"61637"},61637,"sur ventes",{"$f":"IF(D522=D521,0,SUMIF(Import!B:B,Mapping!D522,Import!G:G)+SUMIF(Import!C:C,Mapping!D522,Import!G:G)+SUMIF(Import!D:D,Mapping!D522,Import!G:G))","v":0},{"$f":"IF(D522=D512,0,SUMIF(Import!B:B,Mapping!D522,Import!H:H)+SUMIF(Import!C:C,Mapping!D522,Import!H:H)+SUMIF(Import!D:D,Mapping!D522,Import!H:H))","v":0}]
["6","61","616",{"$f":"LEFT(E523,5)","v":"61638"},61638,"sur autres biens",{"$f":"IF(D523=D522,0,SUMIF(Import!B:B,Mapping!D523,Import!G:G)+SUMIF(Import!C:C,Mapping!D523,Import!G:G)+SUMIF(Import!D:D,Mapping!D523,Import!G:G))","v":0},{"$f":"IF(D523=D513,0,SUMIF(Import!B:B,Mapping!D523,Import!H:H)+SUMIF(Import!C:C,Mapping!D523,Import!H:H)+SUMIF(Import!D:D,Mapping!D523,Import!H:H))","v":0}]
["6","61","616","6164",6164,"Risques d'exploitation",{"$f":"IF(D524=D523,0,SUMIF(Import!B:B,Mapping!D524,Import!G:G)+SUMIF(Import!C:C,Mapping!D524,Import!G:G)+SUMIF(Import!D:D,Mapping!D524,Import!G:G))","v":0},{"$f":"IF(D524=D515,0,SUMIF(Import!B:B,Mapping!D524,Import!H:H)+SUMIF(Import!C:C,Mapping!D524,Import!H:H)+SUMIF(Import!D:D,Mapping!D524,Import!H:H))","v":0}]
["6","61","616","6165",6165,"Insolvabilité clients",{"$f":"IF(D525=D524,0,SUMIF(Import!B:B,Mapping!D525,Import!G:G)+SUMIF(Import!C:C,Mapping!D525,Import!G:G)+SUMIF(Import!D:D,Mapping!D525,Import!G:G))","v":0},{"$f":"IF(D525=D516,0,SUMIF(Import!B:B,Mapping!D525,Import!H:H)+SUMIF(Import!C:C,Mapping!D525,Import!H:H)+SUMIF(Import!D:D,Mapping!D525,Import!H:H))","v":0}]
["6","61","617","6170",6170,"Etudes et recherches",{"$f":"IF(D526=D525,0,SUMIF(Import!B:B,Mapping!D526,Import!G:G)+SUMIF(Import!C:C,Mapping!D526,Import!G:G)+SUMIF(Import!D:D,Mapping!D526,Import!G:G))","v":0},{"$f":"IF(D526=D517,0,SUMIF(Import!B:B,Mapping!D526,Import!H:H)+SUMIF(Import!C:C,Mapping!D526,Import!H:H)+SUMIF(Import!D:D,Mapping!D526,Import!H:H))","v":0}]
["6","61","618","6180",6180,"Divers",{"$f":"IF(D527=D526,0,SUMIF(Import!B:B,Mapping!D527,Import!G:G)+SUMIF(Import!C:C,Mapping!D527,Import!G:G)+SUMIF(Import!D:D,Mapping!D527,Import!G:G))","v":0},{"$f":"IF(D527=D518,0,SUMIF(Import!B:B,Mapping!D527,Import!H:H)+SUMIF(Import!C:C,Mapping!D527,Import!H:H)+SUMIF(Import!D:D,Mapping!D527,Import!H:H))","v":0}]
["6","61","618","6181",6181,"Documentation générale",{"$f":"IF(D528=D527,0,SUMIF(Import!B:B,Mapping!D528,Import!G:G)+SUMIF(Import!C:C,Mapping!D528,Import!G:G)+SUMIF(Import!D:D,Mapping!D528,Import!G:G))","v":0},{"$f":"IF(D528=D519,0,SUMIF(Import!B:B,Mapping!D528,Import!H:H)+SUMIF(Import!C:C,Mapping!D528,Import!H:H)+SUMIF(Import!D:D,Mapping!D528,Import!H:H))","v":0}]
["6","61","618","6183",6183,"Documentation technique",{"$f":"IF(D529=D528,0,SUMIF(Import!B:B,Mapping!D529,Import!G:G)+SUMIF(Import!C:C,Mapping!D529,Import!G:G)+SUMIF(Import!D:D,Mapping!D529,Import!G:G))","v":0},{"$f":"IF(D529=D520,0,SUMIF(Import!B:B,Mapping!D529,Import!H:H)+SUMIF(Import!C:C,Mapping!D529,Import!H:H)+SUMIF(Import!D:D,Mapping!D529,Import!H:H))","v":0}]
["6","61","618","6185",6185,"Frais de colloques, séminaires, conférences",{"$f":"IF(D530=D529,0,SUMIF(Import!B:B,Mapping!D530,Import!G:G)+SUMIF(Import!C:C,Mapping!D530,Import!G:G)+SUMIF(Import!D:D,Mapping!D530,Import!G:G))","v":0},{"$f":"IF(D530=D521,0,SUMIF(Import!B:B,Mapping!D530,Import!H:H)+SUMIF(Import!C:C,Mapping!D530,Import!H:H)+SUMIF(Import!D:D,Mapping!D530,Import!H:H))","v":0}]
["6","61","619","6190",6190,"Rabais, remises et ristournes obtenus sur services extérieurs",{"$f":"IF(D531=D530,0,SUMIF(Import!B:B,Mapping!D531,Import!G:G)+SUMIF(Import!C:C,Mapping!D531,Import!G:G)+SUMIF(Import!D:D,Mapping!D531,Import!G:G))","v":0},{"$f":"IF(D531=D530,0,SUMIF(Import!B:B,Mapping!D531,Import!H:H)+SUMIF(Import!C:C,Mapping!D531,Import!H:H)+SUMIF(Import!D:D,Mapping!D531,Import!H:H))","v":0}]
["6","62","621","6210",6210,"Personnel extérieur à l'entité",{"$f":"IF(D532=D531,0,SUMIF(Import!B:B,Mapping!D532,Import!G:G)+SUMIF(Import!C:C,Mapping!D532,Import!G:G)+SUMIF(Import!D:D,Mapping!D532,Import!G:G))","v":0},{"$f":"IF(D532=D531,0,SUMIF(Import!B:B,Mapping!D532,Import!H:H)+SUMIF(Import!C:C,Mapping!D532,Import!H:H)+SUMIF(Import!D:D,Mapping!D532,Import!H:H))","v":0}]
["6","62","621","6211",6211,"Personnel intérimaire",{"$f":"IF(D533=D532,0,SUMIF(Import!B:B,Mapping!D533,Import!G:G)+SUMIF(Import!C:C,Mapping!D533,Import!G:G)+SUMIF(Import!D:D,Mapping!D533,Import!G:G))","v":0},{"$f":"IF(D533=D532,0,SUMIF(Import!B:B,Mapping!D533,Import!H:H)+SUMIF(Import!C:C,Mapping!D533,Import!H:H)+SUMIF(Import!D:D,Mapping!D533,Import!H:H))","v":0}]
["6","62","621","6214",6214,"Personnel détaché ou prêté à l'entité",{"$f":"IF(D534=D533,0,SUMIF(Import!B:B,Mapping!D534,Import!G:G)+SUMIF(Import!C:C,Mapping!D534,Import!G:G)+SUMIF(Import!D:D,Mapping!D534,Import!G:G))","v":0},{"$f":"IF(D534=D533,0,SUMIF(Import!B:B,Mapping!D534,Import!H:H)+SUMIF(Import!C:C,Mapping!D534,Import!H:H)+SUMIF(Import!D:D,Mapping!D534,Import!H:H))","v":0}]
["6","62","622","6220",6220,"Rémunérations d'intermédiaires et honoraires",{"$f":"IF(D535=D534,0,SUMIF(Import!B:B,Mapping!D535,Import!G:G)+SUMIF(Import!C:C,Mapping!D535,Import!G:G)+SUMIF(Import!D:D,Mapping!D535,Import!G:G))","v":0},{"$f":"IF(D535=D534,0,SUMIF(Import!B:B,Mapping!D535,Import!H:H)+SUMIF(Import!C:C,Mapping!D535,Import!H:H)+SUMIF(Import!D:D,Mapping!D535,Import!H:H))","v":0}]
["6","62","622","6221",6221,"Commissions et courtages sur achats",{"$f":"IF(D536=D535,0,SUMIF(Import!B:B,Mapping!D536,Import!G:G)+SUMIF(Import!C:C,Mapping!D536,Import!G:G)+SUMIF(Import!D:D,Mapping!D536,Import!G:G))","v":0},{"$f":"IF(D536=D535,0,SUMIF(Import!B:B,Mapping!D536,Import!H:H)+SUMIF(Import!C:C,Mapping!D536,Import!H:H)+SUMIF(Import!D:D,Mapping!D536,Import!H:H))","v":0}]
[{"$f":"LEFT(B537,1)","v":"6"},"62","622","6222",6222,"Commissions et courtages sur ventes",{"$f":"IF(D537=D536,0,SUMIF(Import!B:B,Mapping!D537,Import!G:G)+SUMIF(Import!C:C,Mapping!D537,Import!G:G)+SUMIF(Import!D:D,Mapping!D537,Import!G:G))","v":0},{"$f":"IF(D537=D536,0,SUMIF(Import!B:B,Mapping!D537,Import!H:H)+SUMIF(Import!C:C,Mapping!D537,Import!H:H)+SUMIF(Import!D:D,Mapping!D537,Import!H:H))","v":0}]
["6","62","622","6224",6224,"Rémunérations des transitaires",{"$f":"IF(D538=D537,0,SUMIF(Import!B:B,Mapping!D538,Import!G:G)+SUMIF(Import!C:C,Mapping!D538,Import!G:G)+SUMIF(Import!D:D,Mapping!D538,Import!G:G))","v":0},{"$f":"IF(D538=D537,0,SUMIF(Import!B:B,Mapping!D538,Import!H:H)+SUMIF(Import!C:C,Mapping!D538,Import!H:H)+SUMIF(Import!D:D,Mapping!D538,Import!H:H))","v":0}]
["6","62","622","6225",6225,"Rémunérations d'affacturage",{"$f":"IF(D539=D538,0,SUMIF(Import!B:B,Mapping!D539,Import!G:G)+SUMIF(Import!C:C,Mapping!D539,Import!G:G)+SUMIF(Import!D:D,Mapping!D539,Import!G:G))","v":0},{"$f":"IF(D539=D538,0,SUMIF(Import!B:B,Mapping!D539,Import!H:H)+SUMIF(Import!C:C,Mapping!D539,Import!H:H)+SUMIF(Import!D:D,Mapping!D539,Import!H:H))","v":0}]
["6","62","622","6226",6226,"Honoraires",{"$f":"IF(D540=D539,0,SUMIF(Import!B:B,Mapping!D540,Import!G:G)+SUMIF(Import!C:C,Mapping!D540,Import!G:G)+SUMIF(Import!D:D,Mapping!D540,Import!G:G))","v":0},{"$f":"IF(D540=D539,0,SUMIF(Import!B:B,Mapping!D540,Import!H:H)+SUMIF(Import!C:C,Mapping!D540,Import!H:H)+SUMIF(Import!D:D,Mapping!D540,Import!H:H))","v":0}]
["6",{"$f":"IF(OR(LEFT(E541,2)=\"42\",LEFT(E541,2)=\"43\",LEFT(E541,2)=\"44\",LEFT(E541,2)=\"45\",LEFT(E541,2)=\"46\",LEFT(E541,2)=\"47\",LEFT(E541,2)=\"51\"),IF(G541<0,LEFT(E541,2)&\"P\",LEFT(E541,2)&\"A\"),LEFT(E541,2))","v":"62"},"622","6227",6227,"Frais d'actes et de contentieux",{"$f":"IF(D541=D540,0,SUMIF(Import!B:B,Mapping!D541,Import!G:G)+SUMIF(Import!C:C,Mapping!D541,Import!G:G)+SUMIF(Import!D:D,Mapping!D541,Import!G:G))","v":0},{"$f":"IF(D541=D540,0,SUMIF(Import!B:B,Mapping!D541,Import!H:H)+SUMIF(Import!C:C,Mapping!D541,Import!H:H)+SUMIF(Import!D:D,Mapping!D541,Import!H:H))","v":0}]
["6","62","622","6228",6228,"Divers",{"$f":"IF(D542=D541,0,SUMIF(Import!B:B,Mapping!D542,Import!G:G)+SUMIF(Import!C:C,Mapping!D542,Import!G:G)+SUMIF(Import!D:D,Mapping!D542,Import!G:G))","v":0},{"$f":"IF(D542=D541,0,SUMIF(Import!B:B,Mapping!D542,Import!H:H)+SUMIF(Import!C:C,Mapping!D542,Import!H:H)+SUMIF(Import!D:D,Mapping!D542,Import!H:H))","v":0}]
["6","62","623","6230",6230,"Propagande et communication",{"$f":"IF(D543=D542,0,SUMIF(Import!B:B,Mapping!D543,Import!G:G)+SUMIF(Import!C:C,Mapping!D543,Import!G:G)+SUMIF(Import!D:D,Mapping!D543,Import!G:G))","v":0},{"$f":"IF(D543=D542,0,SUMIF(Import!B:B,Mapping!D543,Import!H:H)+SUMIF(Import!C:C,Mapping!D543,Import!H:H)+SUMIF(Import!D:D,Mapping!D543,Import!H:H))","v":0}]
["6","62","623","6231",6231,"Presse, publications, télévisions et espaces publicitaires",{"$f":"IF(D544=D543,0,SUMIF(Import!B:B,Mapping!D544,Import!G:G)+SUMIF(Import!C:C,Mapping!D544,Import!G:G)+SUMIF(Import!D:D,Mapping!D544,Import!G:G))","v":0},{"$f":"IF(D544=D543,0,SUMIF(Import!B:B,Mapping!D544,Import!H:H)+SUMIF(Import!C:C,Mapping!D544,Import!H:H)+SUMIF(Import!D:D,Mapping!D544,Import!H:H))","v":0}]
["6","62","623","6232",6232,"Annonces et insertions",{"$f":"IF(D545=D544,0,SUMIF(Import!B:B,Mapping!D545,Import!G:G)+SUMIF(Import!C:C,Mapping!D545,Import!G:G)+SUMIF(Import!D:D,Mapping!D545,Import!G:G))","v":0},{"$f":"IF(D545=D544,0,SUMIF(Import!B:B,Mapping!D545,Import!H:H)+SUMIF(Import!C:C,Mapping!D545,Import!H:H)+SUMIF(Import!D:D,Mapping!D545,Import!H:H))","v":0}]
["6","62","623","6233",6233,"Congrès, manifestations et universités",{"$f":"IF(D546=D545,0,SUMIF(Import!B:B,Mapping!D546,Import!G:G)+SUMIF(Import!C:C,Mapping!D546,Import!G:G)+SUMIF(Import!D:D,Mapping!D546,Import!G:G))","v":0},{"$f":"IF(D546=D545,0,SUMIF(Import!B:B,Mapping!D546,Import!H:H)+SUMIF(Import!C:C,Mapping!D546,Import!H:H)+SUMIF(Import!D:D,Mapping!D546,Import!H:H))","v":0}]
["6","62","623","6234",6234,"Cadeaux à la clientèle",{"$f":"IF(D547=D546,0,SUMIF(Import!B:B,Mapping!D547,Import!G:G)+SUMIF(Import!C:C,Mapping!D547,Import!G:G)+SUMIF(Import!D:D,Mapping!D547,Import!G:G))","v":0},{"$f":"IF(D547=D546,0,SUMIF(Import!B:B,Mapping!D547,Import!H:H)+SUMIF(Import!C:C,Mapping!D547,Import!H:H)+SUMIF(Import!D:D,Mapping!D547,Import!H:H))","v":0}]
["6","62","623","6235",6235,"Primes",{"$f":"IF(D548=D547,0,SUMIF(Import!B:B,Mapping!D548,Import!G:G)+SUMIF(Import!C:C,Mapping!D548,Import!G:G)+SUMIF(Import!D:D,Mapping!D548,Import!G:G))","v":0},{"$f":"IF(D548=D547,0,SUMIF(Import!B:B,Mapping!D548,Import!H:H)+SUMIF(Import!C:C,Mapping!D548,Import!H:H)+SUMIF(Import!D:D,Mapping!D548,Import!H:H))","v":0}]
["6","62","623","6236",6236,"Catalogues et imprimés",{"$f":"IF(D549=D548,0,SUMIF(Import!B:B,Mapping!D549,Import!G:G)+SUMIF(Import!C:C,Mapping!D549,Import!G:G)+SUMIF(Import!D:D,Mapping!D549,Import!G:G))","v":0},{"$f":"IF(D549=D548,0,SUMIF(Import!B:B,Mapping!D549,Import!H:H)+SUMIF(Import!C:C,Mapping!D549,Import!H:H)+SUMIF(Import!D:D,Mapping!D549,Import!H:H))","v":0}]
["6","62","623","6237",6237,"Publications",{"$f":"IF(D550=D549,0,SUMIF(Import!B:B,Mapping!D550,Import!G:G)+SUMIF(Import!C:C,Mapping!D550,Import!G:G)+SUMIF(Import!D:D,Mapping!D550,Import!G:G))","v":0},{"$f":"IF(D550=D549,0,SUMIF(Import!B:B,Mapping!D550,Import!H:H)+SUMIF(Import!C:C,Mapping!D550,Import!H:H)+SUMIF(Import!D:D,Mapping!D550,Import!H:H))","v":0}]
["6","62","623",{"$f":"LEFT(E551,4)","v":"6238"},6238,"Divers (pourboires, dont courant)",{"$f":"IF(D551=D550,0,SUMIF(Import!B:B,Mapping!D551,Import!G:G)+SUMIF(Import!C:C,Mapping!D551,Import!G:G)+SUMIF(Import!D:D,Mapping!D551,Import!G:G))","v":0},{"$f":"IF(D551=D550,0,SUMIF(Import!B:B,Mapping!D551,Import!H:H)+SUMIF(Import!C:C,Mapping!D551,Import!H:H)+SUMIF(Import!D:D,Mapping!D551,Import!H:H))","v":0}]
["6","62","624",{"$f":"LEFT(E552,4)","v":"6240"},6240,"Transports de biens et transports collectifs du personnel",{"$f":"IF(D552=D551,0,SUMIF(Import!B:B,Mapping!D552,Import!G:G)+SUMIF(Import!C:C,Mapping!D552,Import!G:G)+SUMIF(Import!D:D,Mapping!D552,Import!G:G))","v":0},{"$f":"IF(D552=D551,0,SUMIF(Import!B:B,Mapping!D552,Import!H:H)+SUMIF(Import!C:C,Mapping!D552,Import!H:H)+SUMIF(Import!D:D,Mapping!D552,Import!H:H))","v":0}]
["6","62","624",{"$f":"LEFT(E553,4)","v":"6241"},6241,"Transports sur achats",{"$f":"IF(D553=D552,0,SUMIF(Import!B:B,Mapping!D553,Import!G:G)+SUMIF(Import!C:C,Mapping!D553,Import!G:G)+SUMIF(Import!D:D,Mapping!D553,Import!G:G))","v":0},{"$f":"IF(D553=D552,0,SUMIF(Import!B:B,Mapping!D553,Import!H:H)+SUMIF(Import!C:C,Mapping!D553,Import!H:H)+SUMIF(Import!D:D,Mapping!D553,Import!H:H))","v":0}]
["6","62","624","6242",6242,"Transports sur ventes",{"$f":"IF(D554=D553,0,SUMIF(Import!B:B,Mapping!D554,Import!G:G)+SUMIF(Import!C:C,Mapping!D554,Import!G:G)+SUMIF(Import!D:D,Mapping!D554,Import!G:G))","v":0},{"$f":"IF(D554=D553,0,SUMIF(Import!B:B,Mapping!D554,Import!H:H)+SUMIF(Import!C:C,Mapping!D554,Import!H:H)+SUMIF(Import!D:D,Mapping!D554,Import!H:H))","v":0}]
["6","62","624","6243",6243,"Transports entre établissements ou chantiers",{"$f":"IF(D555=D554,0,SUMIF(Import!B:B,Mapping!D555,Import!G:G)+SUMIF(Import!C:C,Mapping!D555,Import!G:G)+SUMIF(Import!D:D,Mapping!D555,Import!G:G))","v":0},{"$f":"IF(D555=D554,0,SUMIF(Import!B:B,Mapping!D555,Import!H:H)+SUMIF(Import!C:C,Mapping!D555,Import!H:H)+SUMIF(Import!D:D,Mapping!D555,Import!H:H))","v":0}]
["6","62","624","6244",6244,"Transports administratifs",{"$f":"IF(D556=D555,0,SUMIF(Import!B:B,Mapping!D556,Import!G:G)+SUMIF(Import!C:C,Mapping!D556,Import!G:G)+SUMIF(Import!D:D,Mapping!D556,Import!G:G))","v":0},{"$f":"IF(D556=D555,0,SUMIF(Import!B:B,Mapping!D556,Import!H:H)+SUMIF(Import!C:C,Mapping!D556,Import!H:H)+SUMIF(Import!D:D,Mapping!D556,Import!H:H))","v":0}]
["6","62","624","6247",6247,"Transports collectifs du personnel",{"$f":"IF(D557=D556,0,SUMIF(Import!B:B,Mapping!D557,Import!G:G)+SUMIF(Import!C:C,Mapping!D557,Import!G:G)+SUMIF(Import!D:D,Mapping!D557,Import!G:G))","v":0},{"$f":"IF(D557=D556,0,SUMIF(Import!B:B,Mapping!D557,Import!H:H)+SUMIF(Import!C:C,Mapping!D557,Import!H:H)+SUMIF(Import!D:D,Mapping!D557,Import!H:H))","v":0}]
["6","62","624","6248",6248,"Divers",{"$f":"IF(D558=D557,0,SUMIF(Import!B:B,Mapping!D558,Import!G:G)+SUMIF(Import!C:C,Mapping!D558,Import!G:G)+SUMIF(Import!D:D,Mapping!D558,Import!G:G))","v":0},{"$f":"IF(D558=D557,0,SUMIF(Import!B:B,Mapping!D558,Import!H:H)+SUMIF(Import!C:C,Mapping!D558,Import!H:H)+SUMIF(Import!D:D,Mapping!D558,Import!H:H))","v":0}]
["6","62",{"$f":"+LEFT(E559,3)","v":"625"},"6250",6250,"Déplacements, missions et réceptions",{"$f":"IF(D559=D558,0,SUMIF(Import!B:B,Mapping!D559,Import!G:G)+SUMIF(Import!C:C,Mapping!D559,Import!G:G)+SUMIF(Import!D:D,Mapping!D559,Import!G:G))","v":0},{"$f":"IF(D559=D558,0,SUMIF(Import!B:B,Mapping!D559,Import!H:H)+SUMIF(Import!C:C,Mapping!D559,Import!H:H)+SUMIF(Import!D:D,Mapping!D559,Import!H:H))","v":0}]
["6","62","625","6251",6251,"Voyages et déplacements",{"$f":"IF(D560=D559,0,SUMIF(Import!B:B,Mapping!D560,Import!G:G)+SUMIF(Import!C:C,Mapping!D560,Import!G:G)+SUMIF(Import!D:D,Mapping!D560,Import!G:G))","v":0},{"$f":"IF(D560=D559,0,SUMIF(Import!B:B,Mapping!D560,Import!H:H)+SUMIF(Import!C:C,Mapping!D560,Import!H:H)+SUMIF(Import!D:D,Mapping!D560,Import!H:H))","v":0}]
["6","62","625","6255",6255,"Frais de déménagement",{"$f":"IF(D561=D560,0,SUMIF(Import!B:B,Mapping!D561,Import!G:G)+SUMIF(Import!C:C,Mapping!D561,Import!G:G)+SUMIF(Import!D:D,Mapping!D561,Import!G:G))","v":0},{"$f":"IF(D561=D560,0,SUMIF(Import!B:B,Mapping!D561,Import!H:H)+SUMIF(Import!C:C,Mapping!D561,Import!H:H)+SUMIF(Import!D:D,Mapping!D561,Import!H:H))","v":0}]
["6","62","625","6256",6256,"Missions",{"$f":"IF(D562=D561,0,SUMIF(Import!B:B,Mapping!D562,Import!G:G)+SUMIF(Import!C:C,Mapping!D562,Import!G:G)+SUMIF(Import!D:D,Mapping!D562,Import!G:G))","v":0},{"$f":"IF(D562=D561,0,SUMIF(Import!B:B,Mapping!D562,Import!H:H)+SUMIF(Import!C:C,Mapping!D562,Import!H:H)+SUMIF(Import!D:D,Mapping!D562,Import!H:H))","v":0}]
["6","62","625","6257",6257,"Réceptions",{"$f":"IF(D563=D562,0,SUMIF(Import!B:B,Mapping!D563,Import!G:G)+SUMIF(Import!C:C,Mapping!D563,Import!G:G)+SUMIF(Import!D:D,Mapping!D563,Import!G:G))","v":0},{"$f":"IF(D563=D562,0,SUMIF(Import!B:B,Mapping!D563,Import!H:H)+SUMIF(Import!C:C,Mapping!D563,Import!H:H)+SUMIF(Import!D:D,Mapping!D563,Import!H:H))","v":0}]
["6","62",{"$f":"+LEFT(E564,3)","v":"626"},"6260",6260,"Frais postaux et de télécommunications",{"$f":"IF(D564=D563,0,SUMIF(Import!B:B,Mapping!D564,Import!G:G)+SUMIF(Import!C:C,Mapping!D564,Import!G:G)+SUMIF(Import!D:D,Mapping!D564,Import!G:G))","v":0},{"$f":"IF(D564=D563,0,SUMIF(Import!B:B,Mapping!D564,Import!H:H)+SUMIF(Import!C:C,Mapping!D564,Import!H:H)+SUMIF(Import!D:D,Mapping!D564,Import!H:H))","v":0}]
["6","62","626","6261",6261,"Frais postaux et de télécommunications",{"$f":"IF(D565=D564,0,SUMIF(Import!B:B,Mapping!D565,Import!G:G)+SUMIF(Import!C:C,Mapping!D565,Import!G:G)+SUMIF(Import!D:D,Mapping!D565,Import!G:G))","v":0},{"$f":"IF(D565=D564,0,SUMIF(Import!B:B,Mapping!D565,Import!H:H)+SUMIF(Import!C:C,Mapping!D565,Import!H:H)+SUMIF(Import!D:D,Mapping!D565,Import!H:H))","v":0}]
["6","62","626","6262",6262,"Frais postaux et de télécommunications",{"$f":"IF(D566=D565,0,SUMIF(Import!B:B,Mapping!D566,Import!G:G)+SUMIF(Import!C:C,Mapping!D566,Import!G:G)+SUMIF(Import!D:D,Mapping!D566,Import!G:G))","v":0},{"$f":"IF(D566=D565,0,SUMIF(Import!B:B,Mapping!D566,Import!H:H)+SUMIF(Import!C:C,Mapping!D566,Import!H:H)+SUMIF(Import!D:D,Mapping!D566,Import!H:H))","v":0}]
["6","62","626","6263",6263,"Frais postaux et de télécommunications",{"$f":"IF(D567=D566,0,SUMIF(Import!B:B,Mapping!D567,Import!G:G)+SUMIF(Import!C:C,Mapping!D567,Import!G:G)+SUMIF(Import!D:D,Mapping!D567,Import!G:G))","v":0},{"$f":"IF(D567=D566,0,SUMIF(Import!B:B,Mapping!D567,Import!H:H)+SUMIF(Import!C:C,Mapping!D567,Import!H:H)+SUMIF(Import!D:D,Mapping!D567,Import!H:H))","v":0}]
["6","62","626","6267",6267,"Frais postaux et de télécommunications",{"$f":"IF(D568=D567,0,SUMIF(Import!B:B,Mapping!D568,Import!G:G)+SUMIF(Import!C:C,Mapping!D568,Import!G:G)+SUMIF(Import!D:D,Mapping!D568,Import!G:G))","v":0},{"$f":"IF(D568=D567,0,SUMIF(Import!B:B,Mapping!D568,Import!H:H)+SUMIF(Import!C:C,Mapping!D568,Import!H:H)+SUMIF(Import!D:D,Mapping!D568,Import!H:H))","v":0}]
["6","62","627","6270",6270,"Services bancaires et assimilés",{"$f":"IF(D569=D568,0,SUMIF(Import!B:B,Mapping!D569,Import!G:G)+SUMIF(Import!C:C,Mapping!D569,Import!G:G)+SUMIF(Import!D:D,Mapping!D569,Import!G:G))","v":0},{"$f":"IF(D569=D568,0,SUMIF(Import!B:B,Mapping!D569,Import!H:H)+SUMIF(Import!C:C,Mapping!D569,Import!H:H)+SUMIF(Import!D:D,Mapping!D569,Import!H:H))","v":0}]
["6","62","627","6271",6271,"Frais sur titres (achat, vente, garde)",{"$f":"IF(D570=D569,0,SUMIF(Import!B:B,Mapping!D570,Import!G:G)+SUMIF(Import!C:C,Mapping!D570,Import!G:G)+SUMIF(Import!D:D,Mapping!D570,Import!G:G))","v":0},{"$f":"IF(D570=D569,0,SUMIF(Import!B:B,Mapping!D570,Import!H:H)+SUMIF(Import!C:C,Mapping!D570,Import!H:H)+SUMIF(Import!D:D,Mapping!D570,Import!H:H))","v":0}]
["6","62","627","6272",6272,"Commissions et frais sur émission d'emprunts",{"$f":"IF(D571=D570,0,SUMIF(Import!B:B,Mapping!D571,Import!G:G)+SUMIF(Import!C:C,Mapping!D571,Import!G:G)+SUMIF(Import!D:D,Mapping!D571,Import!G:G))","v":0},{"$f":"IF(D571=D570,0,SUMIF(Import!B:B,Mapping!D571,Import!H:H)+SUMIF(Import!C:C,Mapping!D571,Import!H:H)+SUMIF(Import!D:D,Mapping!D571,Import!H:H))","v":0}]
["6","62","627","6275",6275,"Frais sur effets",{"$f":"IF(D572=D571,0,SUMIF(Import!B:B,Mapping!D572,Import!G:G)+SUMIF(Import!C:C,Mapping!D572,Import!G:G)+SUMIF(Import!D:D,Mapping!D572,Import!G:G))","v":0},{"$f":"IF(D572=D571,0,SUMIF(Import!B:B,Mapping!D572,Import!H:H)+SUMIF(Import!C:C,Mapping!D572,Import!H:H)+SUMIF(Import!D:D,Mapping!D572,Import!H:H))","v":0}]
["6","62","627","6276",6276,"Location de coffres",{"$f":"IF(D573=D572,0,SUMIF(Import!B:B,Mapping!D573,Import!G:G)+SUMIF(Import!C:C,Mapping!D573,Import!G:G)+SUMIF(Import!D:D,Mapping!D573,Import!G:G))","v":0},{"$f":"IF(D573=D572,0,SUMIF(Import!B:B,Mapping!D573,Import!H:H)+SUMIF(Import!C:C,Mapping!D573,Import!H:H)+SUMIF(Import!D:D,Mapping!D573,Import!H:H))","v":0}]
["6","62","627",{"$f":"LEFT(E574,4)","v":"6278"},6278,"Autres frais et commissions sur prestations de services",{"$f":"IF(D574=D573,0,SUMIF(Import!B:B,Mapping!D574,Import!G:G)+SUMIF(Import!C:C,Mapping!D574,Import!G:G)+SUMIF(Import!D:D,Mapping!D574,Import!G:G))","v":0},{"$f":"IF(D574=D573,0,SUMIF(Import!B:B,Mapping!D574,Import!H:H)+SUMIF(Import!C:C,Mapping!D574,Import!H:H)+SUMIF(Import!D:D,Mapping!D574,Import!H:H))","v":0}]
["6","62","628","6280",6280,"Divers",{"$f":"IF(D575=D574,0,SUMIF(Import!B:B,Mapping!D575,Import!G:G)+SUMIF(Import!C:C,Mapping!D575,Import!G:G)+SUMIF(Import!D:D,Mapping!D575,Import!G:G))","v":0},{"$f":"IF(D575=D574,0,SUMIF(Import!B:B,Mapping!D575,Import!H:H)+SUMIF(Import!C:C,Mapping!D575,Import!H:H)+SUMIF(Import!D:D,Mapping!D575,Import!H:H))","v":0}]
["6","62","628",{"$f":"LEFT(E576,4)","v":"6281"},6281,"Concours divers (cotisations)",{"$f":"IF(D576=D575,0,SUMIF(Import!B:B,Mapping!D576,Import!G:G)+SUMIF(Import!C:C,Mapping!D576,Import!G:G)+SUMIF(Import!D:D,Mapping!D576,Import!G:G))","v":0},{"$f":"IF(D576=D575,0,SUMIF(Import!B:B,Mapping!D576,Import!H:H)+SUMIF(Import!C:C,Mapping!D576,Import!H:H)+SUMIF(Import!D:D,Mapping!D576,Import!H:H))","v":0}]
["6","62","628","6282",6282,"Concours divers (cotisations)",{"$f":"IF(D577=D576,0,SUMIF(Import!B:B,Mapping!D577,Import!G:G)+SUMIF(Import!C:C,Mapping!D577,Import!G:G)+SUMIF(Import!D:D,Mapping!D577,Import!G:G))","v":0},{"$f":"IF(D577=D576,0,SUMIF(Import!B:B,Mapping!D577,Import!H:H)+SUMIF(Import!C:C,Mapping!D577,Import!H:H)+SUMIF(Import!D:D,Mapping!D577,Import!H:H))","v":0}]
["6","62","628","6284",6284,"Frais de recrutement de personnel",{"$f":"IF(D578=D577,0,SUMIF(Import!B:B,Mapping!D578,Import!G:G)+SUMIF(Import!C:C,Mapping!D578,Import!G:G)+SUMIF(Import!D:D,Mapping!D578,Import!G:G))","v":0},{"$f":"IF(D578=D577,0,SUMIF(Import!B:B,Mapping!D578,Import!H:H)+SUMIF(Import!C:C,Mapping!D578,Import!H:H)+SUMIF(Import!D:D,Mapping!D578,Import!H:H))","v":0}]
["6","62","628","6288",6288,"Autres charges diverses",{"$f":"IF(D579=D578,0,SUMIF(Import!B:B,Mapping!D579,Import!G:G)+SUMIF(Import!C:C,Mapping!D579,Import!G:G)+SUMIF(Import!D:D,Mapping!D579,Import!G:G))","v":0},{"$f":"IF(D579=D578,0,SUMIF(Import!B:B,Mapping!D579,Import!H:H)+SUMIF(Import!C:C,Mapping!D579,Import!H:H)+SUMIF(Import!D:D,Mapping!D579,Import!H:H))","v":0}]
["6","62","629","6290",6290,"Rabais, remises et ristournes obtenus sur autres services extérieurs",{"$f":"IF(D580=D579,0,SUMIF(Import!B:B,Mapping!D580,Import!G:G)+SUMIF(Import!C:C,Mapping!D580,Import!G:G)+SUMIF(Import!D:D,Mapping!D580,Import!G:G))","v":0},{"$f":"IF(D580=D579,0,SUMIF(Import!B:B,Mapping!D580,Import!H:H)+SUMIF(Import!C:C,Mapping!D580,Import!H:H)+SUMIF(Import!D:D,Mapping!D580,Import!H:H))","v":0}]
["6","63","631","6310",6310,"Impôts, taxes et versements assimilés sur rémunérations (administrations des impôts)",{"$f":"IF(D581=D580,0,SUMIF(Import!B:B,Mapping!D581,Import!G:G)+SUMIF(Import!C:C,Mapping!D581,Import!G:G)+SUMIF(Import!D:D,Mapping!D581,Import!G:G))","v":0},{"$f":"IF(D581=D580,0,SUMIF(Import!B:B,Mapping!D581,Import!H:H)+SUMIF(Import!C:C,Mapping!D581,Import!H:H)+SUMIF(Import!D:D,Mapping!D581,Import!H:H))","v":0}]
["6","63","631","6311",6311,"Taxe sur les salaires",{"$f":"IF(D582=D581,0,SUMIF(Import!B:B,Mapping!D582,Import!G:G)+SUMIF(Import!C:C,Mapping!D582,Import!G:G)+SUMIF(Import!D:D,Mapping!D582,Import!G:G))","v":0},{"$f":"IF(D582=D581,0,SUMIF(Import!B:B,Mapping!D582,Import!H:H)+SUMIF(Import!C:C,Mapping!D582,Import!H:H)+SUMIF(Import!D:D,Mapping!D582,Import!H:H))","v":0}]
["6","63","631","6314",6314,"Cotisation pour défaut d'investissement obligatoire dans la construction",{"$f":"IF(D583=D582,0,SUMIF(Import!B:B,Mapping!D583,Import!G:G)+SUMIF(Import!C:C,Mapping!D583,Import!G:G)+SUMIF(Import!D:D,Mapping!D583,Import!G:G))","v":0},{"$f":"IF(D583=D582,0,SUMIF(Import!B:B,Mapping!D583,Import!H:H)+SUMIF(Import!C:C,Mapping!D583,Import!H:H)+SUMIF(Import!D:D,Mapping!D583,Import!H:H))","v":0}]
["6","63","631","6318",6318,"Autres",{"$f":"IF(D584=D583,0,SUMIF(Import!B:B,Mapping!D584,Import!G:G)+SUMIF(Import!C:C,Mapping!D584,Import!G:G)+SUMIF(Import!D:D,Mapping!D584,Import!G:G))","v":0},{"$f":"IF(D584=D583,0,SUMIF(Import!B:B,Mapping!D584,Import!H:H)+SUMIF(Import!C:C,Mapping!D584,Import!H:H)+SUMIF(Import!D:D,Mapping!D584,Import!H:H))","v":0}]
["6","63","633","6330",6330,"Impôts, taxes et versements assimilés sur rémunérations (autres organismes)",{"$f":"IF(D585=D584,0,SUMIF(Import!B:B,Mapping!D585,Import!G:G)+SUMIF(Import!C:C,Mapping!D585,Import!G:G)+SUMIF(Import!D:D,Mapping!D585,Import!G:G))","v":0},{"$f":"IF(D585=D584,0,SUMIF(Import!B:B,Mapping!D585,Import!H:H)+SUMIF(Import!C:C,Mapping!D585,Import!H:H)+SUMIF(Import!D:D,Mapping!D585,Import!H:H))","v":0}]
["6","63","633","6331",6331,"Versement de transport",{"$f":"IF(D586=D585,0,SUMIF(Import!B:B,Mapping!D586,Import!G:G)+SUMIF(Import!C:C,Mapping!D586,Import!G:G)+SUMIF(Import!D:D,Mapping!D586,Import!G:G))","v":0},{"$f":"IF(D586=D585,0,SUMIF(Import!B:B,Mapping!D586,Import!H:H)+SUMIF(Import!C:C,Mapping!D586,Import!H:H)+SUMIF(Import!D:D,Mapping!D586,Import!H:H))","v":0}]
["6","63","633","6332",6332,"Allocations logement",{"$f":"IF(D587=D586,0,SUMIF(Import!B:B,Mapping!D587,Import!G:G)+SUMIF(Import!C:C,Mapping!D587,Import!G:G)+SUMIF(Import!D:D,Mapping!D587,Import!G:G))","v":0},{"$f":"IF(D587=D586,0,SUMIF(Import!B:B,Mapping!D587,Import!H:H)+SUMIF(Import!C:C,Mapping!D587,Import!H:H)+SUMIF(Import!D:D,Mapping!D587,Import!H:H))","v":0}]
["6","63","633","6333",6333,"Participation des employeurs à la formation professionnelle continue",{"$f":"IF(D588=D587,0,SUMIF(Import!B:B,Mapping!D588,Import!G:G)+SUMIF(Import!C:C,Mapping!D588,Import!G:G)+SUMIF(Import!D:D,Mapping!D588,Import!G:G))","v":0},{"$f":"IF(D588=D587,0,SUMIF(Import!B:B,Mapping!D588,Import!H:H)+SUMIF(Import!C:C,Mapping!D588,Import!H:H)+SUMIF(Import!D:D,Mapping!D588,Import!H:H))","v":0}]
["6","63","633","6334",6334,"Participation des employeurs à l'effort de construction",{"$f":"IF(D589=D588,0,SUMIF(Import!B:B,Mapping!D589,Import!G:G)+SUMIF(Import!C:C,Mapping!D589,Import!G:G)+SUMIF(Import!D:D,Mapping!D589,Import!G:G))","v":0},{"$f":"IF(D589=D588,0,SUMIF(Import!B:B,Mapping!D589,Import!H:H)+SUMIF(Import!C:C,Mapping!D589,Import!H:H)+SUMIF(Import!D:D,Mapping!D589,Import!H:H))","v":0}]
["6","63","633","6335",6335,"Versements libératoires ouvrant droit à l'exonération de la taxe d'apprentissage",{"$f":"IF(D590=D589,0,SUMIF(Import!B:B,Mapping!D590,Import!G:G)+SUMIF(Import!C:C,Mapping!D590,Import!G:G)+SUMIF(Import!D:D,Mapping!D590,Import!G:G))","v":0},{"$f":"IF(D590=D589,0,SUMIF(Import!B:B,Mapping!D590,Import!H:H)+SUMIF(Import!C:C,Mapping!D590,Import!H:H)+SUMIF(Import!D:D,Mapping!D590,Import!H:H))","v":0}]
["6","63","633","6338",6338,"Autres",{"$f":"IF(D591=D590,0,SUMIF(Import!B:B,Mapping!D591,Import!G:G)+SUMIF(Import!C:C,Mapping!D591,Import!G:G)+SUMIF(Import!D:D,Mapping!D591,Import!G:G))","v":0},{"$f":"IF(D591=D590,0,SUMIF(Import!B:B,Mapping!D591,Import!H:H)+SUMIF(Import!C:C,Mapping!D591,Import!H:H)+SUMIF(Import!D:D,Mapping!D591,Import!H:H))","v":0}]
["6","63","635","6350",6350,"Autres impôts, taxes et versements assimilés (administrations des impôts)",{"$f":"IF(D592=D591,0,SUMIF(Import!B:B,Mapping!D592,Import!G:G)+SUMIF(Import!C:C,Mapping!D592,Import!G:G)+SUMIF(Import!D:D,Mapping!D592,Import!G:G))","v":0},{"$f":"IF(D592=D591,0,SUMIF(Import!B:B,Mapping!D592,Import!H:H)+SUMIF(Import!C:C,Mapping!D592,Import!H:H)+SUMIF(Import!D:D,Mapping!D592,Import!H:H))","v":0}]
["6","63",{"$f":"+LEFT(E593,3)","v":"635"},"6351",6351,"Impôts directs (sauf impôts sur les bénéfices)",{"$f":"IF(D593=D592,0,SUMIF(Import!B:B,Mapping!D593,Import!G:G)+SUMIF(Import!C:C,Mapping!D593,Import!G:G)+SUMIF(Import!D:D,Mapping!D593,Import!G:G))","v":0},{"$f":"IF(D593=D592,0,SUMIF(Import!B:B,Mapping!D593,Import!H:H)+SUMIF(Import!C:C,Mapping!D593,Import!H:H)+SUMIF(Import!D:D,Mapping!D593,Import!H:H))","v":0}]
["6","63",{"$f":"+LEFT(E594,3)","v":"635"},"6351",63511,"Contribution économique territoriale",{"$f":"IF(D594=D593,0,SUMIF(Import!B:B,Mapping!D594,Import!G:G)+SUMIF(Import!C:C,Mapping!D594,Import!G:G)+SUMIF(Import!D:D,Mapping!D594,Import!G:G))","v":0},{"$f":"IF(D594=D593,0,SUMIF(Import!B:B,Mapping!D594,Import!H:H)+SUMIF(Import!C:C,Mapping!D594,Import!H:H)+SUMIF(Import!D:D,Mapping!D594,Import!H:H))","v":0}]
["6","63",{"$f":"+LEFT(E595,3)","v":"635"},"6351",63512,"Taxes foncières",{"$f":"IF(D595=D594,0,SUMIF(Import!B:B,Mapping!D595,Import!G:G)+SUMIF(Import!C:C,Mapping!D595,Import!G:G)+SUMIF(Import!D:D,Mapping!D595,Import!G:G))","v":0},{"$f":"IF(D595=D594,0,SUMIF(Import!B:B,Mapping!D595,Import!H:H)+SUMIF(Import!C:C,Mapping!D595,Import!H:H)+SUMIF(Import!D:D,Mapping!D595,Import!H:H))","v":0}]
["6","63",{"$f":"+LEFT(E596,3)","v":"635"},{"$f":"LEFT(E596,4)","v":"6351"},63513,"Autres impôts locaux",{"$f":"IF(D596=D595,0,SUMIF(Import!B:B,Mapping!D596,Import!G:G)+SUMIF(Import!C:C,Mapping!D596,Import!G:G)+SUMIF(Import!D:D,Mapping!D596,Import!G:G))","v":0},{"$f":"IF(D596=D595,0,SUMIF(Import!B:B,Mapping!D596,Import!H:H)+SUMIF(Import!C:C,Mapping!D596,Import!H:H)+SUMIF(Import!D:D,Mapping!D596,Import!H:H))","v":0}]
["6","63","635","6351",63514,"Taxe sur les véhicules des sociétés",{"$f":"IF(D597=D596,0,SUMIF(Import!B:B,Mapping!D597,Import!G:G)+SUMIF(Import!C:C,Mapping!D597,Import!G:G)+SUMIF(Import!D:D,Mapping!D597,Import!G:G))","v":0},{"$f":"IF(D597=D596,0,SUMIF(Import!B:B,Mapping!D597,Import!H:H)+SUMIF(Import!C:C,Mapping!D597,Import!H:H)+SUMIF(Import!D:D,Mapping!D597,Import!H:H))","v":0}]
["6","63","635","6352",6352,"Taxe sur le chiffre d'affaires non récupérables",{"$f":"IF(D598=D597,0,SUMIF(Import!B:B,Mapping!D598,Import!G:G)+SUMIF(Import!C:C,Mapping!D598,Import!G:G)+SUMIF(Import!D:D,Mapping!D598,Import!G:G))","v":0},{"$f":"IF(D598=D597,0,SUMIF(Import!B:B,Mapping!D598,Import!H:H)+SUMIF(Import!C:C,Mapping!D598,Import!H:H)+SUMIF(Import!D:D,Mapping!D598,Import!H:H))","v":0}]
["6","63","635","6353",6353,"Impôts indirects",{"$f":"IF(D599=D598,0,SUMIF(Import!B:B,Mapping!D599,Import!G:G)+SUMIF(Import!C:C,Mapping!D599,Import!G:G)+SUMIF(Import!D:D,Mapping!D599,Import!G:G))","v":0},{"$f":"IF(D599=D598,0,SUMIF(Import!B:B,Mapping!D599,Import!H:H)+SUMIF(Import!C:C,Mapping!D599,Import!H:H)+SUMIF(Import!D:D,Mapping!D599,Import!H:H))","v":0}]
["6","63",{"$f":"+LEFT(E600,3)","v":"635"},"6354",6354,"Droits d'enregistrement et de timbre",{"$f":"IF(D600=D599,0,SUMIF(Import!B:B,Mapping!D600,Import!G:G)+SUMIF(Import!C:C,Mapping!D600,Import!G:G)+SUMIF(Import!D:D,Mapping!D600,Import!G:G))","v":0},{"$f":"IF(D600=D599,0,SUMIF(Import!B:B,Mapping!D600,Import!H:H)+SUMIF(Import!C:C,Mapping!D600,Import!H:H)+SUMIF(Import!D:D,Mapping!D600,Import!H:H))","v":0}]
[{"$f":"LEFT(B601,1)","v":"6"},"63","635","6354",63541,"Droits de mutation",{"$f":"IF(D601=D600,0,SUMIF(Import!B:B,Mapping!D601,Import!G:G)+SUMIF(Import!C:C,Mapping!D601,Import!G:G)+SUMIF(Import!D:D,Mapping!D601,Import!G:G))","v":0},{"$f":"IF(D601=D600,0,SUMIF(Import!B:B,Mapping!D601,Import!H:H)+SUMIF(Import!C:C,Mapping!D601,Import!H:H)+SUMIF(Import!D:D,Mapping!D601,Import!H:H))","v":0}]
["6","63","635","6358",6358,"Autres droits",{"$f":"IF(D602=D601,0,SUMIF(Import!B:B,Mapping!D602,Import!G:G)+SUMIF(Import!C:C,Mapping!D602,Import!G:G)+SUMIF(Import!D:D,Mapping!D602,Import!G:G))","v":0},{"$f":"IF(D602=D601,0,SUMIF(Import!B:B,Mapping!D602,Import!H:H)+SUMIF(Import!C:C,Mapping!D602,Import!H:H)+SUMIF(Import!D:D,Mapping!D602,Import!H:H))","v":0}]
["6","63","637","6370",6370,"Autres impôts, taxes et versements assimilés (autres organismes)",{"$f":"IF(D603=D602,0,SUMIF(Import!B:B,Mapping!D603,Import!G:G)+SUMIF(Import!C:C,Mapping!D603,Import!G:G)+SUMIF(Import!D:D,Mapping!D603,Import!G:G))","v":0},{"$f":"IF(D603=D602,0,SUMIF(Import!B:B,Mapping!D603,Import!H:H)+SUMIF(Import!C:C,Mapping!D603,Import!H:H)+SUMIF(Import!D:D,Mapping!D603,Import!H:H))","v":0}]
["6","63","637","6371",6371,"Contribution sociale de solidarité à la charge des sociétés",{"$f":"IF(D604=D603,0,SUMIF(Import!B:B,Mapping!D604,Import!G:G)+SUMIF(Import!C:C,Mapping!D604,Import!G:G)+SUMIF(Import!D:D,Mapping!D604,Import!G:G))","v":0},{"$f":"IF(D604=D603,0,SUMIF(Import!B:B,Mapping!D604,Import!H:H)+SUMIF(Import!C:C,Mapping!D604,Import!H:H)+SUMIF(Import!D:D,Mapping!D604,Import!H:H))","v":0}]
["6",{"$f":"IF(OR(LEFT(E605,2)=\"42\",LEFT(E605,2)=\"43\",LEFT(E605,2)=\"44\",LEFT(E605,2)=\"45\",LEFT(E605,2)=\"46\",LEFT(E605,2)=\"47\",LEFT(E605,2)=\"51\"),IF(G605<0,LEFT(E605,2)&\"P\",LEFT(E605,2)&\"A\"),LEFT(E605,2))","v":"63"},"637","6372",6372,"Taxes perçues par les organismes publics internationaux",{"$f":"IF(D605=D604,0,SUMIF(Import!B:B,Mapping!D605,Import!G:G)+SUMIF(Import!C:C,Mapping!D605,Import!G:G)+SUMIF(Import!D:D,Mapping!D605,Import!G:G))","v":0},{"$f":"IF(D605=D604,0,SUMIF(Import!B:B,Mapping!D605,Import!H:H)+SUMIF(Import!C:C,Mapping!D605,Import!H:H)+SUMIF(Import!D:D,Mapping!D605,Import!H:H))","v":0}]
["6","63","637","6374",6374,"Impôts et taxes exigibles à l'étranger",{"$f":"IF(D606=D605,0,SUMIF(Import!B:B,Mapping!D606,Import!G:G)+SUMIF(Import!C:C,Mapping!D606,Import!G:G)+SUMIF(Import!D:D,Mapping!D606,Import!G:G))","v":0},{"$f":"IF(D606=D605,0,SUMIF(Import!B:B,Mapping!D606,Import!H:H)+SUMIF(Import!C:C,Mapping!D606,Import!H:H)+SUMIF(Import!D:D,Mapping!D606,Import!H:H))","v":0}]
["6","63","637","6378",6378,"Taxes diverses",{"$f":"IF(D607=D606,0,SUMIF(Import!B:B,Mapping!D607,Import!G:G)+SUMIF(Import!C:C,Mapping!D607,Import!G:G)+SUMIF(Import!D:D,Mapping!D607,Import!G:G))","v":0},{"$f":"IF(D607=D606,0,SUMIF(Import!B:B,Mapping!D607,Import!H:H)+SUMIF(Import!C:C,Mapping!D607,Import!H:H)+SUMIF(Import!D:D,Mapping!D607,Import!H:H))","v":0}]
["6","63","638","6380",6380,"Rappel d'impôts (autres qu'impôts sur les bénéfices)",{"$f":"IF(D608=D607,0,SUMIF(Import!B:B,Mapping!D608,Import!G:G)+SUMIF(Import!C:C,Mapping!D608,Import!G:G)+SUMIF(Import!D:D,Mapping!D608,Import!G:G))","v":0},{"$f":"IF(D608=D607,0,SUMIF(Import!B:B,Mapping!D608,Import!H:H)+SUMIF(Import!C:C,Mapping!D608,Import!H:H)+SUMIF(Import!D:D,Mapping!D608,Import!H:H))","v":0}]
["6","64","641","6410",6410,"Rémunérations du personnel",{"$f":"IF(D609=D608,0,SUMIF(Import!B:B,Mapping!D609,Import!G:G)+SUMIF(Import!C:C,Mapping!D609,Import!G:G)+SUMIF(Import!D:D,Mapping!D609,Import!G:G))","v":0},{"$f":"IF(D609=D608,0,SUMIF(Import!B:B,Mapping!D609,Import!H:H)+SUMIF(Import!C:C,Mapping!D609,Import!H:H)+SUMIF(Import!D:D,Mapping!D609,Import!H:H))","v":0}]
["6","64","641","6411",6411,"Salaires, appointements",{"$f":"IF(D610=D609,0,SUMIF(Import!B:B,Mapping!D610,Import!G:G)+SUMIF(Import!C:C,Mapping!D610,Import!G:G)+SUMIF(Import!D:D,Mapping!D610,Import!G:G))","v":0},{"$f":"IF(D610=D609,0,SUMIF(Import!B:B,Mapping!D610,Import!H:H)+SUMIF(Import!C:C,Mapping!D610,Import!H:H)+SUMIF(Import!D:D,Mapping!D610,Import!H:H))","v":0}]
["6","64","641","6412",6412,"Congés payés",{"$f":"IF(D611=D610,0,SUMIF(Import!B:B,Mapping!D611,Import!G:G)+SUMIF(Import!C:C,Mapping!D611,Import!G:G)+SUMIF(Import!D:D,Mapping!D611,Import!G:G))","v":0},{"$f":"IF(D611=D610,0,SUMIF(Import!B:B,Mapping!D611,Import!H:H)+SUMIF(Import!C:C,Mapping!D611,Import!H:H)+SUMIF(Import!D:D,Mapping!D611,Import!H:H))","v":0}]
["6","64","641","6413",6413,"Primes et gratifications",{"$f":"IF(D612=D611,0,SUMIF(Import!B:B,Mapping!D612,Import!G:G)+SUMIF(Import!C:C,Mapping!D612,Import!G:G)+SUMIF(Import!D:D,Mapping!D612,Import!G:G))","v":0},{"$f":"IF(D612=D611,0,SUMIF(Import!B:B,Mapping!D612,Import!H:H)+SUMIF(Import!C:C,Mapping!D612,Import!H:H)+SUMIF(Import!D:D,Mapping!D612,Import!H:H))","v":0}]
["6","64","641","6414",6414,"Indemnités et avantages divers",{"$f":"IF(D613=D612,0,SUMIF(Import!B:B,Mapping!D613,Import!G:G)+SUMIF(Import!C:C,Mapping!D613,Import!G:G)+SUMIF(Import!D:D,Mapping!D613,Import!G:G))","v":0},{"$f":"IF(D613=D612,0,SUMIF(Import!B:B,Mapping!D613,Import!H:H)+SUMIF(Import!C:C,Mapping!D613,Import!H:H)+SUMIF(Import!D:D,Mapping!D613,Import!H:H))","v":0}]
["6","64","641","6415",6415,"Supplément familial",{"$f":"IF(D614=D613,0,SUMIF(Import!B:B,Mapping!D614,Import!G:G)+SUMIF(Import!C:C,Mapping!D614,Import!G:G)+SUMIF(Import!D:D,Mapping!D614,Import!G:G))","v":0},{"$f":"IF(D614=D613,0,SUMIF(Import!B:B,Mapping!D614,Import!H:H)+SUMIF(Import!C:C,Mapping!D614,Import!H:H)+SUMIF(Import!D:D,Mapping!D614,Import!H:H))","v":0}]
["6","64","644","6440",6440,"Rémunération du travail de l'exploitant",{"$f":"IF(D615=D614,0,SUMIF(Import!B:B,Mapping!D615,Import!G:G)+SUMIF(Import!C:C,Mapping!D615,Import!G:G)+SUMIF(Import!D:D,Mapping!D615,Import!G:G))","v":0},{"$f":"IF(D615=D614,0,SUMIF(Import!B:B,Mapping!D615,Import!H:H)+SUMIF(Import!C:C,Mapping!D615,Import!H:H)+SUMIF(Import!D:D,Mapping!D615,Import!H:H))","v":0}]
["6","64","645",{"$f":"LEFT(E616,5)","v":"6450"},6450,"Charges de sécurité sociale et de prévoyance",{"$f":"IF(D616=D615,0,SUMIF(Import!B:B,Mapping!D616,Import!G:G)+SUMIF(Import!C:C,Mapping!D616,Import!G:G)+SUMIF(Import!D:D,Mapping!D616,Import!G:G))","v":0},{"$f":"IF(D616=D615,0,SUMIF(Import!B:B,Mapping!D616,Import!H:H)+SUMIF(Import!C:C,Mapping!D616,Import!H:H)+SUMIF(Import!D:D,Mapping!D616,Import!H:H))","v":0}]
["6","64","645","6451",6451,"Cotisations à l'URSSAF",{"$f":"IF(D617=D616,0,SUMIF(Import!B:B,Mapping!D617,Import!G:G)+SUMIF(Import!C:C,Mapping!D617,Import!G:G)+SUMIF(Import!D:D,Mapping!D617,Import!G:G))","v":0},{"$f":"IF(D617=D616,0,SUMIF(Import!B:B,Mapping!D617,Import!H:H)+SUMIF(Import!C:C,Mapping!D617,Import!H:H)+SUMIF(Import!D:D,Mapping!D617,Import!H:H))","v":0}]
["6","64","645","6452",6452,"Cotisations aux mutuelles",{"$f":"IF(D618=D617,0,SUMIF(Import!B:B,Mapping!D618,Import!G:G)+SUMIF(Import!C:C,Mapping!D618,Import!G:G)+SUMIF(Import!D:D,Mapping!D618,Import!G:G))","v":0},{"$f":"IF(D618=D617,0,SUMIF(Import!B:B,Mapping!D618,Import!H:H)+SUMIF(Import!C:C,Mapping!D618,Import!H:H)+SUMIF(Import!D:D,Mapping!D618,Import!H:H))","v":0}]
["6","64","645","6453",6453,"Cotisations aux caisses de retraites",{"$f":"IF(D619=D618,0,SUMIF(Import!B:B,Mapping!D619,Import!G:G)+SUMIF(Import!C:C,Mapping!D619,Import!G:G)+SUMIF(Import!D:D,Mapping!D619,Import!G:G))","v":0},{"$f":"IF(D619=D618,0,SUMIF(Import!B:B,Mapping!D619,Import!H:H)+SUMIF(Import!C:C,Mapping!D619,Import!H:H)+SUMIF(Import!D:D,Mapping!D619,Import!H:H))","v":0}]
["6","64",{"$f":"+LEFT(E620,3)","v":"645"},"6454",6454,"Cotisations à Pôle emploi",{"$f":"IF(D620=D619,0,SUMIF(Import!B:B,Mapping!D620,Import!G:G)+SUMIF(Import!C:C,Mapping!D620,Import!G:G)+SUMIF(Import!D:D,Mapping!D620,Import!G:G))","v":0},{"$f":"IF(D620=D619,0,SUMIF(Import!B:B,Mapping!D620,Import!H:H)+SUMIF(Import!C:C,Mapping!D620,Import!H:H)+SUMIF(Import!D:D,Mapping!D620,Import!H:H))","v":0}]
["6","64","645","6458",6458,"Cotisations aux autres organismes sociaux",{"$f":"IF(D621=D620,0,SUMIF(Import!B:B,Mapping!D621,Import!G:G)+SUMIF(Import!C:C,Mapping!D621,Import!G:G)+SUMIF(Import!D:D,Mapping!D621,Import!G:G))","v":0},{"$f":"IF(D621=D620,0,SUMIF(Import!B:B,Mapping!D621,Import!H:H)+SUMIF(Import!C:C,Mapping!D621,Import!H:H)+SUMIF(Import!D:D,Mapping!D621,Import!H:H))","v":0}]
["6","64","646","6460",6460,"Cotisations sociales personnelles de l'exploitant",{"$f":"IF(D622=D621,0,SUMIF(Import!B:B,Mapping!D622,Import!G:G)+SUMIF(Import!C:C,Mapping!D622,Import!G:G)+SUMIF(Import!D:D,Mapping!D622,Import!G:G))","v":0},{"$f":"IF(D622=D621,0,SUMIF(Import!B:B,Mapping!D622,Import!H:H)+SUMIF(Import!C:C,Mapping!D622,Import!H:H)+SUMIF(Import!D:D,Mapping!D622,Import!H:H))","v":0}]
["6","64","647","6470",6470,"Autres charges sociales",{"$f":"IF(D623=D622,0,SUMIF(Import!B:B,Mapping!D623,Import!G:G)+SUMIF(Import!C:C,Mapping!D623,Import!G:G)+SUMIF(Import!D:D,Mapping!D623,Import!G:G))","v":0},{"$f":"IF(D623=D622,0,SUMIF(Import!B:B,Mapping!D623,Import!H:H)+SUMIF(Import!C:C,Mapping!D623,Import!H:H)+SUMIF(Import!D:D,Mapping!D623,Import!H:H))","v":0}]
["6","64","647","6471",6471,"Prestations directes",{"$f":"IF(D624=D623,0,SUMIF(Import!B:B,Mapping!D624,Import!G:G)+SUMIF(Import!C:C,Mapping!D624,Import!G:G)+SUMIF(Import!D:D,Mapping!D624,Import!G:G))","v":0},{"$f":"IF(D624=D623,0,SUMIF(Import!B:B,Mapping!D624,Import!H:H)+SUMIF(Import!C:C,Mapping!D624,Import!H:H)+SUMIF(Import!D:D,Mapping!D624,Import!H:H))","v":0}]
["6","64","647","6472",6472,"Versements aux comités d'entreprise et d'établissement",{"$f":"IF(D625=D624,0,SUMIF(Import!B:B,Mapping!D625,Import!G:G)+SUMIF(Import!C:C,Mapping!D625,Import!G:G)+SUMIF(Import!D:D,Mapping!D625,Import!G:G))","v":0},{"$f":"IF(D625=D624,0,SUMIF(Import!B:B,Mapping!D625,Import!H:H)+SUMIF(Import!C:C,Mapping!D625,Import!H:H)+SUMIF(Import!D:D,Mapping!D625,Import!H:H))","v":0}]
["6","64","647","6473",6473,"Versements aux comités d'hygiène et de sécurité",{"$f":"IF(D626=D625,0,SUMIF(Import!B:B,Mapping!D626,Import!G:G)+SUMIF(Import!C:C,Mapping!D626,Import!G:G)+SUMIF(Import!D:D,Mapping!D626,Import!G:G))","v":0},{"$f":"IF(D626=D625,0,SUMIF(Import!B:B,Mapping!D626,Import!H:H)+SUMIF(Import!C:C,Mapping!D626,Import!H:H)+SUMIF(Import!D:D,Mapping!D626,Import!H:H))","v":0}]
["6","64","647","6474",6474,"Versements aux autres œuvres sociales",{"$f":"IF(D627=D626,0,SUMIF(Import!B:B,Mapping!D627,Import!G:G)+SUMIF(Import!C:C,Mapping!D627,Import!G:G)+SUMIF(Import!D:D,Mapping!D627,Import!G:G))","v":0},{"$f":"IF(D627=D626,0,SUMIF(Import!B:B,Mapping!D627,Import!H:H)+SUMIF(Import!C:C,Mapping!D627,Import!H:H)+SUMIF(Import!D:D,Mapping!D627,Import!H:H))","v":0}]
["6","64","647","6475",6475,"Médecine du travail, pharmacie",{"$f":"IF(D628=D627,0,SUMIF(Import!B:B,Mapping!D628,Import!G:G)+SUMIF(Import!C:C,Mapping!D628,Import!G:G)+SUMIF(Import!D:D,Mapping!D628,Import!G:G))","v":0},{"$f":"IF(D628=D627,0,SUMIF(Import!B:B,Mapping!D628,Import!H:H)+SUMIF(Import!C:C,Mapping!D628,Import!H:H)+SUMIF(Import!D:D,Mapping!D628,Import!H:H))","v":0}]
["6","64","648","6480",6480,"Autres charges de personnel",{"$f":"IF(D629=D628,0,SUMIF(Import!B:B,Mapping!D629,Import!G:G)+SUMIF(Import!C:C,Mapping!D629,Import!G:G)+SUMIF(Import!D:D,Mapping!D629,Import!G:G))","v":0},{"$f":"IF(D629=D628,0,SUMIF(Import!B:B,Mapping!D629,Import!H:H)+SUMIF(Import!C:C,Mapping!D629,Import!H:H)+SUMIF(Import!D:D,Mapping!D629,Import!H:H))","v":0}]
["6","64",{"$f":"+LEFT(E630,3)","v":"648"},{"$f":"LEFT(E630,4)","v":"6481"},6481,"Autres charges de personnel",{"$f":"IF(D630=D629,0,SUMIF(Import!B:B,Mapping!D630,Import!G:G)+SUMIF(Import!C:C,Mapping!D630,Import!G:G)+SUMIF(Import!D:D,Mapping!D630,Import!G:G))","v":0},{"$f":"IF(D630=D629,0,SUMIF(Import!B:B,Mapping!D630,Import!H:H)+SUMIF(Import!C:C,Mapping!D630,Import!H:H)+SUMIF(Import!D:D,Mapping!D630,Import!H:H))","v":0}]
[{"$f":"LEFT(B631,1)","v":"6"},{"$f":"IF(OR(LEFT(E631,2)=\"42\",LEFT(E631,2)=\"43\",LEFT(E631,2)=\"44\",LEFT(E631,2)=\"45\",LEFT(E631,2)=\"46\",LEFT(E631,2)=\"47\",LEFT(E631,2)=\"51\"),IF(G631<0,LEFT(E631,2)&\"P\",LEFT(E631,2)&\"A\"),LEFT(E631,2))","v":"64"},"649",{"$f":"LEFT(E631,5)","v":"6491"},6491,"Remboursement de charges du personnel (Salaires)",{"$f":"IF(D631=D630,0,SUMIF(Import!B:B,Mapping!D631,Import!G:G)+SUMIF(Import!C:C,Mapping!D631,Import!G:G)+SUMIF(Import!D:D,Mapping!D631,Import!G:G))","v":0},{"$f":"IF(D631=D630,0,SUMIF(Import!B:B,Mapping!D631,Import!H:H)+SUMIF(Import!C:C,Mapping!D631,Import!H:H)+SUMIF(Import!D:D,Mapping!D631,Import!H:H))","v":0}]
["6","64",{"$f":"+LEFT(E632,3)","v":"649"},{"$f":"LEFT(E632,5)","v":"6492"},6492,"Remboursement de charges du personnel (Charges)",{"$f":"IF(D632=D631,0,SUMIF(Import!B:B,Mapping!D632,Import!G:G)+SUMIF(Import!C:C,Mapping!D632,Import!G:G)+SUMIF(Import!D:D,Mapping!D632,Import!G:G))","v":0},{"$f":"IF(D632=D631,0,SUMIF(Import!B:B,Mapping!D632,Import!H:H)+SUMIF(Import!C:C,Mapping!D632,Import!H:H)+SUMIF(Import!D:D,Mapping!D632,Import!H:H))","v":0}]
["6","65",{"$f":"+LEFT(E633,3)","v":"651"},{"$f":"LEFT(E633,4)","v":"6510"},6510,"Redevances pour concessions, brevets, licences, marques, procédés, solutions informatiques, droits et valeurs similaires",{"$f":"IF(D633=D632,0,SUMIF(Import!B:B,Mapping!D633,Import!G:G)+SUMIF(Import!C:C,Mapping!D633,Import!G:G)+SUMIF(Import!D:D,Mapping!D633,Import!G:G))","v":0},{"$f":"IF(D633=D632,0,SUMIF(Import!B:B,Mapping!D633,Import!H:H)+SUMIF(Import!C:C,Mapping!D633,Import!H:H)+SUMIF(Import!D:D,Mapping!D633,Import!H:H))","v":0}]
["6","65","651",{"$f":"LEFT(E634,4)","v":"6511"},6511,"Redevances pour concessions, brevets, licences, marques, procédés, solutions informatiques",{"$f":"IF(D634=D633,0,SUMIF(Import!B:B,Mapping!D634,Import!G:G)+SUMIF(Import!C:C,Mapping!D634,Import!G:G)+SUMIF(Import!D:D,Mapping!D634,Import!G:G))","v":0},{"$f":"IF(D634=D633,0,SUMIF(Import!B:B,Mapping!D634,Import!H:H)+SUMIF(Import!C:C,Mapping!D634,Import!H:H)+SUMIF(Import!D:D,Mapping!D634,Import!H:H))","v":0}]
["6","65","651","6516",6516,"Droits d'auteur et de reproduction",{"$f":"IF(D635=D634,0,SUMIF(Import!B:B,Mapping!D635,Import!G:G)+SUMIF(Import!C:C,Mapping!D635,Import!G:G)+SUMIF(Import!D:D,Mapping!D635,Import!G:G))","v":0},{"$f":"IF(D635=D634,0,SUMIF(Import!B:B,Mapping!D635,Import!H:H)+SUMIF(Import!C:C,Mapping!D635,Import!H:H)+SUMIF(Import!D:D,Mapping!D635,Import!H:H))","v":0}]
["6","65","651","6518",6518,"Autres droits et valeurs similaires",{"$f":"IF(D636=D635,0,SUMIF(Import!B:B,Mapping!D636,Import!G:G)+SUMIF(Import!C:C,Mapping!D636,Import!G:G)+SUMIF(Import!D:D,Mapping!D636,Import!G:G))","v":0},{"$f":"IF(D636=D635,0,SUMIF(Import!B:B,Mapping!D636,Import!H:H)+SUMIF(Import!C:C,Mapping!D636,Import!H:H)+SUMIF(Import!D:D,Mapping!D636,Import!H:H))","v":0}]
["6","65","653","6530",6530,"Contributions financières",{"$f":"IF(D637=D636,0,SUMIF(Import!B:B,Mapping!D637,Import!G:G)+SUMIF(Import!C:C,Mapping!D637,Import!G:G)+SUMIF(Import!D:D,Mapping!D637,Import!G:G))","v":0},{"$f":"IF(D637=D636,0,SUMIF(Import!B:B,Mapping!D637,Import!H:H)+SUMIF(Import!C:C,Mapping!D637,Import!H:H)+SUMIF(Import!D:D,Mapping!D637,Import!H:H))","v":0}]
["6","65","653",{"$f":"LEFT(E638,4)","v":"6531"},6531,"Contributions aux candidats tenus de déposer un compte de campagne",{"$f":"IF(D638=D637,0,SUMIF(Import!B:B,Mapping!D638,Import!G:G)+SUMIF(Import!C:C,Mapping!D638,Import!G:G)+SUMIF(Import!D:D,Mapping!D638,Import!G:G))","v":0},{"$f":"IF(D638=D637,0,SUMIF(Import!B:B,Mapping!D638,Import!H:H)+SUMIF(Import!C:C,Mapping!D638,Import!H:H)+SUMIF(Import!D:D,Mapping!D638,Import!H:H))","v":0}]
["6","65","653","6532",6532,"Contributions aux candidats non tenus de déposer un compte de campagne",{"$f":"IF(D639=D638,0,SUMIF(Import!B:B,Mapping!D639,Import!G:G)+SUMIF(Import!C:C,Mapping!D639,Import!G:G)+SUMIF(Import!D:D,Mapping!D639,Import!G:G))","v":0},{"$f":"IF(D639=D638,0,SUMIF(Import!B:B,Mapping!D639,Import!H:H)+SUMIF(Import!C:C,Mapping!D639,Import!H:H)+SUMIF(Import!D:D,Mapping!D639,Import!H:H))","v":0}]
["6","65","653","6533",6533,"Prises en charge directes de dépenses électorales",{"$f":"IF(D640=D639,0,SUMIF(Import!B:B,Mapping!D640,Import!G:G)+SUMIF(Import!C:C,Mapping!D640,Import!G:G)+SUMIF(Import!D:D,Mapping!D640,Import!G:G))","v":0},{"$f":"IF(D640=D639,0,SUMIF(Import!B:B,Mapping!D640,Import!H:H)+SUMIF(Import!C:C,Mapping!D640,Import!H:H)+SUMIF(Import!D:D,Mapping!D640,Import!H:H))","v":0}]
["6","65","653","6534",6534,"Contributions aux organisations territoriales ou spécialisées",{"$f":"IF(D641=D640,0,SUMIF(Import!B:B,Mapping!D641,Import!G:G)+SUMIF(Import!C:C,Mapping!D641,Import!G:G)+SUMIF(Import!D:D,Mapping!D641,Import!G:G))","v":0},{"$f":"IF(D641=D640,0,SUMIF(Import!B:B,Mapping!D641,Import!H:H)+SUMIF(Import!C:C,Mapping!D641,Import!H:H)+SUMIF(Import!D:D,Mapping!D641,Import!H:H))","v":0}]
["6","65","653","6535",6535,"Contributions à d'autres partis ou groupements politiques",{"$f":"IF(D642=D641,0,SUMIF(Import!B:B,Mapping!D642,Import!G:G)+SUMIF(Import!C:C,Mapping!D642,Import!G:G)+SUMIF(Import!D:D,Mapping!D642,Import!G:G))","v":0},{"$f":"IF(D642=D641,0,SUMIF(Import!B:B,Mapping!D642,Import!H:H)+SUMIF(Import!C:C,Mapping!D642,Import!H:H)+SUMIF(Import!D:D,Mapping!D642,Import!H:H))","v":0}]
["6","65","653","6536",6536,"Contributions à d'autres organismes",{"$f":"IF(D643=D642,0,SUMIF(Import!B:B,Mapping!D643,Import!G:G)+SUMIF(Import!C:C,Mapping!D643,Import!G:G)+SUMIF(Import!D:D,Mapping!D643,Import!G:G))","v":0},{"$f":"IF(D643=D642,0,SUMIF(Import!B:B,Mapping!D643,Import!H:H)+SUMIF(Import!C:C,Mapping!D643,Import!H:H)+SUMIF(Import!D:D,Mapping!D643,Import!H:H))","v":0}]
["6","65","654","6540",6540,"Pertes sur créances irrécouvrables",{"$f":"IF(D644=D643,0,SUMIF(Import!B:B,Mapping!D644,Import!G:G)+SUMIF(Import!C:C,Mapping!D644,Import!G:G)+SUMIF(Import!D:D,Mapping!D644,Import!G:G))","v":0},{"$f":"IF(D644=D643,0,SUMIF(Import!B:B,Mapping!D644,Import!H:H)+SUMIF(Import!C:C,Mapping!D644,Import!H:H)+SUMIF(Import!D:D,Mapping!D644,Import!H:H))","v":0}]
["6","65","654","6541",6541,"Créances de l'exercice",{"$f":"IF(D645=D644,0,SUMIF(Import!B:B,Mapping!D645,Import!G:G)+SUMIF(Import!C:C,Mapping!D645,Import!G:G)+SUMIF(Import!D:D,Mapping!D645,Import!G:G))","v":0},{"$f":"IF(D645=D644,0,SUMIF(Import!B:B,Mapping!D645,Import!H:H)+SUMIF(Import!C:C,Mapping!D645,Import!H:H)+SUMIF(Import!D:D,Mapping!D645,Import!H:H))","v":0}]
["6","65","654","6544",6544,"Créances des exercices antérieurs",{"$f":"IF(D646=D645,0,SUMIF(Import!B:B,Mapping!D646,Import!G:G)+SUMIF(Import!C:C,Mapping!D646,Import!G:G)+SUMIF(Import!D:D,Mapping!D646,Import!G:G))","v":0},{"$f":"IF(D646=D645,0,SUMIF(Import!B:B,Mapping!D646,Import!H:H)+SUMIF(Import!C:C,Mapping!D646,Import!H:H)+SUMIF(Import!D:D,Mapping!D646,Import!H:H))","v":0}]
["6","65","655","6550",6550,"Quote-part de résultat sur opérations faites en commun",{"$f":"IF(D647=D646,0,SUMIF(Import!B:B,Mapping!D647,Import!G:G)+SUMIF(Import!C:C,Mapping!D647,Import!G:G)+SUMIF(Import!D:D,Mapping!D647,Import!G:G))","v":0},{"$f":"IF(D647=D646,0,SUMIF(Import!B:B,Mapping!D647,Import!H:H)+SUMIF(Import!C:C,Mapping!D647,Import!H:H)+SUMIF(Import!D:D,Mapping!D647,Import!H:H))","v":0}]
["6","65","655","6551",6551,"Quote-part de bénéfice transférée (comptabilité du gérant)",{"$f":"IF(D648=D647,0,SUMIF(Import!B:B,Mapping!D648,Import!G:G)+SUMIF(Import!C:C,Mapping!D648,Import!G:G)+SUMIF(Import!D:D,Mapping!D648,Import!G:G))","v":0},{"$f":"IF(D648=D647,0,SUMIF(Import!B:B,Mapping!D648,Import!H:H)+SUMIF(Import!C:C,Mapping!D648,Import!H:H)+SUMIF(Import!D:D,Mapping!D648,Import!H:H))","v":0}]
["6","65","655","6555",6555,"Quote-part de perte supportée (comptabilité des associés non gérants)",{"$f":"IF(D649=D648,0,SUMIF(Import!B:B,Mapping!D649,Import!G:G)+SUMIF(Import!C:C,Mapping!D649,Import!G:G)+SUMIF(Import!D:D,Mapping!D649,Import!G:G))","v":0},{"$f":"IF(D649=D648,0,SUMIF(Import!B:B,Mapping!D649,Import!H:H)+SUMIF(Import!C:C,Mapping!D649,Import!H:H)+SUMIF(Import!D:D,Mapping!D649,Import!H:H))","v":0}]
[{"$f":"LEFT(B650,1)","v":"6"},{"$f":"IF(OR(LEFT(E650,2)=\"42\",LEFT(E650,2)=\"43\",LEFT(E650,2)=\"44\",LEFT(E650,2)=\"45\",LEFT(E650,2)=\"46\",LEFT(E650,2)=\"47\",LEFT(E650,2)=\"51\"),IF(G650<0,LEFT(E650,2)&\"P\",LEFT(E650,2)&\"A\"),LEFT(E650,2))","v":"65"},{"$f":"+LEFT(E650,3)","v":"656"},{"$f":"LEFT(E650,4)","v":"6560"},6560,"Pertes de change sur créances et dettes commerciales",{"$f":"IF(D650=D649,0,SUMIF(Import!B:B,Mapping!D650,Import!G:G)+SUMIF(Import!C:C,Mapping!D650,Import!G:G)+SUMIF(Import!D:D,Mapping!D650,Import!G:G))","v":0},{"$f":"IF(D650=D649,0,SUMIF(Import!B:B,Mapping!D650,Import!H:H)+SUMIF(Import!C:C,Mapping!D650,Import!H:H)+SUMIF(Import!D:D,Mapping!D650,Import!H:H))","v":0}]
["6","65","657","6570",6570,"Valeurs comptables des immobilisations incorporelles et corporelles cédées ",{"$f":"IF(D651=D650,0,SUMIF(Import!B:B,Mapping!D651,Import!G:G)+SUMIF(Import!C:C,Mapping!D651,Import!G:G)+SUMIF(Import!D:D,Mapping!D651,Import!G:G))","v":0},{"$f":"IF(D651=D650,0,SUMIF(Import!B:B,Mapping!D651,Import!H:H)+SUMIF(Import!C:C,Mapping!D651,Import!H:H)+SUMIF(Import!D:D,Mapping!D651,Import!H:H))","v":0}]
["6","65","658","6580",6580,"Pénalités et autres charges",{"$f":"IF(D652=D651,0,SUMIF(Import!B:B,Mapping!D652,Import!G:G)+SUMIF(Import!C:C,Mapping!D652,Import!G:G)+SUMIF(Import!D:D,Mapping!D652,Import!G:G))","v":0},{"$f":"IF(D652=D651,0,SUMIF(Import!B:B,Mapping!D652,Import!H:H)+SUMIF(Import!C:C,Mapping!D652,Import!H:H)+SUMIF(Import!D:D,Mapping!D652,Import!H:H))","v":0}]
["6","65","658","6581",6581,"Charges des entités non significatives",{"$f":"IF(D653=D652,0,SUMIF(Import!B:B,Mapping!D653,Import!G:G)+SUMIF(Import!C:C,Mapping!D653,Import!G:G)+SUMIF(Import!D:D,Mapping!D653,Import!G:G))","v":0},{"$f":"IF(D653=D652,0,SUMIF(Import!B:B,Mapping!D653,Import!H:H)+SUMIF(Import!C:C,Mapping!D653,Import!H:H)+SUMIF(Import!D:D,Mapping!D653,Import!H:H))","v":0}]
["6","65",{"$f":"+LEFT(E654,3)","v":"658"},"6582",6582,"Pénalités, amendes fiscales et pénales",{"$f":"IF(D654=D653,0,SUMIF(Import!B:B,Mapping!D654,Import!G:G)+SUMIF(Import!C:C,Mapping!D654,Import!G:G)+SUMIF(Import!D:D,Mapping!D654,Import!G:G))","v":0},{"$f":"IF(D654=D653,0,SUMIF(Import!B:B,Mapping!D654,Import!H:H)+SUMIF(Import!C:C,Mapping!D654,Import!H:H)+SUMIF(Import!D:D,Mapping!D654,Import!H:H))","v":0}]
["6","65","658","6583",6583,"Malis provenant de clauses d'indexation",{"$f":"IF(D655=D654,0,SUMIF(Import!B:B,Mapping!D655,Import!G:G)+SUMIF(Import!C:C,Mapping!D655,Import!G:G)+SUMIF(Import!D:D,Mapping!D655,Import!G:G))","v":0},{"$f":"IF(D655=D654,0,SUMIF(Import!B:B,Mapping!D655,Import!H:H)+SUMIF(Import!C:C,Mapping!D655,Import!H:H)+SUMIF(Import!D:D,Mapping!D655,Import!H:H))","v":0}]
["6","65","658","6586",6586,"Autres charges diverses de gestion",{"$f":"IF(D656=D655,0,SUMIF(Import!B:B,Mapping!D656,Import!G:G)+SUMIF(Import!C:C,Mapping!D656,Import!G:G)+SUMIF(Import!D:D,Mapping!D656,Import!G:G))","v":0},{"$f":"IF(D656=D655,0,SUMIF(Import!B:B,Mapping!D656,Import!H:H)+SUMIF(Import!C:C,Mapping!D656,Import!H:H)+SUMIF(Import!D:D,Mapping!D656,Import!H:H))","v":0}]
["6","66","661","6610",6610,"Charges d'intérêts",{"$f":"IF(D657=D656,0,SUMIF(Import!B:B,Mapping!D657,Import!G:G)+SUMIF(Import!C:C,Mapping!D657,Import!G:G)+SUMIF(Import!D:D,Mapping!D657,Import!G:G))","v":0},{"$f":"IF(D657=D656,0,SUMIF(Import!B:B,Mapping!D657,Import!H:H)+SUMIF(Import!C:C,Mapping!D657,Import!H:H)+SUMIF(Import!D:D,Mapping!D657,Import!H:H))","v":0}]
["6","66","661","6611",6611,"Intérêts des emprunts et dettes",{"$f":"IF(D658=D657,0,SUMIF(Import!B:B,Mapping!D658,Import!G:G)+SUMIF(Import!C:C,Mapping!D658,Import!G:G)+SUMIF(Import!D:D,Mapping!D658,Import!G:G))","v":0},{"$f":"IF(D658=D657,0,SUMIF(Import!B:B,Mapping!D658,Import!H:H)+SUMIF(Import!C:C,Mapping!D658,Import!H:H)+SUMIF(Import!D:D,Mapping!D658,Import!H:H))","v":0}]
["6","66","661","6611",66116,"des emprunts et dettes assimilées",{"$f":"IF(D659=D658,0,SUMIF(Import!B:B,Mapping!D659,Import!G:G)+SUMIF(Import!C:C,Mapping!D659,Import!G:G)+SUMIF(Import!D:D,Mapping!D659,Import!G:G))","v":0},{"$f":"IF(D659=D658,0,SUMIF(Import!B:B,Mapping!D659,Import!H:H)+SUMIF(Import!C:C,Mapping!D659,Import!H:H)+SUMIF(Import!D:D,Mapping!D659,Import!H:H))","v":0}]
["6","66","661","6611",66117,"des dettes rattachées à des participations",{"$f":"IF(D660=D659,0,SUMIF(Import!B:B,Mapping!D660,Import!G:G)+SUMIF(Import!C:C,Mapping!D660,Import!G:G)+SUMIF(Import!D:D,Mapping!D660,Import!G:G))","v":0},{"$f":"IF(D660=D659,0,SUMIF(Import!B:B,Mapping!D660,Import!H:H)+SUMIF(Import!C:C,Mapping!D660,Import!H:H)+SUMIF(Import!D:D,Mapping!D660,Import!H:H))","v":0}]
["6","66","661","6615",6615,"Intérêts des comptes courants et des dépôts créditeurs",{"$f":"IF(D661=D660,0,SUMIF(Import!B:B,Mapping!D661,Import!G:G)+SUMIF(Import!C:C,Mapping!D661,Import!G:G)+SUMIF(Import!D:D,Mapping!D661,Import!G:G))","v":0},{"$f":"IF(D661=D660,0,SUMIF(Import!B:B,Mapping!D661,Import!H:H)+SUMIF(Import!C:C,Mapping!D661,Import!H:H)+SUMIF(Import!D:D,Mapping!D661,Import!H:H))","v":0}]
["6","66","661",{"$f":"LEFT(E662,4)","v":"6616"},6616,"Intérêts bancaires et sur opérations de financement (escompte,...)",{"$f":"IF(D662=D661,0,SUMIF(Import!B:B,Mapping!D662,Import!G:G)+SUMIF(Import!C:C,Mapping!D662,Import!G:G)+SUMIF(Import!D:D,Mapping!D662,Import!G:G))","v":0},{"$f":"IF(D662=D661,0,SUMIF(Import!B:B,Mapping!D662,Import!H:H)+SUMIF(Import!C:C,Mapping!D662,Import!H:H)+SUMIF(Import!D:D,Mapping!D662,Import!H:H))","v":0}]
["6","66","661","6617",6617,"Intérêts des obligations cautionnées",{"$f":"IF(D663=D662,0,SUMIF(Import!B:B,Mapping!D663,Import!G:G)+SUMIF(Import!C:C,Mapping!D663,Import!G:G)+SUMIF(Import!D:D,Mapping!D663,Import!G:G))","v":0},{"$f":"IF(D663=D662,0,SUMIF(Import!B:B,Mapping!D663,Import!H:H)+SUMIF(Import!C:C,Mapping!D663,Import!H:H)+SUMIF(Import!D:D,Mapping!D663,Import!H:H))","v":0}]
["6","66","661","6618",6618,"Intérêts des autres dettes",{"$f":"IF(D664=D663,0,SUMIF(Import!B:B,Mapping!D664,Import!G:G)+SUMIF(Import!C:C,Mapping!D664,Import!G:G)+SUMIF(Import!D:D,Mapping!D664,Import!G:G))","v":0},{"$f":"IF(D664=D663,0,SUMIF(Import!B:B,Mapping!D664,Import!H:H)+SUMIF(Import!C:C,Mapping!D664,Import!H:H)+SUMIF(Import!D:D,Mapping!D664,Import!H:H))","v":0}]
["6","66","661","6618",66181,"des dettes commerciales",{"$f":"IF(D665=D664,0,SUMIF(Import!B:B,Mapping!D665,Import!G:G)+SUMIF(Import!C:C,Mapping!D665,Import!G:G)+SUMIF(Import!D:D,Mapping!D665,Import!G:G))","v":0},{"$f":"IF(D665=D664,0,SUMIF(Import!B:B,Mapping!D665,Import!H:H)+SUMIF(Import!C:C,Mapping!D665,Import!H:H)+SUMIF(Import!D:D,Mapping!D665,Import!H:H))","v":0}]
["6","66","661","6618",66188,"des dettes diverses",{"$f":"IF(D666=D665,0,SUMIF(Import!B:B,Mapping!D666,Import!G:G)+SUMIF(Import!C:C,Mapping!D666,Import!G:G)+SUMIF(Import!D:D,Mapping!D666,Import!G:G))","v":0},{"$f":"IF(D666=D665,0,SUMIF(Import!B:B,Mapping!D666,Import!H:H)+SUMIF(Import!C:C,Mapping!D666,Import!H:H)+SUMIF(Import!D:D,Mapping!D666,Import!H:H))","v":0}]
[{"$f":"LEFT(B667,1)","v":"6"},"66","664","6640",6640,"Pertes sur créances liées à des participations",{"$f":"IF(D667=D666,0,SUMIF(Import!B:B,Mapping!D667,Import!G:G)+SUMIF(Import!C:C,Mapping!D667,Import!G:G)+SUMIF(Import!D:D,Mapping!D667,Import!G:G))","v":0},{"$f":"IF(D667=D666,0,SUMIF(Import!B:B,Mapping!D667,Import!H:H)+SUMIF(Import!C:C,Mapping!D667,Import!H:H)+SUMIF(Import!D:D,Mapping!D667,Import!H:H))","v":0}]
["6","66","665","6650",6650,"Escomptes accordés",{"$f":"IF(D668=D667,0,SUMIF(Import!B:B,Mapping!D668,Import!G:G)+SUMIF(Import!C:C,Mapping!D668,Import!G:G)+SUMIF(Import!D:D,Mapping!D668,Import!G:G))","v":0},{"$f":"IF(D668=D667,0,SUMIF(Import!B:B,Mapping!D668,Import!H:H)+SUMIF(Import!C:C,Mapping!D668,Import!H:H)+SUMIF(Import!D:D,Mapping!D668,Import!H:H))","v":0}]
["6","66","666","6660",6660,"Pertes de change financières",{"$f":"IF(D669=D668,0,SUMIF(Import!B:B,Mapping!D669,Import!G:G)+SUMIF(Import!C:C,Mapping!D669,Import!G:G)+SUMIF(Import!D:D,Mapping!D669,Import!G:G))","v":0},{"$f":"IF(D669=D668,0,SUMIF(Import!B:B,Mapping!D669,Import!H:H)+SUMIF(Import!C:C,Mapping!D669,Import!H:H)+SUMIF(Import!D:D,Mapping!D669,Import!H:H))","v":0}]
["6","66","667","6670",6670,"Charges sur cessions d'éléments financiers",{"$f":"IF(D670=D669,0,SUMIF(Import!B:B,Mapping!D670,Import!G:G)+SUMIF(Import!C:C,Mapping!D670,Import!G:G)+SUMIF(Import!D:D,Mapping!D670,Import!G:G))","v":0},{"$f":"IF(D670=D669,0,SUMIF(Import!B:B,Mapping!D670,Import!H:H)+SUMIF(Import!C:C,Mapping!D670,Import!H:H)+SUMIF(Import!D:D,Mapping!D670,Import!H:H))","v":0}]
["6",{"$f":"IF(OR(LEFT(E671,2)=\"42\",LEFT(E671,2)=\"43\",LEFT(E671,2)=\"44\",LEFT(E671,2)=\"45\",LEFT(E671,2)=\"46\",LEFT(E671,2)=\"47\",LEFT(E671,2)=\"51\"),IF(G671<0,LEFT(E671,2)&\"P\",LEFT(E671,2)&\"A\"),LEFT(E671,2))","v":"66"},"667","6671",6671,"Valeurs comptables des immobilisations financières cédées",{"$f":"IF(D671=D670,0,SUMIF(Import!B:B,Mapping!D671,Import!G:G)+SUMIF(Import!C:C,Mapping!D671,Import!G:G)+SUMIF(Import!D:D,Mapping!D671,Import!G:G))","v":0},{"$f":"IF(D671=D670,0,SUMIF(Import!B:B,Mapping!D671,Import!H:H)+SUMIF(Import!C:C,Mapping!D671,Import!H:H)+SUMIF(Import!D:D,Mapping!D671,Import!H:H))","v":0}]
["6","66","667","6672",6672,"Charges nettes sur cessions de titres immobilisés de l'activité de portefeuille",{"$f":"IF(D672=D671,0,SUMIF(Import!B:B,Mapping!D672,Import!G:G)+SUMIF(Import!C:C,Mapping!D672,Import!G:G)+SUMIF(Import!D:D,Mapping!D672,Import!G:G))","v":0},{"$f":"IF(D672=D671,0,SUMIF(Import!B:B,Mapping!D672,Import!H:H)+SUMIF(Import!C:C,Mapping!D672,Import!H:H)+SUMIF(Import!D:D,Mapping!D672,Import!H:H))","v":0}]
[{"$f":"LEFT(B673,1)","v":"6"},{"$f":"IF(OR(LEFT(E673,2)=\"42\",LEFT(E673,2)=\"43\",LEFT(E673,2)=\"44\",LEFT(E673,2)=\"45\",LEFT(E673,2)=\"46\",LEFT(E673,2)=\"47\",LEFT(E673,2)=\"51\"),IF(G673<0,LEFT(E673,2)&\"P\",LEFT(E673,2)&\"A\"),LEFT(E673,2))","v":"66"},{"$f":"+LEFT(E673,3)","v":"667"},{"$f":"LEFT(E673,4)","v":"6673"},6673,"Charges nettes sur cessions de valeurs mobilières de placement",{"$f":"IF(D673=D672,0,SUMIF(Import!B:B,Mapping!D673,Import!G:G)+SUMIF(Import!C:C,Mapping!D673,Import!G:G)+SUMIF(Import!D:D,Mapping!D673,Import!G:G))","v":0},{"$f":"IF(D673=D672,0,SUMIF(Import!B:B,Mapping!D673,Import!H:H)+SUMIF(Import!C:C,Mapping!D673,Import!H:H)+SUMIF(Import!D:D,Mapping!D673,Import!H:H))","v":0}]
["6","66","668","6680",6680,"Autres charges financières",{"$f":"IF(D674=D673,0,SUMIF(Import!B:B,Mapping!D674,Import!G:G)+SUMIF(Import!C:C,Mapping!D674,Import!G:G)+SUMIF(Import!D:D,Mapping!D674,Import!G:G))","v":0},{"$f":"IF(D674=D673,0,SUMIF(Import!B:B,Mapping!D674,Import!H:H)+SUMIF(Import!C:C,Mapping!D674,Import!H:H)+SUMIF(Import!D:D,Mapping!D674,Import!H:H))","v":0}]
["6","67","670","6700",6700,"Charges exceptionnelles",{"$f":"IF(D675=D674,0,SUMIF(Import!B:B,Mapping!D675,Import!G:G)+SUMIF(Import!C:C,Mapping!D675,Import!G:G)+SUMIF(Import!D:D,Mapping!D675,Import!G:G))","v":0},{"$f":"IF(D675=D674,0,SUMIF(Import!B:B,Mapping!D675,Import!H:H)+SUMIF(Import!C:C,Mapping!D675,Import!H:H)+SUMIF(Import!D:D,Mapping!D675,Import!H:H))","v":0}]
[{"$f":"LEFT(B676,1)","v":"6"},{"$f":"IF(OR(LEFT(E676,2)=\"42\",LEFT(E676,2)=\"43\",LEFT(E676,2)=\"44\",LEFT(E676,2)=\"45\",LEFT(E676,2)=\"46\",LEFT(E676,2)=\"47\",LEFT(E676,2)=\"51\"),IF(G676<0,LEFT(E676,2)&\"P\",LEFT(E676,2)&\"A\"),LEFT(E676,2))","v":"67"},{"$f":"+LEFT(E676,3)","v":"672"},{"$f":"LEFT(E676,4)","v":"6720"},6720,"Compte à la disposition des entités pour enregistrer, en cours d'exercice, les charges sur exercices antérieurs",{"$f":"IF(D676=D675,0,SUMIF(Import!B:B,Mapping!D676,Import!G:G)+SUMIF(Import!C:C,Mapping!D676,Import!G:G)+SUMIF(Import!D:D,Mapping!D676,Import!G:G))","v":0},{"$f":"IF(D676=D675,0,SUMIF(Import!B:B,Mapping!D676,Import!H:H)+SUMIF(Import!C:C,Mapping!D676,Import!H:H)+SUMIF(Import!D:D,Mapping!D676,Import!H:H))","v":0}]
["6","67","678","6780",6780,"Autres charges exceptionnelles",{"$f":"IF(D677=D676,0,SUMIF(Import!B:B,Mapping!D677,Import!G:G)+SUMIF(Import!C:C,Mapping!D677,Import!G:G)+SUMIF(Import!D:D,Mapping!D677,Import!G:G))","v":0},{"$f":"IF(D677=D676,0,SUMIF(Import!B:B,Mapping!D677,Import!H:H)+SUMIF(Import!C:C,Mapping!D677,Import!H:H)+SUMIF(Import!D:D,Mapping!D677,Import!H:H))","v":0}]
["6","68","681","6810",6810,"Dotations aux amortissements, aux dépréciations et aux provisions - Charges d'exploitation",{"$f":"IF(D678=D677,0,SUMIF(Import!B:B,Mapping!D678,Import!G:G)+SUMIF(Import!C:C,Mapping!D678,Import!G:G)+SUMIF(Import!D:D,Mapping!D678,Import!G:G))","v":0},{"$f":"IF(D678=D677,0,SUMIF(Import!B:B,Mapping!D678,Import!H:H)+SUMIF(Import!C:C,Mapping!D678,Import!H:H)+SUMIF(Import!D:D,Mapping!D678,Import!H:H))","v":0}]
["6","68","681","6811",6811,"Dotations aux amortissements sur immobilisations incorporelles et corporelles",{"$f":"IF(D679=D678,0,SUMIF(Import!B:B,Mapping!D679,Import!G:G)+SUMIF(Import!C:C,Mapping!D679,Import!G:G)+SUMIF(Import!D:D,Mapping!D679,Import!G:G))","v":0},{"$f":"IF(D679=D678,0,SUMIF(Import!B:B,Mapping!D679,Import!H:H)+SUMIF(Import!C:C,Mapping!D679,Import!H:H)+SUMIF(Import!D:D,Mapping!D679,Import!H:H))","v":0}]
["6","68","681","6811",68111,"Immobilisations incorporelles",{"$f":"IF(D680=D679,0,SUMIF(Import!B:B,Mapping!D680,Import!G:G)+SUMIF(Import!C:C,Mapping!D680,Import!G:G)+SUMIF(Import!D:D,Mapping!D680,Import!G:G))","v":0},{"$f":"IF(D680=D679,0,SUMIF(Import!B:B,Mapping!D680,Import!H:H)+SUMIF(Import!C:C,Mapping!D680,Import!H:H)+SUMIF(Import!D:D,Mapping!D680,Import!H:H))","v":0}]
["6","68","681","6811",68112,"Immobilisations corporelles",{"$f":"IF(D681=D680,0,SUMIF(Import!B:B,Mapping!D681,Import!G:G)+SUMIF(Import!C:C,Mapping!D681,Import!G:G)+SUMIF(Import!D:D,Mapping!D681,Import!G:G))","v":0},{"$f":"IF(D681=D680,0,SUMIF(Import!B:B,Mapping!D681,Import!H:H)+SUMIF(Import!C:C,Mapping!D681,Import!H:H)+SUMIF(Import!D:D,Mapping!D681,Import!H:H))","v":0}]
["6","68","681","6815",6815,"Dotations aux provisions d'exploitation",{"$f":"IF(D682=D681,0,SUMIF(Import!B:B,Mapping!D682,Import!G:G)+SUMIF(Import!C:C,Mapping!D682,Import!G:G)+SUMIF(Import!D:D,Mapping!D682,Import!G:G))","v":0},{"$f":"IF(D682=D681,0,SUMIF(Import!B:B,Mapping!D682,Import!H:H)+SUMIF(Import!C:C,Mapping!D682,Import!H:H)+SUMIF(Import!D:D,Mapping!D682,Import!H:H))","v":0}]
["6","68","681","6816",6816,"Dotations aux dépréciations des immobilisations incorporelles et corporelles",{"$f":"IF(D683=D682,0,SUMIF(Import!B:B,Mapping!D683,Import!G:G)+SUMIF(Import!C:C,Mapping!D683,Import!G:G)+SUMIF(Import!D:D,Mapping!D683,Import!G:G))","v":0},{"$f":"IF(D683=D682,0,SUMIF(Import!B:B,Mapping!D683,Import!H:H)+SUMIF(Import!C:C,Mapping!D683,Import!H:H)+SUMIF(Import!D:D,Mapping!D683,Import!H:H))","v":0}]
[{"$f":"LEFT(B684,1)","v":"6"},{"$f":"IF(OR(LEFT(E684,2)=\"42\",LEFT(E684,2)=\"43\",LEFT(E684,2)=\"44\",LEFT(E684,2)=\"45\",LEFT(E684,2)=\"46\",LEFT(E684,2)=\"47\",LEFT(E684,2)=\"51\"),IF(G684<0,LEFT(E684,2)&\"P\",LEFT(E684,2)&\"A\"),LEFT(E684,2))","v":"68"},{"$f":"+LEFT(E684,3)","v":"681"},{"$f":"LEFT(E684,5)","v":"68161"},68161,"Dotations aux dépréciations des immobilisations incorporelles",{"$f":"IF(D684=D683,0,SUMIF(Import!B:B,Mapping!D684,Import!G:G)+SUMIF(Import!C:C,Mapping!D684,Import!G:G)+SUMIF(Import!D:D,Mapping!D684,Import!G:G))","v":0},{"$f":"IF(D684=D683,0,SUMIF(Import!B:B,Mapping!D684,Import!H:H)+SUMIF(Import!C:C,Mapping!D684,Import!H:H)+SUMIF(Import!D:D,Mapping!D684,Import!H:H))","v":0}]
[{"$f":"LEFT(B685,1)","v":"6"},{"$f":"IF(OR(LEFT(E685,2)=\"42\",LEFT(E685,2)=\"43\",LEFT(E685,2)=\"44\",LEFT(E685,2)=\"45\",LEFT(E685,2)=\"46\",LEFT(E685,2)=\"47\",LEFT(E685,2)=\"51\"),IF(G685<0,LEFT(E685,2)&\"P\",LEFT(E685,2)&\"A\"),LEFT(E685,2))","v":"68"},{"$f":"+LEFT(E685,3)","v":"681"},{"$f":"LEFT(E685,5)","v":"68162"},68162,"Dotations aux dépréciations des immobilisations corporelles",{"$f":"IF(D685=D684,0,SUMIF(Import!B:B,Mapping!D685,Import!G:G)+SUMIF(Import!C:C,Mapping!D685,Import!G:G)+SUMIF(Import!D:D,Mapping!D685,Import!G:G))","v":0},{"$f":"IF(D685=D684,0,SUMIF(Import!B:B,Mapping!D685,Import!H:H)+SUMIF(Import!C:C,Mapping!D685,Import!H:H)+SUMIF(Import!D:D,Mapping!D685,Import!H:H))","v":0}]
["6","68","681",{"$f":"LEFT(E686,6)","v":"681611"},681611,"Dotations aux dépréciations des écarts d'acquisition",{"$f":"IF(D686=D685,0,SUMIF(Import!B:B,Mapping!D686,Import!G:G)+SUMIF(Import!C:C,Mapping!D686,Import!G:G)+SUMIF(Import!D:D,Mapping!D686,Import!G:G))","v":0},{"$f":"IF(D686=D685,0,SUMIF(Import!B:B,Mapping!D686,Import!H:H)+SUMIF(Import!C:C,Mapping!D686,Import!H:H)+SUMIF(Import!D:D,Mapping!D686,Import!H:H))","v":0}]
["6","68","681","6817",6817,"Dotations aux dépréciation des actifs circulants",{"$f":"IF(D687=D686,0,SUMIF(Import!B:B,Mapping!D687,Import!G:G)+SUMIF(Import!C:C,Mapping!D687,Import!G:G)+SUMIF(Import!D:D,Mapping!D687,Import!G:G))","v":0},{"$f":"IF(D687=D686,0,SUMIF(Import!B:B,Mapping!D687,Import!H:H)+SUMIF(Import!C:C,Mapping!D687,Import!H:H)+SUMIF(Import!D:D,Mapping!D687,Import!H:H))","v":0}]
["6","68","681","6817",68173,"Stocks et en-cours",{"$f":"IF(D688=D687,0,SUMIF(Import!B:B,Mapping!D688,Import!G:G)+SUMIF(Import!C:C,Mapping!D688,Import!G:G)+SUMIF(Import!D:D,Mapping!D688,Import!G:G))","v":0},{"$f":"IF(D688=D687,0,SUMIF(Import!B:B,Mapping!D688,Import!H:H)+SUMIF(Import!C:C,Mapping!D688,Import!H:H)+SUMIF(Import!D:D,Mapping!D688,Import!H:H))","v":0}]
["6","68","681","6817",68174,"Créances",{"$f":"IF(D689=D688,0,SUMIF(Import!B:B,Mapping!D689,Import!G:G)+SUMIF(Import!C:C,Mapping!D689,Import!G:G)+SUMIF(Import!D:D,Mapping!D689,Import!G:G))","v":0},{"$f":"IF(D689=D688,0,SUMIF(Import!B:B,Mapping!D689,Import!H:H)+SUMIF(Import!C:C,Mapping!D689,Import!H:H)+SUMIF(Import!D:D,Mapping!D689,Import!H:H))","v":0}]
["6","68","686","6860",6860,"Dotations aux amortissements, aux dépréciations et aux provisions - Charges financières",{"$f":"IF(D690=D689,0,SUMIF(Import!B:B,Mapping!D690,Import!G:G)+SUMIF(Import!C:C,Mapping!D690,Import!G:G)+SUMIF(Import!D:D,Mapping!D690,Import!G:G))","v":0},{"$f":"IF(D690=D689,0,SUMIF(Import!B:B,Mapping!D690,Import!H:H)+SUMIF(Import!C:C,Mapping!D690,Import!H:H)+SUMIF(Import!D:D,Mapping!D690,Import!H:H))","v":0}]
["6","68","686","6861",6861,"Dotations aux amortissements des primes de remboursement des emprunts",{"$f":"IF(D691=D690,0,SUMIF(Import!B:B,Mapping!D691,Import!G:G)+SUMIF(Import!C:C,Mapping!D691,Import!G:G)+SUMIF(Import!D:D,Mapping!D691,Import!G:G))","v":0},{"$f":"IF(D691=D690,0,SUMIF(Import!B:B,Mapping!D691,Import!H:H)+SUMIF(Import!C:C,Mapping!D691,Import!H:H)+SUMIF(Import!D:D,Mapping!D691,Import!H:H))","v":0}]
["6","68","686","6862",6862,"Dotations aux amortissements des frais d'émission des emprunts",{"$f":"IF(D692=D691,0,SUMIF(Import!B:B,Mapping!D692,Import!G:G)+SUMIF(Import!C:C,Mapping!D692,Import!G:G)+SUMIF(Import!D:D,Mapping!D692,Import!G:G))","v":0},{"$f":"IF(D692=D691,0,SUMIF(Import!B:B,Mapping!D692,Import!H:H)+SUMIF(Import!C:C,Mapping!D692,Import!H:H)+SUMIF(Import!D:D,Mapping!D692,Import!H:H))","v":0}]
["6","68","686","6865",6865,"Dotations aux provisions financières",{"$f":"IF(D693=D692,0,SUMIF(Import!B:B,Mapping!D693,Import!G:G)+SUMIF(Import!C:C,Mapping!D693,Import!G:G)+SUMIF(Import!D:D,Mapping!D693,Import!G:G))","v":0},{"$f":"IF(D693=D692,0,SUMIF(Import!B:B,Mapping!D693,Import!H:H)+SUMIF(Import!C:C,Mapping!D693,Import!H:H)+SUMIF(Import!D:D,Mapping!D693,Import!H:H))","v":0}]
["6","68","686","6866",6866,"Dotations aux dépréciations des éléments financiers",{"$f":"IF(D694=D693,0,SUMIF(Import!B:B,Mapping!D694,Import!G:G)+SUMIF(Import!C:C,Mapping!D694,Import!G:G)+SUMIF(Import!D:D,Mapping!D694,Import!G:G))","v":0},{"$f":"IF(D694=D693,0,SUMIF(Import!B:B,Mapping!D694,Import!H:H)+SUMIF(Import!C:C,Mapping!D694,Import!H:H)+SUMIF(Import!D:D,Mapping!D694,Import!H:H))","v":0}]
["6","68","686","6866",68662,"Immobilisations financières",{"$f":"IF(D695=D694,0,SUMIF(Import!B:B,Mapping!D695,Import!G:G)+SUMIF(Import!C:C,Mapping!D695,Import!G:G)+SUMIF(Import!D:D,Mapping!D695,Import!G:G))","v":0},{"$f":"IF(D695=D694,0,SUMIF(Import!B:B,Mapping!D695,Import!H:H)+SUMIF(Import!C:C,Mapping!D695,Import!H:H)+SUMIF(Import!D:D,Mapping!D695,Import!H:H))","v":0}]
["6","68","686","6866",68665,"Valeurs mobilières de placement",{"$f":"IF(D696=D695,0,SUMIF(Import!B:B,Mapping!D696,Import!G:G)+SUMIF(Import!C:C,Mapping!D696,Import!G:G)+SUMIF(Import!D:D,Mapping!D696,Import!G:G))","v":0},{"$f":"IF(D696=D695,0,SUMIF(Import!B:B,Mapping!D696,Import!H:H)+SUMIF(Import!C:C,Mapping!D696,Import!H:H)+SUMIF(Import!D:D,Mapping!D696,Import!H:H))","v":0}]
["6","68","686",{"$f":"LEFT(E697,4)","v":"6868"},6868,"Autres dotations",{"$f":"IF(D697=D696,0,SUMIF(Import!B:B,Mapping!D697,Import!G:G)+SUMIF(Import!C:C,Mapping!D697,Import!G:G)+SUMIF(Import!D:D,Mapping!D697,Import!G:G))","v":0},{"$f":"IF(D697=D696,0,SUMIF(Import!B:B,Mapping!D697,Import!H:H)+SUMIF(Import!C:C,Mapping!D697,Import!H:H)+SUMIF(Import!D:D,Mapping!D697,Import!H:H))","v":0}]
["6","68","687",{"$f":"LEFT(E698,4)","v":"6870"},6870,"Dotations aux amortissements, aux dépréciations et aux provisions - Charges exceptionnelles",{"$f":"IF(D698=D697,0,SUMIF(Import!B:B,Mapping!D698,Import!G:G)+SUMIF(Import!C:C,Mapping!D698,Import!G:G)+SUMIF(Import!D:D,Mapping!D698,Import!G:G))","v":0},{"$f":"IF(D698=D697,0,SUMIF(Import!B:B,Mapping!D698,Import!H:H)+SUMIF(Import!C:C,Mapping!D698,Import!H:H)+SUMIF(Import!D:D,Mapping!D698,Import!H:H))","v":0}]
["6","68","687",{"$f":"LEFT(E699,4)","v":"6871"},6871,"Dotations aux amortissements exceptionnels des immobilisations",{"$f":"IF(D699=D698,0,SUMIF(Import!B:B,Mapping!D699,Import!G:G)+SUMIF(Import!C:C,Mapping!D699,Import!G:G)+SUMIF(Import!D:D,Mapping!D699,Import!G:G))","v":0},{"$f":"IF(D699=D698,0,SUMIF(Import!B:B,Mapping!D699,Import!H:H)+SUMIF(Import!C:C,Mapping!D699,Import!H:H)+SUMIF(Import!D:D,Mapping!D699,Import!H:H))","v":0}]
["6","68","687","6872",6872,"Dotations aux provisions réglementées (immobilisations)",{"$f":"IF(D700=D699,0,SUMIF(Import!B:B,Mapping!D700,Import!G:G)+SUMIF(Import!C:C,Mapping!D700,Import!G:G)+SUMIF(Import!D:D,Mapping!D700,Import!G:G))","v":0},{"$f":"IF(D700=D699,0,SUMIF(Import!B:B,Mapping!D700,Import!H:H)+SUMIF(Import!C:C,Mapping!D700,Import!H:H)+SUMIF(Import!D:D,Mapping!D700,Import!H:H))","v":0}]
["6","68","687","6872",68725,"Amortissements dérogatoires",{"$f":"IF(D701=D700,0,SUMIF(Import!B:B,Mapping!D701,Import!G:G)+SUMIF(Import!C:C,Mapping!D701,Import!G:G)+SUMIF(Import!D:D,Mapping!D701,Import!G:G))","v":0},{"$f":"IF(D701=D700,0,SUMIF(Import!B:B,Mapping!D701,Import!H:H)+SUMIF(Import!C:C,Mapping!D701,Import!H:H)+SUMIF(Import!D:D,Mapping!D701,Import!H:H))","v":0}]
["6","68","687","6873",6873,"Dotations aux provisions réglementées (stocks)",{"$f":"IF(D702=D701,0,SUMIF(Import!B:B,Mapping!D702,Import!G:G)+SUMIF(Import!C:C,Mapping!D702,Import!G:G)+SUMIF(Import!D:D,Mapping!D702,Import!G:G))","v":0},{"$f":"IF(D702=D701,0,SUMIF(Import!B:B,Mapping!D702,Import!H:H)+SUMIF(Import!C:C,Mapping!D702,Import!H:H)+SUMIF(Import!D:D,Mapping!D702,Import!H:H))","v":0}]
["6","68","687","6874",6874,"Dotations aux autres provisions réglementées",{"$f":"IF(D703=D702,0,SUMIF(Import!B:B,Mapping!D703,Import!G:G)+SUMIF(Import!C:C,Mapping!D703,Import!G:G)+SUMIF(Import!D:D,Mapping!D703,Import!G:G))","v":0},{"$f":"IF(D703=D702,0,SUMIF(Import!B:B,Mapping!D703,Import!H:H)+SUMIF(Import!C:C,Mapping!D703,Import!H:H)+SUMIF(Import!D:D,Mapping!D703,Import!H:H))","v":0}]
["6","68","687","6875",6875,"Dotations aux provisions exceptionnelles",{"$f":"IF(D704=D703,0,SUMIF(Import!B:B,Mapping!D704,Import!G:G)+SUMIF(Import!C:C,Mapping!D704,Import!G:G)+SUMIF(Import!D:D,Mapping!D704,Import!G:G))","v":0},{"$f":"IF(D704=D703,0,SUMIF(Import!B:B,Mapping!D704,Import!H:H)+SUMIF(Import!C:C,Mapping!D704,Import!H:H)+SUMIF(Import!D:D,Mapping!D704,Import!H:H))","v":0}]
[{"$f":"LEFT(B705,1)","v":"6"},{"$f":"IF(OR(LEFT(E705,2)=\"42\",LEFT(E705,2)=\"43\",LEFT(E705,2)=\"44\",LEFT(E705,2)=\"45\",LEFT(E705,2)=\"46\",LEFT(E705,2)=\"47\",LEFT(E705,2)=\"51\"),IF(G705<0,LEFT(E705,2)&\"P\",LEFT(E705,2)&\"A\"),LEFT(E705,2))","v":"68"},{"$f":"+LEFT(E705,3)","v":"687"},{"$f":"LEFT(E705,4)","v":"6876"},6876,"Dotations aux dépréciations exceptionnelles",{"$f":"IF(D705=D704,0,SUMIF(Import!B:B,Mapping!D705,Import!G:G)+SUMIF(Import!C:C,Mapping!D705,Import!G:G)+SUMIF(Import!D:D,Mapping!D705,Import!G:G))","v":0},{"$f":"IF(D705=D704,0,SUMIF(Import!B:B,Mapping!D705,Import!H:H)+SUMIF(Import!C:C,Mapping!D705,Import!H:H)+SUMIF(Import!D:D,Mapping!D705,Import!H:H))","v":0}]
["6","69","691","6910",6910,"Participation des salariés aux résultats",{"$f":"IF(D706=D705,0,SUMIF(Import!B:B,Mapping!D706,Import!G:G)+SUMIF(Import!C:C,Mapping!D706,Import!G:G)+SUMIF(Import!D:D,Mapping!D706,Import!G:G))","v":0},{"$f":"IF(D706=D705,0,SUMIF(Import!B:B,Mapping!D706,Import!H:H)+SUMIF(Import!C:C,Mapping!D706,Import!H:H)+SUMIF(Import!D:D,Mapping!D706,Import!H:H))","v":0}]
["6","69","695","6950",6950,"Impôts sur les bénéfices",{"$f":"IF(D707=D706,0,SUMIF(Import!B:B,Mapping!D707,Import!G:G)+SUMIF(Import!C:C,Mapping!D707,Import!G:G)+SUMIF(Import!D:D,Mapping!D707,Import!G:G))","v":0},{"$f":"IF(D707=D706,0,SUMIF(Import!B:B,Mapping!D707,Import!H:H)+SUMIF(Import!C:C,Mapping!D707,Import!H:H)+SUMIF(Import!D:D,Mapping!D707,Import!H:H))","v":0}]
["6","69",{"$f":"+LEFT(E708,3)","v":"695"},"6951",6951,"Impôts dus en France",{"$f":"IF(D708=D707,0,SUMIF(Import!B:B,Mapping!D708,Import!G:G)+SUMIF(Import!C:C,Mapping!D708,Import!G:G)+SUMIF(Import!D:D,Mapping!D708,Import!G:G))","v":0},{"$f":"IF(D708=D707,0,SUMIF(Import!B:B,Mapping!D708,Import!H:H)+SUMIF(Import!C:C,Mapping!D708,Import!H:H)+SUMIF(Import!D:D,Mapping!D708,Import!H:H))","v":0}]
["6","69","695","6952",6952,"Contribution additionnelle à l'impôt sur les bénéfices",{"$f":"IF(D709=D708,0,SUMIF(Import!B:B,Mapping!D709,Import!G:G)+SUMIF(Import!C:C,Mapping!D709,Import!G:G)+SUMIF(Import!D:D,Mapping!D709,Import!G:G))","v":0},{"$f":"IF(D709=D708,0,SUMIF(Import!B:B,Mapping!D709,Import!H:H)+SUMIF(Import!C:C,Mapping!D709,Import!H:H)+SUMIF(Import!D:D,Mapping!D709,Import!H:H))","v":0}]
["6","69","695","6954",6954,"Impôts dus à l'étranger",{"$f":"IF(D710=D709,0,SUMIF(Import!B:B,Mapping!D710,Import!G:G)+SUMIF(Import!C:C,Mapping!D710,Import!G:G)+SUMIF(Import!D:D,Mapping!D710,Import!G:G))","v":0},{"$f":"IF(D710=D709,0,SUMIF(Import!B:B,Mapping!D710,Import!H:H)+SUMIF(Import!C:C,Mapping!D710,Import!H:H)+SUMIF(Import!D:D,Mapping!D710,Import!H:H))","v":0}]
["6","69","696","6960",6960,"Suppléments d'impôt sur les sociétés liés aux distributions",{"$f":"IF(D711=D710,0,SUMIF(Import!B:B,Mapping!D711,Import!G:G)+SUMIF(Import!C:C,Mapping!D711,Import!G:G)+SUMIF(Import!D:D,Mapping!D711,Import!G:G))","v":0},{"$f":"IF(D711=D710,0,SUMIF(Import!B:B,Mapping!D711,Import!H:H)+SUMIF(Import!C:C,Mapping!D711,Import!H:H)+SUMIF(Import!D:D,Mapping!D711,Import!H:H))","v":0}]
["6","69","698","6980",6980,"Intégration fiscale",{"$f":"IF(D712=D711,0,SUMIF(Import!B:B,Mapping!D712,Import!G:G)+SUMIF(Import!C:C,Mapping!D712,Import!G:G)+SUMIF(Import!D:D,Mapping!D712,Import!G:G))","v":0},{"$f":"IF(D712=D711,0,SUMIF(Import!B:B,Mapping!D712,Import!H:H)+SUMIF(Import!C:C,Mapping!D712,Import!H:H)+SUMIF(Import!D:D,Mapping!D712,Import!H:H))","v":0}]
["6","69","698","6981",6981,"Intégration fiscale - Charges",{"$f":"IF(D713=D712,0,SUMIF(Import!B:B,Mapping!D713,Import!G:G)+SUMIF(Import!C:C,Mapping!D713,Import!G:G)+SUMIF(Import!D:D,Mapping!D713,Import!G:G))","v":0},{"$f":"IF(D713=D712,0,SUMIF(Import!B:B,Mapping!D713,Import!H:H)+SUMIF(Import!C:C,Mapping!D713,Import!H:H)+SUMIF(Import!D:D,Mapping!D713,Import!H:H))","v":0}]
["6","69","698","6989",6989,"Intégration fiscale - Produits",{"$f":"IF(D714=D713,0,SUMIF(Import!B:B,Mapping!D714,Import!G:G)+SUMIF(Import!C:C,Mapping!D714,Import!G:G)+SUMIF(Import!D:D,Mapping!D714,Import!G:G))","v":0},{"$f":"IF(D714=D713,0,SUMIF(Import!B:B,Mapping!D714,Import!H:H)+SUMIF(Import!C:C,Mapping!D714,Import!H:H)+SUMIF(Import!D:D,Mapping!D714,Import!H:H))","v":0}]
["6","69","699","6990",6990,"Produits - Reports en arrière des déficits",{"$f":"IF(D715=D714,0,SUMIF(Import!B:B,Mapping!D715,Import!G:G)+SUMIF(Import!C:C,Mapping!D715,Import!G:G)+SUMIF(Import!D:D,Mapping!D715,Import!G:G))","v":0},{"$f":"IF(D715=D714,0,SUMIF(Import!B:B,Mapping!D715,Import!H:H)+SUMIF(Import!C:C,Mapping!D715,Import!H:H)+SUMIF(Import!D:D,Mapping!D715,Import!H:H))","v":0}]
["7","70","701","7010",7010,"Ventes de produits finis",{"$f":"IF(D716=D715,0,SUMIF(Import!B:B,Mapping!D716,Import!G:G)+SUMIF(Import!C:C,Mapping!D716,Import!G:G)+SUMIF(Import!D:D,Mapping!D716,Import!G:G))","v":0},{"$f":"IF(D716=D715,0,SUMIF(Import!B:B,Mapping!D716,Import!H:H)+SUMIF(Import!C:C,Mapping!D716,Import!H:H)+SUMIF(Import!D:D,Mapping!D716,Import!H:H))","v":0}]
["7","70","702","7020",7020,"Ventes de produits intermédiaires",{"$f":"IF(D717=D716,0,SUMIF(Import!B:B,Mapping!D717,Import!G:G)+SUMIF(Import!C:C,Mapping!D717,Import!G:G)+SUMIF(Import!D:D,Mapping!D717,Import!G:G))","v":0},{"$f":"IF(D717=D716,0,SUMIF(Import!B:B,Mapping!D717,Import!H:H)+SUMIF(Import!C:C,Mapping!D717,Import!H:H)+SUMIF(Import!D:D,Mapping!D717,Import!H:H))","v":0}]
["7","70","703","7030",7030,"Ventes de produits résiduels",{"$f":"IF(D718=D717,0,SUMIF(Import!B:B,Mapping!D718,Import!G:G)+SUMIF(Import!C:C,Mapping!D718,Import!G:G)+SUMIF(Import!D:D,Mapping!D718,Import!G:G))","v":0},{"$f":"IF(D718=D717,0,SUMIF(Import!B:B,Mapping!D718,Import!H:H)+SUMIF(Import!C:C,Mapping!D718,Import!H:H)+SUMIF(Import!D:D,Mapping!D718,Import!H:H))","v":0}]
["7","70","704","7040",7040,"Travaux",{"$f":"IF(D719=D718,0,SUMIF(Import!B:B,Mapping!D719,Import!G:G)+SUMIF(Import!C:C,Mapping!D719,Import!G:G)+SUMIF(Import!D:D,Mapping!D719,Import!G:G))","v":0},{"$f":"IF(D719=D718,0,SUMIF(Import!B:B,Mapping!D719,Import!H:H)+SUMIF(Import!C:C,Mapping!D719,Import!H:H)+SUMIF(Import!D:D,Mapping!D719,Import!H:H))","v":0}]
["7","70","705","7050",7050,"Etudes",{"$f":"IF(D720=D719,0,SUMIF(Import!B:B,Mapping!D720,Import!G:G)+SUMIF(Import!C:C,Mapping!D720,Import!G:G)+SUMIF(Import!D:D,Mapping!D720,Import!G:G))","v":0},{"$f":"IF(D720=D719,0,SUMIF(Import!B:B,Mapping!D720,Import!H:H)+SUMIF(Import!C:C,Mapping!D720,Import!H:H)+SUMIF(Import!D:D,Mapping!D720,Import!H:H))","v":0}]
["7","70","706","7060",7060,"Prestations de services",{"$f":"IF(D721=D720,0,SUMIF(Import!B:B,Mapping!D721,Import!G:G)+SUMIF(Import!C:C,Mapping!D721,Import!G:G)+SUMIF(Import!D:D,Mapping!D721,Import!G:G))","v":0},{"$f":"IF(D721=D720,0,SUMIF(Import!B:B,Mapping!D721,Import!H:H)+SUMIF(Import!C:C,Mapping!D721,Import!H:H)+SUMIF(Import!D:D,Mapping!D721,Import!H:H))","v":0}]
["7","70","706","7061",7061,"Manifestations et colloques",{"$f":"IF(D722=D721,0,SUMIF(Import!B:B,Mapping!D722,Import!G:G)+SUMIF(Import!C:C,Mapping!D722,Import!G:G)+SUMIF(Import!D:D,Mapping!D722,Import!G:G))","v":0},{"$f":"IF(D722=D721,0,SUMIF(Import!B:B,Mapping!D722,Import!H:H)+SUMIF(Import!C:C,Mapping!D722,Import!H:H)+SUMIF(Import!D:D,Mapping!D722,Import!H:H))","v":0}]
["7","70","706",{"$f":"LEFT(E723,5)","v":"7062"},7062,"Prestations de services aux candidats",{"$f":"IF(D723=D722,0,SUMIF(Import!B:B,Mapping!D723,Import!G:G)+SUMIF(Import!C:C,Mapping!D723,Import!G:G)+SUMIF(Import!D:D,Mapping!D723,Import!G:G))","v":0},{"$f":"IF(D723=D722,0,SUMIF(Import!B:B,Mapping!D723,Import!H:H)+SUMIF(Import!C:C,Mapping!D723,Import!H:H)+SUMIF(Import!D:D,Mapping!D723,Import!H:H))","v":0}]
["7","70","706",{"$f":"LEFT(E724,5)","v":"70621"},70621,"Prestations de services aux candidats tenus de déposer un compte de campagne",{"$f":"IF(D724=D723,0,SUMIF(Import!B:B,Mapping!D724,Import!G:G)+SUMIF(Import!C:C,Mapping!D724,Import!G:G)+SUMIF(Import!D:D,Mapping!D724,Import!G:G))","v":0},{"$f":"IF(D724=D723,0,SUMIF(Import!B:B,Mapping!D724,Import!H:H)+SUMIF(Import!C:C,Mapping!D724,Import!H:H)+SUMIF(Import!D:D,Mapping!D724,Import!H:H))","v":0}]
["7","70","706",{"$f":"LEFT(E725,5)","v":"70622"},70622,"Prestations de services aux candidats non tenus de déposer un compte de campagne",{"$f":"IF(D725=D724,0,SUMIF(Import!B:B,Mapping!D725,Import!G:G)+SUMIF(Import!C:C,Mapping!D725,Import!G:G)+SUMIF(Import!D:D,Mapping!D725,Import!G:G))","v":0},{"$f":"IF(D725=D724,0,SUMIF(Import!B:B,Mapping!D725,Import!H:H)+SUMIF(Import!C:C,Mapping!D725,Import!H:H)+SUMIF(Import!D:D,Mapping!D725,Import!H:H))","v":0}]
[{"$f":"LEFT(B726,1)","v":"7"},{"$f":"IF(OR(LEFT(E726,2)=\"42\",LEFT(E726,2)=\"43\",LEFT(E726,2)=\"44\",LEFT(E726,2)=\"45\",LEFT(E726,2)=\"46\",LEFT(E726,2)=\"47\",LEFT(E726,2)=\"51\"),IF(G726<0,LEFT(E726,2)&\"P\",LEFT(E726,2)&\"A\"),LEFT(E726,2))","v":"70"},{"$f":"+LEFT(E726,3)","v":"706"},{"$f":"LEFT(E726,5)","v":"7063"},7063,"Autres prestations de services",{"$f":"IF(D726=D725,0,SUMIF(Import!B:B,Mapping!D726,Import!G:G)+SUMIF(Import!C:C,Mapping!D726,Import!G:G)+SUMIF(Import!D:D,Mapping!D726,Import!G:G))","v":0},{"$f":"IF(D726=D725,0,SUMIF(Import!B:B,Mapping!D726,Import!H:H)+SUMIF(Import!C:C,Mapping!D726,Import!H:H)+SUMIF(Import!D:D,Mapping!D726,Import!H:H))","v":0}]
["7","70","707","7070",7070,"Ventes de marchandises",{"$f":"IF(D727=D726,0,SUMIF(Import!B:B,Mapping!D727,Import!G:G)+SUMIF(Import!C:C,Mapping!D727,Import!G:G)+SUMIF(Import!D:D,Mapping!D727,Import!G:G))","v":0},{"$f":"IF(D727=D726,0,SUMIF(Import!B:B,Mapping!D727,Import!H:H)+SUMIF(Import!C:C,Mapping!D727,Import!H:H)+SUMIF(Import!D:D,Mapping!D727,Import!H:H))","v":0}]
["7","70","707","7071",7071,"Goodies",{"$f":"IF(D728=D727,0,SUMIF(Import!B:B,Mapping!D728,Import!G:G)+SUMIF(Import!C:C,Mapping!D728,Import!G:G)+SUMIF(Import!D:D,Mapping!D728,Import!G:G))","v":0},{"$f":"IF(D728=D727,0,SUMIF(Import!B:B,Mapping!D728,Import!H:H)+SUMIF(Import!C:C,Mapping!D728,Import!H:H)+SUMIF(Import!D:D,Mapping!D728,Import!H:H))","v":0}]
["7","70","707","7072",7072,"Livres",{"$f":"IF(D729=D728,0,SUMIF(Import!B:B,Mapping!D729,Import!G:G)+SUMIF(Import!C:C,Mapping!D729,Import!G:G)+SUMIF(Import!D:D,Mapping!D729,Import!G:G))","v":0},{"$f":"IF(D729=D728,0,SUMIF(Import!B:B,Mapping!D729,Import!H:H)+SUMIF(Import!C:C,Mapping!D729,Import!H:H)+SUMIF(Import!D:D,Mapping!D729,Import!H:H))","v":0}]
["7","70","707","7073",7073,"Autres ventes de marchandises",{"$f":"IF(D730=D729,0,SUMIF(Import!B:B,Mapping!D730,Import!G:G)+SUMIF(Import!C:C,Mapping!D730,Import!G:G)+SUMIF(Import!D:D,Mapping!D730,Import!G:G))","v":0},{"$f":"IF(D730=D729,0,SUMIF(Import!B:B,Mapping!D730,Import!H:H)+SUMIF(Import!C:C,Mapping!D730,Import!H:H)+SUMIF(Import!D:D,Mapping!D730,Import!H:H))","v":0}]
["7","70","707","7074",7074,"Ventes de cartes",{"$f":"IF(D731=D730,0,SUMIF(Import!B:B,Mapping!D731,Import!G:G)+SUMIF(Import!C:C,Mapping!D731,Import!G:G)+SUMIF(Import!D:D,Mapping!D731,Import!G:G))","v":0},{"$f":"IF(D731=D730,0,SUMIF(Import!B:B,Mapping!D731,Import!H:H)+SUMIF(Import!C:C,Mapping!D731,Import!H:H)+SUMIF(Import!D:D,Mapping!D731,Import!H:H))","v":0}]
["7","70","708","7080",7080,"Produits des activités annexes",{"$f":"IF(D732=D731,0,SUMIF(Import!B:B,Mapping!D732,Import!G:G)+SUMIF(Import!C:C,Mapping!D732,Import!G:G)+SUMIF(Import!D:D,Mapping!D732,Import!G:G))","v":0},{"$f":"IF(D732=D731,0,SUMIF(Import!B:B,Mapping!D732,Import!H:H)+SUMIF(Import!C:C,Mapping!D732,Import!H:H)+SUMIF(Import!D:D,Mapping!D732,Import!H:H))","v":0}]
["7","70","708","7081",7081,"Produits des services exploités dans l'intérêt du personnel",{"$f":"IF(D733=D732,0,SUMIF(Import!B:B,Mapping!D733,Import!G:G)+SUMIF(Import!C:C,Mapping!D733,Import!G:G)+SUMIF(Import!D:D,Mapping!D733,Import!G:G))","v":0},{"$f":"IF(D733=D732,0,SUMIF(Import!B:B,Mapping!D733,Import!H:H)+SUMIF(Import!C:C,Mapping!D733,Import!H:H)+SUMIF(Import!D:D,Mapping!D733,Import!H:H))","v":0}]
["7","70","708","7082",7082,"Commissions et courtages",{"$f":"IF(D734=D733,0,SUMIF(Import!B:B,Mapping!D734,Import!G:G)+SUMIF(Import!C:C,Mapping!D734,Import!G:G)+SUMIF(Import!D:D,Mapping!D734,Import!G:G))","v":0},{"$f":"IF(D734=D733,0,SUMIF(Import!B:B,Mapping!D734,Import!H:H)+SUMIF(Import!C:C,Mapping!D734,Import!H:H)+SUMIF(Import!D:D,Mapping!D734,Import!H:H))","v":0}]
["7","70","708","7083",7083,"Locations diverses",{"$f":"IF(D735=D734,0,SUMIF(Import!B:B,Mapping!D735,Import!G:G)+SUMIF(Import!C:C,Mapping!D735,Import!G:G)+SUMIF(Import!D:D,Mapping!D735,Import!G:G))","v":0},{"$f":"IF(D735=D734,0,SUMIF(Import!B:B,Mapping!D735,Import!H:H)+SUMIF(Import!C:C,Mapping!D735,Import!H:H)+SUMIF(Import!D:D,Mapping!D735,Import!H:H))","v":0}]
["7","70","708","7084",7084,"Mise à disposition de personnel facturée",{"$f":"IF(D736=D735,0,SUMIF(Import!B:B,Mapping!D736,Import!G:G)+SUMIF(Import!C:C,Mapping!D736,Import!G:G)+SUMIF(Import!D:D,Mapping!D736,Import!G:G))","v":0},{"$f":"IF(D736=D735,0,SUMIF(Import!B:B,Mapping!D736,Import!H:H)+SUMIF(Import!C:C,Mapping!D736,Import!H:H)+SUMIF(Import!D:D,Mapping!D736,Import!H:H))","v":0}]
[{"$f":"LEFT(B737,1)","v":"7"},"70","708","7085",7085,"Ports et frais accessoires facturés",{"$f":"IF(D737=D736,0,SUMIF(Import!B:B,Mapping!D737,Import!G:G)+SUMIF(Import!C:C,Mapping!D737,Import!G:G)+SUMIF(Import!D:D,Mapping!D737,Import!G:G))","v":0},{"$f":"IF(D737=D736,0,SUMIF(Import!B:B,Mapping!D737,Import!H:H)+SUMIF(Import!C:C,Mapping!D737,Import!H:H)+SUMIF(Import!D:D,Mapping!D737,Import!H:H))","v":0}]
["7","70","708","7086",7086,"Bonis sur reprises d'emballages consignés",{"$f":"IF(D738=D737,0,SUMIF(Import!B:B,Mapping!D738,Import!G:G)+SUMIF(Import!C:C,Mapping!D738,Import!G:G)+SUMIF(Import!D:D,Mapping!D738,Import!G:G))","v":0},{"$f":"IF(D738=D737,0,SUMIF(Import!B:B,Mapping!D738,Import!H:H)+SUMIF(Import!C:C,Mapping!D738,Import!H:H)+SUMIF(Import!D:D,Mapping!D738,Import!H:H))","v":0}]
["7","70","708","7087",7087,"Bonifications obtenues des clients et primes sur ventes",{"$f":"IF(D739=D738,0,SUMIF(Import!B:B,Mapping!D739,Import!G:G)+SUMIF(Import!C:C,Mapping!D739,Import!G:G)+SUMIF(Import!D:D,Mapping!D739,Import!G:G))","v":0},{"$f":"IF(D739=D738,0,SUMIF(Import!B:B,Mapping!D739,Import!H:H)+SUMIF(Import!C:C,Mapping!D739,Import!H:H)+SUMIF(Import!D:D,Mapping!D739,Import!H:H))","v":0}]
["7","70","708","7088",7088,"Autres produits d'activités annexes",{"$f":"IF(D740=D739,0,SUMIF(Import!B:B,Mapping!D740,Import!G:G)+SUMIF(Import!C:C,Mapping!D740,Import!G:G)+SUMIF(Import!D:D,Mapping!D740,Import!G:G))","v":0},{"$f":"IF(D740=D739,0,SUMIF(Import!B:B,Mapping!D740,Import!H:H)+SUMIF(Import!C:C,Mapping!D740,Import!H:H)+SUMIF(Import!D:D,Mapping!D740,Import!H:H))","v":0}]
["7",{"$f":"IF(OR(LEFT(E741,2)=\"42\",LEFT(E741,2)=\"43\",LEFT(E741,2)=\"44\",LEFT(E741,2)=\"45\",LEFT(E741,2)=\"46\",LEFT(E741,2)=\"47\",LEFT(E741,2)=\"51\"),IF(G741<0,LEFT(E741,2)&\"P\",LEFT(E741,2)&\"A\"),LEFT(E741,2))","v":"70"},"709","7090",7090,"Rabais, remises et ristournes accordés",{"$f":"IF(D741=D740,0,SUMIF(Import!B:B,Mapping!D741,Import!G:G)+SUMIF(Import!C:C,Mapping!D741,Import!G:G)+SUMIF(Import!D:D,Mapping!D741,Import!G:G))","v":0},{"$f":"IF(D741=D740,0,SUMIF(Import!B:B,Mapping!D741,Import!H:H)+SUMIF(Import!C:C,Mapping!D741,Import!H:H)+SUMIF(Import!D:D,Mapping!D741,Import!H:H))","v":0}]
["7","70","709","7091",7091,"sur ventes de produits finis",{"$f":"IF(D742=D741,0,SUMIF(Import!B:B,Mapping!D742,Import!G:G)+SUMIF(Import!C:C,Mapping!D742,Import!G:G)+SUMIF(Import!D:D,Mapping!D742,Import!G:G))","v":0},{"$f":"IF(D742=D741,0,SUMIF(Import!B:B,Mapping!D742,Import!H:H)+SUMIF(Import!C:C,Mapping!D742,Import!H:H)+SUMIF(Import!D:D,Mapping!D742,Import!H:H))","v":0}]
["7","70","709","7092",7092,"sur ventes de produits intermédiaires",{"$f":"IF(D743=D742,0,SUMIF(Import!B:B,Mapping!D743,Import!G:G)+SUMIF(Import!C:C,Mapping!D743,Import!G:G)+SUMIF(Import!D:D,Mapping!D743,Import!G:G))","v":0},{"$f":"IF(D743=D742,0,SUMIF(Import!B:B,Mapping!D743,Import!H:H)+SUMIF(Import!C:C,Mapping!D743,Import!H:H)+SUMIF(Import!D:D,Mapping!D743,Import!H:H))","v":0}]
["7","70",{"$f":"+LEFT(E744,3)","v":"709"},"7094",7094,"sur travaux",{"$f":"IF(D744=D743,0,SUMIF(Import!B:B,Mapping!D744,Import!G:G)+SUMIF(Import!C:C,Mapping!D744,Import!G:G)+SUMIF(Import!D:D,Mapping!D744,Import!G:G))","v":0},{"$f":"IF(D744=D743,0,SUMIF(Import!B:B,Mapping!D744,Import!H:H)+SUMIF(Import!C:C,Mapping!D744,Import!H:H)+SUMIF(Import!D:D,Mapping!D744,Import!H:H))","v":0}]
["7","70","709","7095",7095,"sur études",{"$f":"IF(D745=D744,0,SUMIF(Import!B:B,Mapping!D745,Import!G:G)+SUMIF(Import!C:C,Mapping!D745,Import!G:G)+SUMIF(Import!D:D,Mapping!D745,Import!G:G))","v":0},{"$f":"IF(D745=D744,0,SUMIF(Import!B:B,Mapping!D745,Import!H:H)+SUMIF(Import!C:C,Mapping!D745,Import!H:H)+SUMIF(Import!D:D,Mapping!D745,Import!H:H))","v":0}]
["7","70",{"$f":"+LEFT(E746,3)","v":"709"},"7096",7096,"sur prestations de services",{"$f":"IF(D746=D745,0,SUMIF(Import!B:B,Mapping!D746,Import!G:G)+SUMIF(Import!C:C,Mapping!D746,Import!G:G)+SUMIF(Import!D:D,Mapping!D746,Import!G:G))","v":0},{"$f":"IF(D746=D745,0,SUMIF(Import!B:B,Mapping!D746,Import!H:H)+SUMIF(Import!C:C,Mapping!D746,Import!H:H)+SUMIF(Import!D:D,Mapping!D746,Import!H:H))","v":0}]
["7","70","709","7097",7097,"sur ventes de marchandises",{"$f":"IF(D747=D746,0,SUMIF(Import!B:B,Mapping!D747,Import!G:G)+SUMIF(Import!C:C,Mapping!D747,Import!G:G)+SUMIF(Import!D:D,Mapping!D747,Import!G:G))","v":0},{"$f":"IF(D747=D746,0,SUMIF(Import!B:B,Mapping!D747,Import!H:H)+SUMIF(Import!C:C,Mapping!D747,Import!H:H)+SUMIF(Import!D:D,Mapping!D747,Import!H:H))","v":0}]
["7","70","709","7098",7098,"sur produits des activités annexes",{"$f":"IF(D748=D747,0,SUMIF(Import!B:B,Mapping!D748,Import!G:G)+SUMIF(Import!C:C,Mapping!D748,Import!G:G)+SUMIF(Import!D:D,Mapping!D748,Import!G:G))","v":0},{"$f":"IF(D748=D747,0,SUMIF(Import!B:B,Mapping!D748,Import!H:H)+SUMIF(Import!C:C,Mapping!D748,Import!H:H)+SUMIF(Import!D:D,Mapping!D748,Import!H:H))","v":0}]
["7","71","713","7130",7130,"Variation des stocks (en-cours de production, produits)",{"$f":"IF(D749=D748,0,SUMIF(Import!B:B,Mapping!D749,Import!G:G)+SUMIF(Import!C:C,Mapping!D749,Import!G:G)+SUMIF(Import!D:D,Mapping!D749,Import!G:G))","v":0},{"$f":"IF(D749=D748,0,SUMIF(Import!B:B,Mapping!D749,Import!H:H)+SUMIF(Import!C:C,Mapping!D749,Import!H:H)+SUMIF(Import!D:D,Mapping!D749,Import!H:H))","v":0}]
["7","71","713","7133",7133,"Variation des en-cours de production de biens",{"$f":"IF(D750=D749,0,SUMIF(Import!B:B,Mapping!D750,Import!G:G)+SUMIF(Import!C:C,Mapping!D750,Import!G:G)+SUMIF(Import!D:D,Mapping!D750,Import!G:G))","v":0},{"$f":"IF(D750=D749,0,SUMIF(Import!B:B,Mapping!D750,Import!H:H)+SUMIF(Import!C:C,Mapping!D750,Import!H:H)+SUMIF(Import!D:D,Mapping!D750,Import!H:H))","v":0}]
["7","71","713","7133",71331,"Produits en cours",{"$f":"IF(D751=D750,0,SUMIF(Import!B:B,Mapping!D751,Import!G:G)+SUMIF(Import!C:C,Mapping!D751,Import!G:G)+SUMIF(Import!D:D,Mapping!D751,Import!G:G))","v":0},{"$f":"IF(D751=D750,0,SUMIF(Import!B:B,Mapping!D751,Import!H:H)+SUMIF(Import!C:C,Mapping!D751,Import!H:H)+SUMIF(Import!D:D,Mapping!D751,Import!H:H))","v":0}]
["7","71","713","7133",71335,"Travaux en cours",{"$f":"IF(D752=D751,0,SUMIF(Import!B:B,Mapping!D752,Import!G:G)+SUMIF(Import!C:C,Mapping!D752,Import!G:G)+SUMIF(Import!D:D,Mapping!D752,Import!G:G))","v":0},{"$f":"IF(D752=D751,0,SUMIF(Import!B:B,Mapping!D752,Import!H:H)+SUMIF(Import!C:C,Mapping!D752,Import!H:H)+SUMIF(Import!D:D,Mapping!D752,Import!H:H))","v":0}]
["7","71","713","7134",7134,"Variation des en-cours de production de services",{"$f":"IF(D753=D752,0,SUMIF(Import!B:B,Mapping!D753,Import!G:G)+SUMIF(Import!C:C,Mapping!D753,Import!G:G)+SUMIF(Import!D:D,Mapping!D753,Import!G:G))","v":0},{"$f":"IF(D753=D752,0,SUMIF(Import!B:B,Mapping!D753,Import!H:H)+SUMIF(Import!C:C,Mapping!D753,Import!H:H)+SUMIF(Import!D:D,Mapping!D753,Import!H:H))","v":0}]
["7","71",{"$f":"+LEFT(E754,3)","v":"713"},"7134",71341,"Etudes en cours",{"$f":"IF(D754=D753,0,SUMIF(Import!B:B,Mapping!D754,Import!G:G)+SUMIF(Import!C:C,Mapping!D754,Import!G:G)+SUMIF(Import!D:D,Mapping!D754,Import!G:G))","v":0},{"$f":"IF(D754=D753,0,SUMIF(Import!B:B,Mapping!D754,Import!H:H)+SUMIF(Import!C:C,Mapping!D754,Import!H:H)+SUMIF(Import!D:D,Mapping!D754,Import!H:H))","v":0}]
["7","71","713","7134",71345,"Prestations de services en cours",{"$f":"IF(D755=D754,0,SUMIF(Import!B:B,Mapping!D755,Import!G:G)+SUMIF(Import!C:C,Mapping!D755,Import!G:G)+SUMIF(Import!D:D,Mapping!D755,Import!G:G))","v":0},{"$f":"IF(D755=D754,0,SUMIF(Import!B:B,Mapping!D755,Import!H:H)+SUMIF(Import!C:C,Mapping!D755,Import!H:H)+SUMIF(Import!D:D,Mapping!D755,Import!H:H))","v":0}]
["7","71","713","7135",7135,"Variation des stocks de produits",{"$f":"IF(D756=D755,0,SUMIF(Import!B:B,Mapping!D756,Import!G:G)+SUMIF(Import!C:C,Mapping!D756,Import!G:G)+SUMIF(Import!D:D,Mapping!D756,Import!G:G))","v":0},{"$f":"IF(D756=D755,0,SUMIF(Import!B:B,Mapping!D756,Import!H:H)+SUMIF(Import!C:C,Mapping!D756,Import!H:H)+SUMIF(Import!D:D,Mapping!D756,Import!H:H))","v":0}]
["7","71","713","7135",71351,"Produits intermédiaires",{"$f":"IF(D757=D756,0,SUMIF(Import!B:B,Mapping!D757,Import!G:G)+SUMIF(Import!C:C,Mapping!D757,Import!G:G)+SUMIF(Import!D:D,Mapping!D757,Import!G:G))","v":0},{"$f":"IF(D757=D756,0,SUMIF(Import!B:B,Mapping!D757,Import!H:H)+SUMIF(Import!C:C,Mapping!D757,Import!H:H)+SUMIF(Import!D:D,Mapping!D757,Import!H:H))","v":0}]
["7","71","713","7135",71355,"Produits finis",{"$f":"IF(D758=D757,0,SUMIF(Import!B:B,Mapping!D758,Import!G:G)+SUMIF(Import!C:C,Mapping!D758,Import!G:G)+SUMIF(Import!D:D,Mapping!D758,Import!G:G))","v":0},{"$f":"IF(D758=D757,0,SUMIF(Import!B:B,Mapping!D758,Import!H:H)+SUMIF(Import!C:C,Mapping!D758,Import!H:H)+SUMIF(Import!D:D,Mapping!D758,Import!H:H))","v":0}]
["7","71","713","7135",71358,"Produits résiduels",{"$f":"IF(D759=D758,0,SUMIF(Import!B:B,Mapping!D759,Import!G:G)+SUMIF(Import!C:C,Mapping!D759,Import!G:G)+SUMIF(Import!D:D,Mapping!D759,Import!G:G))","v":0},{"$f":"IF(D759=D758,0,SUMIF(Import!B:B,Mapping!D759,Import!H:H)+SUMIF(Import!C:C,Mapping!D759,Import!H:H)+SUMIF(Import!D:D,Mapping!D759,Import!H:H))","v":0}]
["7","72","721","7210",7210,"Immobilisations incorporelles",{"$f":"IF(D760=D759,0,SUMIF(Import!B:B,Mapping!D760,Import!G:G)+SUMIF(Import!C:C,Mapping!D760,Import!G:G)+SUMIF(Import!D:D,Mapping!D760,Import!G:G))","v":0},{"$f":"IF(D760=D759,0,SUMIF(Import!B:B,Mapping!D760,Import!H:H)+SUMIF(Import!C:C,Mapping!D760,Import!H:H)+SUMIF(Import!D:D,Mapping!D760,Import!H:H))","v":0}]
["7","72","722","7220",7220,"Immobilisations corporelles",{"$f":"IF(D761=D760,0,SUMIF(Import!B:B,Mapping!D761,Import!G:G)+SUMIF(Import!C:C,Mapping!D761,Import!G:G)+SUMIF(Import!D:D,Mapping!D761,Import!G:G))","v":0},{"$f":"IF(D761=D760,0,SUMIF(Import!B:B,Mapping!D761,Import!H:H)+SUMIF(Import!C:C,Mapping!D761,Import!H:H)+SUMIF(Import!D:D,Mapping!D761,Import!H:H))","v":0}]
["7","74","741","7410",7410,"Aide publique 1ère fraction",{"$f":"IF(D762=D761,0,SUMIF(Import!B:B,Mapping!D762,Import!G:G)+SUMIF(Import!C:C,Mapping!D762,Import!G:G)+SUMIF(Import!D:D,Mapping!D762,Import!G:G))","v":0},{"$f":"IF(D762=D761,0,SUMIF(Import!B:B,Mapping!D762,Import!H:H)+SUMIF(Import!C:C,Mapping!D762,Import!H:H)+SUMIF(Import!D:D,Mapping!D762,Import!H:H))","v":0}]
["7","74","742","7420",7420,"Aide publique 2ème fraction",{"$f":"IF(D763=D762,0,SUMIF(Import!B:B,Mapping!D763,Import!G:G)+SUMIF(Import!C:C,Mapping!D763,Import!G:G)+SUMIF(Import!D:D,Mapping!D763,Import!G:G))","v":0},{"$f":"IF(D763=D762,0,SUMIF(Import!B:B,Mapping!D763,Import!H:H)+SUMIF(Import!C:C,Mapping!D763,Import!H:H)+SUMIF(Import!D:D,Mapping!D763,Import!H:H))","v":0}]
["7","74","747","7470",7470,"Quote-part des subventions d'investissement virée au résultat de l'exercice",{"$f":"IF(D764=D763,0,SUMIF(Import!B:B,Mapping!D764,Import!G:G)+SUMIF(Import!C:C,Mapping!D764,Import!G:G)+SUMIF(Import!D:D,Mapping!D764,Import!G:G))","v":0},{"$f":"IF(D764=D763,0,SUMIF(Import!B:B,Mapping!D764,Import!H:H)+SUMIF(Import!C:C,Mapping!D764,Import!H:H)+SUMIF(Import!D:D,Mapping!D764,Import!H:H))","v":0}]
["7","74","748",{"$f":"LEFT(E765,4)","v":"7480"},7480,"Autres aides publiques",{"$f":"IF(D765=D764,0,SUMIF(Import!B:B,Mapping!D765,Import!G:G)+SUMIF(Import!C:C,Mapping!D765,Import!G:G)+SUMIF(Import!D:D,Mapping!D765,Import!G:G))","v":0},{"$f":"IF(D765=D764,0,SUMIF(Import!B:B,Mapping!D765,Import!H:H)+SUMIF(Import!C:C,Mapping!D765,Import!H:H)+SUMIF(Import!D:D,Mapping!D765,Import!H:H))","v":0}]
["7","75","751","7510",7510,"Redevances pour concessions, brevets, licences, marques, procédés, solutions informatiques, droits et valeurs similaires",{"$f":"IF(D766=D765,0,SUMIF(Import!B:B,Mapping!D766,Import!G:G)+SUMIF(Import!C:C,Mapping!D766,Import!G:G)+SUMIF(Import!D:D,Mapping!D766,Import!G:G))","v":0},{"$f":"IF(D766=D765,0,SUMIF(Import!B:B,Mapping!D766,Import!H:H)+SUMIF(Import!C:C,Mapping!D766,Import!H:H)+SUMIF(Import!D:D,Mapping!D766,Import!H:H))","v":0}]
["7","75","751","7511",7511,"Redevances pour concessions, brevets, licences, marques, procédés, solutions informatiques",{"$f":"IF(D767=D766,0,SUMIF(Import!B:B,Mapping!D767,Import!G:G)+SUMIF(Import!C:C,Mapping!D767,Import!G:G)+SUMIF(Import!D:D,Mapping!D767,Import!G:G))","v":0},{"$f":"IF(D767=D766,0,SUMIF(Import!B:B,Mapping!D767,Import!H:H)+SUMIF(Import!C:C,Mapping!D767,Import!H:H)+SUMIF(Import!D:D,Mapping!D767,Import!H:H))","v":0}]
["7","75","751","7516",7516,"Droits d'auteur et de reproduction",{"$f":"IF(D768=D767,0,SUMIF(Import!B:B,Mapping!D768,Import!G:G)+SUMIF(Import!C:C,Mapping!D768,Import!G:G)+SUMIF(Import!D:D,Mapping!D768,Import!G:G))","v":0},{"$f":"IF(D768=D767,0,SUMIF(Import!B:B,Mapping!D768,Import!H:H)+SUMIF(Import!C:C,Mapping!D768,Import!H:H)+SUMIF(Import!D:D,Mapping!D768,Import!H:H))","v":0}]
["7","75","751","7518",7518,"Autres droits et valeurs similaires",{"$f":"IF(D769=D768,0,SUMIF(Import!B:B,Mapping!D769,Import!G:G)+SUMIF(Import!C:C,Mapping!D769,Import!G:G)+SUMIF(Import!D:D,Mapping!D769,Import!G:G))","v":0},{"$f":"IF(D769=D768,0,SUMIF(Import!B:B,Mapping!D769,Import!H:H)+SUMIF(Import!C:C,Mapping!D769,Import!H:H)+SUMIF(Import!D:D,Mapping!D769,Import!H:H))","v":0}]
["7","75","752","7520",7520,"Revenus des immeubles non affectés à des activités professionnelles",{"$f":"IF(D770=D769,0,SUMIF(Import!B:B,Mapping!D770,Import!G:G)+SUMIF(Import!C:C,Mapping!D770,Import!G:G)+SUMIF(Import!D:D,Mapping!D770,Import!G:G))","v":0},{"$f":"IF(D770=D769,0,SUMIF(Import!B:B,Mapping!D770,Import!H:H)+SUMIF(Import!C:C,Mapping!D770,Import!H:H)+SUMIF(Import!D:D,Mapping!D770,Import!H:H))","v":0}]
["7","75","753","7530",7530,"Dévolutions",{"$f":"IF(D771=D770,0,SUMIF(Import!B:B,Mapping!D771,Import!G:G)+SUMIF(Import!C:C,Mapping!D771,Import!G:G)+SUMIF(Import!D:D,Mapping!D771,Import!G:G))","v":0},{"$f":"IF(D771=D770,0,SUMIF(Import!B:B,Mapping!D771,Import!H:H)+SUMIF(Import!C:C,Mapping!D771,Import!H:H)+SUMIF(Import!D:D,Mapping!D771,Import!H:H))","v":0}]
["7","75","753","7531",7531,"Dévolutions de comptes de campagne",{"$f":"IF(D772=D771,0,SUMIF(Import!B:B,Mapping!D772,Import!G:G)+SUMIF(Import!C:C,Mapping!D772,Import!G:G)+SUMIF(Import!D:D,Mapping!D772,Import!G:G))","v":0},{"$f":"IF(D772=D771,0,SUMIF(Import!B:B,Mapping!D772,Import!H:H)+SUMIF(Import!C:C,Mapping!D772,Import!H:H)+SUMIF(Import!D:D,Mapping!D772,Import!H:H))","v":0}]
[{"$f":"LEFT(B773,1)","v":"7"},{"$f":"IF(OR(LEFT(E773,2)=\"42\",LEFT(E773,2)=\"43\",LEFT(E773,2)=\"44\",LEFT(E773,2)=\"45\",LEFT(E773,2)=\"46\",LEFT(E773,2)=\"47\",LEFT(E773,2)=\"51\"),IF(G773<0,LEFT(E773,2)&\"P\",LEFT(E773,2)&\"A\"),LEFT(E773,2))","v":"75"},{"$f":"+LEFT(E773,3)","v":"753"},{"$f":"LEFT(E773,4)","v":"7532"},7532,"Dévolutions de partis ou groupements politiques",{"$f":"IF(D773=D772,0,SUMIF(Import!B:B,Mapping!D773,Import!G:G)+SUMIF(Import!C:C,Mapping!D773,Import!G:G)+SUMIF(Import!D:D,Mapping!D773,Import!G:G))","v":0},{"$f":"IF(D773=D772,0,SUMIF(Import!B:B,Mapping!D773,Import!H:H)+SUMIF(Import!C:C,Mapping!D773,Import!H:H)+SUMIF(Import!D:D,Mapping!D773,Import!H:H))","v":0}]
["7","75","754","7540",7540,"Dons de personnes physiques",{"$f":"IF(D774=D773,0,SUMIF(Import!B:B,Mapping!D774,Import!G:G)+SUMIF(Import!C:C,Mapping!D774,Import!G:G)+SUMIF(Import!D:D,Mapping!D774,Import!G:G))","v":0},{"$f":"IF(D774=D773,0,SUMIF(Import!B:B,Mapping!D774,Import!H:H)+SUMIF(Import!C:C,Mapping!D774,Import!H:H)+SUMIF(Import!D:D,Mapping!D774,Import!H:H))","v":0}]
[{"$f":"LEFT(B775,1)","v":"7"},{"$f":"IF(OR(LEFT(E775,2)=\"42\",LEFT(E775,2)=\"43\",LEFT(E775,2)=\"44\",LEFT(E775,2)=\"45\",LEFT(E775,2)=\"46\",LEFT(E775,2)=\"47\",LEFT(E775,2)=\"51\"),IF(G775<0,LEFT(E775,2)&\"P\",LEFT(E775,2)&\"A\"),LEFT(E775,2))","v":"75"},{"$f":"+LEFT(E775,3)","v":"754"},{"$f":"LEFT(E775,4)","v":"7541"},7541,"Dons de personnes physiques au mandataire",{"$f":"IF(D775=D774,0,SUMIF(Import!B:B,Mapping!D775,Import!G:G)+SUMIF(Import!C:C,Mapping!D775,Import!G:G)+SUMIF(Import!D:D,Mapping!D775,Import!G:G))","v":0},{"$f":"IF(D775=D774,0,SUMIF(Import!B:B,Mapping!D775,Import!H:H)+SUMIF(Import!C:C,Mapping!D775,Import!H:H)+SUMIF(Import!D:D,Mapping!D775,Import!H:H))","v":0}]
["7","75","754","7542",7542,"Collectes ",{"$f":"IF(D776=D775,0,SUMIF(Import!B:B,Mapping!D776,Import!G:G)+SUMIF(Import!C:C,Mapping!D776,Import!G:G)+SUMIF(Import!D:D,Mapping!D776,Import!G:G))","v":0},{"$f":"IF(D776=D775,0,SUMIF(Import!B:B,Mapping!D776,Import!H:H)+SUMIF(Import!C:C,Mapping!D776,Import!H:H)+SUMIF(Import!D:D,Mapping!D776,Import!H:H))","v":0}]
[{"$f":"LEFT(B777,1)","v":"7"},{"$f":"IF(OR(LEFT(E777,2)=\"42\",LEFT(E777,2)=\"43\",LEFT(E777,2)=\"44\",LEFT(E777,2)=\"45\",LEFT(E777,2)=\"46\",LEFT(E777,2)=\"47\",LEFT(E777,2)=\"51\"),IF(G777<0,LEFT(E777,2)&\"P\",LEFT(E777,2)&\"A\"),LEFT(E777,2))","v":"75"},{"$f":"+LEFT(E777,3)","v":"755"},{"$f":"LEFT(E777,4)","v":"7550"},7550,"Contributions financières de partis  ou groupements politiques",{"$f":"IF(D777=D776,0,SUMIF(Import!B:B,Mapping!D777,Import!G:G)+SUMIF(Import!C:C,Mapping!D777,Import!G:G)+SUMIF(Import!D:D,Mapping!D777,Import!G:G))","v":0},{"$f":"IF(D777=D776,0,SUMIF(Import!B:B,Mapping!D777,Import!H:H)+SUMIF(Import!C:C,Mapping!D777,Import!H:H)+SUMIF(Import!D:D,Mapping!D777,Import!H:H))","v":0}]
["7","75","755","7551",7551,"Quote-part de perte transférée (comptabilité du gérant)",{"$f":"IF(D778=D777,0,SUMIF(Import!B:B,Mapping!D778,Import!G:G)+SUMIF(Import!C:C,Mapping!D778,Import!G:G)+SUMIF(Import!D:D,Mapping!D778,Import!G:G))","v":0},{"$f":"IF(D778=D777,0,SUMIF(Import!B:B,Mapping!D778,Import!H:H)+SUMIF(Import!C:C,Mapping!D778,Import!H:H)+SUMIF(Import!D:D,Mapping!D778,Import!H:H))","v":0}]
["7","75","755","7552",7552,"Contributions financières de partis  ou groupements politiques",{"$f":"IF(D779=D778,0,SUMIF(Import!B:B,Mapping!D779,Import!G:G)+SUMIF(Import!C:C,Mapping!D779,Import!G:G)+SUMIF(Import!D:D,Mapping!D779,Import!G:G))","v":0},{"$f":"IF(D779=D778,0,SUMIF(Import!B:B,Mapping!D779,Import!H:H)+SUMIF(Import!C:C,Mapping!D779,Import!H:H)+SUMIF(Import!D:D,Mapping!D779,Import!H:H))","v":0}]
["7","75","755","7553",7553,"Contributions financières de partis  ou groupements politiques",{"$f":"IF(D780=D779,0,SUMIF(Import!B:B,Mapping!D780,Import!G:G)+SUMIF(Import!C:C,Mapping!D780,Import!G:G)+SUMIF(Import!D:D,Mapping!D780,Import!G:G))","v":0},{"$f":"IF(D780=D779,0,SUMIF(Import!B:B,Mapping!D780,Import!H:H)+SUMIF(Import!C:C,Mapping!D780,Import!H:H)+SUMIF(Import!D:D,Mapping!D780,Import!H:H))","v":0}]
["7","75","755","7554",7554,"Contributions financières de partis  ou groupements politiques",{"$f":"IF(D781=D780,0,SUMIF(Import!B:B,Mapping!D781,Import!G:G)+SUMIF(Import!C:C,Mapping!D781,Import!G:G)+SUMIF(Import!D:D,Mapping!D781,Import!G:G))","v":0},{"$f":"IF(D781=D780,0,SUMIF(Import!B:B,Mapping!D781,Import!H:H)+SUMIF(Import!C:C,Mapping!D781,Import!H:H)+SUMIF(Import!D:D,Mapping!D781,Import!H:H))","v":0}]
[{"$f":"LEFT(B782,1)","v":"7"},{"$f":"IF(OR(LEFT(E782,2)=\"42\",LEFT(E782,2)=\"43\",LEFT(E782,2)=\"44\",LEFT(E782,2)=\"45\",LEFT(E782,2)=\"46\",LEFT(E782,2)=\"47\",LEFT(E782,2)=\"51\"),IF(G782<0,LEFT(E782,2)&\"P\",LEFT(E782,2)&\"A\"),LEFT(E782,2))","v":"75"},{"$f":"+LEFT(E782,3)","v":"755"},"7555",7555,"Quote-part de bénéfice attribuée (comptabilité des associés non-gérants)",{"$f":"IF(D782=D781,0,SUMIF(Import!B:B,Mapping!D782,Import!G:G)+SUMIF(Import!C:C,Mapping!D782,Import!G:G)+SUMIF(Import!D:D,Mapping!D782,Import!G:G))","v":0},{"$f":"IF(D782=D781,0,SUMIF(Import!B:B,Mapping!D782,Import!H:H)+SUMIF(Import!C:C,Mapping!D782,Import!H:H)+SUMIF(Import!D:D,Mapping!D782,Import!H:H))","v":0}]
[{"$f":"LEFT(B783,1)","v":"7"},{"$f":"IF(OR(LEFT(E783,2)=\"42\",LEFT(E783,2)=\"43\",LEFT(E783,2)=\"44\",LEFT(E783,2)=\"45\",LEFT(E783,2)=\"46\",LEFT(E783,2)=\"47\",LEFT(E783,2)=\"51\"),IF(G783<0,LEFT(E783,2)&\"P\",LEFT(E783,2)&\"A\"),LEFT(E783,2))","v":"75"},{"$f":"+LEFT(E783,3)","v":"756"},"7561",7561,"Cotisations des adhérents",{"$f":"IF(D783=D782,0,SUMIF(Import!B:B,Mapping!D783,Import!G:G)+SUMIF(Import!C:C,Mapping!D783,Import!G:G)+SUMIF(Import!D:D,Mapping!D783,Import!G:G))","v":0},{"$f":"IF(D783=D782,0,SUMIF(Import!B:B,Mapping!D783,Import!H:H)+SUMIF(Import!C:C,Mapping!D783,Import!H:H)+SUMIF(Import!D:D,Mapping!D783,Import!H:H))","v":0}]
["7","75",{"$f":"+LEFT(E784,3)","v":"756"},"7562",7562,"Cotisations des élus",{"$f":"IF(D784=D783,0,SUMIF(Import!B:B,Mapping!D784,Import!G:G)+SUMIF(Import!C:C,Mapping!D784,Import!G:G)+SUMIF(Import!D:D,Mapping!D784,Import!G:G))","v":0},{"$f":"IF(D784=D783,0,SUMIF(Import!B:B,Mapping!D784,Import!H:H)+SUMIF(Import!C:C,Mapping!D784,Import!H:H)+SUMIF(Import!D:D,Mapping!D784,Import!H:H))","v":0}]
[{"$f":"LEFT(B785,1)","v":"7"},{"$f":"IF(OR(LEFT(E785,2)=\"42\",LEFT(E785,2)=\"43\",LEFT(E785,2)=\"44\",LEFT(E785,2)=\"45\",LEFT(E785,2)=\"46\",LEFT(E785,2)=\"47\",LEFT(E785,2)=\"51\"),IF(G785<0,LEFT(E785,2)&\"P\",LEFT(E785,2)&\"A\"),LEFT(E785,2))","v":"75"},{"$f":"+LEFT(E785,3)","v":"757"},"7570",7570,"Produits des cessions d'immobilisations incorporelles et corporelles",{"$f":"IF(D785=D784,0,SUMIF(Import!B:B,Mapping!D785,Import!G:G)+SUMIF(Import!C:C,Mapping!D785,Import!G:G)+SUMIF(Import!D:D,Mapping!D785,Import!G:G))","v":0},{"$f":"IF(D785=D784,0,SUMIF(Import!B:B,Mapping!D785,Import!H:H)+SUMIF(Import!C:C,Mapping!D785,Import!H:H)+SUMIF(Import!D:D,Mapping!D785,Import!H:H))","v":0}]
[{"$f":"LEFT(B786,1)","v":"7"},{"$f":"IF(OR(LEFT(E786,2)=\"42\",LEFT(E786,2)=\"43\",LEFT(E786,2)=\"44\",LEFT(E786,2)=\"45\",LEFT(E786,2)=\"46\",LEFT(E786,2)=\"47\",LEFT(E786,2)=\"51\"),IF(G786<0,LEFT(E786,2)&\"P\",LEFT(E786,2)&\"A\"),LEFT(E786,2))","v":"75"},{"$f":"+LEFT(E786,3)","v":"758"},"7580",7580,"Indemnités et autres produits",{"$f":"IF(D786=D785,0,SUMIF(Import!B:B,Mapping!D786,Import!G:G)+SUMIF(Import!C:C,Mapping!D786,Import!G:G)+SUMIF(Import!D:D,Mapping!D786,Import!G:G))","v":0},{"$f":"IF(D786=D785,0,SUMIF(Import!B:B,Mapping!D786,Import!H:H)+SUMIF(Import!C:C,Mapping!D786,Import!H:H)+SUMIF(Import!D:D,Mapping!D786,Import!H:H))","v":0}]
["7","75","758","7581",7581,"Produits des entités non significatives",{"$f":"IF(D787=D786,0,SUMIF(Import!B:B,Mapping!D787,Import!G:G)+SUMIF(Import!C:C,Mapping!D787,Import!G:G)+SUMIF(Import!D:D,Mapping!D787,Import!G:G))","v":0},{"$f":"IF(D787=D786,0,SUMIF(Import!B:B,Mapping!D787,Import!H:H)+SUMIF(Import!C:C,Mapping!D787,Import!H:H)+SUMIF(Import!D:D,Mapping!D787,Import!H:H))","v":0}]
["7","75","758","7583",7583,"Rentrées sur créances amorties",{"$f":"IF(D788=D787,0,SUMIF(Import!B:B,Mapping!D788,Import!G:G)+SUMIF(Import!C:C,Mapping!D788,Import!G:G)+SUMIF(Import!D:D,Mapping!D788,Import!G:G))","v":0},{"$f":"IF(D788=D787,0,SUMIF(Import!B:B,Mapping!D788,Import!H:H)+SUMIF(Import!C:C,Mapping!D788,Import!H:H)+SUMIF(Import!D:D,Mapping!D788,Import!H:H))","v":0}]
["7","75","758","7584",7584,"Débrèvements d'impôts autres qu'impôts sur les bénéfices",{"$f":"IF(D789=D788,0,SUMIF(Import!B:B,Mapping!D789,Import!G:G)+SUMIF(Import!C:C,Mapping!D789,Import!G:G)+SUMIF(Import!D:D,Mapping!D789,Import!G:G))","v":0},{"$f":"IF(D789=D788,0,SUMIF(Import!B:B,Mapping!D789,Import!H:H)+SUMIF(Import!C:C,Mapping!D789,Import!H:H)+SUMIF(Import!D:D,Mapping!D789,Import!H:H))","v":0}]
["7",{"$f":"IF(OR(LEFT(E790,2)=\"42\",LEFT(E790,2)=\"43\",LEFT(E790,2)=\"44\",LEFT(E790,2)=\"45\",LEFT(E790,2)=\"46\",LEFT(E790,2)=\"47\",LEFT(E790,2)=\"51\"),IF(G790<0,LEFT(E790,2)&\"P\",LEFT(E790,2)&\"A\"),LEFT(E790,2))","v":"75"},{"$f":"+LEFT(E790,3)","v":"758"},"7585",7585,"Bonis provenant de clauses d'indexation",{"$f":"IF(D790=D789,0,SUMIF(Import!B:B,Mapping!D790,Import!G:G)+SUMIF(Import!C:C,Mapping!D790,Import!G:G)+SUMIF(Import!D:D,Mapping!D790,Import!G:G))","v":0},{"$f":"IF(D790=D789,0,SUMIF(Import!B:B,Mapping!D790,Import!H:H)+SUMIF(Import!C:C,Mapping!D790,Import!H:H)+SUMIF(Import!D:D,Mapping!D790,Import!H:H))","v":0}]
["7","75",{"$f":"+LEFT(E791,3)","v":"758"},"7586",7586,"Lots",{"$f":"IF(D791=D790,0,SUMIF(Import!B:B,Mapping!D791,Import!G:G)+SUMIF(Import!C:C,Mapping!D791,Import!G:G)+SUMIF(Import!D:D,Mapping!D791,Import!G:G))","v":0},{"$f":"IF(D791=D790,0,SUMIF(Import!B:B,Mapping!D791,Import!H:H)+SUMIF(Import!C:C,Mapping!D791,Import!H:H)+SUMIF(Import!D:D,Mapping!D791,Import!H:H))","v":0}]
["7","75","758","7587",7587,"Indemnités d'assurance",{"$f":"IF(D792=D791,0,SUMIF(Import!B:B,Mapping!D792,Import!G:G)+SUMIF(Import!C:C,Mapping!D792,Import!G:G)+SUMIF(Import!D:D,Mapping!D792,Import!G:G))","v":0},{"$f":"IF(D792=D791,0,SUMIF(Import!B:B,Mapping!D792,Import!H:H)+SUMIF(Import!C:C,Mapping!D792,Import!H:H)+SUMIF(Import!D:D,Mapping!D792,Import!H:H))","v":0}]
["7","76","761","7610",7610,"Produits de participations",{"$f":"IF(D793=D792,0,SUMIF(Import!B:B,Mapping!D793,Import!G:G)+SUMIF(Import!C:C,Mapping!D793,Import!G:G)+SUMIF(Import!D:D,Mapping!D793,Import!G:G))","v":0},{"$f":"IF(D793=D792,0,SUMIF(Import!B:B,Mapping!D793,Import!H:H)+SUMIF(Import!C:C,Mapping!D793,Import!H:H)+SUMIF(Import!D:D,Mapping!D793,Import!H:H))","v":0}]
["7","76","761","7611",7611,"Revenus des titres de participation",{"$f":"IF(D794=D793,0,SUMIF(Import!B:B,Mapping!D794,Import!G:G)+SUMIF(Import!C:C,Mapping!D794,Import!G:G)+SUMIF(Import!D:D,Mapping!D794,Import!G:G))","v":0},{"$f":"IF(D794=D793,0,SUMIF(Import!B:B,Mapping!D794,Import!H:H)+SUMIF(Import!C:C,Mapping!D794,Import!H:H)+SUMIF(Import!D:D,Mapping!D794,Import!H:H))","v":0}]
["7","76","761","7616",7616,"Revenus sur autres formes de participation",{"$f":"IF(D795=D794,0,SUMIF(Import!B:B,Mapping!D795,Import!G:G)+SUMIF(Import!C:C,Mapping!D795,Import!G:G)+SUMIF(Import!D:D,Mapping!D795,Import!G:G))","v":0},{"$f":"IF(D795=D794,0,SUMIF(Import!B:B,Mapping!D795,Import!H:H)+SUMIF(Import!C:C,Mapping!D795,Import!H:H)+SUMIF(Import!D:D,Mapping!D795,Import!H:H))","v":0}]
["7","76","761",{"$f":"LEFT(E796,4)","v":"7617"},7617,"Revenus des créances rattachées à des participations",{"$f":"IF(D796=D795,0,SUMIF(Import!B:B,Mapping!D796,Import!G:G)+SUMIF(Import!C:C,Mapping!D796,Import!G:G)+SUMIF(Import!D:D,Mapping!D796,Import!G:G))","v":0},{"$f":"IF(D796=D795,0,SUMIF(Import!B:B,Mapping!D796,Import!H:H)+SUMIF(Import!C:C,Mapping!D796,Import!H:H)+SUMIF(Import!D:D,Mapping!D796,Import!H:H))","v":0}]
["7","76","762",{"$f":"LEFT(E797,4)","v":"7620"},7620,"Produits des autres immobilisations financières",{"$f":"IF(D797=D796,0,SUMIF(Import!B:B,Mapping!D797,Import!G:G)+SUMIF(Import!C:C,Mapping!D797,Import!G:G)+SUMIF(Import!D:D,Mapping!D797,Import!G:G))","v":0},{"$f":"IF(D797=D796,0,SUMIF(Import!B:B,Mapping!D797,Import!H:H)+SUMIF(Import!C:C,Mapping!D797,Import!H:H)+SUMIF(Import!D:D,Mapping!D797,Import!H:H))","v":0}]
["7","76","762",{"$f":"LEFT(E798,4)","v":"7621"},7621,"Revenus des titres immobilisés",{"$f":"IF(D798=D797,0,SUMIF(Import!B:B,Mapping!D798,Import!G:G)+SUMIF(Import!C:C,Mapping!D798,Import!G:G)+SUMIF(Import!D:D,Mapping!D798,Import!G:G))","v":0},{"$f":"IF(D798=D797,0,SUMIF(Import!B:B,Mapping!D798,Import!H:H)+SUMIF(Import!C:C,Mapping!D798,Import!H:H)+SUMIF(Import!D:D,Mapping!D798,Import!H:H))","v":0}]
["7","76","762",{"$f":"LEFT(E799,4)","v":"7626"},7626,"Revenus des prêts",{"$f":"IF(D799=D798,0,SUMIF(Import!B:B,Mapping!D799,Import!G:G)+SUMIF(Import!C:C,Mapping!D799,Import!G:G)+SUMIF(Import!D:D,Mapping!D799,Import!G:G))","v":0},{"$f":"IF(D799=D798,0,SUMIF(Import!B:B,Mapping!D799,Import!H:H)+SUMIF(Import!C:C,Mapping!D799,Import!H:H)+SUMIF(Import!D:D,Mapping!D799,Import!H:H))","v":0}]
["7","76","762",{"$f":"LEFT(E800,4)","v":"7627"},7627,"Revenus des créances immobilisées",{"$f":"IF(D800=D799,0,SUMIF(Import!B:B,Mapping!D800,Import!G:G)+SUMIF(Import!C:C,Mapping!D800,Import!G:G)+SUMIF(Import!D:D,Mapping!D800,Import!G:G))","v":0},{"$f":"IF(D800=D799,0,SUMIF(Import!B:B,Mapping!D800,Import!H:H)+SUMIF(Import!C:C,Mapping!D800,Import!H:H)+SUMIF(Import!D:D,Mapping!D800,Import!H:H))","v":0}]
["7","76","763",{"$f":"LEFT(E801,4)","v":"7630"},7630,"Revenus des autres créances",{"$f":"IF(D801=D800,0,SUMIF(Import!B:B,Mapping!D801,Import!G:G)+SUMIF(Import!C:C,Mapping!D801,Import!G:G)+SUMIF(Import!D:D,Mapping!D801,Import!G:G))","v":0},{"$f":"IF(D801=D800,0,SUMIF(Import!B:B,Mapping!D801,Import!H:H)+SUMIF(Import!C:C,Mapping!D801,Import!H:H)+SUMIF(Import!D:D,Mapping!D801,Import!H:H))","v":0}]
["7","76","763","7631",7631,"Revenus des créances commerciales",{"$f":"IF(D802=D801,0,SUMIF(Import!B:B,Mapping!D802,Import!G:G)+SUMIF(Import!C:C,Mapping!D802,Import!G:G)+SUMIF(Import!D:D,Mapping!D802,Import!G:G))","v":0},{"$f":"IF(D802=D801,0,SUMIF(Import!B:B,Mapping!D802,Import!H:H)+SUMIF(Import!C:C,Mapping!D802,Import!H:H)+SUMIF(Import!D:D,Mapping!D802,Import!H:H))","v":0}]
["7","76","763","7638",7638,"Revenus des créances diverses",{"$f":"IF(D803=D802,0,SUMIF(Import!B:B,Mapping!D803,Import!G:G)+SUMIF(Import!C:C,Mapping!D803,Import!G:G)+SUMIF(Import!D:D,Mapping!D803,Import!G:G))","v":0},{"$f":"IF(D803=D802,0,SUMIF(Import!B:B,Mapping!D803,Import!H:H)+SUMIF(Import!C:C,Mapping!D803,Import!H:H)+SUMIF(Import!D:D,Mapping!D803,Import!H:H))","v":0}]
["7","76","764","7640",7640,"Revenus des valeurs mobilières de placement",{"$f":"IF(D804=D803,0,SUMIF(Import!B:B,Mapping!D804,Import!G:G)+SUMIF(Import!C:C,Mapping!D804,Import!G:G)+SUMIF(Import!D:D,Mapping!D804,Import!G:G))","v":0},{"$f":"IF(D804=D803,0,SUMIF(Import!B:B,Mapping!D804,Import!H:H)+SUMIF(Import!C:C,Mapping!D804,Import!H:H)+SUMIF(Import!D:D,Mapping!D804,Import!H:H))","v":0}]
["7","76","765","7650",7650,"Escomptes obtenus",{"$f":"IF(D805=D804,0,SUMIF(Import!B:B,Mapping!D805,Import!G:G)+SUMIF(Import!C:C,Mapping!D805,Import!G:G)+SUMIF(Import!D:D,Mapping!D805,Import!G:G))","v":0},{"$f":"IF(D805=D804,0,SUMIF(Import!B:B,Mapping!D805,Import!H:H)+SUMIF(Import!C:C,Mapping!D805,Import!H:H)+SUMIF(Import!D:D,Mapping!D805,Import!H:H))","v":0}]
["7","76","766","7660",7660,"Gains de change financiers",{"$f":"IF(D806=D805,0,SUMIF(Import!B:B,Mapping!D806,Import!G:G)+SUMIF(Import!C:C,Mapping!D806,Import!G:G)+SUMIF(Import!D:D,Mapping!D806,Import!G:G))","v":0},{"$f":"IF(D806=D805,0,SUMIF(Import!B:B,Mapping!D806,Import!H:H)+SUMIF(Import!C:C,Mapping!D806,Import!H:H)+SUMIF(Import!D:D,Mapping!D806,Import!H:H))","v":0}]
["7","76","767","7670",7670,"Produits sur cession d'éléments financiers",{"$f":"IF(D807=D806,0,SUMIF(Import!B:B,Mapping!D807,Import!G:G)+SUMIF(Import!C:C,Mapping!D807,Import!G:G)+SUMIF(Import!D:D,Mapping!D807,Import!G:G))","v":0},{"$f":"IF(D807=D806,0,SUMIF(Import!B:B,Mapping!D807,Import!H:H)+SUMIF(Import!C:C,Mapping!D807,Import!H:H)+SUMIF(Import!D:D,Mapping!D807,Import!H:H))","v":0}]
[{"$f":"LEFT(B808,1)","v":"7"},"76","768","7680",7680,"Autres produits financiers",{"$f":"IF(D808=D807,0,SUMIF(Import!B:B,Mapping!D808,Import!G:G)+SUMIF(Import!C:C,Mapping!D808,Import!G:G)+SUMIF(Import!D:D,Mapping!D808,Import!G:G))","v":0},{"$f":"IF(D808=D807,0,SUMIF(Import!B:B,Mapping!D808,Import!H:H)+SUMIF(Import!C:C,Mapping!D808,Import!H:H)+SUMIF(Import!D:D,Mapping!D808,Import!H:H))","v":0}]
[{"$f":"LEFT(B809,1)","v":"7"},{"$f":"IF(OR(LEFT(E809,2)=\"42\",LEFT(E809,2)=\"43\",LEFT(E809,2)=\"44\",LEFT(E809,2)=\"45\",LEFT(E809,2)=\"46\",LEFT(E809,2)=\"47\",LEFT(E809,2)=\"51\"),IF(G809<0,LEFT(E809,2)&\"P\",LEFT(E809,2)&\"A\"),LEFT(E809,2))","v":"76"},{"$f":"+LEFT(E809,3)","v":"768"},{"$f":"LEFT(E809,4)","v":"7683"},7683,"Bonis provenant du rachat par l'entreprise d'actions et d'obligations émises par elle-même",{"$f":"IF(D809=D808,0,SUMIF(Import!B:B,Mapping!D809,Import!G:G)+SUMIF(Import!C:C,Mapping!D809,Import!G:G)+SUMIF(Import!D:D,Mapping!D809,Import!G:G))","v":0},{"$f":"IF(D809=D808,0,SUMIF(Import!B:B,Mapping!D809,Import!H:H)+SUMIF(Import!C:C,Mapping!D809,Import!H:H)+SUMIF(Import!D:D,Mapping!D809,Import!H:H))","v":0}]
["7","77","772","7720",7720,"(Compte à la disposition des entités pour enregistrer, en cours d'exercice, les produits sur exercices antérieurs)",{"$f":"IF(D810=D809,0,SUMIF(Import!B:B,Mapping!D810,Import!G:G)+SUMIF(Import!C:C,Mapping!D810,Import!G:G)+SUMIF(Import!D:D,Mapping!D810,Import!G:G))","v":0},{"$f":"IF(D810=D809,0,SUMIF(Import!B:B,Mapping!D810,Import!H:H)+SUMIF(Import!C:C,Mapping!D810,Import!H:H)+SUMIF(Import!D:D,Mapping!D810,Import!H:H))","v":0}]
["7","77","778","7780",7780,"Autres produits exceptionnels",{"$f":"IF(D811=D810,0,SUMIF(Import!B:B,Mapping!D811,Import!G:G)+SUMIF(Import!C:C,Mapping!D811,Import!G:G)+SUMIF(Import!D:D,Mapping!D811,Import!G:G))","v":0},{"$f":"IF(D811=D810,0,SUMIF(Import!B:B,Mapping!D811,Import!H:H)+SUMIF(Import!C:C,Mapping!D811,Import!H:H)+SUMIF(Import!D:D,Mapping!D811,Import!H:H))","v":0}]
["7",{"$f":"IF(OR(LEFT(E812,2)=\"42\",LEFT(E812,2)=\"43\",LEFT(E812,2)=\"44\",LEFT(E812,2)=\"45\",LEFT(E812,2)=\"46\",LEFT(E812,2)=\"47\",LEFT(E812,2)=\"51\"),IF(G812<0,LEFT(E812,2)&\"P\",LEFT(E812,2)&\"A\"),LEFT(E812,2))","v":"78"},"781","7810",7810,"Reprises sur amortissements, dépréciations et provisions (à inscrire dans les produits d'exploitation)",{"$f":"IF(D812=D811,0,SUMIF(Import!B:B,Mapping!D812,Import!G:G)+SUMIF(Import!C:C,Mapping!D812,Import!G:G)+SUMIF(Import!D:D,Mapping!D812,Import!G:G))","v":0},{"$f":"IF(D812=D811,0,SUMIF(Import!B:B,Mapping!D812,Import!H:H)+SUMIF(Import!C:C,Mapping!D812,Import!H:H)+SUMIF(Import!D:D,Mapping!D812,Import!H:H))","v":0}]
["7","78","781","7811",7811,"Reprises sur amortissements des immobilisations incorporelles et corporelles",{"$f":"IF(D813=D812,0,SUMIF(Import!B:B,Mapping!D813,Import!G:G)+SUMIF(Import!C:C,Mapping!D813,Import!G:G)+SUMIF(Import!D:D,Mapping!D813,Import!G:G))","v":0},{"$f":"IF(D813=D812,0,SUMIF(Import!B:B,Mapping!D813,Import!H:H)+SUMIF(Import!C:C,Mapping!D813,Import!H:H)+SUMIF(Import!D:D,Mapping!D813,Import!H:H))","v":0}]
["7","78","781","7811",78111,"Immobilisations incorporelles",{"$f":"IF(D814=D813,0,SUMIF(Import!B:B,Mapping!D814,Import!G:G)+SUMIF(Import!C:C,Mapping!D814,Import!G:G)+SUMIF(Import!D:D,Mapping!D814,Import!G:G))","v":0},{"$f":"IF(D814=D813,0,SUMIF(Import!B:B,Mapping!D814,Import!H:H)+SUMIF(Import!C:C,Mapping!D814,Import!H:H)+SUMIF(Import!D:D,Mapping!D814,Import!H:H))","v":0}]
["7","78","781","7811",78112,"Immobilisations corporelles",{"$f":"IF(D815=D814,0,SUMIF(Import!B:B,Mapping!D815,Import!G:G)+SUMIF(Import!C:C,Mapping!D815,Import!G:G)+SUMIF(Import!D:D,Mapping!D815,Import!G:G))","v":0},{"$f":"IF(D815=D814,0,SUMIF(Import!B:B,Mapping!D815,Import!H:H)+SUMIF(Import!C:C,Mapping!D815,Import!H:H)+SUMIF(Import!D:D,Mapping!D815,Import!H:H))","v":0}]
["7","78","781","7815",7815,"Reprises sur provisions d'exploitation",{"$f":"IF(D816=D815,0,SUMIF(Import!B:B,Mapping!D816,Import!G:G)+SUMIF(Import!C:C,Mapping!D816,Import!G:G)+SUMIF(Import!D:D,Mapping!D816,Import!G:G))","v":0},{"$f":"IF(D816=D815,0,SUMIF(Import!B:B,Mapping!D816,Import!H:H)+SUMIF(Import!C:C,Mapping!D816,Import!H:H)+SUMIF(Import!D:D,Mapping!D816,Import!H:H))","v":0}]
["7","78","781","7816",7816,"Reprises sur dépréciations des immobilisations incorporelles et corporelles",{"$f":"IF(D817=D816,0,SUMIF(Import!B:B,Mapping!D817,Import!G:G)+SUMIF(Import!C:C,Mapping!D817,Import!G:G)+SUMIF(Import!D:D,Mapping!D817,Import!G:G))","v":0},{"$f":"IF(D817=D816,0,SUMIF(Import!B:B,Mapping!D817,Import!H:H)+SUMIF(Import!C:C,Mapping!D817,Import!H:H)+SUMIF(Import!D:D,Mapping!D817,Import!H:H))","v":0}]
["7","78","781","7816",78161,"Immobilisations incorporelles",{"$f":"IF(D818=D817,0,SUMIF(Import!B:B,Mapping!D818,Import!G:G)+SUMIF(Import!C:C,Mapping!D818,Import!G:G)+SUMIF(Import!D:D,Mapping!D818,Import!G:G))","v":0},{"$f":"IF(D818=D817,0,SUMIF(Import!B:B,Mapping!D818,Import!H:H)+SUMIF(Import!C:C,Mapping!D818,Import!H:H)+SUMIF(Import!D:D,Mapping!D818,Import!H:H))","v":0}]
["7","78","781","7816",78162,"Immobilisations corporelles",{"$f":"IF(D819=D818,0,SUMIF(Import!B:B,Mapping!D819,Import!G:G)+SUMIF(Import!C:C,Mapping!D819,Import!G:G)+SUMIF(Import!D:D,Mapping!D819,Import!G:G))","v":0},{"$f":"IF(D819=D818,0,SUMIF(Import!B:B,Mapping!D819,Import!H:H)+SUMIF(Import!C:C,Mapping!D819,Import!H:H)+SUMIF(Import!D:D,Mapping!D819,Import!H:H))","v":0}]
["7","78",{"$f":"+LEFT(E820,3)","v":"781"},"7817",7817,"Reprises sur dépréciations des actifs circulants",{"$f":"IF(D820=D819,0,SUMIF(Import!B:B,Mapping!D820,Import!G:G)+SUMIF(Import!C:C,Mapping!D820,Import!G:G)+SUMIF(Import!D:D,Mapping!D820,Import!G:G))","v":0},{"$f":"IF(D820=D819,0,SUMIF(Import!B:B,Mapping!D820,Import!H:H)+SUMIF(Import!C:C,Mapping!D820,Import!H:H)+SUMIF(Import!D:D,Mapping!D820,Import!H:H))","v":0}]
["7","78","781","7817",78173,"Stocks et en-cours",{"$f":"IF(D821=D820,0,SUMIF(Import!B:B,Mapping!D821,Import!G:G)+SUMIF(Import!C:C,Mapping!D821,Import!G:G)+SUMIF(Import!D:D,Mapping!D821,Import!G:G))","v":0},{"$f":"IF(D821=D820,0,SUMIF(Import!B:B,Mapping!D821,Import!H:H)+SUMIF(Import!C:C,Mapping!D821,Import!H:H)+SUMIF(Import!D:D,Mapping!D821,Import!H:H))","v":0}]
["7","78",{"$f":"+LEFT(E822,3)","v":"781"},"7817",78174,"Créances",{"$f":"IF(D822=D821,0,SUMIF(Import!B:B,Mapping!D822,Import!G:G)+SUMIF(Import!C:C,Mapping!D822,Import!G:G)+SUMIF(Import!D:D,Mapping!D822,Import!G:G))","v":0},{"$f":"IF(D822=D821,0,SUMIF(Import!B:B,Mapping!D822,Import!H:H)+SUMIF(Import!C:C,Mapping!D822,Import!H:H)+SUMIF(Import!D:D,Mapping!D822,Import!H:H))","v":0}]
["7","78","786","7860",7860,"Reprises sur dépréciations et provisions (à inscrire dans les produits financiers)",{"$f":"IF(D823=D822,0,SUMIF(Import!B:B,Mapping!D823,Import!G:G)+SUMIF(Import!C:C,Mapping!D823,Import!G:G)+SUMIF(Import!D:D,Mapping!D823,Import!G:G))","v":0},{"$f":"IF(D823=D822,0,SUMIF(Import!B:B,Mapping!D823,Import!H:H)+SUMIF(Import!C:C,Mapping!D823,Import!H:H)+SUMIF(Import!D:D,Mapping!D823,Import!H:H))","v":0}]
["7","78","786","7865",7865,"Reprises sur provisions financières",{"$f":"IF(D824=D823,0,SUMIF(Import!B:B,Mapping!D824,Import!G:G)+SUMIF(Import!C:C,Mapping!D824,Import!G:G)+SUMIF(Import!D:D,Mapping!D824,Import!G:G))","v":0},{"$f":"IF(D824=D823,0,SUMIF(Import!B:B,Mapping!D824,Import!H:H)+SUMIF(Import!C:C,Mapping!D824,Import!H:H)+SUMIF(Import!D:D,Mapping!D824,Import!H:H))","v":0}]
["7","78","786","7866",7866,"Reprises sur dépréciations des éléments financiers",{"$f":"IF(D825=D824,0,SUMIF(Import!B:B,Mapping!D825,Import!G:G)+SUMIF(Import!C:C,Mapping!D825,Import!G:G)+SUMIF(Import!D:D,Mapping!D825,Import!G:G))","v":0},{"$f":"IF(D825=D824,0,SUMIF(Import!B:B,Mapping!D825,Import!H:H)+SUMIF(Import!C:C,Mapping!D825,Import!H:H)+SUMIF(Import!D:D,Mapping!D825,Import!H:H))","v":0}]
["7","78","786","7866",78662,"Immobilisations financières",{"$f":"IF(D826=D825,0,SUMIF(Import!B:B,Mapping!D826,Import!G:G)+SUMIF(Import!C:C,Mapping!D826,Import!G:G)+SUMIF(Import!D:D,Mapping!D826,Import!G:G))","v":0},{"$f":"IF(D826=D825,0,SUMIF(Import!B:B,Mapping!D826,Import!H:H)+SUMIF(Import!C:C,Mapping!D826,Import!H:H)+SUMIF(Import!D:D,Mapping!D826,Import!H:H))","v":0}]
["7","78","786","7866",78665,"Valeurs mobilières de placements",{"$f":"IF(D827=D826,0,SUMIF(Import!B:B,Mapping!D827,Import!G:G)+SUMIF(Import!C:C,Mapping!D827,Import!G:G)+SUMIF(Import!D:D,Mapping!D827,Import!G:G))","v":0},{"$f":"IF(D827=D826,0,SUMIF(Import!B:B,Mapping!D827,Import!H:H)+SUMIF(Import!C:C,Mapping!D827,Import!H:H)+SUMIF(Import!D:D,Mapping!D827,Import!H:H))","v":0}]
["7","78","787","7870",7870,"Reprises sur dépréciations et provisions (à inscrire dans les produits exceptionnels)",{"$f":"IF(D828=D827,0,SUMIF(Import!B:B,Mapping!D828,Import!G:G)+SUMIF(Import!C:C,Mapping!D828,Import!G:G)+SUMIF(Import!D:D,Mapping!D828,Import!G:G))","v":0},{"$f":"IF(D828=D827,0,SUMIF(Import!B:B,Mapping!D828,Import!H:H)+SUMIF(Import!C:C,Mapping!D828,Import!H:H)+SUMIF(Import!D:D,Mapping!D828,Import!H:H))","v":0}]
[{"$f":"LEFT(B829,1)","v":"7"},{"$f":"IF(OR(LEFT(E829,2)=\"42\",LEFT(E829,2)=\"43\",LEFT(E829,2)=\"44\",LEFT(E829,2)=\"45\",LEFT(E829,2)=\"46\",LEFT(E829,2)=\"47\",LEFT(E829,2)=\"51\"),IF(G829<0,LEFT(E829,2)&\"P\",LEFT(E829,2)&\"A\"),LEFT(E829,2))","v":"78"},{"$f":"+LEFT(E829,3)","v":"787"},{"$f":"LEFT(E829,4)","v":"7872"},7872,"Reprises sur provisions réglementées (immobilisations)",{"$f":"IF(D829=D828,0,SUMIF(Import!B:B,Mapping!D829,Import!G:G)+SUMIF(Import!C:C,Mapping!D829,Import!G:G)+SUMIF(Import!D:D,Mapping!D829,Import!G:G))","v":0},{"$f":"IF(D829=D828,0,SUMIF(Import!B:B,Mapping!D829,Import!H:H)+SUMIF(Import!C:C,Mapping!D829,Import!H:H)+SUMIF(Import!D:D,Mapping!D829,Import!H:H))","v":0}]
[{"$f":"LEFT(B830,1)","v":"7"},{"$f":"IF(OR(LEFT(E830,2)=\"42\",LEFT(E830,2)=\"43\",LEFT(E830,2)=\"44\",LEFT(E830,2)=\"45\",LEFT(E830,2)=\"46\",LEFT(E830,2)=\"47\",LEFT(E830,2)=\"51\"),IF(G830<0,LEFT(E830,2)&\"P\",LEFT(E830,2)&\"A\"),LEFT(E830,2))","v":"78"},{"$f":"+LEFT(E830,3)","v":"787"},{"$f":"LEFT(E830,4)","v":"7872"},78725,"Amortissements dérogatoires",{"$f":"IF(D830=D829,0,SUMIF(Import!B:B,Mapping!D830,Import!G:G)+SUMIF(Import!C:C,Mapping!D830,Import!G:G)+SUMIF(Import!D:D,Mapping!D830,Import!G:G))","v":0},{"$f":"IF(D830=D829,0,SUMIF(Import!B:B,Mapping!D830,Import!H:H)+SUMIF(Import!C:C,Mapping!D830,Import!H:H)+SUMIF(Import!D:D,Mapping!D830,Import!H:H))","v":0}]
[{"$f":"LEFT(B831,1)","v":"7"},{"$f":"IF(OR(LEFT(E831,2)=\"42\",LEFT(E831,2)=\"43\",LEFT(E831,2)=\"44\",LEFT(E831,2)=\"45\",LEFT(E831,2)=\"46\",LEFT(E831,2)=\"47\",LEFT(E831,2)=\"51\"),IF(G831<0,LEFT(E831,2)&\"P\",LEFT(E831,2)&\"A\"),LEFT(E831,2))","v":"78"},{"$f":"+LEFT(E831,3)","v":"787"},{"$f":"LEFT(E831,4)","v":"7873"},7873,"Reprises sur provisions réglementées (stocks)",{"$f":"IF(D831=D830,0,SUMIF(Import!B:B,Mapping!D831,Import!G:G)+SUMIF(Import!C:C,Mapping!D831,Import!G:G)+SUMIF(Import!D:D,Mapping!D831,Import!G:G))","v":0},{"$f":"IF(D831=D830,0,SUMIF(Import!B:B,Mapping!D831,Import!H:H)+SUMIF(Import!C:C,Mapping!D831,Import!H:H)+SUMIF(Import!D:D,Mapping!D831,Import!H:H))","v":0}]
["7","78","787","7874",7874,"Reprises sur autres provisions réglementées",{"$f":"IF(D832=D831,0,SUMIF(Import!B:B,Mapping!D832,Import!G:G)+SUMIF(Import!C:C,Mapping!D832,Import!G:G)+SUMIF(Import!D:D,Mapping!D832,Import!G:G))","v":0},{"$f":"IF(D832=D831,0,SUMIF(Import!B:B,Mapping!D832,Import!H:H)+SUMIF(Import!C:C,Mapping!D832,Import!H:H)+SUMIF(Import!D:D,Mapping!D832,Import!H:H))","v":0}]
["7","78","787","7875",7875,"Reprises sur provisions exceptionnelles",{"$f":"IF(D833=D832,0,SUMIF(Import!B:B,Mapping!D833,Import!G:G)+SUMIF(Import!C:C,Mapping!D833,Import!G:G)+SUMIF(Import!D:D,Mapping!D833,Import!G:G))","v":0},{"$f":"IF(D833=D832,0,SUMIF(Import!B:B,Mapping!D833,Import!H:H)+SUMIF(Import!C:C,Mapping!D833,Import!H:H)+SUMIF(Import!D:D,Mapping!D833,Import!H:H))","v":0}]
["7","78","787","7876",7876,"Reprises sur dépréciations exceptionnelles",{"$f":"IF(D834=D833,0,SUMIF(Import!B:B,Mapping!D834,Import!G:G)+SUMIF(Import!C:C,Mapping!D834,Import!G:G)+SUMIF(Import!D:D,Mapping!D834,Import!G:G))","v":0},{"$f":"IF(D834=D833,0,SUMIF(Import!B:B,Mapping!D834,Import!H:H)+SUMIF(Import!C:C,Mapping!D834,Import!H:H)+SUMIF(Import!D:D,Mapping!D834,Import!H:H))","v":0}]
[{"$f":"LEFT(B835,1)","v":"7"},{"$f":"IF(OR(LEFT(E835,2)=\"42\",LEFT(E835,2)=\"43\",LEFT(E835,2)=\"44\",LEFT(E835,2)=\"45\",LEFT(E835,2)=\"46\",LEFT(E835,2)=\"47\",LEFT(E835,2)=\"51\"),IF(G835<0,LEFT(E835,2)&\"P\",LEFT(E835,2)&\"A\"),LEFT(E835,2))","v":"79"},{"$f":"+LEFT(E835,3)","v":"791"},{"$f":"LEFT(E835,4)","v":"7910"},7910,"Prise en charge directe par le parti",{"$f":"IF(D835=D833,0,SUMIF(Import!B:B,Mapping!D835,Import!G:G)+SUMIF(Import!C:C,Mapping!D835,Import!G:G)+SUMIF(Import!D:D,Mapping!D835,Import!G:G))","v":0},{"$f":"IF(D835=D833,0,SUMIF(Import!B:B,Mapping!D835,Import!H:H)+SUMIF(Import!C:C,Mapping!D835,Import!H:H)+SUMIF(Import!D:D,Mapping!D835,Import!H:H))","v":0}]
["7","79","795","7950",7950,"Intérêts des tiers",{"$f":"IF(D836=D834,0,SUMIF(Import!B:B,Mapping!D836,Import!G:G)+SUMIF(Import!C:C,Mapping!D836,Import!G:G)+SUMIF(Import!D:D,Mapping!D836,Import!G:G))","v":0},{"$f":"IF(D836=D834,0,SUMIF(Import!B:B,Mapping!D836,Import!H:H)+SUMIF(Import!C:C,Mapping!D836,Import!H:H)+SUMIF(Import!D:D,Mapping!D836,Import!H:H))","v":0}]
[{"$f":"LEFT(B837,1)","v":""},null,{"$f":"+LEFT(E837,3)","v":""},{"$f":"LEFT(E837,4)","v":""}]
[null,null,null,null,null,"Contrôle totaux",{"$f":"ROUND(SUM(G3:G837),5)","v":0},{"$f":"ROUND(SUM(H3:H837),5)","v":0}]
[]
[null,"RNC",null,null,null,"Résultat",{"$f":"SUMIF($A$3:$A$837,\"7\",G3:G837)+SUMIF($A$3:$A$837,\"6\",G3:G837)","v":0},{"$f":"SUMIF($A$3:$A$837,\"7\",H3:H837)+SUMIF($A$3:$A$837,\"6\",H3:H837)","v":0}]
[null,"IT",null,null,null,"dont \"Intérêts des tiers\"",{"$f":"SUMIF(D3:D837,\"7950\",G3:G837)","v":0},{"$f":"SUMIF(D3:D837,\"7950\",H3:H837)","v":0}]
[]
[null,null,null,null,null,"Contrôle Résultat",{"$f":"ROUND(G840-Import!G1805,3)","v":0},{"$f":"ROUND(H840-Import!H1805,3)","v":0}]

{"sheet":"Data BG","index":3,"n_rows":146,"n_cols":23,"rows_kept":146,"cut":false,"hidden":false,"merged":[[0,0,0,16],[3,21,4,22],[6,21,9,22],[5,21,5,22]]}
["Plan des comptes",null,null,null,null,null,null,null,null,null,null,null,null,null,null,null,null,"Intitulés","2025-12-31","2024-12-31",null,"signe :","(+) : Actif ; Charges\n(-) : Passif ; Produits"]
[null,null,null,null,null,null,null,null,null,null,null,null,null,null,null,null,null,"ACTIF IMMOBILISE "]
[2073,null,null,null,null,null,null,null,null,null,null,null,null,null,null,null,null,"Ecarts d'acquisition ",{"$f":"SUMIF(Mapping!$B:$B,'Data BG'!$A3,Mapping!G:G)+SUMIF(Mapping!$C:$C,'Data BG'!$A3,Mapping!G:G)+SUMIF(Mapping!$D:$D,'Data BG'!$A3,Mapping!G:G)+SUMIF(Mapping!$B:$B,'Data BG'!$B3,Mapping!G:G)+SUMIF(Mapping!$C:$C,'Data BG'!$B3,Mapping!G:G)+SUMIF(Mapping!$D:$D,'Data BG'!$B3,Mapping!G:G)+SUMIF(Mapping!$B:$B,'Data BG'!$C3,Mapping!G:G)+SUMIF(Mapping!$C:$C,'Data BG'!$C3,Mapping!G:G)+SUMIF(Mapping!$D:$D,'Data BG'!$C3,Mapping!G:G)+SUMIF(Mapping!$B:$B,'Data BG'!$D3,Mapping!G:G)+SUMIF(Mapping!$C:$C,'Data BG'!$D3,Mapping!G:G)+SUMIF(Mapping!$D:$D,'Data BG'!$D3,Mapping!G:G)+SUMIF(Mapping!$B:$B,'Data BG'!$E3,Mapping!G:G)+SUMIF(Mapping!$C:$C,'Data BG'!$E3,Mapping!G:G)+SUMIF(Mapping!$D:$D,'Data BG'!$E3,Mapping!G:G)+SUMIF(Mapping!$B:$B,'Data BG'!$F3,Mapping!G:G)+SUMIF(Mapping!$C:$C,'Data BG'!$F3,Mapping!G:G)+SUMIF(Mapping!$D:$D,'Data BG'!$F3,Mapping!G:G)+SUMIF(Mapping!$B:$B,'Data BG'!$G3,Mapping!G:G)+SUMIF(Mapping!$C:$C,'Data BG'!$G3,Mapping!G:G)+SUMIF(Mapping!$D:$D,'Data BG'!$G3,Mapping!G:G)+SUMIF(Mapping!$B:$B,'Data BG'!$H3,Mapping!G:G)+SUMIF(Mapping!$C:$C,'Data BG'!$H3,Mapping!G:G)+SUMIF(Mapping!$D:$D,'Data BG'!$H3,Mapping!G:G)+SUMIF(Mapping!$B:$B,'Data BG'!$I3,Mapping!G:G)+SUMIF(Mapping!$C:$C,'Data BG'!$I3,Mapping!G:G)+SUMIF(Mapping!$D:$D,'Data BG'!$I3,Mapping!G:G)+SUMIF(Mapping!$B:$B,'Data BG'!$J3,Mapping!G:G)+SUMIF(Mapping!$C:$C,'Data BG'!$J3,Mapping!G:G)+SUMIF(Mapping!$D:$D,'Data BG'!$J3,Mapping!G:G)+SUMIF(Mapping!$B:$B,'Data BG'!$M3,Mapping!G:G)+SUMIF(Mapping!$C:$C,'Data BG'!$M3,Mapping!G:G)+SUMIF(Mapping!$D:$D,'Data BG'!$M3,Mapping!G:G)+SUMIF(Mapping!$B:$B,$N3,Mapping!G:G)+SUMIF(Mapping!$C:$C,$N3,Mapping!G:G)+SUMIF(Mapping!$D:$D,$N3,Mapping!G:G)+SUMIF(Mapping!$B:$B,'Data BG'!$K3,Mapping!G:G)+SUMIF(Mapping!$C:$C,'Data BG'!$K3,Mapping!G:G)+SUMIF(Mapping!$D:$D,'Data BG'!$K3,Mapping!G:G)+SUMIF(Mapping!$B:$B,'Data BG'!$L3,Mapping!G:G)+SUMIF(Mapping!$C:$C,'Data BG'!$L3,Mapping!G:G)+SUMIF(Mapping!$D:$D,'Data BG'!$L3,Mapping!G:G)","v":0},{"$f":"SUMIF(Mapping!$B:$B,'Data BG'!$A3,Mapping!H:H)+SUMIF(Mapping!$C:$C,'Data BG'!$A3,Mapping!H:H)+SUMIF(Mapping!$D:$D,'Data BG'!$A3,Mapping!H:H)+SUMIF(Mapping!$B:$B,'Data BG'!$B3,Mapping!H:H)+SUMIF(Mapping!$C:$C,'Data BG'!$B3,Mapping!H:H)+SUMIF(Mapping!$D:$D,'Data BG'!$B3,Mapping!H:H)+SUMIF(Mapping!$B:$B,'Data BG'!$C3,Mapping!H:H)+SUMIF(Mapping!$C:$C,'Data BG'!$C3,Mapping!H:H)+SUMIF(Mapping!$D:$D,'Data BG'!$C3,Mapping!H:H)+SUMIF(Mapping!$B:$B,'Data BG'!$D3,Mapping!H:H)+SUMIF(Mapping!$C:$C,'Data BG'!$D3,Mapping!H:H)+SUMIF(Mapping!$D:$D,'Data BG'!$D3,Mapping!H:H)+SUMIF(Mapping!$B:$B,'Data BG'!$E3,Mapping!H:H)+SUMIF(Mapping!$C:$C,'Data BG'!$E3,Mapping!H:H)+SUMIF(Mapping!$D:$D,'Data BG'!$E3,Mapping!H:H)+SUMIF(Mapping!$B:$B,'Data BG'!$F3,Mapping!H:H)+SUMIF(Mapping!$C:$C,'Data BG'!$F3,Mapping!H:H)+SUMIF(Mapping!$D:$D,'Data BG'!$F3,Mapping!H:H)+SUMIF(Mapping!$B:$B,'Data BG'!$G3,Mapping!H:H)+SUMIF(Mapping!$C:$C,'Data BG'!$G3,Mapping!H:H)+SUMIF(Mapping!$D:$D,'Data BG'!$G3,Mapping!H:H)+SUMIF(Mapping!$B:$B,'Data BG'!$H3,Mapping!H:H)+SUMIF(Mapping!$C:$C,'Data BG'!$H3,Mapping!H:H)+SUMIF(Mapping!$D:$D,'Data BG'!$H3,Mapping!H:H)+SUMIF(Mapping!$B:$B,'Data BG'!$I3,Mapping!H:H)+SUMIF(Mapping!$C:$C,'Data BG'!$I3,Mapping!H:H)+SUMIF(Mapping!$D:$D,'Data BG'!$I3,Mapping!H:H)+SUMIF(Mapping!$B:$B,'Data BG'!$J3,Mapping!H:H)+SUMIF(Mapping!$C:$C,'Data BG'!$J3,Mapping!H:H)+SUMIF(Mapping!$D:$D,'Data BG'!$J3,Mapping!H:H)+SUMIF(Mapping!$B:$B,'Data BG'!$M3,Mapping!H:H)+SUMIF(Mapping!$C:$C,'Data BG'!$M3,Mapping!H:H)+SUMIF(Mapping!$D:$D,'Data BG'!$M3,Mapping!H:H)+SUMIF(Mapping!$B:$B,$N3,Mapping!H:H)+SUMIF(Mapping!$C:$C,$N3,Mapping!H:H)+SUMIF(Mapping!$D:$D,$N3,Mapping!H:H)+SUMIF(Mapping!$B:$B,'Data BG'!$K3,Mapping!H:H)+SUMIF(Mapping!$C:$C,'Data BG'!$K3,Mapping!H:H)+SUMIF(Mapping!$D:$D,'Data BG'!$K3,Mapping!H:H)+SUMIF(Mapping!$B:$B,'Data BG'!$L3,Mapping!H:H)+SUMIF(Mapping!$C:$C,'Data BG'!$L3,Mapping!H:H)+SUMIF(Mapping!$D:$D,'Data BG'!$L3,Mapping!H:H)","v":0},null,"Au niveau de la colonne T : Deux options :"]
[29073,null,null,null,null,null,null,null,null,null,null,null,null,null,null,null,null,"Amort./Déprec. Ecarts d'acquisition ",{"$f":"SUMIF(Mapping!$B:$B,'Data BG'!$A4,Mapping!G:G)+SUMIF(Mapping!$C:$C,'Data BG'!$A4,Mapping!G:G)+SUMIF(Mapping!$D:$D,'Data BG'!$A4,Mapping!G:G)+SUMIF(Mapping!$B:$B,'Data BG'!$B4,Mapping!G:G)+SUMIF(Mapping!$C:$C,'Data BG'!$B4,Mapping!G:G)+SUMIF(Mapping!$D:$D,'Data BG'!$B4,Mapping!G:G)+SUMIF(Mapping!$B:$B,'Data BG'!$C4,Mapping!G:G)+SUMIF(Mapping!$C:$C,'Data BG'!$C4,Mapping!G:G)+SUMIF(Mapping!$D:$D,'Data BG'!$C4,Mapping!G:G)+SUMIF(Mapping!$B:$B,'Data BG'!$D4,Mapping!G:G)+SUMIF(Mapping!$C:$C,'Data BG'!$D4,Mapping!G:G)+SUMIF(Mapping!$D:$D,'Data BG'!$D4,Mapping!G:G)+SUMIF(Mapping!$B:$B,'Data BG'!$E4,Mapping!G:G)+SUMIF(Mapping!$C:$C,'Data BG'!$E4,Mapping!G:G)+SUMIF(Mapping!$D:$D,'Data BG'!$E4,Mapping!G:G)+SUMIF(Mapping!$B:$B,'Data BG'!$F4,Mapping!G:G)+SUMIF(Mapping!$C:$C,'Data BG'!$F4,Mapping!G:G)+SUMIF(Mapping!$D:$D,'Data BG'!$F4,Mapping!G:G)+SUMIF(Mapping!$B:$B,'Data BG'!$G4,Mapping!G:G)+SUMIF(Mapping!$C:$C,'Data BG'!$G4,Mapping!G:G)+SUMIF(Mapping!$D:$D,'Data BG'!$G4,Mapping!G:G)+SUMIF(Mapping!$B:$B,'Data BG'!$H4,Mapping!G:G)+SUMIF(Mapping!$C:$C,'Data BG'!$H4,Mapping!G:G)+SUMIF(Mapping!$D:$D,'Data BG'!$H4,Mapping!G:G)+SUMIF(Mapping!$B:$B,'Data BG'!$I4,Mapping!G:G)+SUMIF(Mapping!$C:$C,'Data BG'!$I4,Mapping!G:G)+SUMIF(Mapping!$D:$D,'Data BG'!$I4,Mapping!G:G)+SUMIF(Mapping!$B:$B,'Data BG'!$J4,Mapping!G:G)+SUMIF(Mapping!$C:$C,'Data BG'!$J4,Mapping!G:G)+SUMIF(Mapping!$D:$D,'Data BG'!$J4,Mapping!G:G)+SUMIF(Mapping!$B:$B,'Data BG'!$M4,Mapping!G:G)+SUMIF(Mapping!$C:$C,'Data BG'!$M4,Mapping!G:G)+SUMIF(Mapping!$D:$D,'Data BG'!$M4,Mapping!G:G)+SUMIF(Mapping!$B:$B,$N4,Mapping!G:G)+SUMIF(Mapping!$C:$C,$N4,Mapping!G:G)+SUMIF(Mapping!$D:$D,$N4,Mapping!G:G)+SUMIF(Mapping!$B:$B,'Data BG'!$K4,Mapping!G:G)+SUMIF(Mapping!$C:$C,'Data BG'!$K4,Mapping!G:G)+SUMIF(Mapping!$D:$D,'Data BG'!$K4,Mapping!G:G)+SUMIF(Mapping!$B:$B,'Data BG'!$L4,Mapping!G:G)+SUMIF(Mapping!$C:$C,'Data BG'!$L4,Mapping!G:G)+SUMIF(Mapping!$D:$D,'Data BG'!$L4,Mapping!G:G)","v":0},{"$f":"SUMIF(Mapping!$B:$B,'Data BG'!$A4,Mapping!H:H)+SUMIF(Mapping!$C:$C,'Data BG'!$A4,Mapping!H:H)+SUMIF(Mapping!$D:$D,'Data BG'!$A4,Mapping!H:H)+SUMIF(Mapping!$B:$B,'Data BG'!$B4,Mapping!H:H)+SUMIF(Mapping!$C:$C,'Data BG'!$B4,Mapping!H:H)+SUMIF(Mapping!$D:$D,'Data BG'!$B4,Mapping!H:H)+SUMIF(Mapping!$B:$B,'Data BG'!$C4,Mapping!H:H)+SUMIF(Mapping!$C:$C,'Data BG'!$C4,Mapping!H:H)+SUMIF(Mapping!$D:$D,'Data BG'!$C4,Mapping!H:H)+SUMIF(Mapping!$B:$B,'Data BG'!$D4,Mapping!H:H)+SUMIF(Mapping!$C:$C,'Data BG'!$D4,Mapping!H:H)+SUMIF(Mapping!$D:$D,'Data BG'!$D4,Mapping!H:H)+SUMIF(Mapping!$B:$B,'Data BG'!$E4,Mapping!H:H)+SUMIF(Mapping!$C:$C,'Data BG'!$E4,Mapping!H:H)+SUMIF(Mapping!$D:$D,'Data BG'!$E4,Mapping!H:H)+SUMIF(Mapping!$B:$B,'Data BG'!$F4,Mapping!H:H)+SUMIF(Mapping!$C:$C,'Data BG'!$F4,Mapping!H:H)+SUMIF(Mapping!$D:$D,'Data BG'!$F4,Mapping!H:H)+SUMIF(Mapping!$B:$B,'Data BG'!$G4,Mapping!H:H)+SUMIF(Mapping!$C:$C,'Data BG'!$G4,Mapping!H:H)+SUMIF(Mapping!$D:$D,'Data BG'!$G4,Mapping!H:H)+SUMIF(Mapping!$B:$B,'Data BG'!$H4,Mapping!H:H)+SUMIF(Mapping!$C:$C,'Data BG'!$H4,Mapping!H:H)+SUMIF(Mapping!$D:$D,'Data BG'!$H4,Mapping!H:H)+SUMIF(Mapping!$B:$B,'Data BG'!$I4,Mapping!H:H)+SUMIF(Mapping!$C:$C,'Data BG'!$I4,Mapping!H:H)+SUMIF(Mapping!$D:$D,'Data BG'!$I4,Mapping!H:H)+SUMIF(Mapping!$B:$B,'Data BG'!$J4,Mapping!H:H)+SUMIF(Mapping!$C:$C,'Data BG'!$J4,Mapping!H:H)+SUMIF(Mapping!$D:$D,'Data BG'!$J4,Mapping!H:H)+SUMIF(Mapping!$B:$B,'Data BG'!$M4,Mapping!H:H)+SUMIF(Mapping!$C:$C,'Data BG'!$M4,Mapping!H:H)+SUMIF(Mapping!$D:$D,'Data BG'!$M4,Mapping!H:H)+SUMIF(Mapping!$B:$B,$N4,Mapping!H:H)+SUMIF(Mapping!$C:$C,$N4,Mapping!H:H)+SUMIF(Mapping!$D:$D,$N4,Mapping!H:H)+SUMIF(Mapping!$B:$B,'Data BG'!$K4,Mapping!H:H)+SUMIF(Mapping!$C:$C,'Data BG'!$K4,Mapping!H:H)+SUMIF(Mapping!$D:$D,'Data BG'!$K4,Mapping!H:H)+SUMIF(Mapping!$B:$B,'Data BG'!$L4,Mapping!H:H)+SUMIF(Mapping!$C:$C,'Data BG'!$L4,Mapping!H:H)+SUMIF(Mapping!$D:$D,'Data BG'!$L4,Mapping!H:H)","v":0},null,"Soit faire un copier-coller de la colonne P des comptes 2024 déposés à la CNCCFP dans la colonne T"]
[20,232,237,null,null,null,null,null,null,null,null,null,null,null,null,null,null,"Immobilisations incorporelles ",{"$f":"SUMIF(Mapping!$B:$B,'Data BG'!$A5,Mapping!G:G)+SUMIF(Mapping!$C:$C,'Data BG'!$A5,Mapping!G:G)+SUMIF(Mapping!$D:$D,'Data BG'!$A5,Mapping!G:G)+SUMIF(Mapping!$B:$B,'Data BG'!$B5,Mapping!G:G)+SUMIF(Mapping!$C:$C,'Data BG'!$B5,Mapping!G:G)+SUMIF(Mapping!$D:$D,'Data BG'!$B5,Mapping!G:G)+SUMIF(Mapping!$B:$B,'Data BG'!$C5,Mapping!G:G)+SUMIF(Mapping!$C:$C,'Data BG'!$C5,Mapping!G:G)+SUMIF(Mapping!$D:$D,'Data BG'!$C5,Mapping!G:G)+SUMIF(Mapping!$B:$B,'Data BG'!$D5,Mapping!G:G)+SUMIF(Mapping!$C:$C,'Data BG'!$D5,Mapping!G:G)+SUMIF(Mapping!$D:$D,'Data BG'!$D5,Mapping!G:G)+SUMIF(Mapping!$B:$B,'Data BG'!$E5,Mapping!G:G)+SUMIF(Mapping!$C:$C,'Data BG'!$E5,Mapping!G:G)+SUMIF(Mapping!$D:$D,'Data BG'!$E5,Mapping!G:G)+SUMIF(Mapping!$B:$B,'Data BG'!$F5,Mapping!G:G)+SUMIF(Mapping!$C:$C,'Data BG'!$F5,Mapping!G:G)+SUMIF(Mapping!$D:$D,'Data BG'!$F5,Mapping!G:G)+SUMIF(Mapping!$B:$B,'Data BG'!$G5,Mapping!G:G)+SUMIF(Mapping!$C:$C,'Data BG'!$G5,Mapping!G:G)+SUMIF(Mapping!$D:$D,'Data BG'!$G5,Mapping!G:G)+SUMIF(Mapping!$B:$B,'Data BG'!$H5,Mapping!G:G)+SUMIF(Mapping!$C:$C,'Data BG'!$H5,Mapping!G:G)+SUMIF(Mapping!$D:$D,'Data BG'!$H5,Mapping!G:G)+SUMIF(Mapping!$B:$B,'Data BG'!$I5,Mapping!G:G)+SUMIF(Mapping!$C:$C,'Data BG'!$I5,Mapping!G:G)+SUMIF(Mapping!$D:$D,'Data BG'!$I5,Mapping!G:G)+SUMIF(Mapping!$B:$B,'Data BG'!$J5,Mapping!G:G)+SUMIF(Mapping!$C:$C,'Data BG'!$J5,Mapping!G:G)+SUMIF(Mapping!$D:$D,'Data BG'!$J5,Mapping!G:G)+SUMIF(Mapping!$B:$B,'Data BG'!$M5,Mapping!G:G)+SUMIF(Mapping!$C:$C,'Data BG'!$M5,Mapping!G:G)+SUMIF(Mapping!$D:$D,'Data BG'!$M5,Mapping!G:G)+SUMIF(Mapping!$B:$B,$N5,Mapping!G:G)+SUMIF(Mapping!$C:$C,$N5,Mapping!G:G)+SUMIF(Mapping!$D:$D,$N5,Mapping!G:G)+SUMIF(Mapping!$B:$B,'Data BG'!$K5,Mapping!G:G)+SUMIF(Mapping!$C:$C,'Data BG'!$K5,Mapping!G:G)+SUMIF(Mapping!$D:$D,'Data BG'!$K5,Mapping!G:G)+SUMIF(Mapping!$B:$B,'Data BG'!$L5,Mapping!G:G)+SUMIF(Mapping!$C:$C,'Data BG'!$L5,Mapping!G:G)+SUMIF(Mapping!$D:$D,'Data BG'!$L5,Mapping!G:G)-S3","v":0},{"$f":"SUMIF(Mapping!$B:$B,'Data BG'!$A5,Mapping!H:H)+SUMIF(Mapping!$C:$C,'Data BG'!$A5,Mapping!H:H)+SUMIF(Mapping!$D:$D,'Data BG'!$A5,Mapping!H:H)+SUMIF(Mapping!$B:$B,'Data BG'!$B5,Mapping!H:H)+SUMIF(Mapping!$C:$C,'Data BG'!$B5,Mapping!H:H)+SUMIF(Mapping!$D:$D,'Data BG'!$B5,Mapping!H:H)+SUMIF(Mapping!$B:$B,'Data BG'!$C5,Mapping!H:H)+SUMIF(Mapping!$C:$C,'Data BG'!$C5,Mapping!H:H)+SUMIF(Mapping!$D:$D,'Data BG'!$C5,Mapping!H:H)+SUMIF(Mapping!$B:$B,'Data BG'!$D5,Mapping!H:H)+SUMIF(Mapping!$C:$C,'Data BG'!$D5,Mapping!H:H)+SUMIF(Mapping!$D:$D,'Data BG'!$D5,Mapping!H:H)+SUMIF(Mapping!$B:$B,'Data BG'!$E5,Mapping!H:H)+SUMIF(Mapping!$C:$C,'Data BG'!$E5,Mapping!H:H)+SUMIF(Mapping!$D:$D,'Data BG'!$E5,Mapping!H:H)+SUMIF(Mapping!$B:$B,'Data BG'!$F5,Mapping!H:H)+SUMIF(Mapping!$C:$C,'Data BG'!$F5,Mapping!H:H)+SUMIF(Mapping!$D:$D,'Data BG'!$F5,Mapping!H:H)+SUMIF(Mapping!$B:$B,'Data BG'!$G5,Mapping!H:H)+SUMIF(Mapping!$C:$C,'Data BG'!$G5,Mapping!H:H)+SUMIF(Mapping!$D:$D,'Data BG'!$G5,Mapping!H:H)+SUMIF(Mapping!$B:$B,'Data BG'!$H5,Mapping!H:H)+SUMIF(Mapping!$C:$C,'Data BG'!$H5,Mapping!H:H)+SUMIF(Mapping!$D:$D,'Data BG'!$H5,Mapping!H:H)+SUMIF(Mapping!$B:$B,'Data BG'!$I5,Mapping!H:H)+SUMIF(Mapping!$C:$C,'Data BG'!$I5,Mapping!H:H)+SUMIF(Mapping!$D:$D,'Data BG'!$I5,Mapping!H:H)+SUMIF(Mapping!$B:$B,'Data BG'!$J5,Mapping!H:H)+SUMIF(Mapping!$C:$C,'Data BG'!$J5,Mapping!H:H)+SUMIF(Mapping!$D:$D,'Data BG'!$J5,Mapping!H:H)+SUMIF(Mapping!$B:$B,'Data BG'!$M5,Mapping!H:H)+SUMIF(Mapping!$C:$C,'Data BG'!$M5,Mapping!H:H)+SUMIF(Mapping!$D:$D,'Data BG'!$M5,Mapping!H:H)+SUMIF(Mapping!$B:$B,$N5,Mapping!H:H)+SUMIF(Mapping!$C:$C,$N5,Mapping!H:H)+SUMIF(Mapping!$D:$D,$N5,Mapping!H:H)+SUMIF(Mapping!$B:$B,'Data BG'!$K5,Mapping!H:H)+SUMIF(Mapping!$C:$C,'Data BG'!$K5,Mapping!H:H)+SUMIF(Mapping!$D:$D,'Data BG'!$K5,Mapping!H:H)+SUMIF(Mapping!$B:$B,'Data BG'!$L5,Mapping!H:H)+SUMIF(Mapping!$C:$C,'Data BG'!$L5,Mapping!H:H)+SUMIF(Mapping!$D:$D,'Data BG'!$L5,Mapping!H:H)-T3","v":0}]
[280,290,2932,null,null,null,null,null,null,null,null,null,null,null,null,null,null,"Amort./ Dépréc. Immobilisations incorporelles ",{"$f":"SUMIF(Mapping!$B:$B,'Data BG'!$A6,Mapping!G:G)+SUMIF(Mapping!$C:$C,'Data BG'!$A6,Mapping!G:G)+SUMIF(Mapping!$D:$D,'Data BG'!$A6,Mapping!G:G)+SUMIF(Mapping!$B:$B,'Data BG'!$B6,Mapping!G:G)+SUMIF(Mapping!$C:$C,'Data BG'!$B6,Mapping!G:G)+SUMIF(Mapping!$D:$D,'Data BG'!$B6,Mapping!G:G)+SUMIF(Mapping!$B:$B,'Data BG'!$C6,Mapping!G:G)+SUMIF(Mapping!$C:$C,'Data BG'!$C6,Mapping!G:G)+SUMIF(Mapping!$D:$D,'Data BG'!$C6,Mapping!G:G)+SUMIF(Mapping!$B:$B,'Data BG'!$D6,Mapping!G:G)+SUMIF(Mapping!$C:$C,'Data BG'!$D6,Mapping!G:G)+SUMIF(Mapping!$D:$D,'Data BG'!$D6,Mapping!G:G)+SUMIF(Mapping!$B:$B,'Data BG'!$E6,Mapping!G:G)+SUMIF(Mapping!$C:$C,'Data BG'!$E6,Mapping!G:G)+SUMIF(Mapping!$D:$D,'Data BG'!$E6,Mapping!G:G)+SUMIF(Mapping!$B:$B,'Data BG'!$F6,Mapping!G:G)+SUMIF(Mapping!$C:$C,'Data BG'!$F6,Mapping!G:G)+SUMIF(Mapping!$D:$D,'Data BG'!$F6,Mapping!G:G)+SUMIF(Mapping!$B:$B,'Data BG'!$G6,Mapping!G:G)+SUMIF(Mapping!$C:$C,'Data BG'!$G6,Mapping!G:G)+SUMIF(Mapping!$D:$D,'Data BG'!$G6,Mapping!G:G)+SUMIF(Mapping!$B:$B,'Data BG'!$H6,Mapping!G:G)+SUMIF(Mapping!$C:$C,'Data BG'!$H6,Mapping!G:G)+SUMIF(Mapping!$D:$D,'Data BG'!$H6,Mapping!G:G)+SUMIF(Mapping!$B:$B,'Data BG'!$I6,Mapping!G:G)+SUMIF(Mapping!$C:$C,'Data BG'!$I6,Mapping!G:G)+SUMIF(Mapping!$D:$D,'Data BG'!$I6,Mapping!G:G)+SUMIF(Mapping!$B:$B,'Data BG'!$J6,Mapping!G:G)+SUMIF(Mapping!$C:$C,'Data BG'!$J6,Mapping!G:G)+SUMIF(Mapping!$D:$D,'Data BG'!$J6,Mapping!G:G)+SUMIF(Mapping!$B:$B,'Data BG'!$M6,Mapping!G:G)+SUMIF(Mapping!$C:$C,'Data BG'!$M6,Mapping!G:G)+SUMIF(Mapping!$D:$D,'Data BG'!$M6,Mapping!G:G)+SUMIF(Mapping!$B:$B,$N6,Mapping!G:G)+SUMIF(Mapping!$C:$C,$N6,Mapping!G:G)+SUMIF(Mapping!$D:$D,$N6,Mapping!G:G)+SUMIF(Mapping!$B:$B,'Data BG'!$K6,Mapping!G:G)+SUMIF(Mapping!$C:$C,'Data BG'!$K6,Mapping!G:G)+SUMIF(Mapping!$D:$D,'Data BG'!$K6,Mapping!G:G)+SUMIF(Mapping!$B:$B,'Data BG'!$L6,Mapping!G:G)+SUMIF(Mapping!$C:$C,'Data BG'!$L6,Mapping!G:G)+SUMIF(Mapping!$D:$D,'Data BG'!$L6,Mapping!G:G)-S4","v":0},{"$f":"SUMIF(Mapping!$B:$B,'Data BG'!$A6,Mapping!H:H)+SUMIF(Mapping!$C:$C,'Data BG'!$A6,Mapping!H:H)+SUMIF(Mapping!$D:$D,'Data BG'!$A6,Mapping!H:H)+SUMIF(Mapping!$B:$B,'Data BG'!$B6,Mapping!H:H)+SUMIF(Mapping!$C:$C,'Data BG'!$B6,Mapping!H:H)+SUMIF(Mapping!$D:$D,'Data BG'!$B6,Mapping!H:H)+SUMIF(Mapping!$B:$B,'Data BG'!$C6,Mapping!H:H)+SUMIF(Mapping!$C:$C,'Data BG'!$C6,Mapping!H:H)+SUMIF(Mapping!$D:$D,'Data BG'!$C6,Mapping!H:H)+SUMIF(Mapping!$B:$B,'Data BG'!$D6,Mapping!H:H)+SUMIF(Mapping!$C:$C,'Data BG'!$D6,Mapping!H:H)+SUMIF(Mapping!$D:$D,'Data BG'!$D6,Mapping!H:H)+SUMIF(Mapping!$B:$B,'Data BG'!$E6,Mapping!H:H)+SUMIF(Mapping!$C:$C,'Data BG'!$E6,Mapping!H:H)+SUMIF(Mapping!$D:$D,'Data BG'!$E6,Mapping!H:H)+SUMIF(Mapping!$B:$B,'Data BG'!$F6,Mapping!H:H)+SUMIF(Mapping!$C:$C,'Data BG'!$F6,Mapping!H:H)+SUMIF(Mapping!$D:$D,'Data BG'!$F6,Mapping!H:H)+SUMIF(Mapping!$B:$B,'Data BG'!$G6,Mapping!H:H)+SUMIF(Mapping!$C:$C,'Data BG'!$G6,Mapping!H:H)+SUMIF(Mapping!$D:$D,'Data BG'!$G6,Mapping!H:H)+SUMIF(Mapping!$B:$B,'Data BG'!$H6,Mapping!H:H)+SUMIF(Mapping!$C:$C,'Data BG'!$H6,Mapping!H:H)+SUMIF(Mapping!$D:$D,'Data BG'!$H6,Mapping!H:H)+SUMIF(Mapping!$B:$B,'Data BG'!$I6,Mapping!H:H)+SUMIF(Mapping!$C:$C,'Data BG'!$I6,Mapping!H:H)+SUMIF(Mapping!$D:$D,'Data BG'!$I6,Mapping!H:H)+SUMIF(Mapping!$B:$B,'Data BG'!$J6,Mapping!H:H)+SUMIF(Mapping!$C:$C,'Data BG'!$J6,Mapping!H:H)+SUMIF(Mapping!$D:$D,'Data BG'!$J6,Mapping!H:H)+SUMIF(Mapping!$B:$B,'Data BG'!$M6,Mapping!H:H)+SUMIF(Mapping!$C:$C,'Data BG'!$M6,Mapping!H:H)+SUMIF(Mapping!$D:$D,'Data BG'!$M6,Mapping!H:H)+SUMIF(Mapping!$B:$B,$N6,Mapping!H:H)+SUMIF(Mapping!$C:$C,$N6,Mapping!H:H)+SUMIF(Mapping!$D:$D,$N6,Mapping!H:H)+SUMIF(Mapping!$B:$B,'Data BG'!$K6,Mapping!H:H)+SUMIF(Mapping!$C:$C,'Data BG'!$K6,Mapping!H:H)+SUMIF(Mapping!$D:$D,'Data BG'!$K6,Mapping!H:H)+SUMIF(Mapping!$B:$B,'Data BG'!$L6,Mapping!H:H)+SUMIF(Mapping!$C:$C,'Data BG'!$L6,Mapping!H:H)+SUMIF(Mapping!$D:$D,'Data BG'!$L6,Mapping!H:H)-T4","v":0}]
[null,null,null,null,null,null,null,null,null,null,null,null,null,null,null,null,null,"Immobilisations corporelles ",null,null,null,"Soit faire un copier-coller de la colonne G de l'onglet \"Import\" de  2024 dans la colonne H de l'onglet \"Import\" de 2025."]
[211,212,213,214,null,null,null,null,null,null,null,null,null,null,null,null,null,"Terrains et constructions ",{"$f":"SUMIF(Mapping!$B:$B,'Data BG'!$A8,Mapping!G:G)+SUMIF(Mapping!$C:$C,'Data BG'!$A8,Mapping!G:G)+SUMIF(Mapping!$D:$D,'Data BG'!$A8,Mapping!G:G)+SUMIF(Mapping!$B:$B,'Data BG'!$B8,Mapping!G:G)+SUMIF(Mapping!$C:$C,'Data BG'!$B8,Mapping!G:G)+SUMIF(Mapping!$D:$D,'Data BG'!$B8,Mapping!G:G)+SUMIF(Mapping!$B:$B,'Data BG'!$C8,Mapping!G:G)+SUMIF(Mapping!$C:$C,'Data BG'!$C8,Mapping!G:G)+SUMIF(Mapping!$D:$D,'Data BG'!$C8,Mapping!G:G)+SUMIF(Mapping!$B:$B,'Data BG'!$D8,Mapping!G:G)+SUMIF(Mapping!$C:$C,'Data BG'!$D8,Mapping!G:G)+SUMIF(Mapping!$D:$D,'Data BG'!$D8,Mapping!G:G)+SUMIF(Mapping!$B:$B,'Data BG'!$E8,Mapping!G:G)+SUMIF(Mapping!$C:$C,'Data BG'!$E8,Mapping!G:G)+SUMIF(Mapping!$D:$D,'Data BG'!$E8,Mapping!G:G)+SUMIF(Mapping!$B:$B,'Data BG'!$F8,Mapping!G:G)+SUMIF(Mapping!$C:$C,'Data BG'!$F8,Mapping!G:G)+SUMIF(Mapping!$D:$D,'Data BG'!$F8,Mapping!G:G)+SUMIF(Mapping!$B:$B,'Data BG'!$G8,Mapping!G:G)+SUMIF(Mapping!$C:$C,'Data BG'!$G8,Mapping!G:G)+SUMIF(Mapping!$D:$D,'Data BG'!$G8,Mapping!G:G)+SUMIF(Mapping!$B:$B,'Data BG'!$H8,Mapping!G:G)+SUMIF(Mapping!$C:$C,'Data BG'!$H8,Mapping!G:G)+SUMIF(Mapping!$D:$D,'Data BG'!$H8,Mapping!G:G)+SUMIF(Mapping!$B:$B,'Data BG'!$I8,Mapping!G:G)+SUMIF(Mapping!$C:$C,'Data BG'!$I8,Mapping!G:G)+SUMIF(Mapping!$D:$D,'Data BG'!$I8,Mapping!G:G)+SUMIF(Mapping!$B:$B,'Data BG'!$J8,Mapping!G:G)+SUMIF(Mapping!$C:$C,'Data BG'!$J8,Mapping!G:G)+SUMIF(Mapping!$D:$D,'Data BG'!$J8,Mapping!G:G)+SUMIF(Mapping!$B:$B,'Data BG'!$M8,Mapping!G:G)+SUMIF(Mapping!$C:$C,'Data BG'!$M8,Mapping!G:G)+SUMIF(Mapping!$D:$D,'Data BG'!$M8,Mapping!G:G)+SUMIF(Mapping!$B:$B,$N8,Mapping!G:G)+SUMIF(Mapping!$C:$C,$N8,Mapping!G:G)+SUMIF(Mapping!$D:$D,$N8,Mapping!G:G)+SUMIF(Mapping!$B:$B,'Data BG'!$K8,Mapping!G:G)+SUMIF(Mapping!$C:$C,'Data BG'!$K8,Mapping!G:G)+SUMIF(Mapping!$D:$D,'Data BG'!$K8,Mapping!G:G)+SUMIF(Mapping!$B:$B,'Data BG'!$L8,Mapping!G:G)+SUMIF(Mapping!$C:$C,'Data BG'!$L8,Mapping!G:G)+SUMIF(Mapping!$D:$D,'Data BG'!$L8,Mapping!G:G)","v":0},{"$f":"SUMIF(Mapping!$B:$B,'Data BG'!$A8,Mapping!H:H)+SUMIF(Mapping!$C:$C,'Data BG'!$A8,Mapping!H:H)+SUMIF(Mapping!$D:$D,'Data BG'!$A8,Mapping!H:H)+SUMIF(Mapping!$B:$B,'Data BG'!$B8,Mapping!H:H)+SUMIF(Mapping!$C:$C,'Data BG'!$B8,Mapping!H:H)+SUMIF(Mapping!$D:$D,'Data BG'!$B8,Mapping!H:H)+SUMIF(Mapping!$B:$B,'Data BG'!$C8,Mapping!H:H)+SUMIF(Mapping!$C:$C,'Data BG'!$C8,Mapping!H:H)+SUMIF(Mapping!$D:$D,'Data BG'!$C8,Mapping!H:H)+SUMIF(Mapping!$B:$B,'Data BG'!$D8,Mapping!H:H)+SUMIF(Mapping!$C:$C,'Data BG'!$D8,Mapping!H:H)+SUMIF(Mapping!$D:$D,'Data BG'!$D8,Mapping!H:H)+SUMIF(Mapping!$B:$B,'Data BG'!$E8,Mapping!H:H)+SUMIF(Mapping!$C:$C,'Data BG'!$E8,Mapping!H:H)+SUMIF(Mapping!$D:$D,'Data BG'!$E8,Mapping!H:H)+SUMIF(Mapping!$B:$B,'Data BG'!$F8,Mapping!H:H)+SUMIF(Mapping!$C:$C,'Data BG'!$F8,Mapping!H:H)+SUMIF(Mapping!$D:$D,'Data BG'!$F8,Mapping!H:H)+SUMIF(Mapping!$B:$B,'Data BG'!$G8,Mapping!H:H)+SUMIF(Mapping!$C:$C,'Data BG'!$G8,Mapping!H:H)+SUMIF(Mapping!$D:$D,'Data BG'!$G8,Mapping!H:H)+SUMIF(Mapping!$B:$B,'Data BG'!$H8,Mapping!H:H)+SUMIF(Mapping!$C:$C,'Data BG'!$H8,Mapping!H:H)+SUMIF(Mapping!$D:$D,'Data BG'!$H8,Mapping!H:H)+SUMIF(Mapping!$B:$B,'Data BG'!$I8,Mapping!H:H)+SUMIF(Mapping!$C:$C,'Data BG'!$I8,Mapping!H:H)+SUMIF(Mapping!$D:$D,'Data BG'!$I8,Mapping!H:H)+SUMIF(Mapping!$B:$B,'Data BG'!$J8,Mapping!H:H)+SUMIF(Mapping!$C:$C,'Data BG'!$J8,Mapping!H:H)+SUMIF(Mapping!$D:$D,'Data BG'!$J8,Mapping!H:H)+SUMIF(Mapping!$B:$B,'Data BG'!$M8,Mapping!H:H)+SUMIF(Mapping!$C:$C,'Data BG'!$M8,Mapping!H:H)+SUMIF(Mapping!$D:$D,'Data BG'!$M8,Mapping!H:H)+SUMIF(Mapping!$B:$B,$N8,Mapping!H:H)+SUMIF(Mapping!$C:$C,$N8,Mapping!H:H)+SUMIF(Mapping!$D:$D,$N8,Mapping!H:H)+SUMIF(Mapping!$B:$B,'Data BG'!$K8,Mapping!H:H)+SUMIF(Mapping!$C:$C,'Data BG'!$K8,Mapping!H:H)+SUMIF(Mapping!$D:$D,'Data BG'!$K8,Mapping!H:H)+SUMIF(Mapping!$B:$B,'Data BG'!$L8,Mapping!H:H)+SUMIF(Mapping!$C:$C,'Data BG'!$L8,Mapping!H:H)+SUMIF(Mapping!$D:$D,'Data BG'!$L8,Mapping!H:H)","v":0}]
[2812,2813,2814,2911,2912,2811,2914,2913,2910,null,null,null,null,null,null,null,null,"Amort. constructions ",{"$f":"SUMIF(Mapping!$B:$B,'Data BG'!$A9,Mapping!G:G)+SUMIF(Mapping!$C:$C,'Data BG'!$A9,Mapping!G:G)+SUMIF(Mapping!$D:$D,'Data BG'!$A9,Mapping!G:G)+SUMIF(Mapping!$B:$B,'Data BG'!$B9,Mapping!G:G)+SUMIF(Mapping!$C:$C,'Data BG'!$B9,Mapping!G:G)+SUMIF(Mapping!$D:$D,'Data BG'!$B9,Mapping!G:G)+SUMIF(Mapping!$B:$B,'Data BG'!$C9,Mapping!G:G)+SUMIF(Mapping!$C:$C,'Data BG'!$C9,Mapping!G:G)+SUMIF(Mapping!$D:$D,'Data BG'!$C9,Mapping!G:G)+SUMIF(Mapping!$B:$B,'Data BG'!$D9,Mapping!G:G)+SUMIF(Mapping!$C:$C,'Data BG'!$D9,Mapping!G:G)+SUMIF(Mapping!$D:$D,'Data BG'!$D9,Mapping!G:G)+SUMIF(Mapping!$B:$B,'Data BG'!$E9,Mapping!G:G)+SUMIF(Mapping!$C:$C,'Data BG'!$E9,Mapping!G:G)+SUMIF(Mapping!$D:$D,'Data BG'!$E9,Mapping!G:G)+SUMIF(Mapping!$B:$B,'Data BG'!$F9,Mapping!G:G)+SUMIF(Mapping!$C:$C,'Data BG'!$F9,Mapping!G:G)+SUMIF(Mapping!$D:$D,'Data BG'!$F9,Mapping!G:G)+SUMIF(Mapping!$B:$B,'Data BG'!$G9,Mapping!G:G)+SUMIF(Mapping!$C:$C,'Data BG'!$G9,Mapping!G:G)+SUMIF(Mapping!$D:$D,'Data BG'!$G9,Mapping!G:G)+SUMIF(Mapping!$B:$B,'Data BG'!$H9,Mapping!G:G)+SUMIF(Mapping!$C:$C,'Data BG'!$H9,Mapping!G:G)+SUMIF(Mapping!$D:$D,'Data BG'!$H9,Mapping!G:G)+SUMIF(Mapping!$B:$B,'Data BG'!$I9,Mapping!G:G)+SUMIF(Mapping!$C:$C,'Data BG'!$I9,Mapping!G:G)+SUMIF(Mapping!$D:$D,'Data BG'!$I9,Mapping!G:G)+SUMIF(Mapping!$B:$B,'Data BG'!$J9,Mapping!G:G)+SUMIF(Mapping!$C:$C,'Data BG'!$J9,Mapping!G:G)+SUMIF(Mapping!$D:$D,'Data BG'!$J9,Mapping!G:G)+SUMIF(Mapping!$B:$B,'Data BG'!$M9,Mapping!G:G)+SUMIF(Mapping!$C:$C,'Data BG'!$M9,Mapping!G:G)+SUMIF(Mapping!$D:$D,'Data BG'!$M9,Mapping!G:G)+SUMIF(Mapping!$B:$B,$N9,Mapping!G:G)+SUMIF(Mapping!$C:$C,$N9,Mapping!G:G)+SUMIF(Mapping!$D:$D,$N9,Mapping!G:G)+SUMIF(Mapping!$B:$B,'Data BG'!$K9,Mapping!G:G)+SUMIF(Mapping!$C:$C,'Data BG'!$K9,Mapping!G:G)+SUMIF(Mapping!$D:$D,'Data BG'!$K9,Mapping!G:G)+SUMIF(Mapping!$B:$B,'Data BG'!$L9,Mapping!G:G)+SUMIF(Mapping!$C:$C,'Data BG'!$L9,Mapping!G:G)+SUMIF(Mapping!$D:$D,'Data BG'!$L9,Mapping!G:G)","v":0},{"$f":"SUMIF(Mapping!$B:$B,'Data BG'!$A9,Mapping!H:H)+SUMIF(Mapping!$C:$C,'Data BG'!$A9,Mapping!H:H)+SUMIF(Mapping!$D:$D,'Data BG'!$A9,Mapping!H:H)+SUMIF(Mapping!$B:$B,'Data BG'!$B9,Mapping!H:H)+SUMIF(Mapping!$C:$C,'Data BG'!$B9,Mapping!H:H)+SUMIF(Mapping!$D:$D,'Data BG'!$B9,Mapping!H:H)+SUMIF(Mapping!$B:$B,'Data BG'!$C9,Mapping!H:H)+SUMIF(Mapping!$C:$C,'Data BG'!$C9,Mapping!H:H)+SUMIF(Mapping!$D:$D,'Data BG'!$C9,Mapping!H:H)+SUMIF(Mapping!$B:$B,'Data BG'!$D9,Mapping!H:H)+SUMIF(Mapping!$C:$C,'Data BG'!$D9,Mapping!H:H)+SUMIF(Mapping!$D:$D,'Data BG'!$D9,Mapping!H:H)+SUMIF(Mapping!$B:$B,'Data BG'!$E9,Mapping!H:H)+SUMIF(Mapping!$C:$C,'Data BG'!$E9,Mapping!H:H)+SUMIF(Mapping!$D:$D,'Data BG'!$E9,Mapping!H:H)+SUMIF(Mapping!$B:$B,'Data BG'!$F9,Mapping!H:H)+SUMIF(Mapping!$C:$C,'Data BG'!$F9,Mapping!H:H)+SUMIF(Mapping!$D:$D,'Data BG'!$F9,Mapping!H:H)+SUMIF(Mapping!$B:$B,'Data BG'!$G9,Mapping!H:H)+SUMIF(Mapping!$C:$C,'Data BG'!$G9,Mapping!H:H)+SUMIF(Mapping!$D:$D,'Data BG'!$G9,Mapping!H:H)+SUMIF(Mapping!$B:$B,'Data BG'!$H9,Mapping!H:H)+SUMIF(Mapping!$C:$C,'Data BG'!$H9,Mapping!H:H)+SUMIF(Mapping!$D:$D,'Data BG'!$H9,Mapping!H:H)+SUMIF(Mapping!$B:$B,'Data BG'!$I9,Mapping!H:H)+SUMIF(Mapping!$C:$C,'Data BG'!$I9,Mapping!H:H)+SUMIF(Mapping!$D:$D,'Data BG'!$I9,Mapping!H:H)+SUMIF(Mapping!$B:$B,'Data BG'!$J9,Mapping!H:H)+SUMIF(Mapping!$C:$C,'Data BG'!$J9,Mapping!H:H)+SUMIF(Mapping!$D:$D,'Data BG'!$J9,Mapping!H:H)+SUMIF(Mapping!$B:$B,'Data BG'!$M9,Mapping!H:H)+SUMIF(Mapping!$C:$C,'Data BG'!$M9,Mapping!H:H)+SUMIF(Mapping!$D:$D,'Data BG'!$M9,Mapping!H:H)+SUMIF(Mapping!$B:$B,$N9,Mapping!H:H)+SUMIF(Mapping!$C:$C,$N9,Mapping!H:H)+SUMIF(Mapping!$D:$D,$N9,Mapping!H:H)+SUMIF(Mapping!$B:$B,'Data BG'!$K9,Mapping!H:H)+SUMIF(Mapping!$C:$C,'Data BG'!$K9,Mapping!H:H)+SUMIF(Mapping!$D:$D,'Data BG'!$K9,Mapping!H:H)+SUMIF(Mapping!$B:$B,'Data BG'!$L9,Mapping!H:H)+SUMIF(Mapping!$C:$C,'Data BG'!$L9,Mapping!H:H)+SUMIF(Mapping!$D:$D,'Data BG'!$L9,Mapping!H:H)","v":0}]
[215,218,231,238,null,null,null,null,null,null,null,null,null,null,null,null,null,"Autres immobilisations corporelles ",{"$f":"SUMIF(Mapping!$B:$B,'Data BG'!$A10,Mapping!G:G)+SUMIF(Mapping!$C:$C,'Data BG'!$A10,Mapping!G:G)+SUMIF(Mapping!$D:$D,'Data BG'!$A10,Mapping!G:G)+SUMIF(Mapping!$B:$B,'Data BG'!$B10,Mapping!G:G)+SUMIF(Mapping!$C:$C,'Data BG'!$B10,Mapping!G:G)+SUMIF(Mapping!$D:$D,'Data BG'!$B10,Mapping!G:G)+SUMIF(Mapping!$B:$B,'Data BG'!$C10,Mapping!G:G)+SUMIF(Mapping!$C:$C,'Data BG'!$C10,Mapping!G:G)+SUMIF(Mapping!$D:$D,'Data BG'!$C10,Mapping!G:G)+SUMIF(Mapping!$B:$B,'Data BG'!$D10,Mapping!G:G)+SUMIF(Mapping!$C:$C,'Data BG'!$D10,Mapping!G:G)+SUMIF(Mapping!$D:$D,'Data BG'!$D10,Mapping!G:G)+SUMIF(Mapping!$B:$B,'Data BG'!$E10,Mapping!G:G)+SUMIF(Mapping!$C:$C,'Data BG'!$E10,Mapping!G:G)+SUMIF(Mapping!$D:$D,'Data BG'!$E10,Mapping!G:G)+SUMIF(Mapping!$B:$B,'Data BG'!$F10,Mapping!G:G)+SUMIF(Mapping!$C:$C,'Data BG'!$F10,Mapping!G:G)+SUMIF(Mapping!$D:$D,'Data BG'!$F10,Mapping!G:G)+SUMIF(Mapping!$B:$B,'Data BG'!$G10,Mapping!G:G)+SUMIF(Mapping!$C:$C,'Data BG'!$G10,Mapping!G:G)+SUMIF(Mapping!$D:$D,'Data BG'!$G10,Mapping!G:G)+SUMIF(Mapping!$B:$B,'Data BG'!$H10,Mapping!G:G)+SUMIF(Mapping!$C:$C,'Data BG'!$H10,Mapping!G:G)+SUMIF(Mapping!$D:$D,'Data BG'!$H10,Mapping!G:G)+SUMIF(Mapping!$B:$B,'Data BG'!$I10,Mapping!G:G)+SUMIF(Mapping!$C:$C,'Data BG'!$I10,Mapping!G:G)+SUMIF(Mapping!$D:$D,'Data BG'!$I10,Mapping!G:G)+SUMIF(Mapping!$B:$B,'Data BG'!$J10,Mapping!G:G)+SUMIF(Mapping!$C:$C,'Data BG'!$J10,Mapping!G:G)+SUMIF(Mapping!$D:$D,'Data BG'!$J10,Mapping!G:G)+SUMIF(Mapping!$B:$B,'Data BG'!$M10,Mapping!G:G)+SUMIF(Mapping!$C:$C,'Data BG'!$M10,Mapping!G:G)+SUMIF(Mapping!$D:$D,'Data BG'!$M10,Mapping!G:G)+SUMIF(Mapping!$B:$B,$N10,Mapping!G:G)+SUMIF(Mapping!$C:$C,$N10,Mapping!G:G)+SUMIF(Mapping!$D:$D,$N10,Mapping!G:G)+SUMIF(Mapping!$B:$B,'Data BG'!$K10,Mapping!G:G)+SUMIF(Mapping!$C:$C,'Data BG'!$K10,Mapping!G:G)+SUMIF(Mapping!$D:$D,'Data BG'!$K10,Mapping!G:G)+SUMIF(Mapping!$B:$B,'Data BG'!$L10,Mapping!G:G)+SUMIF(Mapping!$C:$C,'Data BG'!$L10,Mapping!G:G)+SUMIF(Mapping!$D:$D,'Data BG'!$L10,Mapping!G:G)","v":0},{"$f":"SUMIF(Mapping!$B:$B,'Data BG'!$A10,Mapping!H:H)+SUMIF(Mapping!$C:$C,'Data BG'!$A10,Mapping!H:H)+SUMIF(Mapping!$D:$D,'Data BG'!$A10,Mapping!H:H)+SUMIF(Mapping!$B:$B,'Data BG'!$B10,Mapping!H:H)+SUMIF(Mapping!$C:$C,'Data BG'!$B10,Mapping!H:H)+SUMIF(Mapping!$D:$D,'Data BG'!$B10,Mapping!H:H)+SUMIF(Mapping!$B:$B,'Data BG'!$C10,Mapping!H:H)+SUMIF(Mapping!$C:$C,'Data BG'!$C10,Mapping!H:H)+SUMIF(Mapping!$D:$D,'Data BG'!$C10,Mapping!H:H)+SUMIF(Mapping!$B:$B,'Data BG'!$D10,Mapping!H:H)+SUMIF(Mapping!$C:$C,'Data BG'!$D10,Mapping!H:H)+SUMIF(Mapping!$D:$D,'Data BG'!$D10,Mapping!H:H)+SUMIF(Mapping!$B:$B,'Data BG'!$E10,Mapping!H:H)+SUMIF(Mapping!$C:$C,'Data BG'!$E10,Mapping!H:H)+SUMIF(Mapping!$D:$D,'Data BG'!$E10,Mapping!H:H)+SUMIF(Mapping!$B:$B,'Data BG'!$F10,Mapping!H:H)+SUMIF(Mapping!$C:$C,'Data BG'!$F10,Mapping!H:H)+SUMIF(Mapping!$D:$D,'Data BG'!$F10,Mapping!H:H)+SUMIF(Mapping!$B:$B,'Data BG'!$G10,Mapping!H:H)+SUMIF(Mapping!$C:$C,'Data BG'!$G10,Mapping!H:H)+SUMIF(Mapping!$D:$D,'Data BG'!$G10,Mapping!H:H)+SUMIF(Mapping!$B:$B,'Data BG'!$H10,Mapping!H:H)+SUMIF(Mapping!$C:$C,'Data BG'!$H10,Mapping!H:H)+SUMIF(Mapping!$D:$D,'Data BG'!$H10,Mapping!H:H)+SUMIF(Mapping!$B:$B,'Data BG'!$I10,Mapping!H:H)+SUMIF(Mapping!$C:$C,'Data BG'!$I10,Mapping!H:H)+SUMIF(Mapping!$D:$D,'Data BG'!$I10,Mapping!H:H)+SUMIF(Mapping!$B:$B,'Data BG'!$J10,Mapping!H:H)+SUMIF(Mapping!$C:$C,'Data BG'!$J10,Mapping!H:H)+SUMIF(Mapping!$D:$D,'Data BG'!$J10,Mapping!H:H)+SUMIF(Mapping!$B:$B,'Data BG'!$M10,Mapping!H:H)+SUMIF(Mapping!$C:$C,'Data BG'!$M10,Mapping!H:H)+SUMIF(Mapping!$D:$D,'Data BG'!$M10,Mapping!H:H)+SUMIF(Mapping!$B:$B,$N10,Mapping!H:H)+SUMIF(Mapping!$C:$C,$N10,Mapping!H:H)+SUMIF(Mapping!$D:$D,$N10,Mapping!H:H)+SUMIF(Mapping!$B:$B,'Data BG'!$K10,Mapping!H:H)+SUMIF(Mapping!$C:$C,'Data BG'!$K10,Mapping!H:H)+SUMIF(Mapping!$D:$D,'Data BG'!$K10,Mapping!H:H)+SUMIF(Mapping!$B:$B,'Data BG'!$L10,Mapping!H:H)+SUMIF(Mapping!$C:$C,'Data BG'!$L10,Mapping!H:H)+SUMIF(Mapping!$D:$D,'Data BG'!$L10,Mapping!H:H)","v":0}]
[2810,2815,2818,282,292,2930,2931,2915,2918,null,null,null,null,null,null,null,null,"Amort. autres immobilisations corporelles ",{"$f":"SUMIF(Mapping!$B:$B,'Data BG'!$A11,Mapping!G:G)+SUMIF(Mapping!$C:$C,'Data BG'!$A11,Mapping!G:G)+SUMIF(Mapping!$D:$D,'Data BG'!$A11,Mapping!G:G)+SUMIF(Mapping!$B:$B,'Data BG'!$B11,Mapping!G:G)+SUMIF(Mapping!$C:$C,'Data BG'!$B11,Mapping!G:G)+SUMIF(Mapping!$D:$D,'Data BG'!$B11,Mapping!G:G)+SUMIF(Mapping!$B:$B,'Data BG'!$C11,Mapping!G:G)+SUMIF(Mapping!$C:$C,'Data BG'!$C11,Mapping!G:G)+SUMIF(Mapping!$D:$D,'Data BG'!$C11,Mapping!G:G)+SUMIF(Mapping!$B:$B,'Data BG'!$D11,Mapping!G:G)+SUMIF(Mapping!$C:$C,'Data BG'!$D11,Mapping!G:G)+SUMIF(Mapping!$D:$D,'Data BG'!$D11,Mapping!G:G)+SUMIF(Mapping!$B:$B,'Data BG'!$E11,Mapping!G:G)+SUMIF(Mapping!$C:$C,'Data BG'!$E11,Mapping!G:G)+SUMIF(Mapping!$D:$D,'Data BG'!$E11,Mapping!G:G)+SUMIF(Mapping!$B:$B,'Data BG'!$F11,Mapping!G:G)+SUMIF(Mapping!$C:$C,'Data BG'!$F11,Mapping!G:G)+SUMIF(Mapping!$D:$D,'Data BG'!$F11,Mapping!G:G)+SUMIF(Mapping!$B:$B,'Data BG'!$G11,Mapping!G:G)+SUMIF(Mapping!$C:$C,'Data BG'!$G11,Mapping!G:G)+SUMIF(Mapping!$D:$D,'Data BG'!$G11,Mapping!G:G)+SUMIF(Mapping!$B:$B,'Data BG'!$H11,Mapping!G:G)+SUMIF(Mapping!$C:$C,'Data BG'!$H11,Mapping!G:G)+SUMIF(Mapping!$D:$D,'Data BG'!$H11,Mapping!G:G)+SUMIF(Mapping!$B:$B,'Data BG'!$I11,Mapping!G:G)+SUMIF(Mapping!$C:$C,'Data BG'!$I11,Mapping!G:G)+SUMIF(Mapping!$D:$D,'Data BG'!$I11,Mapping!G:G)+SUMIF(Mapping!$B:$B,'Data BG'!$J11,Mapping!G:G)+SUMIF(Mapping!$C:$C,'Data BG'!$J11,Mapping!G:G)+SUMIF(Mapping!$D:$D,'Data BG'!$J11,Mapping!G:G)+SUMIF(Mapping!$B:$B,'Data BG'!$M11,Mapping!G:G)+SUMIF(Mapping!$C:$C,'Data BG'!$M11,Mapping!G:G)+SUMIF(Mapping!$D:$D,'Data BG'!$M11,Mapping!G:G)+SUMIF(Mapping!$B:$B,$N11,Mapping!G:G)+SUMIF(Mapping!$C:$C,$N11,Mapping!G:G)+SUMIF(Mapping!$D:$D,$N11,Mapping!G:G)+SUMIF(Mapping!$B:$B,'Data BG'!$K11,Mapping!G:G)+SUMIF(Mapping!$C:$C,'Data BG'!$K11,Mapping!G:G)+SUMIF(Mapping!$D:$D,'Data BG'!$K11,Mapping!G:G)+SUMIF(Mapping!$B:$B,'Data BG'!$L11,Mapping!G:G)+SUMIF(Mapping!$C:$C,'Data BG'!$L11,Mapping!G:G)+SUMIF(Mapping!$D:$D,'Data BG'!$L11,Mapping!G:G)","v":0},{"$f":"SUMIF(Mapping!$B:$B,'Data BG'!$A11,Mapping!H:H)+SUMIF(Mapping!$C:$C,'Data BG'!$A11,Mapping!H:H)+SUMIF(Mapping!$D:$D,'Data BG'!$A11,Mapping!H:H)+SUMIF(Mapping!$B:$B,'Data BG'!$B11,Mapping!H:H)+SUMIF(Mapping!$C:$C,'Data BG'!$B11,Mapping!H:H)+SUMIF(Mapping!$D:$D,'Data BG'!$B11,Mapping!H:H)+SUMIF(Mapping!$B:$B,'Data BG'!$C11,Mapping!H:H)+SUMIF(Mapping!$C:$C,'Data BG'!$C11,Mapping!H:H)+SUMIF(Mapping!$D:$D,'Data BG'!$C11,Mapping!H:H)+SUMIF(Mapping!$B:$B,'Data BG'!$D11,Mapping!H:H)+SUMIF(Mapping!$C:$C,'Data BG'!$D11,Mapping!H:H)+SUMIF(Mapping!$D:$D,'Data BG'!$D11,Mapping!H:H)+SUMIF(Mapping!$B:$B,'Data BG'!$E11,Mapping!H:H)+SUMIF(Mapping!$C:$C,'Data BG'!$E11,Mapping!H:H)+SUMIF(Mapping!$D:$D,'Data BG'!$E11,Mapping!H:H)+SUMIF(Mapping!$B:$B,'Data BG'!$F11,Mapping!H:H)+SUMIF(Mapping!$C:$C,'Data BG'!$F11,Mapping!H:H)+SUMIF(Mapping!$D:$D,'Data BG'!$F11,Mapping!H:H)+SUMIF(Mapping!$B:$B,'Data BG'!$G11,Mapping!H:H)+SUMIF(Mapping!$C:$C,'Data BG'!$G11,Mapping!H:H)+SUMIF(Mapping!$D:$D,'Data BG'!$G11,Mapping!H:H)+SUMIF(Mapping!$B:$B,'Data BG'!$H11,Mapping!H:H)+SUMIF(Mapping!$C:$C,'Data BG'!$H11,Mapping!H:H)+SUMIF(Mapping!$D:$D,'Data BG'!$H11,Mapping!H:H)+SUMIF(Mapping!$B:$B,'Data BG'!$I11,Mapping!H:H)+SUMIF(Mapping!$C:$C,'Data BG'!$I11,Mapping!H:H)+SUMIF(Mapping!$D:$D,'Data BG'!$I11,Mapping!H:H)+SUMIF(Mapping!$B:$B,'Data BG'!$J11,Mapping!H:H)+SUMIF(Mapping!$C:$C,'Data BG'!$J11,Mapping!H:H)+SUMIF(Mapping!$D:$D,'Data BG'!$J11,Mapping!H:H)+SUMIF(Mapping!$B:$B,'Data BG'!$M11,Mapping!H:H)+SUMIF(Mapping!$C:$C,'Data BG'!$M11,Mapping!H:H)+SUMIF(Mapping!$D:$D,'Data BG'!$M11,Mapping!H:H)+SUMIF(Mapping!$B:$B,$N11,Mapping!H:H)+SUMIF(Mapping!$C:$C,$N11,Mapping!H:H)+SUMIF(Mapping!$D:$D,$N11,Mapping!H:H)+SUMIF(Mapping!$B:$B,'Data BG'!$K11,Mapping!H:H)+SUMIF(Mapping!$C:$C,'Data BG'!$K11,Mapping!H:H)+SUMIF(Mapping!$D:$D,'Data BG'!$K11,Mapping!H:H)+SUMIF(Mapping!$B:$B,'Data BG'!$L11,Mapping!H:H)+SUMIF(Mapping!$C:$C,'Data BG'!$L11,Mapping!H:H)+SUMIF(Mapping!$D:$D,'Data BG'!$L11,Mapping!H:H)","v":0}]
[null,null,null,null,null,null,null,null,null,null,null,null,null,null,null,null,null,"Immobilisations financières ",null,null,null,"Attention !  Spécificité pour l'exercice 2025"]
[26,null,null,null,null,null,null,null,null,null,null,null,null,null,null,null,null,"Participations et créances rattachées ",{"$f":"SUMIF(Mapping!$B:$B,'Data BG'!$A13,Mapping!G:G)+SUMIF(Mapping!$C:$C,'Data BG'!$A13,Mapping!G:G)+SUMIF(Mapping!$D:$D,'Data BG'!$A13,Mapping!G:G)+SUMIF(Mapping!$B:$B,'Data BG'!$B13,Mapping!G:G)+SUMIF(Mapping!$C:$C,'Data BG'!$B13,Mapping!G:G)+SUMIF(Mapping!$D:$D,'Data BG'!$B13,Mapping!G:G)+SUMIF(Mapping!$B:$B,'Data BG'!$C13,Mapping!G:G)+SUMIF(Mapping!$C:$C,'Data BG'!$C13,Mapping!G:G)+SUMIF(Mapping!$D:$D,'Data BG'!$C13,Mapping!G:G)+SUMIF(Mapping!$B:$B,'Data BG'!$D13,Mapping!G:G)+SUMIF(Mapping!$C:$C,'Data BG'!$D13,Mapping!G:G)+SUMIF(Mapping!$D:$D,'Data BG'!$D13,Mapping!G:G)+SUMIF(Mapping!$B:$B,'Data BG'!$E13,Mapping!G:G)+SUMIF(Mapping!$C:$C,'Data BG'!$E13,Mapping!G:G)+SUMIF(Mapping!$D:$D,'Data BG'!$E13,Mapping!G:G)+SUMIF(Mapping!$B:$B,'Data BG'!$F13,Mapping!G:G)+SUMIF(Mapping!$C:$C,'Data BG'!$F13,Mapping!G:G)+SUMIF(Mapping!$D:$D,'Data BG'!$F13,Mapping!G:G)+SUMIF(Mapping!$B:$B,'Data BG'!$G13,Mapping!G:G)+SUMIF(Mapping!$C:$C,'Data BG'!$G13,Mapping!G:G)+SUMIF(Mapping!$D:$D,'Data BG'!$G13,Mapping!G:G)+SUMIF(Mapping!$B:$B,'Data BG'!$H13,Mapping!G:G)+SUMIF(Mapping!$C:$C,'Data BG'!$H13,Mapping!G:G)+SUMIF(Mapping!$D:$D,'Data BG'!$H13,Mapping!G:G)+SUMIF(Mapping!$B:$B,'Data BG'!$I13,Mapping!G:G)+SUMIF(Mapping!$C:$C,'Data BG'!$I13,Mapping!G:G)+SUMIF(Mapping!$D:$D,'Data BG'!$I13,Mapping!G:G)+SUMIF(Mapping!$B:$B,'Data BG'!$J13,Mapping!G:G)+SUMIF(Mapping!$C:$C,'Data BG'!$J13,Mapping!G:G)+SUMIF(Mapping!$D:$D,'Data BG'!$J13,Mapping!G:G)+SUMIF(Mapping!$B:$B,'Data BG'!$M13,Mapping!G:G)+SUMIF(Mapping!$C:$C,'Data BG'!$M13,Mapping!G:G)+SUMIF(Mapping!$D:$D,'Data BG'!$M13,Mapping!G:G)+SUMIF(Mapping!$B:$B,$N13,Mapping!G:G)+SUMIF(Mapping!$C:$C,$N13,Mapping!G:G)+SUMIF(Mapping!$D:$D,$N13,Mapping!G:G)+SUMIF(Mapping!$B:$B,'Data BG'!$K13,Mapping!G:G)+SUMIF(Mapping!$C:$C,'Data BG'!$K13,Mapping!G:G)+SUMIF(Mapping!$D:$D,'Data BG'!$K13,Mapping!G:G)+SUMIF(Mapping!$B:$B,'Data BG'!$L13,Mapping!G:G)+SUMIF(Mapping!$C:$C,'Data BG'!$L13,Mapping!G:G)+SUMIF(Mapping!$D:$D,'Data BG'!$L13,Mapping!G:G)","v":0},{"$f":"SUMIF(Mapping!$B:$B,'Data BG'!$A13,Mapping!H:H)+SUMIF(Mapping!$C:$C,'Data BG'!$A13,Mapping!H:H)+SUMIF(Mapping!$D:$D,'Data BG'!$A13,Mapping!H:H)+SUMIF(Mapping!$B:$B,'Data BG'!$B13,Mapping!H:H)+SUMIF(Mapping!$C:$C,'Data BG'!$B13,Mapping!H:H)+SUMIF(Mapping!$D:$D,'Data BG'!$B13,Mapping!H:H)+SUMIF(Mapping!$B:$B,'Data BG'!$C13,Mapping!H:H)+SUMIF(Mapping!$C:$C,'Data BG'!$C13,Mapping!H:H)+SUMIF(Mapping!$D:$D,'Data BG'!$C13,Mapping!H:H)+SUMIF(Mapping!$B:$B,'Data BG'!$D13,Mapping!H:H)+SUMIF(Mapping!$C:$C,'Data BG'!$D13,Mapping!H:H)+SUMIF(Mapping!$D:$D,'Data BG'!$D13,Mapping!H:H)+SUMIF(Mapping!$B:$B,'Data BG'!$E13,Mapping!H:H)+SUMIF(Mapping!$C:$C,'Data BG'!$E13,Mapping!H:H)+SUMIF(Mapping!$D:$D,'Data BG'!$E13,Mapping!H:H)+SUMIF(Mapping!$B:$B,'Data BG'!$F13,Mapping!H:H)+SUMIF(Mapping!$C:$C,'Data BG'!$F13,Mapping!H:H)+SUMIF(Mapping!$D:$D,'Data BG'!$F13,Mapping!H:H)+SUMIF(Mapping!$B:$B,'Data BG'!$G13,Mapping!H:H)+SUMIF(Mapping!$C:$C,'Data BG'!$G13,Mapping!H:H)+SUMIF(Mapping!$D:$D,'Data BG'!$G13,Mapping!H:H)+SUMIF(Mapping!$B:$B,'Data BG'!$H13,Mapping!H:H)+SUMIF(Mapping!$C:$C,'Data BG'!$H13,Mapping!H:H)+SUMIF(Mapping!$D:$D,'Data BG'!$H13,Mapping!H:H)+SUMIF(Mapping!$B:$B,'Data BG'!$I13,Mapping!H:H)+SUMIF(Mapping!$C:$C,'Data BG'!$I13,Mapping!H:H)+SUMIF(Mapping!$D:$D,'Data BG'!$I13,Mapping!H:H)+SUMIF(Mapping!$B:$B,'Data BG'!$J13,Mapping!H:H)+SUMIF(Mapping!$C:$C,'Data BG'!$J13,Mapping!H:H)+SUMIF(Mapping!$D:$D,'Data BG'!$J13,Mapping!H:H)+SUMIF(Mapping!$B:$B,'Data BG'!$M13,Mapping!H:H)+SUMIF(Mapping!$C:$C,'Data BG'!$M13,Mapping!H:H)+SUMIF(Mapping!$D:$D,'Data BG'!$M13,Mapping!H:H)+SUMIF(Mapping!$B:$B,$N13,Mapping!H:H)+SUMIF(Mapping!$C:$C,$N13,Mapping!H:H)+SUMIF(Mapping!$D:$D,$N13,Mapping!H:H)+SUMIF(Mapping!$B:$B,'Data BG'!$K13,Mapping!H:H)+SUMIF(Mapping!$C:$C,'Data BG'!$K13,Mapping!H:H)+SUMIF(Mapping!$D:$D,'Data BG'!$K13,Mapping!H:H)+SUMIF(Mapping!$B:$B,'Data BG'!$L13,Mapping!H:H)+SUMIF(Mapping!$C:$C,'Data BG'!$L13,Mapping!H:H)+SUMIF(Mapping!$D:$D,'Data BG'!$L13,Mapping!H:H)","v":0},null,"Les comptes N-1 de 2024 doivent être retraités pour la présentation "]
[296,null,null,null,null,null,null,null,null,null,null,null,null,null,null,null,null,"Dépréc. Participations et créances rattachées ",{"$f":"SUMIF(Mapping!$B:$B,'Data BG'!$A14,Mapping!G:G)+SUMIF(Mapping!$C:$C,'Data BG'!$A14,Mapping!G:G)+SUMIF(Mapping!$D:$D,'Data BG'!$A14,Mapping!G:G)+SUMIF(Mapping!$B:$B,'Data BG'!$B14,Mapping!G:G)+SUMIF(Mapping!$C:$C,'Data BG'!$B14,Mapping!G:G)+SUMIF(Mapping!$D:$D,'Data BG'!$B14,Mapping!G:G)+SUMIF(Mapping!$B:$B,'Data BG'!$C14,Mapping!G:G)+SUMIF(Mapping!$C:$C,'Data BG'!$C14,Mapping!G:G)+SUMIF(Mapping!$D:$D,'Data BG'!$C14,Mapping!G:G)+SUMIF(Mapping!$B:$B,'Data BG'!$D14,Mapping!G:G)+SUMIF(Mapping!$C:$C,'Data BG'!$D14,Mapping!G:G)+SUMIF(Mapping!$D:$D,'Data BG'!$D14,Mapping!G:G)+SUMIF(Mapping!$B:$B,'Data BG'!$E14,Mapping!G:G)+SUMIF(Mapping!$C:$C,'Data BG'!$E14,Mapping!G:G)+SUMIF(Mapping!$D:$D,'Data BG'!$E14,Mapping!G:G)+SUMIF(Mapping!$B:$B,'Data BG'!$F14,Mapping!G:G)+SUMIF(Mapping!$C:$C,'Data BG'!$F14,Mapping!G:G)+SUMIF(Mapping!$D:$D,'Data BG'!$F14,Mapping!G:G)+SUMIF(Mapping!$B:$B,'Data BG'!$G14,Mapping!G:G)+SUMIF(Mapping!$C:$C,'Data BG'!$G14,Mapping!G:G)+SUMIF(Mapping!$D:$D,'Data BG'!$G14,Mapping!G:G)+SUMIF(Mapping!$B:$B,'Data BG'!$H14,Mapping!G:G)+SUMIF(Mapping!$C:$C,'Data BG'!$H14,Mapping!G:G)+SUMIF(Mapping!$D:$D,'Data BG'!$H14,Mapping!G:G)+SUMIF(Mapping!$B:$B,'Data BG'!$I14,Mapping!G:G)+SUMIF(Mapping!$C:$C,'Data BG'!$I14,Mapping!G:G)+SUMIF(Mapping!$D:$D,'Data BG'!$I14,Mapping!G:G)+SUMIF(Mapping!$B:$B,'Data BG'!$J14,Mapping!G:G)+SUMIF(Mapping!$C:$C,'Data BG'!$J14,Mapping!G:G)+SUMIF(Mapping!$D:$D,'Data BG'!$J14,Mapping!G:G)+SUMIF(Mapping!$B:$B,'Data BG'!$M14,Mapping!G:G)+SUMIF(Mapping!$C:$C,'Data BG'!$M14,Mapping!G:G)+SUMIF(Mapping!$D:$D,'Data BG'!$M14,Mapping!G:G)+SUMIF(Mapping!$B:$B,$N14,Mapping!G:G)+SUMIF(Mapping!$C:$C,$N14,Mapping!G:G)+SUMIF(Mapping!$D:$D,$N14,Mapping!G:G)+SUMIF(Mapping!$B:$B,'Data BG'!$K14,Mapping!G:G)+SUMIF(Mapping!$C:$C,'Data BG'!$K14,Mapping!G:G)+SUMIF(Mapping!$D:$D,'Data BG'!$K14,Mapping!G:G)+SUMIF(Mapping!$B:$B,'Data BG'!$L14,Mapping!G:G)+SUMIF(Mapping!$C:$C,'Data BG'!$L14,Mapping!G:G)+SUMIF(Mapping!$D:$D,'Data BG'!$L14,Mapping!G:G)","v":0},{"$f":"SUMIF(Mapping!$B:$B,'Data BG'!$A14,Mapping!H:H)+SUMIF(Mapping!$C:$C,'Data BG'!$A14,Mapping!H:H)+SUMIF(Mapping!$D:$D,'Data BG'!$A14,Mapping!H:H)+SUMIF(Mapping!$B:$B,'Data BG'!$B14,Mapping!H:H)+SUMIF(Mapping!$C:$C,'Data BG'!$B14,Mapping!H:H)+SUMIF(Mapping!$D:$D,'Data BG'!$B14,Mapping!H:H)+SUMIF(Mapping!$B:$B,'Data BG'!$C14,Mapping!H:H)+SUMIF(Mapping!$C:$C,'Data BG'!$C14,Mapping!H:H)+SUMIF(Mapping!$D:$D,'Data BG'!$C14,Mapping!H:H)+SUMIF(Mapping!$B:$B,'Data BG'!$D14,Mapping!H:H)+SUMIF(Mapping!$C:$C,'Data BG'!$D14,Mapping!H:H)+SUMIF(Mapping!$D:$D,'Data BG'!$D14,Mapping!H:H)+SUMIF(Mapping!$B:$B,'Data BG'!$E14,Mapping!H:H)+SUMIF(Mapping!$C:$C,'Data BG'!$E14,Mapping!H:H)+SUMIF(Mapping!$D:$D,'Data BG'!$E14,Mapping!H:H)+SUMIF(Mapping!$B:$B,'Data BG'!$F14,Mapping!H:H)+SUMIF(Mapping!$C:$C,'Data BG'!$F14,Mapping!H:H)+SUMIF(Mapping!$D:$D,'Data BG'!$F14,Mapping!H:H)+SUMIF(Mapping!$B:$B,'Data BG'!$G14,Mapping!H:H)+SUMIF(Mapping!$C:$C,'Data BG'!$G14,Mapping!H:H)+SUMIF(Mapping!$D:$D,'Data BG'!$G14,Mapping!H:H)+SUMIF(Mapping!$B:$B,'Data BG'!$H14,Mapping!H:H)+SUMIF(Mapping!$C:$C,'Data BG'!$H14,Mapping!H:H)+SUMIF(Mapping!$D:$D,'Data BG'!$H14,Mapping!H:H)+SUMIF(Mapping!$B:$B,'Data BG'!$I14,Mapping!H:H)+SUMIF(Mapping!$C:$C,'Data BG'!$I14,Mapping!H:H)+SUMIF(Mapping!$D:$D,'Data BG'!$I14,Mapping!H:H)+SUMIF(Mapping!$B:$B,'Data BG'!$J14,Mapping!H:H)+SUMIF(Mapping!$C:$C,'Data BG'!$J14,Mapping!H:H)+SUMIF(Mapping!$D:$D,'Data BG'!$J14,Mapping!H:H)+SUMIF(Mapping!$B:$B,'Data BG'!$M14,Mapping!H:H)+SUMIF(Mapping!$C:$C,'Data BG'!$M14,Mapping!H:H)+SUMIF(Mapping!$D:$D,'Data BG'!$M14,Mapping!H:H)+SUMIF(Mapping!$B:$B,$N14,Mapping!H:H)+SUMIF(Mapping!$C:$C,$N14,Mapping!H:H)+SUMIF(Mapping!$D:$D,$N14,Mapping!H:H)+SUMIF(Mapping!$B:$B,'Data BG'!$K14,Mapping!H:H)+SUMIF(Mapping!$C:$C,'Data BG'!$K14,Mapping!H:H)+SUMIF(Mapping!$D:$D,'Data BG'!$K14,Mapping!H:H)+SUMIF(Mapping!$B:$B,'Data BG'!$L14,Mapping!H:H)+SUMIF(Mapping!$C:$C,'Data BG'!$L14,Mapping!H:H)+SUMIF(Mapping!$D:$D,'Data BG'!$L14,Mapping!H:H)","v":0},null,"suivant le nouveau PCG 2025. Les comptes concernés sont en rouges"]
[271,272,273,null,null,null,null,null,null,null,null,null,null,null,null,null,null,"Autres titres immobilisés ",{"$f":"SUMIF(Mapping!$B:$B,'Data BG'!$A15,Mapping!G:G)+SUMIF(Mapping!$C:$C,'Data BG'!$A15,Mapping!G:G)+SUMIF(Mapping!$D:$D,'Data BG'!$A15,Mapping!G:G)+SUMIF(Mapping!$B:$B,'Data BG'!$B15,Mapping!G:G)+SUMIF(Mapping!$C:$C,'Data BG'!$B15,Mapping!G:G)+SUMIF(Mapping!$D:$D,'Data BG'!$B15,Mapping!G:G)+SUMIF(Mapping!$B:$B,'Data BG'!$C15,Mapping!G:G)+SUMIF(Mapping!$C:$C,'Data BG'!$C15,Mapping!G:G)+SUMIF(Mapping!$D:$D,'Data BG'!$C15,Mapping!G:G)+SUMIF(Mapping!$B:$B,'Data BG'!$D15,Mapping!G:G)+SUMIF(Mapping!$C:$C,'Data BG'!$D15,Mapping!G:G)+SUMIF(Mapping!$D:$D,'Data BG'!$D15,Mapping!G:G)+SUMIF(Mapping!$B:$B,'Data BG'!$E15,Mapping!G:G)+SUMIF(Mapping!$C:$C,'Data BG'!$E15,Mapping!G:G)+SUMIF(Mapping!$D:$D,'Data BG'!$E15,Mapping!G:G)+SUMIF(Mapping!$B:$B,'Data BG'!$F15,Mapping!G:G)+SUMIF(Mapping!$C:$C,'Data BG'!$F15,Mapping!G:G)+SUMIF(Mapping!$D:$D,'Data BG'!$F15,Mapping!G:G)+SUMIF(Mapping!$B:$B,'Data BG'!$G15,Mapping!G:G)+SUMIF(Mapping!$C:$C,'Data BG'!$G15,Mapping!G:G)+SUMIF(Mapping!$D:$D,'Data BG'!$G15,Mapping!G:G)+SUMIF(Mapping!$B:$B,'Data BG'!$H15,Mapping!G:G)+SUMIF(Mapping!$C:$C,'Data BG'!$H15,Mapping!G:G)+SUMIF(Mapping!$D:$D,'Data BG'!$H15,Mapping!G:G)+SUMIF(Mapping!$B:$B,'Data BG'!$I15,Mapping!G:G)+SUMIF(Mapping!$C:$C,'Data BG'!$I15,Mapping!G:G)+SUMIF(Mapping!$D:$D,'Data BG'!$I15,Mapping!G:G)+SUMIF(Mapping!$B:$B,'Data BG'!$J15,Mapping!G:G)+SUMIF(Mapping!$C:$C,'Data BG'!$J15,Mapping!G:G)+SUMIF(Mapping!$D:$D,'Data BG'!$J15,Mapping!G:G)+SUMIF(Mapping!$B:$B,'Data BG'!$M15,Mapping!G:G)+SUMIF(Mapping!$C:$C,'Data BG'!$M15,Mapping!G:G)+SUMIF(Mapping!$D:$D,'Data BG'!$M15,Mapping!G:G)+SUMIF(Mapping!$B:$B,$N15,Mapping!G:G)+SUMIF(Mapping!$C:$C,$N15,Mapping!G:G)+SUMIF(Mapping!$D:$D,$N15,Mapping!G:G)+SUMIF(Mapping!$B:$B,'Data BG'!$K15,Mapping!G:G)+SUMIF(Mapping!$C:$C,'Data BG'!$K15,Mapping!G:G)+SUMIF(Mapping!$D:$D,'Data BG'!$K15,Mapping!G:G)+SUMIF(Mapping!$B:$B,'Data BG'!$L15,Mapping!G:G)+SUMIF(Mapping!$C:$C,'Data BG'!$L15,Mapping!G:G)+SUMIF(Mapping!$D:$D,'Data BG'!$L15,Mapping!G:G)","v":0},{"$f":"SUMIF(Mapping!$B:$B,'Data BG'!$A15,Mapping!H:H)+SUMIF(Mapping!$C:$C,'Data BG'!$A15,Mapping!H:H)+SUMIF(Mapping!$D:$D,'Data BG'!$A15,Mapping!H:H)+SUMIF(Mapping!$B:$B,'Data BG'!$B15,Mapping!H:H)+SUMIF(Mapping!$C:$C,'Data BG'!$B15,Mapping!H:H)+SUMIF(Mapping!$D:$D,'Data BG'!$B15,Mapping!H:H)+SUMIF(Mapping!$B:$B,'Data BG'!$C15,Mapping!H:H)+SUMIF(Mapping!$C:$C,'Data BG'!$C15,Mapping!H:H)+SUMIF(Mapping!$D:$D,'Data BG'!$C15,Mapping!H:H)+SUMIF(Mapping!$B:$B,'Data BG'!$D15,Mapping!H:H)+SUMIF(Mapping!$C:$C,'Data BG'!$D15,Mapping!H:H)+SUMIF(Mapping!$D:$D,'Data BG'!$D15,Mapping!H:H)+SUMIF(Mapping!$B:$B,'Data BG'!$E15,Mapping!H:H)+SUMIF(Mapping!$C:$C,'Data BG'!$E15,Mapping!H:H)+SUMIF(Mapping!$D:$D,'Data BG'!$E15,Mapping!H:H)+SUMIF(Mapping!$B:$B,'Data BG'!$F15,Mapping!H:H)+SUMIF(Mapping!$C:$C,'Data BG'!$F15,Mapping!H:H)+SUMIF(Mapping!$D:$D,'Data BG'!$F15,Mapping!H:H)+SUMIF(Mapping!$B:$B,'Data BG'!$G15,Mapping!H:H)+SUMIF(Mapping!$C:$C,'Data BG'!$G15,Mapping!H:H)+SUMIF(Mapping!$D:$D,'Data BG'!$G15,Mapping!H:H)+SUMIF(Mapping!$B:$B,'Data BG'!$H15,Mapping!H:H)+SUMIF(Mapping!$C:$C,'Data BG'!$H15,Mapping!H:H)+SUMIF(Mapping!$D:$D,'Data BG'!$H15,Mapping!H:H)+SUMIF(Mapping!$B:$B,'Data BG'!$I15,Mapping!H:H)+SUMIF(Mapping!$C:$C,'Data BG'!$I15,Mapping!H:H)+SUMIF(Mapping!$D:$D,'Data BG'!$I15,Mapping!H:H)+SUMIF(Mapping!$B:$B,'Data BG'!$J15,Mapping!H:H)+SUMIF(Mapping!$C:$C,'Data BG'!$J15,Mapping!H:H)+SUMIF(Mapping!$D:$D,'Data BG'!$J15,Mapping!H:H)+SUMIF(Mapping!$B:$B,'Data BG'!$M15,Mapping!H:H)+SUMIF(Mapping!$C:$C,'Data BG'!$M15,Mapping!H:H)+SUMIF(Mapping!$D:$D,'Data BG'!$M15,Mapping!H:H)+SUMIF(Mapping!$B:$B,$N15,Mapping!H:H)+SUMIF(Mapping!$C:$C,$N15,Mapping!H:H)+SUMIF(Mapping!$D:$D,$N15,Mapping!H:H)+SUMIF(Mapping!$B:$B,'Data BG'!$K15,Mapping!H:H)+SUMIF(Mapping!$C:$C,'Data BG'!$K15,Mapping!H:H)+SUMIF(Mapping!$D:$D,'Data BG'!$K15,Mapping!H:H)+SUMIF(Mapping!$B:$B,'Data BG'!$L15,Mapping!H:H)+SUMIF(Mapping!$C:$C,'Data BG'!$L15,Mapping!H:H)+SUMIF(Mapping!$D:$D,'Data BG'!$L15,Mapping!H:H)","v":0}]
[2970,2971,2972,2973,null,null,null,null,null,null,null,null,null,null,null,null,null,"Dépréc. Autres titres immobilisés ",{"$f":"SUMIF(Mapping!$B:$B,'Data BG'!$A16,Mapping!G:G)+SUMIF(Mapping!$C:$C,'Data BG'!$A16,Mapping!G:G)+SUMIF(Mapping!$D:$D,'Data BG'!$A16,Mapping!G:G)+SUMIF(Mapping!$B:$B,'Data BG'!$B16,Mapping!G:G)+SUMIF(Mapping!$C:$C,'Data BG'!$B16,Mapping!G:G)+SUMIF(Mapping!$D:$D,'Data BG'!$B16,Mapping!G:G)+SUMIF(Mapping!$B:$B,'Data BG'!$C16,Mapping!G:G)+SUMIF(Mapping!$C:$C,'Data BG'!$C16,Mapping!G:G)+SUMIF(Mapping!$D:$D,'Data BG'!$C16,Mapping!G:G)+SUMIF(Mapping!$B:$B,'Data BG'!$D16,Mapping!G:G)+SUMIF(Mapping!$C:$C,'Data BG'!$D16,Mapping!G:G)+SUMIF(Mapping!$D:$D,'Data BG'!$D16,Mapping!G:G)+SUMIF(Mapping!$B:$B,'Data BG'!$E16,Mapping!G:G)+SUMIF(Mapping!$C:$C,'Data BG'!$E16,Mapping!G:G)+SUMIF(Mapping!$D:$D,'Data BG'!$E16,Mapping!G:G)+SUMIF(Mapping!$B:$B,'Data BG'!$F16,Mapping!G:G)+SUMIF(Mapping!$C:$C,'Data BG'!$F16,Mapping!G:G)+SUMIF(Mapping!$D:$D,'Data BG'!$F16,Mapping!G:G)+SUMIF(Mapping!$B:$B,'Data BG'!$G16,Mapping!G:G)+SUMIF(Mapping!$C:$C,'Data BG'!$G16,Mapping!G:G)+SUMIF(Mapping!$D:$D,'Data BG'!$G16,Mapping!G:G)+SUMIF(Mapping!$B:$B,'Data BG'!$H16,Mapping!G:G)+SUMIF(Mapping!$C:$C,'Data BG'!$H16,Mapping!G:G)+SUMIF(Mapping!$D:$D,'Data BG'!$H16,Mapping!G:G)+SUMIF(Mapping!$B:$B,'Data BG'!$I16,Mapping!G:G)+SUMIF(Mapping!$C:$C,'Data BG'!$I16,Mapping!G:G)+SUMIF(Mapping!$D:$D,'Data BG'!$I16,Mapping!G:G)+SUMIF(Mapping!$B:$B,'Data BG'!$J16,Mapping!G:G)+SUMIF(Mapping!$C:$C,'Data BG'!$J16,Mapping!G:G)+SUMIF(Mapping!$D:$D,'Data BG'!$J16,Mapping!G:G)+SUMIF(Mapping!$B:$B,'Data BG'!$M16,Mapping!G:G)+SUMIF(Mapping!$C:$C,'Data BG'!$M16,Mapping!G:G)+SUMIF(Mapping!$D:$D,'Data BG'!$M16,Mapping!G:G)+SUMIF(Mapping!$B:$B,$N16,Mapping!G:G)+SUMIF(Mapping!$C:$C,$N16,Mapping!G:G)+SUMIF(Mapping!$D:$D,$N16,Mapping!G:G)+SUMIF(Mapping!$B:$B,'Data BG'!$K16,Mapping!G:G)+SUMIF(Mapping!$C:$C,'Data BG'!$K16,Mapping!G:G)+SUMIF(Mapping!$D:$D,'Data BG'!$K16,Mapping!G:G)+SUMIF(Mapping!$B:$B,'Data BG'!$L16,Mapping!G:G)+SUMIF(Mapping!$C:$C,'Data BG'!$L16,Mapping!G:G)+SUMIF(Mapping!$D:$D,'Data BG'!$L16,Mapping!G:G)","v":0},{"$f":"SUMIF(Mapping!$B:$B,'Data BG'!$A16,Mapping!H:H)+SUMIF(Mapping!$C:$C,'Data BG'!$A16,Mapping!H:H)+SUMIF(Mapping!$D:$D,'Data BG'!$A16,Mapping!H:H)+SUMIF(Mapping!$B:$B,'Data BG'!$B16,Mapping!H:H)+SUMIF(Mapping!$C:$C,'Data BG'!$B16,Mapping!H:H)+SUMIF(Mapping!$D:$D,'Data BG'!$B16,Mapping!H:H)+SUMIF(Mapping!$B:$B,'Data BG'!$C16,Mapping!H:H)+SUMIF(Mapping!$C:$C,'Data BG'!$C16,Mapping!H:H)+SUMIF(Mapping!$D:$D,'Data BG'!$C16,Mapping!H:H)+SUMIF(Mapping!$B:$B,'Data BG'!$D16,Mapping!H:H)+SUMIF(Mapping!$C:$C,'Data BG'!$D16,Mapping!H:H)+SUMIF(Mapping!$D:$D,'Data BG'!$D16,Mapping!H:H)+SUMIF(Mapping!$B:$B,'Data BG'!$E16,Mapping!H:H)+SUMIF(Mapping!$C:$C,'Data BG'!$E16,Mapping!H:H)+SUMIF(Mapping!$D:$D,'Data BG'!$E16,Mapping!H:H)+SUMIF(Mapping!$B:$B,'Data BG'!$F16,Mapping!H:H)+SUMIF(Mapping!$C:$C,'Data BG'!$F16,Mapping!H:H)+SUMIF(Mapping!$D:$D,'Data BG'!$F16,Mapping!H:H)+SUMIF(Mapping!$B:$B,'Data BG'!$G16,Mapping!H:H)+SUMIF(Mapping!$C:$C,'Data BG'!$G16,Mapping!H:H)+SUMIF(Mapping!$D:$D,'Data BG'!$G16,Mapping!H:H)+SUMIF(Mapping!$B:$B,'Data BG'!$H16,Mapping!H:H)+SUMIF(Mapping!$C:$C,'Data BG'!$H16,Mapping!H:H)+SUMIF(Mapping!$D:$D,'Data BG'!$H16,Mapping!H:H)+SUMIF(Mapping!$B:$B,'Data BG'!$I16,Mapping!H:H)+SUMIF(Mapping!$C:$C,'Data BG'!$I16,Mapping!H:H)+SUMIF(Mapping!$D:$D,'Data BG'!$I16,Mapping!H:H)+SUMIF(Mapping!$B:$B,'Data BG'!$J16,Mapping!H:H)+SUMIF(Mapping!$C:$C,'Data BG'!$J16,Mapping!H:H)+SUMIF(Mapping!$D:$D,'Data BG'!$J16,Mapping!H:H)+SUMIF(Mapping!$B:$B,'Data BG'!$M16,Mapping!H:H)+SUMIF(Mapping!$C:$C,'Data BG'!$M16,Mapping!H:H)+SUMIF(Mapping!$D:$D,'Data BG'!$M16,Mapping!H:H)+SUMIF(Mapping!$B:$B,$N16,Mapping!H:H)+SUMIF(Mapping!$C:$C,$N16,Mapping!H:H)+SUMIF(Mapping!$D:$D,$N16,Mapping!H:H)+SUMIF(Mapping!$B:$B,'Data BG'!$K16,Mapping!H:H)+SUMIF(Mapping!$C:$C,'Data BG'!$K16,Mapping!H:H)+SUMIF(Mapping!$D:$D,'Data BG'!$K16,Mapping!H:H)+SUMIF(Mapping!$B:$B,'Data BG'!$L16,Mapping!H:H)+SUMIF(Mapping!$C:$C,'Data BG'!$L16,Mapping!H:H)+SUMIF(Mapping!$D:$D,'Data BG'!$L16,Mapping!H:H)","v":0}]
[null,null,null,null,null,null,null,null,null,null,null,null,null,null,null,null,null,"Prêts hors périmètre "]
[2741,null,null,null,null,null,null,null,null,null,null,null,null,null,null,null,null,"Prêts à des partis ou groupements politiques ",{"$f":"SUMIF(Mapping!$B:$B,'Data BG'!$A18,Mapping!G:G)+SUMIF(Mapping!$C:$C,'Data BG'!$A18,Mapping!G:G)+SUMIF(Mapping!$D:$D,'Data BG'!$A18,Mapping!G:G)+SUMIF(Mapping!$B:$B,'Data BG'!$B18,Mapping!G:G)+SUMIF(Mapping!$C:$C,'Data BG'!$B18,Mapping!G:G)+SUMIF(Mapping!$D:$D,'Data BG'!$B18,Mapping!G:G)+SUMIF(Mapping!$B:$B,'Data BG'!$C18,Mapping!G:G)+SUMIF(Mapping!$C:$C,'Data BG'!$C18,Mapping!G:G)+SUMIF(Mapping!$D:$D,'Data BG'!$C18,Mapping!G:G)+SUMIF(Mapping!$B:$B,'Data BG'!$D18,Mapping!G:G)+SUMIF(Mapping!$C:$C,'Data BG'!$D18,Mapping!G:G)+SUMIF(Mapping!$D:$D,'Data BG'!$D18,Mapping!G:G)+SUMIF(Mapping!$B:$B,'Data BG'!$E18,Mapping!G:G)+SUMIF(Mapping!$C:$C,'Data BG'!$E18,Mapping!G:G)+SUMIF(Mapping!$D:$D,'Data BG'!$E18,Mapping!G:G)+SUMIF(Mapping!$B:$B,'Data BG'!$F18,Mapping!G:G)+SUMIF(Mapping!$C:$C,'Data BG'!$F18,Mapping!G:G)+SUMIF(Mapping!$D:$D,'Data BG'!$F18,Mapping!G:G)+SUMIF(Mapping!$B:$B,'Data BG'!$G18,Mapping!G:G)+SUMIF(Mapping!$C:$C,'Data BG'!$G18,Mapping!G:G)+SUMIF(Mapping!$D:$D,'Data BG'!$G18,Mapping!G:G)+SUMIF(Mapping!$B:$B,'Data BG'!$H18,Mapping!G:G)+SUMIF(Mapping!$C:$C,'Data BG'!$H18,Mapping!G:G)+SUMIF(Mapping!$D:$D,'Data BG'!$H18,Mapping!G:G)+SUMIF(Mapping!$B:$B,'Data BG'!$I18,Mapping!G:G)+SUMIF(Mapping!$C:$C,'Data BG'!$I18,Mapping!G:G)+SUMIF(Mapping!$D:$D,'Data BG'!$I18,Mapping!G:G)+SUMIF(Mapping!$B:$B,'Data BG'!$J18,Mapping!G:G)+SUMIF(Mapping!$C:$C,'Data BG'!$J18,Mapping!G:G)+SUMIF(Mapping!$D:$D,'Data BG'!$J18,Mapping!G:G)+SUMIF(Mapping!$B:$B,'Data BG'!$M18,Mapping!G:G)+SUMIF(Mapping!$C:$C,'Data BG'!$M18,Mapping!G:G)+SUMIF(Mapping!$D:$D,'Data BG'!$M18,Mapping!G:G)+SUMIF(Mapping!$B:$B,$N18,Mapping!G:G)+SUMIF(Mapping!$C:$C,$N18,Mapping!G:G)+SUMIF(Mapping!$D:$D,$N18,Mapping!G:G)+SUMIF(Mapping!$B:$B,'Data BG'!$K18,Mapping!G:G)+SUMIF(Mapping!$C:$C,'Data BG'!$K18,Mapping!G:G)+SUMIF(Mapping!$D:$D,'Data BG'!$K18,Mapping!G:G)+SUMIF(Mapping!$B:$B,'Data BG'!$L18,Mapping!G:G)+SUMIF(Mapping!$C:$C,'Data BG'!$L18,Mapping!G:G)+SUMIF(Mapping!$D:$D,'Data BG'!$L18,Mapping!G:G)","v":0},{"$f":"SUMIF(Mapping!$B:$B,'Data BG'!$A18,Mapping!H:H)+SUMIF(Mapping!$C:$C,'Data BG'!$A18,Mapping!H:H)+SUMIF(Mapping!$D:$D,'Data BG'!$A18,Mapping!H:H)+SUMIF(Mapping!$B:$B,'Data BG'!$B18,Mapping!H:H)+SUMIF(Mapping!$C:$C,'Data BG'!$B18,Mapping!H:H)+SUMIF(Mapping!$D:$D,'Data BG'!$B18,Mapping!H:H)+SUMIF(Mapping!$B:$B,'Data BG'!$C18,Mapping!H:H)+SUMIF(Mapping!$C:$C,'Data BG'!$C18,Mapping!H:H)+SUMIF(Mapping!$D:$D,'Data BG'!$C18,Mapping!H:H)+SUMIF(Mapping!$B:$B,'Data BG'!$D18,Mapping!H:H)+SUMIF(Mapping!$C:$C,'Data BG'!$D18,Mapping!H:H)+SUMIF(Mapping!$D:$D,'Data BG'!$D18,Mapping!H:H)+SUMIF(Mapping!$B:$B,'Data BG'!$E18,Mapping!H:H)+SUMIF(Mapping!$C:$C,'Data BG'!$E18,Mapping!H:H)+SUMIF(Mapping!$D:$D,'Data BG'!$E18,Mapping!H:H)+SUMIF(Mapping!$B:$B,'Data BG'!$F18,Mapping!H:H)+SUMIF(Mapping!$C:$C,'Data BG'!$F18,Mapping!H:H)+SUMIF(Mapping!$D:$D,'Data BG'!$F18,Mapping!H:H)+SUMIF(Mapping!$B:$B,'Data BG'!$G18,Mapping!H:H)+SUMIF(Mapping!$C:$C,'Data BG'!$G18,Mapping!H:H)+SUMIF(Mapping!$D:$D,'Data BG'!$G18,Mapping!H:H)+SUMIF(Mapping!$B:$B,'Data BG'!$H18,Mapping!H:H)+SUMIF(Mapping!$C:$C,'Data BG'!$H18,Mapping!H:H)+SUMIF(Mapping!$D:$D,'Data BG'!$H18,Mapping!H:H)+SUMIF(Mapping!$B:$B,'Data BG'!$I18,Mapping!H:H)+SUMIF(Mapping!$C:$C,'Data BG'!$I18,Mapping!H:H)+SUMIF(Mapping!$D:$D,'Data BG'!$I18,Mapping!H:H)+SUMIF(Mapping!$B:$B,'Data BG'!$J18,Mapping!H:H)+SUMIF(Mapping!$C:$C,'Data BG'!$J18,Mapping!H:H)+SUMIF(Mapping!$D:$D,'Data BG'!$J18,Mapping!H:H)+SUMIF(Mapping!$B:$B,'Data BG'!$M18,Mapping!H:H)+SUMIF(Mapping!$C:$C,'Data BG'!$M18,Mapping!H:H)+SUMIF(Mapping!$D:$D,'Data BG'!$M18,Mapping!H:H)+SUMIF(Mapping!$B:$B,$N18,Mapping!H:H)+SUMIF(Mapping!$C:$C,$N18,Mapping!H:H)+SUMIF(Mapping!$D:$D,$N18,Mapping!H:H)+SUMIF(Mapping!$B:$B,'Data BG'!$K18,Mapping!H:H)+SUMIF(Mapping!$C:$C,'Data BG'!$K18,Mapping!H:H)+SUMIF(Mapping!$D:$D,'Data BG'!$K18,Mapping!H:H)+SUMIF(Mapping!$B:$B,'Data BG'!$L18,Mapping!H:H)+SUMIF(Mapping!$C:$C,'Data BG'!$L18,Mapping!H:H)+SUMIF(Mapping!$D:$D,'Data BG'!$L18,Mapping!H:H)","v":0}]
[29741,null,null,null,null,null,null,null,null,null,null,null,null,null,null,null,null,"Déprec. Prêts à des partis ou groupements politiques ",{"$f":"SUMIF(Mapping!$B:$B,'Data BG'!$A19,Mapping!G:G)+SUMIF(Mapping!$C:$C,'Data BG'!$A19,Mapping!G:G)+SUMIF(Mapping!$D:$D,'Data BG'!$A19,Mapping!G:G)+SUMIF(Mapping!$B:$B,'Data BG'!$B19,Mapping!G:G)+SUMIF(Mapping!$C:$C,'Data BG'!$B19,Mapping!G:G)+SUMIF(Mapping!$D:$D,'Data BG'!$B19,Mapping!G:G)+SUMIF(Mapping!$B:$B,'Data BG'!$C19,Mapping!G:G)+SUMIF(Mapping!$C:$C,'Data BG'!$C19,Mapping!G:G)+SUMIF(Mapping!$D:$D,'Data BG'!$C19,Mapping!G:G)+SUMIF(Mapping!$B:$B,'Data BG'!$D19,Mapping!G:G)+SUMIF(Mapping!$C:$C,'Data BG'!$D19,Mapping!G:G)+SUMIF(Mapping!$D:$D,'Data BG'!$D19,Mapping!G:G)+SUMIF(Mapping!$B:$B,'Data BG'!$E19,Mapping!G:G)+SUMIF(Mapping!$C:$C,'Data BG'!$E19,Mapping!G:G)+SUMIF(Mapping!$D:$D,'Data BG'!$E19,Mapping!G:G)+SUMIF(Mapping!$B:$B,'Data BG'!$F19,Mapping!G:G)+SUMIF(Mapping!$C:$C,'Data BG'!$F19,Mapping!G:G)+SUMIF(Mapping!$D:$D,'Data BG'!$F19,Mapping!G:G)+SUMIF(Mapping!$B:$B,'Data BG'!$G19,Mapping!G:G)+SUMIF(Mapping!$C:$C,'Data BG'!$G19,Mapping!G:G)+SUMIF(Mapping!$D:$D,'Data BG'!$G19,Mapping!G:G)+SUMIF(Mapping!$B:$B,'Data BG'!$H19,Mapping!G:G)+SUMIF(Mapping!$C:$C,'Data BG'!$H19,Mapping!G:G)+SUMIF(Mapping!$D:$D,'Data BG'!$H19,Mapping!G:G)+SUMIF(Mapping!$B:$B,'Data BG'!$I19,Mapping!G:G)+SUMIF(Mapping!$C:$C,'Data BG'!$I19,Mapping!G:G)+SUMIF(Mapping!$D:$D,'Data BG'!$I19,Mapping!G:G)+SUMIF(Mapping!$B:$B,'Data BG'!$J19,Mapping!G:G)+SUMIF(Mapping!$C:$C,'Data BG'!$J19,Mapping!G:G)+SUMIF(Mapping!$D:$D,'Data BG'!$J19,Mapping!G:G)+SUMIF(Mapping!$B:$B,'Data BG'!$M19,Mapping!G:G)+SUMIF(Mapping!$C:$C,'Data BG'!$M19,Mapping!G:G)+SUMIF(Mapping!$D:$D,'Data BG'!$M19,Mapping!G:G)+SUMIF(Mapping!$B:$B,$N19,Mapping!G:G)+SUMIF(Mapping!$C:$C,$N19,Mapping!G:G)+SUMIF(Mapping!$D:$D,$N19,Mapping!G:G)+SUMIF(Mapping!$B:$B,'Data BG'!$K19,Mapping!G:G)+SUMIF(Mapping!$C:$C,'Data BG'!$K19,Mapping!G:G)+SUMIF(Mapping!$D:$D,'Data BG'!$K19,Mapping!G:G)+SUMIF(Mapping!$B:$B,'Data BG'!$L19,Mapping!G:G)+SUMIF(Mapping!$C:$C,'Data BG'!$L19,Mapping!G:G)+SUMIF(Mapping!$D:$D,'Data BG'!$L19,Mapping!G:G)","v":0},{"$f":"SUMIF(Mapping!$B:$B,'Data BG'!$A19,Mapping!H:H)+SUMIF(Mapping!$C:$C,'Data BG'!$A19,Mapping!H:H)+SUMIF(Mapping!$D:$D,'Data BG'!$A19,Mapping!H:H)+SUMIF(Mapping!$B:$B,'Data BG'!$B19,Mapping!H:H)+SUMIF(Mapping!$C:$C,'Data BG'!$B19,Mapping!H:H)+SUMIF(Mapping!$D:$D,'Data BG'!$B19,Mapping!H:H)+SUMIF(Mapping!$B:$B,'Data BG'!$C19,Mapping!H:H)+SUMIF(Mapping!$C:$C,'Data BG'!$C19,Mapping!H:H)+SUMIF(Mapping!$D:$D,'Data BG'!$C19,Mapping!H:H)+SUMIF(Mapping!$B:$B,'Data BG'!$D19,Mapping!H:H)+SUMIF(Mapping!$C:$C,'Data BG'!$D19,Mapping!H:H)+SUMIF(Mapping!$D:$D,'Data BG'!$D19,Mapping!H:H)+SUMIF(Mapping!$B:$B,'Data BG'!$E19,Mapping!H:H)+SUMIF(Mapping!$C:$C,'Data BG'!$E19,Mapping!H:H)+SUMIF(Mapping!$D:$D,'Data BG'!$E19,Mapping!H:H)+SUMIF(Mapping!$B:$B,'Data BG'!$F19,Mapping!H:H)+SUMIF(Mapping!$C:$C,'Data BG'!$F19,Mapping!H:H)+SUMIF(Mapping!$D:$D,'Data BG'!$F19,Mapping!H:H)+SUMIF(Mapping!$B:$B,'Data BG'!$G19,Mapping!H:H)+SUMIF(Mapping!$C:$C,'Data BG'!$G19,Mapping!H:H)+SUMIF(Mapping!$D:$D,'Data BG'!$G19,Mapping!H:H)+SUMIF(Mapping!$B:$B,'Data BG'!$H19,Mapping!H:H)+SUMIF(Mapping!$C:$C,'Data BG'!$H19,Mapping!H:H)+SUMIF(Mapping!$D:$D,'Data BG'!$H19,Mapping!H:H)+SUMIF(Mapping!$B:$B,'Data BG'!$I19,Mapping!H:H)+SUMIF(Mapping!$C:$C,'Data BG'!$I19,Mapping!H:H)+SUMIF(Mapping!$D:$D,'Data BG'!$I19,Mapping!H:H)+SUMIF(Mapping!$B:$B,'Data BG'!$J19,Mapping!H:H)+SUMIF(Mapping!$C:$C,'Data BG'!$J19,Mapping!H:H)+SUMIF(Mapping!$D:$D,'Data BG'!$J19,Mapping!H:H)+SUMIF(Mapping!$B:$B,'Data BG'!$M19,Mapping!H:H)+SUMIF(Mapping!$C:$C,'Data BG'!$M19,Mapping!H:H)+SUMIF(Mapping!$D:$D,'Data BG'!$M19,Mapping!H:H)+SUMIF(Mapping!$B:$B,$N19,Mapping!H:H)+SUMIF(Mapping!$C:$C,$N19,Mapping!H:H)+SUMIF(Mapping!$D:$D,$N19,Mapping!H:H)+SUMIF(Mapping!$B:$B,'Data BG'!$K19,Mapping!H:H)+SUMIF(Mapping!$C:$C,'Data BG'!$K19,Mapping!H:H)+SUMIF(Mapping!$D:$D,'Data BG'!$K19,Mapping!H:H)+SUMIF(Mapping!$B:$B,'Data BG'!$L19,Mapping!H:H)+SUMIF(Mapping!$C:$C,'Data BG'!$L19,Mapping!H:H)+SUMIF(Mapping!$D:$D,'Data BG'!$L19,Mapping!H:H)","v":0}]
[2742,null,null,null,null,null,null,null,null,null,null,null,null,null,null,null,null,"Prêts aux candidats ",{"$f":"SUMIF(Mapping!$B:$B,'Data BG'!$A20,Mapping!G:G)+SUMIF(Mapping!$C:$C,'Data BG'!$A20,Mapping!G:G)+SUMIF(Mapping!$D:$D,'Data BG'!$A20,Mapping!G:G)+SUMIF(Mapping!$B:$B,'Data BG'!$B20,Mapping!G:G)+SUMIF(Mapping!$C:$C,'Data BG'!$B20,Mapping!G:G)+SUMIF(Mapping!$D:$D,'Data BG'!$B20,Mapping!G:G)+SUMIF(Mapping!$B:$B,'Data BG'!$C20,Mapping!G:G)+SUMIF(Mapping!$C:$C,'Data BG'!$C20,Mapping!G:G)+SUMIF(Mapping!$D:$D,'Data BG'!$C20,Mapping!G:G)+SUMIF(Mapping!$B:$B,'Data BG'!$D20,Mapping!G:G)+SUMIF(Mapping!$C:$C,'Data BG'!$D20,Mapping!G:G)+SUMIF(Mapping!$D:$D,'Data BG'!$D20,Mapping!G:G)+SUMIF(Mapping!$B:$B,'Data BG'!$E20,Mapping!G:G)+SUMIF(Mapping!$C:$C,'Data BG'!$E20,Mapping!G:G)+SUMIF(Mapping!$D:$D,'Data BG'!$E20,Mapping!G:G)+SUMIF(Mapping!$B:$B,'Data BG'!$F20,Mapping!G:G)+SUMIF(Mapping!$C:$C,'Data BG'!$F20,Mapping!G:G)+SUMIF(Mapping!$D:$D,'Data BG'!$F20,Mapping!G:G)+SUMIF(Mapping!$B:$B,'Data BG'!$G20,Mapping!G:G)+SUMIF(Mapping!$C:$C,'Data BG'!$G20,Mapping!G:G)+SUMIF(Mapping!$D:$D,'Data BG'!$G20,Mapping!G:G)+SUMIF(Mapping!$B:$B,'Data BG'!$H20,Mapping!G:G)+SUMIF(Mapping!$C:$C,'Data BG'!$H20,Mapping!G:G)+SUMIF(Mapping!$D:$D,'Data BG'!$H20,Mapping!G:G)+SUMIF(Mapping!$B:$B,'Data BG'!$I20,Mapping!G:G)+SUMIF(Mapping!$C:$C,'Data BG'!$I20,Mapping!G:G)+SUMIF(Mapping!$D:$D,'Data BG'!$I20,Mapping!G:G)+SUMIF(Mapping!$B:$B,'Data BG'!$J20,Mapping!G:G)+SUMIF(Mapping!$C:$C,'Data BG'!$J20,Mapping!G:G)+SUMIF(Mapping!$D:$D,'Data BG'!$J20,Mapping!G:G)+SUMIF(Mapping!$B:$B,'Data BG'!$M20,Mapping!G:G)+SUMIF(Mapping!$C:$C,'Data BG'!$M20,Mapping!G:G)+SUMIF(Mapping!$D:$D,'Data BG'!$M20,Mapping!G:G)+SUMIF(Mapping!$B:$B,$N20,Mapping!G:G)+SUMIF(Mapping!$C:$C,$N20,Mapping!G:G)+SUMIF(Mapping!$D:$D,$N20,Mapping!G:G)+SUMIF(Mapping!$B:$B,'Data BG'!$K20,Mapping!G:G)+SUMIF(Mapping!$C:$C,'Data BG'!$K20,Mapping!G:G)+SUMIF(Mapping!$D:$D,'Data BG'!$K20,Mapping!G:G)+SUMIF(Mapping!$B:$B,'Data BG'!$L20,Mapping!G:G)+SUMIF(Mapping!$C:$C,'Data BG'!$L20,Mapping!G:G)+SUMIF(Mapping!$D:$D,'Data BG'!$L20,Mapping!G:G)","v":0},{"$f":"SUMIF(Mapping!$B:$B,'Data BG'!$A20,Mapping!H:H)+SUMIF(Mapping!$C:$C,'Data BG'!$A20,Mapping!H:H)+SUMIF(Mapping!$D:$D,'Data BG'!$A20,Mapping!H:H)+SUMIF(Mapping!$B:$B,'Data BG'!$B20,Mapping!H:H)+SUMIF(Mapping!$C:$C,'Data BG'!$B20,Mapping!H:H)+SUMIF(Mapping!$D:$D,'Data BG'!$B20,Mapping!H:H)+SUMIF(Mapping!$B:$B,'Data BG'!$C20,Mapping!H:H)+SUMIF(Mapping!$C:$C,'Data BG'!$C20,Mapping!H:H)+SUMIF(Mapping!$D:$D,'Data BG'!$C20,Mapping!H:H)+SUMIF(Mapping!$B:$B,'Data BG'!$D20,Mapping!H:H)+SUMIF(Mapping!$C:$C,'Data BG'!$D20,Mapping!H:H)+SUMIF(Mapping!$D:$D,'Data BG'!$D20,Mapping!H:H)+SUMIF(Mapping!$B:$B,'Data BG'!$E20,Mapping!H:H)+SUMIF(Mapping!$C:$C,'Data BG'!$E20,Mapping!H:H)+SUMIF(Mapping!$D:$D,'Data BG'!$E20,Mapping!H:H)+SUMIF(Mapping!$B:$B,'Data BG'!$F20,Mapping!H:H)+SUMIF(Mapping!$C:$C,'Data BG'!$F20,Mapping!H:H)+SUMIF(Mapping!$D:$D,'Data BG'!$F20,Mapping!H:H)+SUMIF(Mapping!$B:$B,'Data BG'!$G20,Mapping!H:H)+SUMIF(Mapping!$C:$C,'Data BG'!$G20,Mapping!H:H)+SUMIF(Mapping!$D:$D,'Data BG'!$G20,Mapping!H:H)+SUMIF(Mapping!$B:$B,'Data BG'!$H20,Mapping!H:H)+SUMIF(Mapping!$C:$C,'Data BG'!$H20,Mapping!H:H)+SUMIF(Mapping!$D:$D,'Data BG'!$H20,Mapping!H:H)+SUMIF(Mapping!$B:$B,'Data BG'!$I20,Mapping!H:H)+SUMIF(Mapping!$C:$C,'Data BG'!$I20,Mapping!H:H)+SUMIF(Mapping!$D:$D,'Data BG'!$I20,Mapping!H:H)+SUMIF(Mapping!$B:$B,'Data BG'!$J20,Mapping!H:H)+SUMIF(Mapping!$C:$C,'Data BG'!$J20,Mapping!H:H)+SUMIF(Mapping!$D:$D,'Data BG'!$J20,Mapping!H:H)+SUMIF(Mapping!$B:$B,'Data BG'!$M20,Mapping!H:H)+SUMIF(Mapping!$C:$C,'Data BG'!$M20,Mapping!H:H)+SUMIF(Mapping!$D:$D,'Data BG'!$M20,Mapping!H:H)+SUMIF(Mapping!$B:$B,$N20,Mapping!H:H)+SUMIF(Mapping!$C:$C,$N20,Mapping!H:H)+SUMIF(Mapping!$D:$D,$N20,Mapping!H:H)+SUMIF(Mapping!$B:$B,'Data BG'!$K20,Mapping!H:H)+SUMIF(Mapping!$C:$C,'Data BG'!$K20,Mapping!H:H)+SUMIF(Mapping!$D:$D,'Data BG'!$K20,Mapping!H:H)+SUMIF(Mapping!$B:$B,'Data BG'!$L20,Mapping!H:H)+SUMIF(Mapping!$C:$C,'Data BG'!$L20,Mapping!H:H)+SUMIF(Mapping!$D:$D,'Data BG'!$L20,Mapping!H:H)","v":0}]
[29742,null,null,null,null,null,null,null,null,null,null,null,null,null,null,null,null,"Dépréc. Prêts aux candidats ",{"$f":"SUMIF(Mapping!$B:$B,'Data BG'!$A21,Mapping!G:G)+SUMIF(Mapping!$C:$C,'Data BG'!$A21,Mapping!G:G)+SUMIF(Mapping!$D:$D,'Data BG'!$A21,Mapping!G:G)+SUMIF(Mapping!$B:$B,'Data BG'!$B21,Mapping!G:G)+SUMIF(Mapping!$C:$C,'Data BG'!$B21,Mapping!G:G)+SUMIF(Mapping!$D:$D,'Data BG'!$B21,Mapping!G:G)+SUMIF(Mapping!$B:$B,'Data BG'!$C21,Mapping!G:G)+SUMIF(Mapping!$C:$C,'Data BG'!$C21,Mapping!G:G)+SUMIF(Mapping!$D:$D,'Data BG'!$C21,Mapping!G:G)+SUMIF(Mapping!$B:$B,'Data BG'!$D21,Mapping!G:G)+SUMIF(Mapping!$C:$C,'Data BG'!$D21,Mapping!G:G)+SUMIF(Mapping!$D:$D,'Data BG'!$D21,Mapping!G:G)+SUMIF(Mapping!$B:$B,'Data BG'!$E21,Mapping!G:G)+SUMIF(Mapping!$C:$C,'Data BG'!$E21,Mapping!G:G)+SUMIF(Mapping!$D:$D,'Data BG'!$E21,Mapping!G:G)+SUMIF(Mapping!$B:$B,'Data BG'!$F21,Mapping!G:G)+SUMIF(Mapping!$C:$C,'Data BG'!$F21,Mapping!G:G)+SUMIF(Mapping!$D:$D,'Data BG'!$F21,Mapping!G:G)+SUMIF(Mapping!$B:$B,'Data BG'!$G21,Mapping!G:G)+SUMIF(Mapping!$C:$C,'Data BG'!$G21,Mapping!G:G)+SUMIF(Mapping!$D:$D,'Data BG'!$G21,Mapping!G:G)+SUMIF(Mapping!$B:$B,'Data BG'!$H21,Mapping!G:G)+SUMIF(Mapping!$C:$C,'Data BG'!$H21,Mapping!G:G)+SUMIF(Mapping!$D:$D,'Data BG'!$H21,Mapping!G:G)+SUMIF(Mapping!$B:$B,'Data BG'!$I21,Mapping!G:G)+SUMIF(Mapping!$C:$C,'Data BG'!$I21,Mapping!G:G)+SUMIF(Mapping!$D:$D,'Data BG'!$I21,Mapping!G:G)+SUMIF(Mapping!$B:$B,'Data BG'!$J21,Mapping!G:G)+SUMIF(Mapping!$C:$C,'Data BG'!$J21,Mapping!G:G)+SUMIF(Mapping!$D:$D,'Data BG'!$J21,Mapping!G:G)+SUMIF(Mapping!$B:$B,'Data BG'!$M21,Mapping!G:G)+SUMIF(Mapping!$C:$C,'Data BG'!$M21,Mapping!G:G)+SUMIF(Mapping!$D:$D,'Data BG'!$M21,Mapping!G:G)+SUMIF(Mapping!$B:$B,$N21,Mapping!G:G)+SUMIF(Mapping!$C:$C,$N21,Mapping!G:G)+SUMIF(Mapping!$D:$D,$N21,Mapping!G:G)+SUMIF(Mapping!$B:$B,'Data BG'!$K21,Mapping!G:G)+SUMIF(Mapping!$C:$C,'Data BG'!$K21,Mapping!G:G)+SUMIF(Mapping!$D:$D,'Data BG'!$K21,Mapping!G:G)+SUMIF(Mapping!$B:$B,'Data BG'!$L21,Mapping!G:G)+SUMIF(Mapping!$C:$C,'Data BG'!$L21,Mapping!G:G)+SUMIF(Mapping!$D:$D,'Data BG'!$L21,Mapping!G:G)","v":0},{"$f":"SUMIF(Mapping!$B:$B,'Data BG'!$A21,Mapping!H:H)+SUMIF(Mapping!$C:$C,'Data BG'!$A21,Mapping!H:H)+SUMIF(Mapping!$D:$D,'Data BG'!$A21,Mapping!H:H)+SUMIF(Mapping!$B:$B,'Data BG'!$B21,Mapping!H:H)+SUMIF(Mapping!$C:$C,'Data BG'!$B21,Mapping!H:H)+SUMIF(Mapping!$D:$D,'Data BG'!$B21,Mapping!H:H)+SUMIF(Mapping!$B:$B,'Data BG'!$C21,Mapping!H:H)+SUMIF(Mapping!$C:$C,'Data BG'!$C21,Mapping!H:H)+SUMIF(Mapping!$D:$D,'Data BG'!$C21,Mapping!H:H)+SUMIF(Mapping!$B:$B,'Data BG'!$D21,Mapping!H:H)+SUMIF(Mapping!$C:$C,'Data BG'!$D21,Mapping!H:H)+SUMIF(Mapping!$D:$D,'Data BG'!$D21,Mapping!H:H)+SUMIF(Mapping!$B:$B,'Data BG'!$E21,Mapping!H:H)+SUMIF(Mapping!$C:$C,'Data BG'!$E21,Mapping!H:H)+SUMIF(Mapping!$D:$D,'Data BG'!$E21,Mapping!H:H)+SUMIF(Mapping!$B:$B,'Data BG'!$F21,Mapping!H:H)+SUMIF(Mapping!$C:$C,'Data BG'!$F21,Mapping!H:H)+SUMIF(Mapping!$D:$D,'Data BG'!$F21,Mapping!H:H)+SUMIF(Mapping!$B:$B,'Data BG'!$G21,Mapping!H:H)+SUMIF(Mapping!$C:$C,'Data BG'!$G21,Mapping!H:H)+SUMIF(Mapping!$D:$D,'Data BG'!$G21,Mapping!H:H)+SUMIF(Mapping!$B:$B,'Data BG'!$H21,Mapping!H:H)+SUMIF(Mapping!$C:$C,'Data BG'!$H21,Mapping!H:H)+SUMIF(Mapping!$D:$D,'Data BG'!$H21,Mapping!H:H)+SUMIF(Mapping!$B:$B,'Data BG'!$I21,Mapping!H:H)+SUMIF(Mapping!$C:$C,'Data BG'!$I21,Mapping!H:H)+SUMIF(Mapping!$D:$D,'Data BG'!$I21,Mapping!H:H)+SUMIF(Mapping!$B:$B,'Data BG'!$J21,Mapping!H:H)+SUMIF(Mapping!$C:$C,'Data BG'!$J21,Mapping!H:H)+SUMIF(Mapping!$D:$D,'Data BG'!$J21,Mapping!H:H)+SUMIF(Mapping!$B:$B,'Data BG'!$M21,Mapping!H:H)+SUMIF(Mapping!$C:$C,'Data BG'!$M21,Mapping!H:H)+SUMIF(Mapping!$D:$D,'Data BG'!$M21,Mapping!H:H)+SUMIF(Mapping!$B:$B,$N21,Mapping!H:H)+SUMIF(Mapping!$C:$C,$N21,Mapping!H:H)+SUMIF(Mapping!$D:$D,$N21,Mapping!H:H)+SUMIF(Mapping!$B:$B,'Data BG'!$K21,Mapping!H:H)+SUMIF(Mapping!$C:$C,'Data BG'!$K21,Mapping!H:H)+SUMIF(Mapping!$D:$D,'Data BG'!$K21,Mapping!H:H)+SUMIF(Mapping!$B:$B,'Data BG'!$L21,Mapping!H:H)+SUMIF(Mapping!$C:$C,'Data BG'!$L21,Mapping!H:H)+SUMIF(Mapping!$D:$D,'Data BG'!$L21,Mapping!H:H)","v":0}]
[2743,null,null,null,null,null,null,null,null,null,null,null,null,null,null,null,null,"Prêts aux organisations territoriales ou spécialisées du parti ",{"$f":"SUMIF(Mapping!$B:$B,'Data BG'!$A22,Mapping!G:G)+SUMIF(Mapping!$C:$C,'Data BG'!$A22,Mapping!G:G)+SUMIF(Mapping!$D:$D,'Data BG'!$A22,Mapping!G:G)+SUMIF(Mapping!$B:$B,'Data BG'!$B22,Mapping!G:G)+SUMIF(Mapping!$C:$C,'Data BG'!$B22,Mapping!G:G)+SUMIF(Mapping!$D:$D,'Data BG'!$B22,Mapping!G:G)+SUMIF(Mapping!$B:$B,'Data BG'!$C22,Mapping!G:G)+SUMIF(Mapping!$C:$C,'Data BG'!$C22,Mapping!G:G)+SUMIF(Mapping!$D:$D,'Data BG'!$C22,Mapping!G:G)+SUMIF(Mapping!$B:$B,'Data BG'!$D22,Mapping!G:G)+SUMIF(Mapping!$C:$C,'Data BG'!$D22,Mapping!G:G)+SUMIF(Mapping!$D:$D,'Data BG'!$D22,Mapping!G:G)+SUMIF(Mapping!$B:$B,'Data BG'!$E22,Mapping!G:G)+SUMIF(Mapping!$C:$C,'Data BG'!$E22,Mapping!G:G)+SUMIF(Mapping!$D:$D,'Data BG'!$E22,Mapping!G:G)+SUMIF(Mapping!$B:$B,'Data BG'!$F22,Mapping!G:G)+SUMIF(Mapping!$C:$C,'Data BG'!$F22,Mapping!G:G)+SUMIF(Mapping!$D:$D,'Data BG'!$F22,Mapping!G:G)+SUMIF(Mapping!$B:$B,'Data BG'!$G22,Mapping!G:G)+SUMIF(Mapping!$C:$C,'Data BG'!$G22,Mapping!G:G)+SUMIF(Mapping!$D:$D,'Data BG'!$G22,Mapping!G:G)+SUMIF(Mapping!$B:$B,'Data BG'!$H22,Mapping!G:G)+SUMIF(Mapping!$C:$C,'Data BG'!$H22,Mapping!G:G)+SUMIF(Mapping!$D:$D,'Data BG'!$H22,Mapping!G:G)+SUMIF(Mapping!$B:$B,'Data BG'!$I22,Mapping!G:G)+SUMIF(Mapping!$C:$C,'Data BG'!$I22,Mapping!G:G)+SUMIF(Mapping!$D:$D,'Data BG'!$I22,Mapping!G:G)+SUMIF(Mapping!$B:$B,'Data BG'!$J22,Mapping!G:G)+SUMIF(Mapping!$C:$C,'Data BG'!$J22,Mapping!G:G)+SUMIF(Mapping!$D:$D,'Data BG'!$J22,Mapping!G:G)+SUMIF(Mapping!$B:$B,'Data BG'!$M22,Mapping!G:G)+SUMIF(Mapping!$C:$C,'Data BG'!$M22,Mapping!G:G)+SUMIF(Mapping!$D:$D,'Data BG'!$M22,Mapping!G:G)+SUMIF(Mapping!$B:$B,$N22,Mapping!G:G)+SUMIF(Mapping!$C:$C,$N22,Mapping!G:G)+SUMIF(Mapping!$D:$D,$N22,Mapping!G:G)+SUMIF(Mapping!$B:$B,'Data BG'!$K22,Mapping!G:G)+SUMIF(Mapping!$C:$C,'Data BG'!$K22,Mapping!G:G)+SUMIF(Mapping!$D:$D,'Data BG'!$K22,Mapping!G:G)+SUMIF(Mapping!$B:$B,'Data BG'!$L22,Mapping!G:G)+SUMIF(Mapping!$C:$C,'Data BG'!$L22,Mapping!G:G)+SUMIF(Mapping!$D:$D,'Data BG'!$L22,Mapping!G:G)","v":0},{"$f":"SUMIF(Mapping!$B:$B,'Data BG'!$A22,Mapping!H:H)+SUMIF(Mapping!$C:$C,'Data BG'!$A22,Mapping!H:H)+SUMIF(Mapping!$D:$D,'Data BG'!$A22,Mapping!H:H)+SUMIF(Mapping!$B:$B,'Data BG'!$B22,Mapping!H:H)+SUMIF(Mapping!$C:$C,'Data BG'!$B22,Mapping!H:H)+SUMIF(Mapping!$D:$D,'Data BG'!$B22,Mapping!H:H)+SUMIF(Mapping!$B:$B,'Data BG'!$C22,Mapping!H:H)+SUMIF(Mapping!$C:$C,'Data BG'!$C22,Mapping!H:H)+SUMIF(Mapping!$D:$D,'Data BG'!$C22,Mapping!H:H)+SUMIF(Mapping!$B:$B,'Data BG'!$D22,Mapping!H:H)+SUMIF(Mapping!$C:$C,'Data BG'!$D22,Mapping!H:H)+SUMIF(Mapping!$D:$D,'Data BG'!$D22,Mapping!H:H)+SUMIF(Mapping!$B:$B,'Data BG'!$E22,Mapping!H:H)+SUMIF(Mapping!$C:$C,'Data BG'!$E22,Mapping!H:H)+SUMIF(Mapping!$D:$D,'Data BG'!$E22,Mapping!H:H)+SUMIF(Mapping!$B:$B,'Data BG'!$F22,Mapping!H:H)+SUMIF(Mapping!$C:$C,'Data BG'!$F22,Mapping!H:H)+SUMIF(Mapping!$D:$D,'Data BG'!$F22,Mapping!H:H)+SUMIF(Mapping!$B:$B,'Data BG'!$G22,Mapping!H:H)+SUMIF(Mapping!$C:$C,'Data BG'!$G22,Mapping!H:H)+SUMIF(Mapping!$D:$D,'Data BG'!$G22,Mapping!H:H)+SUMIF(Mapping!$B:$B,'Data BG'!$H22,Mapping!H:H)+SUMIF(Mapping!$C:$C,'Data BG'!$H22,Mapping!H:H)+SUMIF(Mapping!$D:$D,'Data BG'!$H22,Mapping!H:H)+SUMIF(Mapping!$B:$B,'Data BG'!$I22,Mapping!H:H)+SUMIF(Mapping!$C:$C,'Data BG'!$I22,Mapping!H:H)+SUMIF(Mapping!$D:$D,'Data BG'!$I22,Mapping!H:H)+SUMIF(Mapping!$B:$B,'Data BG'!$J22,Mapping!H:H)+SUMIF(Mapping!$C:$C,'Data BG'!$J22,Mapping!H:H)+SUMIF(Mapping!$D:$D,'Data BG'!$J22,Mapping!H:H)+SUMIF(Mapping!$B:$B,'Data BG'!$M22,Mapping!H:H)+SUMIF(Mapping!$C:$C,'Data BG'!$M22,Mapping!H:H)+SUMIF(Mapping!$D:$D,'Data BG'!$M22,Mapping!H:H)+SUMIF(Mapping!$B:$B,$N22,Mapping!H:H)+SUMIF(Mapping!$C:$C,$N22,Mapping!H:H)+SUMIF(Mapping!$D:$D,$N22,Mapping!H:H)+SUMIF(Mapping!$B:$B,'Data BG'!$K22,Mapping!H:H)+SUMIF(Mapping!$C:$C,'Data BG'!$K22,Mapping!H:H)+SUMIF(Mapping!$D:$D,'Data BG'!$K22,Mapping!H:H)+SUMIF(Mapping!$B:$B,'Data BG'!$L22,Mapping!H:H)+SUMIF(Mapping!$C:$C,'Data BG'!$L22,Mapping!H:H)+SUMIF(Mapping!$D:$D,'Data BG'!$L22,Mapping!H:H)","v":0}]
[29743,null,null,null,null,null,null,null,null,null,null,null,null,null,null,null,null,"Dépréc. Prêts aux organisations territoriales ou spécialisées du parti ",{"$f":"SUMIF(Mapping!$B:$B,'Data BG'!$A23,Mapping!G:G)+SUMIF(Mapping!$C:$C,'Data BG'!$A23,Mapping!G:G)+SUMIF(Mapping!$D:$D,'Data BG'!$A23,Mapping!G:G)+SUMIF(Mapping!$B:$B,'Data BG'!$B23,Mapping!G:G)+SUMIF(Mapping!$C:$C,'Data BG'!$B23,Mapping!G:G)+SUMIF(Mapping!$D:$D,'Data BG'!$B23,Mapping!G:G)+SUMIF(Mapping!$B:$B,'Data BG'!$C23,Mapping!G:G)+SUMIF(Mapping!$C:$C,'Data BG'!$C23,Mapping!G:G)+SUMIF(Mapping!$D:$D,'Data BG'!$C23,Mapping!G:G)+SUMIF(Mapping!$B:$B,'Data BG'!$D23,Mapping!G:G)+SUMIF(Mapping!$C:$C,'Data BG'!$D23,Mapping!G:G)+SUMIF(Mapping!$D:$D,'Data BG'!$D23,Mapping!G:G)+SUMIF(Mapping!$B:$B,'Data BG'!$E23,Mapping!G:G)+SUMIF(Mapping!$C:$C,'Data BG'!$E23,Mapping!G:G)+SUMIF(Mapping!$D:$D,'Data BG'!$E23,Mapping!G:G)+SUMIF(Mapping!$B:$B,'Data BG'!$F23,Mapping!G:G)+SUMIF(Mapping!$C:$C,'Data BG'!$F23,Mapping!G:G)+SUMIF(Mapping!$D:$D,'Data BG'!$F23,Mapping!G:G)+SUMIF(Mapping!$B:$B,'Data BG'!$G23,Mapping!G:G)+SUMIF(Mapping!$C:$C,'Data BG'!$G23,Mapping!G:G)+SUMIF(Mapping!$D:$D,'Data BG'!$G23,Mapping!G:G)+SUMIF(Mapping!$B:$B,'Data BG'!$H23,Mapping!G:G)+SUMIF(Mapping!$C:$C,'Data BG'!$H23,Mapping!G:G)+SUMIF(Mapping!$D:$D,'Data BG'!$H23,Mapping!G:G)+SUMIF(Mapping!$B:$B,'Data BG'!$I23,Mapping!G:G)+SUMIF(Mapping!$C:$C,'Data BG'!$I23,Mapping!G:G)+SUMIF(Mapping!$D:$D,'Data BG'!$I23,Mapping!G:G)+SUMIF(Mapping!$B:$B,'Data BG'!$J23,Mapping!G:G)+SUMIF(Mapping!$C:$C,'Data BG'!$J23,Mapping!G:G)+SUMIF(Mapping!$D:$D,'Data BG'!$J23,Mapping!G:G)+SUMIF(Mapping!$B:$B,'Data BG'!$M23,Mapping!G:G)+SUMIF(Mapping!$C:$C,'Data BG'!$M23,Mapping!G:G)+SUMIF(Mapping!$D:$D,'Data BG'!$M23,Mapping!G:G)+SUMIF(Mapping!$B:$B,$N23,Mapping!G:G)+SUMIF(Mapping!$C:$C,$N23,Mapping!G:G)+SUMIF(Mapping!$D:$D,$N23,Mapping!G:G)+SUMIF(Mapping!$B:$B,'Data BG'!$K23,Mapping!G:G)+SUMIF(Mapping!$C:$C,'Data BG'!$K23,Mapping!G:G)+SUMIF(Mapping!$D:$D,'Data BG'!$K23,Mapping!G:G)+SUMIF(Mapping!$B:$B,'Data BG'!$L23,Mapping!G:G)+SUMIF(Mapping!$C:$C,'Data BG'!$L23,Mapping!G:G)+SUMIF(Mapping!$D:$D,'Data BG'!$L23,Mapping!G:G)","v":0},{"$f":"SUMIF(Mapping!$B:$B,'Data BG'!$A23,Mapping!H:H)+SUMIF(Mapping!$C:$C,'Data BG'!$A23,Mapping!H:H)+SUMIF(Mapping!$D:$D,'Data BG'!$A23,Mapping!H:H)+SUMIF(Mapping!$B:$B,'Data BG'!$B23,Mapping!H:H)+SUMIF(Mapping!$C:$C,'Data BG'!$B23,Mapping!H:H)+SUMIF(Mapping!$D:$D,'Data BG'!$B23,Mapping!H:H)+SUMIF(Mapping!$B:$B,'Data BG'!$C23,Mapping!H:H)+SUMIF(Mapping!$C:$C,'Data BG'!$C23,Mapping!H:H)+SUMIF(Mapping!$D:$D,'Data BG'!$C23,Mapping!H:H)+SUMIF(Mapping!$B:$B,'Data BG'!$D23,Mapping!H:H)+SUMIF(Mapping!$C:$C,'Data BG'!$D23,Mapping!H:H)+SUMIF(Mapping!$D:$D,'Data BG'!$D23,Mapping!H:H)+SUMIF(Mapping!$B:$B,'Data BG'!$E23,Mapping!H:H)+SUMIF(Mapping!$C:$C,'Data BG'!$E23,Mapping!H:H)+SUMIF(Mapping!$D:$D,'Data BG'!$E23,Mapping!H:H)+SUMIF(Mapping!$B:$B,'Data BG'!$F23,Mapping!H:H)+SUMIF(Mapping!$C:$C,'Data BG'!$F23,Mapping!H:H)+SUMIF(Mapping!$D:$D,'Data BG'!$F23,Mapping!H:H)+SUMIF(Mapping!$B:$B,'Data BG'!$G23,Mapping!H:H)+SUMIF(Mapping!$C:$C,'Data BG'!$G23,Mapping!H:H)+SUMIF(Mapping!$D:$D,'Data BG'!$G23,Mapping!H:H)+SUMIF(Mapping!$B:$B,'Data BG'!$H23,Mapping!H:H)+SUMIF(Mapping!$C:$C,'Data BG'!$H23,Mapping!H:H)+SUMIF(Mapping!$D:$D,'Data BG'!$H23,Mapping!H:H)+SUMIF(Mapping!$B:$B,'Data BG'!$I23,Mapping!H:H)+SUMIF(Mapping!$C:$C,'Data BG'!$I23,Mapping!H:H)+SUMIF(Mapping!$D:$D,'Data BG'!$I23,Mapping!H:H)+SUMIF(Mapping!$B:$B,'Data BG'!$J23,Mapping!H:H)+SUMIF(Mapping!$C:$C,'Data BG'!$J23,Mapping!H:H)+SUMIF(Mapping!$D:$D,'Data BG'!$J23,Mapping!H:H)+SUMIF(Mapping!$B:$B,'Data BG'!$M23,Mapping!H:H)+SUMIF(Mapping!$C:$C,'Data BG'!$M23,Mapping!H:H)+SUMIF(Mapping!$D:$D,'Data BG'!$M23,Mapping!H:H)+SUMIF(Mapping!$B:$B,$N23,Mapping!H:H)+SUMIF(Mapping!$C:$C,$N23,Mapping!H:H)+SUMIF(Mapping!$D:$D,$N23,Mapping!H:H)+SUMIF(Mapping!$B:$B,'Data BG'!$K23,Mapping!H:H)+SUMIF(Mapping!$C:$C,'Data BG'!$K23,Mapping!H:H)+SUMIF(Mapping!$D:$D,'Data BG'!$K23,Mapping!H:H)+SUMIF(Mapping!$B:$B,'Data BG'!$L23,Mapping!H:H)+SUMIF(Mapping!$C:$C,'Data BG'!$L23,Mapping!H:H)+SUMIF(Mapping!$D:$D,'Data BG'!$L23,Mapping!H:H)","v":0}]
[2744,null,null,null,null,null,null,null,null,null,null,null,null,null,null,null,null,"Prêts à d'autres organismes ",{"$f":"SUMIF(Mapping!$B:$B,'Data BG'!$A24,Mapping!G:G)+SUMIF(Mapping!$C:$C,'Data BG'!$A24,Mapping!G:G)+SUMIF(Mapping!$D:$D,'Data BG'!$A24,Mapping!G:G)+SUMIF(Mapping!$B:$B,'Data BG'!$B24,Mapping!G:G)+SUMIF(Mapping!$C:$C,'Data BG'!$B24,Mapping!G:G)+SUMIF(Mapping!$D:$D,'Data BG'!$B24,Mapping!G:G)+SUMIF(Mapping!$B:$B,'Data BG'!$C24,Mapping!G:G)+SUMIF(Mapping!$C:$C,'Data BG'!$C24,Mapping!G:G)+SUMIF(Mapping!$D:$D,'Data BG'!$C24,Mapping!G:G)+SUMIF(Mapping!$B:$B,'Data BG'!$D24,Mapping!G:G)+SUMIF(Mapping!$C:$C,'Data BG'!$D24,Mapping!G:G)+SUMIF(Mapping!$D:$D,'Data BG'!$D24,Mapping!G:G)+SUMIF(Mapping!$B:$B,'Data BG'!$E24,Mapping!G:G)+SUMIF(Mapping!$C:$C,'Data BG'!$E24,Mapping!G:G)+SUMIF(Mapping!$D:$D,'Data BG'!$E24,Mapping!G:G)+SUMIF(Mapping!$B:$B,'Data BG'!$F24,Mapping!G:G)+SUMIF(Mapping!$C:$C,'Data BG'!$F24,Mapping!G:G)+SUMIF(Mapping!$D:$D,'Data BG'!$F24,Mapping!G:G)+SUMIF(Mapping!$B:$B,'Data BG'!$G24,Mapping!G:G)+SUMIF(Mapping!$C:$C,'Data BG'!$G24,Mapping!G:G)+SUMIF(Mapping!$D:$D,'Data BG'!$G24,Mapping!G:G)+SUMIF(Mapping!$B:$B,'Data BG'!$H24,Mapping!G:G)+SUMIF(Mapping!$C:$C,'Data BG'!$H24,Mapping!G:G)+SUMIF(Mapping!$D:$D,'Data BG'!$H24,Mapping!G:G)+SUMIF(Mapping!$B:$B,'Data BG'!$I24,Mapping!G:G)+SUMIF(Mapping!$C:$C,'Data BG'!$I24,Mapping!G:G)+SUMIF(Mapping!$D:$D,'Data BG'!$I24,Mapping!G:G)+SUMIF(Mapping!$B:$B,'Data BG'!$J24,Mapping!G:G)+SUMIF(Mapping!$C:$C,'Data BG'!$J24,Mapping!G:G)+SUMIF(Mapping!$D:$D,'Data BG'!$J24,Mapping!G:G)+SUMIF(Mapping!$B:$B,'Data BG'!$M24,Mapping!G:G)+SUMIF(Mapping!$C:$C,'Data BG'!$M24,Mapping!G:G)+SUMIF(Mapping!$D:$D,'Data BG'!$M24,Mapping!G:G)+SUMIF(Mapping!$B:$B,$N24,Mapping!G:G)+SUMIF(Mapping!$C:$C,$N24,Mapping!G:G)+SUMIF(Mapping!$D:$D,$N24,Mapping!G:G)+SUMIF(Mapping!$B:$B,'Data BG'!$K24,Mapping!G:G)+SUMIF(Mapping!$C:$C,'Data BG'!$K24,Mapping!G:G)+SUMIF(Mapping!$D:$D,'Data BG'!$K24,Mapping!G:G)+SUMIF(Mapping!$B:$B,'Data BG'!$L24,Mapping!G:G)+SUMIF(Mapping!$C:$C,'Data BG'!$L24,Mapping!G:G)+SUMIF(Mapping!$D:$D,'Data BG'!$L24,Mapping!G:G)","v":0},{"$f":"SUMIF(Mapping!$B:$B,'Data BG'!$A24,Mapping!H:H)+SUMIF(Mapping!$C:$C,'Data BG'!$A24,Mapping!H:H)+SUMIF(Mapping!$D:$D,'Data BG'!$A24,Mapping!H:H)+SUMIF(Mapping!$B:$B,'Data BG'!$B24,Mapping!H:H)+SUMIF(Mapping!$C:$C,'Data BG'!$B24,Mapping!H:H)+SUMIF(Mapping!$D:$D,'Data BG'!$B24,Mapping!H:H)+SUMIF(Mapping!$B:$B,'Data BG'!$C24,Mapping!H:H)+SUMIF(Mapping!$C:$C,'Data BG'!$C24,Mapping!H:H)+SUMIF(Mapping!$D:$D,'Data BG'!$C24,Mapping!H:H)+SUMIF(Mapping!$B:$B,'Data BG'!$D24,Mapping!H:H)+SUMIF(Mapping!$C:$C,'Data BG'!$D24,Mapping!H:H)+SUMIF(Mapping!$D:$D,'Data BG'!$D24,Mapping!H:H)+SUMIF(Mapping!$B:$B,'Data BG'!$E24,Mapping!H:H)+SUMIF(Mapping!$C:$C,'Data BG'!$E24,Mapping!H:H)+SUMIF(Mapping!$D:$D,'Data BG'!$E24,Mapping!H:H)+SUMIF(Mapping!$B:$B,'Data BG'!$F24,Mapping!H:H)+SUMIF(Mapping!$C:$C,'Data BG'!$F24,Mapping!H:H)+SUMIF(Mapping!$D:$D,'Data BG'!$F24,Mapping!H:H)+SUMIF(Mapping!$B:$B,'Data BG'!$G24,Mapping!H:H)+SUMIF(Mapping!$C:$C,'Data BG'!$G24,Mapping!H:H)+SUMIF(Mapping!$D:$D,'Data BG'!$G24,Mapping!H:H)+SUMIF(Mapping!$B:$B,'Data BG'!$H24,Mapping!H:H)+SUMIF(Mapping!$C:$C,'Data BG'!$H24,Mapping!H:H)+SUMIF(Mapping!$D:$D,'Data BG'!$H24,Mapping!H:H)+SUMIF(Mapping!$B:$B,'Data BG'!$I24,Mapping!H:H)+SUMIF(Mapping!$C:$C,'Data BG'!$I24,Mapping!H:H)+SUMIF(Mapping!$D:$D,'Data BG'!$I24,Mapping!H:H)+SUMIF(Mapping!$B:$B,'Data BG'!$J24,Mapping!H:H)+SUMIF(Mapping!$C:$C,'Data BG'!$J24,Mapping!H:H)+SUMIF(Mapping!$D:$D,'Data BG'!$J24,Mapping!H:H)+SUMIF(Mapping!$B:$B,'Data BG'!$M24,Mapping!H:H)+SUMIF(Mapping!$C:$C,'Data BG'!$M24,Mapping!H:H)+SUMIF(Mapping!$D:$D,'Data BG'!$M24,Mapping!H:H)+SUMIF(Mapping!$B:$B,$N24,Mapping!H:H)+SUMIF(Mapping!$C:$C,$N24,Mapping!H:H)+SUMIF(Mapping!$D:$D,$N24,Mapping!H:H)+SUMIF(Mapping!$B:$B,'Data BG'!$K24,Mapping!H:H)+SUMIF(Mapping!$C:$C,'Data BG'!$K24,Mapping!H:H)+SUMIF(Mapping!$D:$D,'Data BG'!$K24,Mapping!H:H)+SUMIF(Mapping!$B:$B,'Data BG'!$L24,Mapping!H:H)+SUMIF(Mapping!$C:$C,'Data BG'!$L24,Mapping!H:H)+SUMIF(Mapping!$D:$D,'Data BG'!$L24,Mapping!H:H)","v":0}]
[29744,null,null,null,null,null,null,null,null,null,null,null,null,null,null,null,null,"Dépréc. Prêts à d'autres organismes ",{"$f":"SUMIF(Mapping!$B:$B,'Data BG'!$A25,Mapping!G:G)+SUMIF(Mapping!$C:$C,'Data BG'!$A25,Mapping!G:G)+SUMIF(Mapping!$D:$D,'Data BG'!$A25,Mapping!G:G)+SUMIF(Mapping!$B:$B,'Data BG'!$B25,Mapping!G:G)+SUMIF(Mapping!$C:$C,'Data BG'!$B25,Mapping!G:G)+SUMIF(Mapping!$D:$D,'Data BG'!$B25,Mapping!G:G)+SUMIF(Mapping!$B:$B,'Data BG'!$C25,Mapping!G:G)+SUMIF(Mapping!$C:$C,'Data BG'!$C25,Mapping!G:G)+SUMIF(Mapping!$D:$D,'Data BG'!$C25,Mapping!G:G)+SUMIF(Mapping!$B:$B,'Data BG'!$D25,Mapping!G:G)+SUMIF(Mapping!$C:$C,'Data BG'!$D25,Mapping!G:G)+SUMIF(Mapping!$D:$D,'Data BG'!$D25,Mapping!G:G)+SUMIF(Mapping!$B:$B,'Data BG'!$E25,Mapping!G:G)+SUMIF(Mapping!$C:$C,'Data BG'!$E25,Mapping!G:G)+SUMIF(Mapping!$D:$D,'Data BG'!$E25,Mapping!G:G)+SUMIF(Mapping!$B:$B,'Data BG'!$F25,Mapping!G:G)+SUMIF(Mapping!$C:$C,'Data BG'!$F25,Mapping!G:G)+SUMIF(Mapping!$D:$D,'Data BG'!$F25,Mapping!G:G)+SUMIF(Mapping!$B:$B,'Data BG'!$G25,Mapping!G:G)+SUMIF(Mapping!$C:$C,'Data BG'!$G25,Mapping!G:G)+SUMIF(Mapping!$D:$D,'Data BG'!$G25,Mapping!G:G)+SUMIF(Mapping!$B:$B,'Data BG'!$H25,Mapping!G:G)+SUMIF(Mapping!$C:$C,'Data BG'!$H25,Mapping!G:G)+SUMIF(Mapping!$D:$D,'Data BG'!$H25,Mapping!G:G)+SUMIF(Mapping!$B:$B,'Data BG'!$I25,Mapping!G:G)+SUMIF(Mapping!$C:$C,'Data BG'!$I25,Mapping!G:G)+SUMIF(Mapping!$D:$D,'Data BG'!$I25,Mapping!G:G)+SUMIF(Mapping!$B:$B,'Data BG'!$J25,Mapping!G:G)+SUMIF(Mapping!$C:$C,'Data BG'!$J25,Mapping!G:G)+SUMIF(Mapping!$D:$D,'Data BG'!$J25,Mapping!G:G)+SUMIF(Mapping!$B:$B,'Data BG'!$M25,Mapping!G:G)+SUMIF(Mapping!$C:$C,'Data BG'!$M25,Mapping!G:G)+SUMIF(Mapping!$D:$D,'Data BG'!$M25,Mapping!G:G)+SUMIF(Mapping!$B:$B,$N25,Mapping!G:G)+SUMIF(Mapping!$C:$C,$N25,Mapping!G:G)+SUMIF(Mapping!$D:$D,$N25,Mapping!G:G)+SUMIF(Mapping!$B:$B,'Data BG'!$K25,Mapping!G:G)+SUMIF(Mapping!$C:$C,'Data BG'!$K25,Mapping!G:G)+SUMIF(Mapping!$D:$D,'Data BG'!$K25,Mapping!G:G)+SUMIF(Mapping!$B:$B,'Data BG'!$L25,Mapping!G:G)+SUMIF(Mapping!$C:$C,'Data BG'!$L25,Mapping!G:G)+SUMIF(Mapping!$D:$D,'Data BG'!$L25,Mapping!G:G)","v":0},{"$f":"SUMIF(Mapping!$B:$B,'Data BG'!$A25,Mapping!H:H)+SUMIF(Mapping!$C:$C,'Data BG'!$A25,Mapping!H:H)+SUMIF(Mapping!$D:$D,'Data BG'!$A25,Mapping!H:H)+SUMIF(Mapping!$B:$B,'Data BG'!$B25,Mapping!H:H)+SUMIF(Mapping!$C:$C,'Data BG'!$B25,Mapping!H:H)+SUMIF(Mapping!$D:$D,'Data BG'!$B25,Mapping!H:H)+SUMIF(Mapping!$B:$B,'Data BG'!$C25,Mapping!H:H)+SUMIF(Mapping!$C:$C,'Data BG'!$C25,Mapping!H:H)+SUMIF(Mapping!$D:$D,'Data BG'!$C25,Mapping!H:H)+SUMIF(Mapping!$B:$B,'Data BG'!$D25,Mapping!H:H)+SUMIF(Mapping!$C:$C,'Data BG'!$D25,Mapping!H:H)+SUMIF(Mapping!$D:$D,'Data BG'!$D25,Mapping!H:H)+SUMIF(Mapping!$B:$B,'Data BG'!$E25,Mapping!H:H)+SUMIF(Mapping!$C:$C,'Data BG'!$E25,Mapping!H:H)+SUMIF(Mapping!$D:$D,'Data BG'!$E25,Mapping!H:H)+SUMIF(Mapping!$B:$B,'Data BG'!$F25,Mapping!H:H)+SUMIF(Mapping!$C:$C,'Data BG'!$F25,Mapping!H:H)+SUMIF(Mapping!$D:$D,'Data BG'!$F25,Mapping!H:H)+SUMIF(Mapping!$B:$B,'Data BG'!$G25,Mapping!H:H)+SUMIF(Mapping!$C:$C,'Data BG'!$G25,Mapping!H:H)+SUMIF(Mapping!$D:$D,'Data BG'!$G25,Mapping!H:H)+SUMIF(Mapping!$B:$B,'Data BG'!$H25,Mapping!H:H)+SUMIF(Mapping!$C:$C,'Data BG'!$H25,Mapping!H:H)+SUMIF(Mapping!$D:$D,'Data BG'!$H25,Mapping!H:H)+SUMIF(Mapping!$B:$B,'Data BG'!$I25,Mapping!H:H)+SUMIF(Mapping!$C:$C,'Data BG'!$I25,Mapping!H:H)+SUMIF(Mapping!$D:$D,'Data BG'!$I25,Mapping!H:H)+SUMIF(Mapping!$B:$B,'Data BG'!$J25,Mapping!H:H)+SUMIF(Mapping!$C:$C,'Data BG'!$J25,Mapping!H:H)+SUMIF(Mapping!$D:$D,'Data BG'!$J25,Mapping!H:H)+SUMIF(Mapping!$B:$B,'Data BG'!$M25,Mapping!H:H)+SUMIF(Mapping!$C:$C,'Data BG'!$M25,Mapping!H:H)+SUMIF(Mapping!$D:$D,'Data BG'!$M25,Mapping!H:H)+SUMIF(Mapping!$B:$B,$N25,Mapping!H:H)+SUMIF(Mapping!$C:$C,$N25,Mapping!H:H)+SUMIF(Mapping!$D:$D,$N25,Mapping!H:H)+SUMIF(Mapping!$B:$B,'Data BG'!$K25,Mapping!H:H)+SUMIF(Mapping!$C:$C,'Data BG'!$K25,Mapping!H:H)+SUMIF(Mapping!$D:$D,'Data BG'!$K25,Mapping!H:H)+SUMIF(Mapping!$B:$B,'Data BG'!$L25,Mapping!H:H)+SUMIF(Mapping!$C:$C,'Data BG'!$L25,Mapping!H:H)+SUMIF(Mapping!$D:$D,'Data BG'!$L25,Mapping!H:H)","v":0}]
[2745,2748,null,null,null,null,null,null,null,null,null,null,null,null,null,null,null,"Autres prêts ",{"$f":"SUMIF(Mapping!$B:$B,'Data BG'!$A26,Mapping!G:G)+SUMIF(Mapping!$C:$C,'Data BG'!$A26,Mapping!G:G)+SUMIF(Mapping!$D:$D,'Data BG'!$A26,Mapping!G:G)+SUMIF(Mapping!$B:$B,'Data BG'!$B26,Mapping!G:G)+SUMIF(Mapping!$C:$C,'Data BG'!$B26,Mapping!G:G)+SUMIF(Mapping!$D:$D,'Data BG'!$B26,Mapping!G:G)+SUMIF(Mapping!$B:$B,'Data BG'!$C26,Mapping!G:G)+SUMIF(Mapping!$C:$C,'Data BG'!$C26,Mapping!G:G)+SUMIF(Mapping!$D:$D,'Data BG'!$C26,Mapping!G:G)+SUMIF(Mapping!$B:$B,'Data BG'!$D26,Mapping!G:G)+SUMIF(Mapping!$C:$C,'Data BG'!$D26,Mapping!G:G)+SUMIF(Mapping!$D:$D,'Data BG'!$D26,Mapping!G:G)+SUMIF(Mapping!$B:$B,'Data BG'!$E26,Mapping!G:G)+SUMIF(Mapping!$C:$C,'Data BG'!$E26,Mapping!G:G)+SUMIF(Mapping!$D:$D,'Data BG'!$E26,Mapping!G:G)+SUMIF(Mapping!$B:$B,'Data BG'!$F26,Mapping!G:G)+SUMIF(Mapping!$C:$C,'Data BG'!$F26,Mapping!G:G)+SUMIF(Mapping!$D:$D,'Data BG'!$F26,Mapping!G:G)+SUMIF(Mapping!$B:$B,'Data BG'!$G26,Mapping!G:G)+SUMIF(Mapping!$C:$C,'Data BG'!$G26,Mapping!G:G)+SUMIF(Mapping!$D:$D,'Data BG'!$G26,Mapping!G:G)+SUMIF(Mapping!$B:$B,'Data BG'!$H26,Mapping!G:G)+SUMIF(Mapping!$C:$C,'Data BG'!$H26,Mapping!G:G)+SUMIF(Mapping!$D:$D,'Data BG'!$H26,Mapping!G:G)+SUMIF(Mapping!$B:$B,'Data BG'!$I26,Mapping!G:G)+SUMIF(Mapping!$C:$C,'Data BG'!$I26,Mapping!G:G)+SUMIF(Mapping!$D:$D,'Data BG'!$I26,Mapping!G:G)+SUMIF(Mapping!$B:$B,'Data BG'!$J26,Mapping!G:G)+SUMIF(Mapping!$C:$C,'Data BG'!$J26,Mapping!G:G)+SUMIF(Mapping!$D:$D,'Data BG'!$J26,Mapping!G:G)+SUMIF(Mapping!$B:$B,'Data BG'!$M26,Mapping!G:G)+SUMIF(Mapping!$C:$C,'Data BG'!$M26,Mapping!G:G)+SUMIF(Mapping!$D:$D,'Data BG'!$M26,Mapping!G:G)+SUMIF(Mapping!$B:$B,$N26,Mapping!G:G)+SUMIF(Mapping!$C:$C,$N26,Mapping!G:G)+SUMIF(Mapping!$D:$D,$N26,Mapping!G:G)+SUMIF(Mapping!$B:$B,'Data BG'!$K26,Mapping!G:G)+SUMIF(Mapping!$C:$C,'Data BG'!$K26,Mapping!G:G)+SUMIF(Mapping!$D:$D,'Data BG'!$K26,Mapping!G:G)+SUMIF(Mapping!$B:$B,'Data BG'!$L26,Mapping!G:G)+SUMIF(Mapping!$C:$C,'Data BG'!$L26,Mapping!G:G)+SUMIF(Mapping!$D:$D,'Data BG'!$L26,Mapping!G:G)","v":0},{"$f":"SUMIF(Mapping!$B:$B,'Data BG'!$A26,Mapping!H:H)+SUMIF(Mapping!$C:$C,'Data BG'!$A26,Mapping!H:H)+SUMIF(Mapping!$D:$D,'Data BG'!$A26,Mapping!H:H)+SUMIF(Mapping!$B:$B,'Data BG'!$B26,Mapping!H:H)+SUMIF(Mapping!$C:$C,'Data BG'!$B26,Mapping!H:H)+SUMIF(Mapping!$D:$D,'Data BG'!$B26,Mapping!H:H)+SUMIF(Mapping!$B:$B,'Data BG'!$C26,Mapping!H:H)+SUMIF(Mapping!$C:$C,'Data BG'!$C26,Mapping!H:H)+SUMIF(Mapping!$D:$D,'Data BG'!$C26,Mapping!H:H)+SUMIF(Mapping!$B:$B,'Data BG'!$D26,Mapping!H:H)+SUMIF(Mapping!$C:$C,'Data BG'!$D26,Mapping!H:H)+SUMIF(Mapping!$D:$D,'Data BG'!$D26,Mapping!H:H)+SUMIF(Mapping!$B:$B,'Data BG'!$E26,Mapping!H:H)+SUMIF(Mapping!$C:$C,'Data BG'!$E26,Mapping!H:H)+SUMIF(Mapping!$D:$D,'Data BG'!$E26,Mapping!H:H)+SUMIF(Mapping!$B:$B,'Data BG'!$F26,Mapping!H:H)+SUMIF(Mapping!$C:$C,'Data BG'!$F26,Mapping!H:H)+SUMIF(Mapping!$D:$D,'Data BG'!$F26,Mapping!H:H)+SUMIF(Mapping!$B:$B,'Data BG'!$G26,Mapping!H:H)+SUMIF(Mapping!$C:$C,'Data BG'!$G26,Mapping!H:H)+SUMIF(Mapping!$D:$D,'Data BG'!$G26,Mapping!H:H)+SUMIF(Mapping!$B:$B,'Data BG'!$H26,Mapping!H:H)+SUMIF(Mapping!$C:$C,'Data BG'!$H26,Mapping!H:H)+SUMIF(Mapping!$D:$D,'Data BG'!$H26,Mapping!H:H)+SUMIF(Mapping!$B:$B,'Data BG'!$I26,Mapping!H:H)+SUMIF(Mapping!$C:$C,'Data BG'!$I26,Mapping!H:H)+SUMIF(Mapping!$D:$D,'Data BG'!$I26,Mapping!H:H)+SUMIF(Mapping!$B:$B,'Data BG'!$J26,Mapping!H:H)+SUMIF(Mapping!$C:$C,'Data BG'!$J26,Mapping!H:H)+SUMIF(Mapping!$D:$D,'Data BG'!$J26,Mapping!H:H)+SUMIF(Mapping!$B:$B,'Data BG'!$M26,Mapping!H:H)+SUMIF(Mapping!$C:$C,'Data BG'!$M26,Mapping!H:H)+SUMIF(Mapping!$D:$D,'Data BG'!$M26,Mapping!H:H)+SUMIF(Mapping!$B:$B,$N26,Mapping!H:H)+SUMIF(Mapping!$C:$C,$N26,Mapping!H:H)+SUMIF(Mapping!$D:$D,$N26,Mapping!H:H)+SUMIF(Mapping!$B:$B,'Data BG'!$K26,Mapping!H:H)+SUMIF(Mapping!$C:$C,'Data BG'!$K26,Mapping!H:H)+SUMIF(Mapping!$D:$D,'Data BG'!$K26,Mapping!H:H)+SUMIF(Mapping!$B:$B,'Data BG'!$L26,Mapping!H:H)+SUMIF(Mapping!$C:$C,'Data BG'!$L26,Mapping!H:H)+SUMIF(Mapping!$D:$D,'Data BG'!$L26,Mapping!H:H)","v":0}]
[29745,29748,2974,null,null,null,null,null,null,null,null,null,null,null,null,null,null,"Dépréc. Autres prêts ",{"$f":"SUMIF(Mapping!$B:$B,'Data BG'!$A27,Mapping!G:G)+SUMIF(Mapping!$C:$C,'Data BG'!$A27,Mapping!G:G)+SUMIF(Mapping!$D:$D,'Data BG'!$A27,Mapping!G:G)+SUMIF(Mapping!$B:$B,'Data BG'!$B27,Mapping!G:G)+SUMIF(Mapping!$C:$C,'Data BG'!$B27,Mapping!G:G)+SUMIF(Mapping!$D:$D,'Data BG'!$B27,Mapping!G:G)+SUMIF(Mapping!$B:$B,'Data BG'!$C27,Mapping!G:G)+SUMIF(Mapping!$C:$C,'Data BG'!$C27,Mapping!G:G)+SUMIF(Mapping!$D:$D,'Data BG'!$C27,Mapping!G:G)+SUMIF(Mapping!$B:$B,'Data BG'!$D27,Mapping!G:G)+SUMIF(Mapping!$C:$C,'Data BG'!$D27,Mapping!G:G)+SUMIF(Mapping!$D:$D,'Data BG'!$D27,Mapping!G:G)+SUMIF(Mapping!$B:$B,'Data BG'!$E27,Mapping!G:G)+SUMIF(Mapping!$C:$C,'Data BG'!$E27,Mapping!G:G)+SUMIF(Mapping!$D:$D,'Data BG'!$E27,Mapping!G:G)+SUMIF(Mapping!$B:$B,'Data BG'!$F27,Mapping!G:G)+SUMIF(Mapping!$C:$C,'Data BG'!$F27,Mapping!G:G)+SUMIF(Mapping!$D:$D,'Data BG'!$F27,Mapping!G:G)+SUMIF(Mapping!$B:$B,'Data BG'!$G27,Mapping!G:G)+SUMIF(Mapping!$C:$C,'Data BG'!$G27,Mapping!G:G)+SUMIF(Mapping!$D:$D,'Data BG'!$G27,Mapping!G:G)+SUMIF(Mapping!$B:$B,'Data BG'!$H27,Mapping!G:G)+SUMIF(Mapping!$C:$C,'Data BG'!$H27,Mapping!G:G)+SUMIF(Mapping!$D:$D,'Data BG'!$H27,Mapping!G:G)+SUMIF(Mapping!$B:$B,'Data BG'!$I27,Mapping!G:G)+SUMIF(Mapping!$C:$C,'Data BG'!$I27,Mapping!G:G)+SUMIF(Mapping!$D:$D,'Data BG'!$I27,Mapping!G:G)+SUMIF(Mapping!$B:$B,'Data BG'!$J27,Mapping!G:G)+SUMIF(Mapping!$C:$C,'Data BG'!$J27,Mapping!G:G)+SUMIF(Mapping!$D:$D,'Data BG'!$J27,Mapping!G:G)+SUMIF(Mapping!$B:$B,'Data BG'!$M27,Mapping!G:G)+SUMIF(Mapping!$C:$C,'Data BG'!$M27,Mapping!G:G)+SUMIF(Mapping!$D:$D,'Data BG'!$M27,Mapping!G:G)+SUMIF(Mapping!$B:$B,$N27,Mapping!G:G)+SUMIF(Mapping!$C:$C,$N27,Mapping!G:G)+SUMIF(Mapping!$D:$D,$N27,Mapping!G:G)+SUMIF(Mapping!$B:$B,'Data BG'!$K27,Mapping!G:G)+SUMIF(Mapping!$C:$C,'Data BG'!$K27,Mapping!G:G)+SUMIF(Mapping!$D:$D,'Data BG'!$K27,Mapping!G:G)+SUMIF(Mapping!$B:$B,'Data BG'!$L27,Mapping!G:G)+SUMIF(Mapping!$C:$C,'Data BG'!$L27,Mapping!G:G)+SUMIF(Mapping!$D:$D,'Data BG'!$L27,Mapping!G:G)","v":0},{"$f":"SUMIF(Mapping!$B:$B,'Data BG'!$A27,Mapping!H:H)+SUMIF(Mapping!$C:$C,'Data BG'!$A27,Mapping!H:H)+SUMIF(Mapping!$D:$D,'Data BG'!$A27,Mapping!H:H)+SUMIF(Mapping!$B:$B,'Data BG'!$B27,Mapping!H:H)+SUMIF(Mapping!$C:$C,'Data BG'!$B27,Mapping!H:H)+SUMIF(Mapping!$D:$D,'Data BG'!$B27,Mapping!H:H)+SUMIF(Mapping!$B:$B,'Data BG'!$C27,Mapping!H:H)+SUMIF(Mapping!$C:$C,'Data BG'!$C27,Mapping!H:H)+SUMIF(Mapping!$D:$D,'Data BG'!$C27,Mapping!H:H)+SUMIF(Mapping!$B:$B,'Data BG'!$D27,Mapping!H:H)+SUMIF(Mapping!$C:$C,'Data BG'!$D27,Mapping!H:H)+SUMIF(Mapping!$D:$D,'Data BG'!$D27,Mapping!H:H)+SUMIF(Mapping!$B:$B,'Data BG'!$E27,Mapping!H:H)+SUMIF(Mapping!$C:$C,'Data BG'!$E27,Mapping!H:H)+SUMIF(Mapping!$D:$D,'Data BG'!$E27,Mapping!H:H)+SUMIF(Mapping!$B:$B,'Data BG'!$F27,Mapping!H:H)+SUMIF(Mapping!$C:$C,'Data BG'!$F27,Mapping!H:H)+SUMIF(Mapping!$D:$D,'Data BG'!$F27,Mapping!H:H)+SUMIF(Mapping!$B:$B,'Data BG'!$G27,Mapping!H:H)+SUMIF(Mapping!$C:$C,'Data BG'!$G27,Mapping!H:H)+SUMIF(Mapping!$D:$D,'Data BG'!$G27,Mapping!H:H)+SUMIF(Mapping!$B:$B,'Data BG'!$H27,Mapping!H:H)+SUMIF(Mapping!$C:$C,'Data BG'!$H27,Mapping!H:H)+SUMIF(Mapping!$D:$D,'Data BG'!$H27,Mapping!H:H)+SUMIF(Mapping!$B:$B,'Data BG'!$I27,Mapping!H:H)+SUMIF(Mapping!$C:$C,'Data BG'!$I27,Mapping!H:H)+SUMIF(Mapping!$D:$D,'Data BG'!$I27,Mapping!H:H)+SUMIF(Mapping!$B:$B,'Data BG'!$J27,Mapping!H:H)+SUMIF(Mapping!$C:$C,'Data BG'!$J27,Mapping!H:H)+SUMIF(Mapping!$D:$D,'Data BG'!$J27,Mapping!H:H)+SUMIF(Mapping!$B:$B,'Data BG'!$M27,Mapping!H:H)+SUMIF(Mapping!$C:$C,'Data BG'!$M27,Mapping!H:H)+SUMIF(Mapping!$D:$D,'Data BG'!$M27,Mapping!H:H)+SUMIF(Mapping!$B:$B,$N27,Mapping!H:H)+SUMIF(Mapping!$C:$C,$N27,Mapping!H:H)+SUMIF(Mapping!$D:$D,$N27,Mapping!H:H)+SUMIF(Mapping!$B:$B,'Data BG'!$K27,Mapping!H:H)+SUMIF(Mapping!$C:$C,'Data BG'!$K27,Mapping!H:H)+SUMIF(Mapping!$D:$D,'Data BG'!$K27,Mapping!H:H)+SUMIF(Mapping!$B:$B,'Data BG'!$L27,Mapping!H:H)+SUMIF(Mapping!$C:$C,'Data BG'!$L27,Mapping!H:H)+SUMIF(Mapping!$D:$D,'Data BG'!$L27,Mapping!H:H)","v":0}]
[275,276,277,279,278,null,null,null,null,null,null,null,null,null,null,null,null,"Autres immobilisations financières ",{"$f":"SUMIF(Mapping!$B:$B,'Data BG'!$A28,Mapping!G:G)+SUMIF(Mapping!$C:$C,'Data BG'!$A28,Mapping!G:G)+SUMIF(Mapping!$D:$D,'Data BG'!$A28,Mapping!G:G)+SUMIF(Mapping!$B:$B,'Data BG'!$B28,Mapping!G:G)+SUMIF(Mapping!$C:$C,'Data BG'!$B28,Mapping!G:G)+SUMIF(Mapping!$D:$D,'Data BG'!$B28,Mapping!G:G)+SUMIF(Mapping!$B:$B,'Data BG'!$C28,Mapping!G:G)+SUMIF(Mapping!$C:$C,'Data BG'!$C28,Mapping!G:G)+SUMIF(Mapping!$D:$D,'Data BG'!$C28,Mapping!G:G)+SUMIF(Mapping!$B:$B,'Data BG'!$D28,Mapping!G:G)+SUMIF(Mapping!$C:$C,'Data BG'!$D28,Mapping!G:G)+SUMIF(Mapping!$D:$D,'Data BG'!$D28,Mapping!G:G)+SUMIF(Mapping!$B:$B,'Data BG'!$E28,Mapping!G:G)+SUMIF(Mapping!$C:$C,'Data BG'!$E28,Mapping!G:G)+SUMIF(Mapping!$D:$D,'Data BG'!$E28,Mapping!G:G)+SUMIF(Mapping!$B:$B,'Data BG'!$F28,Mapping!G:G)+SUMIF(Mapping!$C:$C,'Data BG'!$F28,Mapping!G:G)+SUMIF(Mapping!$D:$D,'Data BG'!$F28,Mapping!G:G)+SUMIF(Mapping!$B:$B,'Data BG'!$G28,Mapping!G:G)+SUMIF(Mapping!$C:$C,'Data BG'!$G28,Mapping!G:G)+SUMIF(Mapping!$D:$D,'Data BG'!$G28,Mapping!G:G)+SUMIF(Mapping!$B:$B,'Data BG'!$H28,Mapping!G:G)+SUMIF(Mapping!$C:$C,'Data BG'!$H28,Mapping!G:G)+SUMIF(Mapping!$D:$D,'Data BG'!$H28,Mapping!G:G)+SUMIF(Mapping!$B:$B,'Data BG'!$I28,Mapping!G:G)+SUMIF(Mapping!$C:$C,'Data BG'!$I28,Mapping!G:G)+SUMIF(Mapping!$D:$D,'Data BG'!$I28,Mapping!G:G)+SUMIF(Mapping!$B:$B,'Data BG'!$J28,Mapping!G:G)+SUMIF(Mapping!$C:$C,'Data BG'!$J28,Mapping!G:G)+SUMIF(Mapping!$D:$D,'Data BG'!$J28,Mapping!G:G)+SUMIF(Mapping!$B:$B,'Data BG'!$M28,Mapping!G:G)+SUMIF(Mapping!$C:$C,'Data BG'!$M28,Mapping!G:G)+SUMIF(Mapping!$D:$D,'Data BG'!$M28,Mapping!G:G)+SUMIF(Mapping!$B:$B,$N28,Mapping!G:G)+SUMIF(Mapping!$C:$C,$N28,Mapping!G:G)+SUMIF(Mapping!$D:$D,$N28,Mapping!G:G)+SUMIF(Mapping!$B:$B,'Data BG'!$K28,Mapping!G:G)+SUMIF(Mapping!$C:$C,'Data BG'!$K28,Mapping!G:G)+SUMIF(Mapping!$D:$D,'Data BG'!$K28,Mapping!G:G)+SUMIF(Mapping!$B:$B,'Data BG'!$L28,Mapping!G:G)+SUMIF(Mapping!$C:$C,'Data BG'!$L28,Mapping!G:G)+SUMIF(Mapping!$D:$D,'Data BG'!$L28,Mapping!G:G)","v":0},{"$f":"SUMIF(Mapping!$B:$B,'Data BG'!$A28,Mapping!H:H)+SUMIF(Mapping!$C:$C,'Data BG'!$A28,Mapping!H:H)+SUMIF(Mapping!$D:$D,'Data BG'!$A28,Mapping!H:H)+SUMIF(Mapping!$B:$B,'Data BG'!$B28,Mapping!H:H)+SUMIF(Mapping!$C:$C,'Data BG'!$B28,Mapping!H:H)+SUMIF(Mapping!$D:$D,'Data BG'!$B28,Mapping!H:H)+SUMIF(Mapping!$B:$B,'Data BG'!$C28,Mapping!H:H)+SUMIF(Mapping!$C:$C,'Data BG'!$C28,Mapping!H:H)+SUMIF(Mapping!$D:$D,'Data BG'!$C28,Mapping!H:H)+SUMIF(Mapping!$B:$B,'Data BG'!$D28,Mapping!H:H)+SUMIF(Mapping!$C:$C,'Data BG'!$D28,Mapping!H:H)+SUMIF(Mapping!$D:$D,'Data BG'!$D28,Mapping!H:H)+SUMIF(Mapping!$B:$B,'Data BG'!$E28,Mapping!H:H)+SUMIF(Mapping!$C:$C,'Data BG'!$E28,Mapping!H:H)+SUMIF(Mapping!$D:$D,'Data BG'!$E28,Mapping!H:H)+SUMIF(Mapping!$B:$B,'Data BG'!$F28,Mapping!H:H)+SUMIF(Mapping!$C:$C,'Data BG'!$F28,Mapping!H:H)+SUMIF(Mapping!$D:$D,'Data BG'!$F28,Mapping!H:H)+SUMIF(Mapping!$B:$B,'Data BG'!$G28,Mapping!H:H)+SUMIF(Mapping!$C:$C,'Data BG'!$G28,Mapping!H:H)+SUMIF(Mapping!$D:$D,'Data BG'!$G28,Mapping!H:H)+SUMIF(Mapping!$B:$B,'Data BG'!$H28,Mapping!H:H)+SUMIF(Mapping!$C:$C,'Data BG'!$H28,Mapping!H:H)+SUMIF(Mapping!$D:$D,'Data BG'!$H28,Mapping!H:H)+SUMIF(Mapping!$B:$B,'Data BG'!$I28,Mapping!H:H)+SUMIF(Mapping!$C:$C,'Data BG'!$I28,Mapping!H:H)+SUMIF(Mapping!$D:$D,'Data BG'!$I28,Mapping!H:H)+SUMIF(Mapping!$B:$B,'Data BG'!$J28,Mapping!H:H)+SUMIF(Mapping!$C:$C,'Data BG'!$J28,Mapping!H:H)+SUMIF(Mapping!$D:$D,'Data BG'!$J28,Mapping!H:H)+SUMIF(Mapping!$B:$B,'Data BG'!$M28,Mapping!H:H)+SUMIF(Mapping!$C:$C,'Data BG'!$M28,Mapping!H:H)+SUMIF(Mapping!$D:$D,'Data BG'!$M28,Mapping!H:H)+SUMIF(Mapping!$B:$B,$N28,Mapping!H:H)+SUMIF(Mapping!$C:$C,$N28,Mapping!H:H)+SUMIF(Mapping!$D:$D,$N28,Mapping!H:H)+SUMIF(Mapping!$B:$B,'Data BG'!$K28,Mapping!H:H)+SUMIF(Mapping!$C:$C,'Data BG'!$K28,Mapping!H:H)+SUMIF(Mapping!$D:$D,'Data BG'!$K28,Mapping!H:H)+SUMIF(Mapping!$B:$B,'Data BG'!$L28,Mapping!H:H)+SUMIF(Mapping!$C:$C,'Data BG'!$L28,Mapping!H:H)+SUMIF(Mapping!$D:$D,'Data BG'!$L28,Mapping!H:H)","v":0}]
[2975,2976,null,null,null,null,null,null,null,null,null,null,null,null,null,null,null,"Dépréc. autres immobilisations financières ",{"$f":"SUMIF(Mapping!$B:$B,'Data BG'!$A29,Mapping!G:G)+SUMIF(Mapping!$C:$C,'Data BG'!$A29,Mapping!G:G)+SUMIF(Mapping!$D:$D,'Data BG'!$A29,Mapping!G:G)+SUMIF(Mapping!$B:$B,'Data BG'!$B29,Mapping!G:G)+SUMIF(Mapping!$C:$C,'Data BG'!$B29,Mapping!G:G)+SUMIF(Mapping!$D:$D,'Data BG'!$B29,Mapping!G:G)+SUMIF(Mapping!$B:$B,'Data BG'!$C29,Mapping!G:G)+SUMIF(Mapping!$C:$C,'Data BG'!$C29,Mapping!G:G)+SUMIF(Mapping!$D:$D,'Data BG'!$C29,Mapping!G:G)+SUMIF(Mapping!$B:$B,'Data BG'!$D29,Mapping!G:G)+SUMIF(Mapping!$C:$C,'Data BG'!$D29,Mapping!G:G)+SUMIF(Mapping!$D:$D,'Data BG'!$D29,Mapping!G:G)+SUMIF(Mapping!$B:$B,'Data BG'!$E29,Mapping!G:G)+SUMIF(Mapping!$C:$C,'Data BG'!$E29,Mapping!G:G)+SUMIF(Mapping!$D:$D,'Data BG'!$E29,Mapping!G:G)+SUMIF(Mapping!$B:$B,'Data BG'!$F29,Mapping!G:G)+SUMIF(Mapping!$C:$C,'Data BG'!$F29,Mapping!G:G)+SUMIF(Mapping!$D:$D,'Data BG'!$F29,Mapping!G:G)+SUMIF(Mapping!$B:$B,'Data BG'!$G29,Mapping!G:G)+SUMIF(Mapping!$C:$C,'Data BG'!$G29,Mapping!G:G)+SUMIF(Mapping!$D:$D,'Data BG'!$G29,Mapping!G:G)+SUMIF(Mapping!$B:$B,'Data BG'!$H29,Mapping!G:G)+SUMIF(Mapping!$C:$C,'Data BG'!$H29,Mapping!G:G)+SUMIF(Mapping!$D:$D,'Data BG'!$H29,Mapping!G:G)+SUMIF(Mapping!$B:$B,'Data BG'!$I29,Mapping!G:G)+SUMIF(Mapping!$C:$C,'Data BG'!$I29,Mapping!G:G)+SUMIF(Mapping!$D:$D,'Data BG'!$I29,Mapping!G:G)+SUMIF(Mapping!$B:$B,'Data BG'!$J29,Mapping!G:G)+SUMIF(Mapping!$C:$C,'Data BG'!$J29,Mapping!G:G)+SUMIF(Mapping!$D:$D,'Data BG'!$J29,Mapping!G:G)+SUMIF(Mapping!$B:$B,'Data BG'!$M29,Mapping!G:G)+SUMIF(Mapping!$C:$C,'Data BG'!$M29,Mapping!G:G)+SUMIF(Mapping!$D:$D,'Data BG'!$M29,Mapping!G:G)+SUMIF(Mapping!$B:$B,$N29,Mapping!G:G)+SUMIF(Mapping!$C:$C,$N29,Mapping!G:G)+SUMIF(Mapping!$D:$D,$N29,Mapping!G:G)+SUMIF(Mapping!$B:$B,'Data BG'!$K29,Mapping!G:G)+SUMIF(Mapping!$C:$C,'Data BG'!$K29,Mapping!G:G)+SUMIF(Mapping!$D:$D,'Data BG'!$K29,Mapping!G:G)+SUMIF(Mapping!$B:$B,'Data BG'!$L29,Mapping!G:G)+SUMIF(Mapping!$C:$C,'Data BG'!$L29,Mapping!G:G)+SUMIF(Mapping!$D:$D,'Data BG'!$L29,Mapping!G:G)","v":0},{"$f":"SUMIF(Mapping!$B:$B,'Data BG'!$A29,Mapping!H:H)+SUMIF(Mapping!$C:$C,'Data BG'!$A29,Mapping!H:H)+SUMIF(Mapping!$D:$D,'Data BG'!$A29,Mapping!H:H)+SUMIF(Mapping!$B:$B,'Data BG'!$B29,Mapping!H:H)+SUMIF(Mapping!$C:$C,'Data BG'!$B29,Mapping!H:H)+SUMIF(Mapping!$D:$D,'Data BG'!$B29,Mapping!H:H)+SUMIF(Mapping!$B:$B,'Data BG'!$C29,Mapping!H:H)+SUMIF(Mapping!$C:$C,'Data BG'!$C29,Mapping!H:H)+SUMIF(Mapping!$D:$D,'Data BG'!$C29,Mapping!H:H)+SUMIF(Mapping!$B:$B,'Data BG'!$D29,Mapping!H:H)+SUMIF(Mapping!$C:$C,'Data BG'!$D29,Mapping!H:H)+SUMIF(Mapping!$D:$D,'Data BG'!$D29,Mapping!H:H)+SUMIF(Mapping!$B:$B,'Data BG'!$E29,Mapping!H:H)+SUMIF(Mapping!$C:$C,'Data BG'!$E29,Mapping!H:H)+SUMIF(Mapping!$D:$D,'Data BG'!$E29,Mapping!H:H)+SUMIF(Mapping!$B:$B,'Data BG'!$F29,Mapping!H:H)+SUMIF(Mapping!$C:$C,'Data BG'!$F29,Mapping!H:H)+SUMIF(Mapping!$D:$D,'Data BG'!$F29,Mapping!H:H)+SUMIF(Mapping!$B:$B,'Data BG'!$G29,Mapping!H:H)+SUMIF(Mapping!$C:$C,'Data BG'!$G29,Mapping!H:H)+SUMIF(Mapping!$D:$D,'Data BG'!$G29,Mapping!H:H)+SUMIF(Mapping!$B:$B,'Data BG'!$H29,Mapping!H:H)+SUMIF(Mapping!$C:$C,'Data BG'!$H29,Mapping!H:H)+SUMIF(Mapping!$D:$D,'Data BG'!$H29,Mapping!H:H)+SUMIF(Mapping!$B:$B,'Data BG'!$I29,Mapping!H:H)+SUMIF(Mapping!$C:$C,'Data BG'!$I29,Mapping!H:H)+SUMIF(Mapping!$D:$D,'Data BG'!$I29,Mapping!H:H)+SUMIF(Mapping!$B:$B,'Data BG'!$J29,Mapping!H:H)+SUMIF(Mapping!$C:$C,'Data BG'!$J29,Mapping!H:H)+SUMIF(Mapping!$D:$D,'Data BG'!$J29,Mapping!H:H)+SUMIF(Mapping!$B:$B,'Data BG'!$M29,Mapping!H:H)+SUMIF(Mapping!$C:$C,'Data BG'!$M29,Mapping!H:H)+SUMIF(Mapping!$D:$D,'Data BG'!$M29,Mapping!H:H)+SUMIF(Mapping!$B:$B,$N29,Mapping!H:H)+SUMIF(Mapping!$C:$C,$N29,Mapping!H:H)+SUMIF(Mapping!$D:$D,$N29,Mapping!H:H)+SUMIF(Mapping!$B:$B,'Data BG'!$K29,Mapping!H:H)+SUMIF(Mapping!$C:$C,'Data BG'!$K29,Mapping!H:H)+SUMIF(Mapping!$D:$D,'Data BG'!$K29,Mapping!H:H)+SUMIF(Mapping!$B:$B,'Data BG'!$L29,Mapping!H:H)+SUMIF(Mapping!$C:$C,'Data BG'!$L29,Mapping!H:H)+SUMIF(Mapping!$D:$D,'Data BG'!$L29,Mapping!H:H)","v":0}]
[null,null,null,null,null,null,null,null,null,null,null,null,null,null,null,null,null,"ACTIF CIRCULANT "]
[31,32,37,null,null,null,null,null,null,null,null,null,null,null,null,null,null,"Stocks et en-cours ",{"$f":"SUMIF(Mapping!$B:$B,'Data BG'!$A31,Mapping!G:G)+SUMIF(Mapping!$C:$C,'Data BG'!$A31,Mapping!G:G)+SUMIF(Mapping!$D:$D,'Data BG'!$A31,Mapping!G:G)+SUMIF(Mapping!$B:$B,'Data BG'!$B31,Mapping!G:G)+SUMIF(Mapping!$C:$C,'Data BG'!$B31,Mapping!G:G)+SUMIF(Mapping!$D:$D,'Data BG'!$B31,Mapping!G:G)+SUMIF(Mapping!$B:$B,'Data BG'!$C31,Mapping!G:G)+SUMIF(Mapping!$C:$C,'Data BG'!$C31,Mapping!G:G)+SUMIF(Mapping!$D:$D,'Data BG'!$C31,Mapping!G:G)+SUMIF(Mapping!$B:$B,'Data BG'!$D31,Mapping!G:G)+SUMIF(Mapping!$C:$C,'Data BG'!$D31,Mapping!G:G)+SUMIF(Mapping!$D:$D,'Data BG'!$D31,Mapping!G:G)+SUMIF(Mapping!$B:$B,'Data BG'!$E31,Mapping!G:G)+SUMIF(Mapping!$C:$C,'Data BG'!$E31,Mapping!G:G)+SUMIF(Mapping!$D:$D,'Data BG'!$E31,Mapping!G:G)+SUMIF(Mapping!$B:$B,'Data BG'!$F31,Mapping!G:G)+SUMIF(Mapping!$C:$C,'Data BG'!$F31,Mapping!G:G)+SUMIF(Mapping!$D:$D,'Data BG'!$F31,Mapping!G:G)+SUMIF(Mapping!$B:$B,'Data BG'!$G31,Mapping!G:G)+SUMIF(Mapping!$C:$C,'Data BG'!$G31,Mapping!G:G)+SUMIF(Mapping!$D:$D,'Data BG'!$G31,Mapping!G:G)+SUMIF(Mapping!$B:$B,'Data BG'!$H31,Mapping!G:G)+SUMIF(Mapping!$C:$C,'Data BG'!$H31,Mapping!G:G)+SUMIF(Mapping!$D:$D,'Data BG'!$H31,Mapping!G:G)+SUMIF(Mapping!$B:$B,'Data BG'!$I31,Mapping!G:G)+SUMIF(Mapping!$C:$C,'Data BG'!$I31,Mapping!G:G)+SUMIF(Mapping!$D:$D,'Data BG'!$I31,Mapping!G:G)+SUMIF(Mapping!$B:$B,'Data BG'!$J31,Mapping!G:G)+SUMIF(Mapping!$C:$C,'Data BG'!$J31,Mapping!G:G)+SUMIF(Mapping!$D:$D,'Data BG'!$J31,Mapping!G:G)+SUMIF(Mapping!$B:$B,'Data BG'!$M31,Mapping!G:G)+SUMIF(Mapping!$C:$C,'Data BG'!$M31,Mapping!G:G)+SUMIF(Mapping!$D:$D,'Data BG'!$M31,Mapping!G:G)+SUMIF(Mapping!$B:$B,$N31,Mapping!G:G)+SUMIF(Mapping!$C:$C,$N31,Mapping!G:G)+SUMIF(Mapping!$D:$D,$N31,Mapping!G:G)+SUMIF(Mapping!$B:$B,'Data BG'!$K31,Mapping!G:G)+SUMIF(Mapping!$C:$C,'Data BG'!$K31,Mapping!G:G)+SUMIF(Mapping!$D:$D,'Data BG'!$K31,Mapping!G:G)+SUMIF(Mapping!$B:$B,'Data BG'!$L31,Mapping!G:G)+SUMIF(Mapping!$C:$C,'Data BG'!$L31,Mapping!G:G)+SUMIF(Mapping!$D:$D,'Data BG'!$L31,Mapping!G:G)","v":0},{"$f":"SUMIF(Mapping!$B:$B,'Data BG'!$A31,Mapping!H:H)+SUMIF(Mapping!$C:$C,'Data BG'!$A31,Mapping!H:H)+SUMIF(Mapping!$D:$D,'Data BG'!$A31,Mapping!H:H)+SUMIF(Mapping!$B:$B,'Data BG'!$B31,Mapping!H:H)+SUMIF(Mapping!$C:$C,'Data BG'!$B31,Mapping!H:H)+SUMIF(Mapping!$D:$D,'Data BG'!$B31,Mapping!H:H)+SUMIF(Mapping!$B:$B,'Data BG'!$C31,Mapping!H:H)+SUMIF(Mapping!$C:$C,'Data BG'!$C31,Mapping!H:H)+SUMIF(Mapping!$D:$D,'Data BG'!$C31,Mapping!H:H)+SUMIF(Mapping!$B:$B,'Data BG'!$D31,Mapping!H:H)+SUMIF(Mapping!$C:$C,'Data BG'!$D31,Mapping!H:H)+SUMIF(Mapping!$D:$D,'Data BG'!$D31,Mapping!H:H)+SUMIF(Mapping!$B:$B,'Data BG'!$E31,Mapping!H:H)+SUMIF(Mapping!$C:$C,'Data BG'!$E31,Mapping!H:H)+SUMIF(Mapping!$D:$D,'Data BG'!$E31,Mapping!H:H)+SUMIF(Mapping!$B:$B,'Data BG'!$F31,Mapping!H:H)+SUMIF(Mapping!$C:$C,'Data BG'!$F31,Mapping!H:H)+SUMIF(Mapping!$D:$D,'Data BG'!$F31,Mapping!H:H)+SUMIF(Mapping!$B:$B,'Data BG'!$G31,Mapping!H:H)+SUMIF(Mapping!$C:$C,'Data BG'!$G31,Mapping!H:H)+SUMIF(Mapping!$D:$D,'Data BG'!$G31,Mapping!H:H)+SUMIF(Mapping!$B:$B,'Data BG'!$H31,Mapping!H:H)+SUMIF(Mapping!$C:$C,'Data BG'!$H31,Mapping!H:H)+SUMIF(Mapping!$D:$D,'Data BG'!$H31,Mapping!H:H)+SUMIF(Mapping!$B:$B,'Data BG'!$I31,Mapping!H:H)+SUMIF(Mapping!$C:$C,'Data BG'!$I31,Mapping!H:H)+SUMIF(Mapping!$D:$D,'Data BG'!$I31,Mapping!H:H)+SUMIF(Mapping!$B:$B,'Data BG'!$J31,Mapping!H:H)+SUMIF(Mapping!$C:$C,'Data BG'!$J31,Mapping!H:H)+SUMIF(Mapping!$D:$D,'Data BG'!$J31,Mapping!H:H)+SUMIF(Mapping!$B:$B,'Data BG'!$M31,Mapping!H:H)+SUMIF(Mapping!$C:$C,'Data BG'!$M31,Mapping!H:H)+SUMIF(Mapping!$D:$D,'Data BG'!$M31,Mapping!H:H)+SUMIF(Mapping!$B:$B,$N31,Mapping!H:H)+SUMIF(Mapping!$C:$C,$N31,Mapping!H:H)+SUMIF(Mapping!$D:$D,$N31,Mapping!H:H)+SUMIF(Mapping!$B:$B,'Data BG'!$K31,Mapping!H:H)+SUMIF(Mapping!$C:$C,'Data BG'!$K31,Mapping!H:H)+SUMIF(Mapping!$D:$D,'Data BG'!$K31,Mapping!H:H)+SUMIF(Mapping!$B:$B,'Data BG'!$L31,Mapping!H:H)+SUMIF(Mapping!$C:$C,'Data BG'!$L31,Mapping!H:H)+SUMIF(Mapping!$D:$D,'Data BG'!$L31,Mapping!H:H)","v":0}]
[39,null,null,null,null,null,null,null,null,null,null,null,null,null,null,null,null,"Dépréc. Stocks et en-cours ",{"$f":"SUMIF(Mapping!$B:$B,'Data BG'!$A32,Mapping!G:G)+SUMIF(Mapping!$C:$C,'Data BG'!$A32,Mapping!G:G)+SUMIF(Mapping!$D:$D,'Data BG'!$A32,Mapping!G:G)+SUMIF(Mapping!$B:$B,'Data BG'!$B32,Mapping!G:G)+SUMIF(Mapping!$C:$C,'Data BG'!$B32,Mapping!G:G)+SUMIF(Mapping!$D:$D,'Data BG'!$B32,Mapping!G:G)+SUMIF(Mapping!$B:$B,'Data BG'!$C32,Mapping!G:G)+SUMIF(Mapping!$C:$C,'Data BG'!$C32,Mapping!G:G)+SUMIF(Mapping!$D:$D,'Data BG'!$C32,Mapping!G:G)+SUMIF(Mapping!$B:$B,'Data BG'!$D32,Mapping!G:G)+SUMIF(Mapping!$C:$C,'Data BG'!$D32,Mapping!G:G)+SUMIF(Mapping!$D:$D,'Data BG'!$D32,Mapping!G:G)+SUMIF(Mapping!$B:$B,'Data BG'!$E32,Mapping!G:G)+SUMIF(Mapping!$C:$C,'Data BG'!$E32,Mapping!G:G)+SUMIF(Mapping!$D:$D,'Data BG'!$E32,Mapping!G:G)+SUMIF(Mapping!$B:$B,'Data BG'!$F32,Mapping!G:G)+SUMIF(Mapping!$C:$C,'Data BG'!$F32,Mapping!G:G)+SUMIF(Mapping!$D:$D,'Data BG'!$F32,Mapping!G:G)+SUMIF(Mapping!$B:$B,'Data BG'!$G32,Mapping!G:G)+SUMIF(Mapping!$C:$C,'Data BG'!$G32,Mapping!G:G)+SUMIF(Mapping!$D:$D,'Data BG'!$G32,Mapping!G:G)+SUMIF(Mapping!$B:$B,'Data BG'!$H32,Mapping!G:G)+SUMIF(Mapping!$C:$C,'Data BG'!$H32,Mapping!G:G)+SUMIF(Mapping!$D:$D,'Data BG'!$H32,Mapping!G:G)+SUMIF(Mapping!$B:$B,'Data BG'!$I32,Mapping!G:G)+SUMIF(Mapping!$C:$C,'Data BG'!$I32,Mapping!G:G)+SUMIF(Mapping!$D:$D,'Data BG'!$I32,Mapping!G:G)+SUMIF(Mapping!$B:$B,'Data BG'!$J32,Mapping!G:G)+SUMIF(Mapping!$C:$C,'Data BG'!$J32,Mapping!G:G)+SUMIF(Mapping!$D:$D,'Data BG'!$J32,Mapping!G:G)+SUMIF(Mapping!$B:$B,'Data BG'!$M32,Mapping!G:G)+SUMIF(Mapping!$C:$C,'Data BG'!$M32,Mapping!G:G)+SUMIF(Mapping!$D:$D,'Data BG'!$M32,Mapping!G:G)+SUMIF(Mapping!$B:$B,$N32,Mapping!G:G)+SUMIF(Mapping!$C:$C,$N32,Mapping!G:G)+SUMIF(Mapping!$D:$D,$N32,Mapping!G:G)+SUMIF(Mapping!$B:$B,'Data BG'!$K32,Mapping!G:G)+SUMIF(Mapping!$C:$C,'Data BG'!$K32,Mapping!G:G)+SUMIF(Mapping!$D:$D,'Data BG'!$K32,Mapping!G:G)+SUMIF(Mapping!$B:$B,'Data BG'!$L32,Mapping!G:G)+SUMIF(Mapping!$C:$C,'Data BG'!$L32,Mapping!G:G)+SUMIF(Mapping!$D:$D,'Data BG'!$L32,Mapping!G:G)","v":0},{"$f":"SUMIF(Mapping!$B:$B,'Data BG'!$A32,Mapping!H:H)+SUMIF(Mapping!$C:$C,'Data BG'!$A32,Mapping!H:H)+SUMIF(Mapping!$D:$D,'Data BG'!$A32,Mapping!H:H)+SUMIF(Mapping!$B:$B,'Data BG'!$B32,Mapping!H:H)+SUMIF(Mapping!$C:$C,'Data BG'!$B32,Mapping!H:H)+SUMIF(Mapping!$D:$D,'Data BG'!$B32,Mapping!H:H)+SUMIF(Mapping!$B:$B,'Data BG'!$C32,Mapping!H:H)+SUMIF(Mapping!$C:$C,'Data BG'!$C32,Mapping!H:H)+SUMIF(Mapping!$D:$D,'Data BG'!$C32,Mapping!H:H)+SUMIF(Mapping!$B:$B,'Data BG'!$D32,Mapping!H:H)+SUMIF(Mapping!$C:$C,'Data BG'!$D32,Mapping!H:H)+SUMIF(Mapping!$D:$D,'Data BG'!$D32,Mapping!H:H)+SUMIF(Mapping!$B:$B,'Data BG'!$E32,Mapping!H:H)+SUMIF(Mapping!$C:$C,'Data BG'!$E32,Mapping!H:H)+SUMIF(Mapping!$D:$D,'Data BG'!$E32,Mapping!H:H)+SUMIF(Mapping!$B:$B,'Data BG'!$F32,Mapping!H:H)+SUMIF(Mapping!$C:$C,'Data BG'!$F32,Mapping!H:H)+SUMIF(Mapping!$D:$D,'Data BG'!$F32,Mapping!H:H)+SUMIF(Mapping!$B:$B,'Data BG'!$G32,Mapping!H:H)+SUMIF(Mapping!$C:$C,'Data BG'!$G32,Mapping!H:H)+SUMIF(Mapping!$D:$D,'Data BG'!$G32,Mapping!H:H)+SUMIF(Mapping!$B:$B,'Data BG'!$H32,Mapping!H:H)+SUMIF(Mapping!$C:$C,'Data BG'!$H32,Mapping!H:H)+SUMIF(Mapping!$D:$D,'Data BG'!$H32,Mapping!H:H)+SUMIF(Mapping!$B:$B,'Data BG'!$I32,Mapping!H:H)+SUMIF(Mapping!$C:$C,'Data BG'!$I32,Mapping!H:H)+SUMIF(Mapping!$D:$D,'Data BG'!$I32,Mapping!H:H)+SUMIF(Mapping!$B:$B,'Data BG'!$J32,Mapping!H:H)+SUMIF(Mapping!$C:$C,'Data BG'!$J32,Mapping!H:H)+SUMIF(Mapping!$D:$D,'Data BG'!$J32,Mapping!H:H)+SUMIF(Mapping!$B:$B,'Data BG'!$M32,Mapping!H:H)+SUMIF(Mapping!$C:$C,'Data BG'!$M32,Mapping!H:H)+SUMIF(Mapping!$D:$D,'Data BG'!$M32,Mapping!H:H)+SUMIF(Mapping!$B:$B,$N32,Mapping!H:H)+SUMIF(Mapping!$C:$C,$N32,Mapping!H:H)+SUMIF(Mapping!$D:$D,$N32,Mapping!H:H)+SUMIF(Mapping!$B:$B,'Data BG'!$K32,Mapping!H:H)+SUMIF(Mapping!$C:$C,'Data BG'!$K32,Mapping!H:H)+SUMIF(Mapping!$D:$D,'Data BG'!$K32,Mapping!H:H)+SUMIF(Mapping!$B:$B,'Data BG'!$L32,Mapping!H:H)+SUMIF(Mapping!$C:$C,'Data BG'!$L32,Mapping!H:H)+SUMIF(Mapping!$D:$D,'Data BG'!$L32,Mapping!H:H)","v":0}]
[4091,4090,null,null,null,null,null,null,null,null,null,null,null,null,null,null,null,"Avances et acomptes versés sur commande ",{"$f":"SUMIF(Mapping!$B:$B,'Data BG'!$A33,Mapping!G:G)+SUMIF(Mapping!$C:$C,'Data BG'!$A33,Mapping!G:G)+SUMIF(Mapping!$D:$D,'Data BG'!$A33,Mapping!G:G)+SUMIF(Mapping!$B:$B,'Data BG'!$B33,Mapping!G:G)+SUMIF(Mapping!$C:$C,'Data BG'!$B33,Mapping!G:G)+SUMIF(Mapping!$D:$D,'Data BG'!$B33,Mapping!G:G)+SUMIF(Mapping!$B:$B,'Data BG'!$C33,Mapping!G:G)+SUMIF(Mapping!$C:$C,'Data BG'!$C33,Mapping!G:G)+SUMIF(Mapping!$D:$D,'Data BG'!$C33,Mapping!G:G)+SUMIF(Mapping!$B:$B,'Data BG'!$D33,Mapping!G:G)+SUMIF(Mapping!$C:$C,'Data BG'!$D33,Mapping!G:G)+SUMIF(Mapping!$D:$D,'Data BG'!$D33,Mapping!G:G)+SUMIF(Mapping!$B:$B,'Data BG'!$E33,Mapping!G:G)+SUMIF(Mapping!$C:$C,'Data BG'!$E33,Mapping!G:G)+SUMIF(Mapping!$D:$D,'Data BG'!$E33,Mapping!G:G)+SUMIF(Mapping!$B:$B,'Data BG'!$F33,Mapping!G:G)+SUMIF(Mapping!$C:$C,'Data BG'!$F33,Mapping!G:G)+SUMIF(Mapping!$D:$D,'Data BG'!$F33,Mapping!G:G)+SUMIF(Mapping!$B:$B,'Data BG'!$G33,Mapping!G:G)+SUMIF(Mapping!$C:$C,'Data BG'!$G33,Mapping!G:G)+SUMIF(Mapping!$D:$D,'Data BG'!$G33,Mapping!G:G)+SUMIF(Mapping!$B:$B,'Data BG'!$H33,Mapping!G:G)+SUMIF(Mapping!$C:$C,'Data BG'!$H33,Mapping!G:G)+SUMIF(Mapping!$D:$D,'Data BG'!$H33,Mapping!G:G)+SUMIF(Mapping!$B:$B,'Data BG'!$I33,Mapping!G:G)+SUMIF(Mapping!$C:$C,'Data BG'!$I33,Mapping!G:G)+SUMIF(Mapping!$D:$D,'Data BG'!$I33,Mapping!G:G)+SUMIF(Mapping!$B:$B,'Data BG'!$J33,Mapping!G:G)+SUMIF(Mapping!$C:$C,'Data BG'!$J33,Mapping!G:G)+SUMIF(Mapping!$D:$D,'Data BG'!$J33,Mapping!G:G)+SUMIF(Mapping!$B:$B,'Data BG'!$M33,Mapping!G:G)+SUMIF(Mapping!$C:$C,'Data BG'!$M33,Mapping!G:G)+SUMIF(Mapping!$D:$D,'Data BG'!$M33,Mapping!G:G)+SUMIF(Mapping!$B:$B,$N33,Mapping!G:G)+SUMIF(Mapping!$C:$C,$N33,Mapping!G:G)+SUMIF(Mapping!$D:$D,$N33,Mapping!G:G)+SUMIF(Mapping!$B:$B,'Data BG'!$K33,Mapping!G:G)+SUMIF(Mapping!$C:$C,'Data BG'!$K33,Mapping!G:G)+SUMIF(Mapping!$D:$D,'Data BG'!$K33,Mapping!G:G)+SUMIF(Mapping!$B:$B,'Data BG'!$L33,Mapping!G:G)+SUMIF(Mapping!$C:$C,'Data BG'!$L33,Mapping!G:G)+SUMIF(Mapping!$D:$D,'Data BG'!$L33,Mapping!G:G)","v":0},{"$f":"SUMIF(Mapping!$B:$B,'Data BG'!$A33,Mapping!H:H)+SUMIF(Mapping!$C:$C,'Data BG'!$A33,Mapping!H:H)+SUMIF(Mapping!$D:$D,'Data BG'!$A33,Mapping!H:H)+SUMIF(Mapping!$B:$B,'Data BG'!$B33,Mapping!H:H)+SUMIF(Mapping!$C:$C,'Data BG'!$B33,Mapping!H:H)+SUMIF(Mapping!$D:$D,'Data BG'!$B33,Mapping!H:H)+SUMIF(Mapping!$B:$B,'Data BG'!$C33,Mapping!H:H)+SUMIF(Mapping!$C:$C,'Data BG'!$C33,Mapping!H:H)+SUMIF(Mapping!$D:$D,'Data BG'!$C33,Mapping!H:H)+SUMIF(Mapping!$B:$B,'Data BG'!$D33,Mapping!H:H)+SUMIF(Mapping!$C:$C,'Data BG'!$D33,Mapping!H:H)+SUMIF(Mapping!$D:$D,'Data BG'!$D33,Mapping!H:H)+SUMIF(Mapping!$B:$B,'Data BG'!$E33,Mapping!H:H)+SUMIF(Mapping!$C:$C,'Data BG'!$E33,Mapping!H:H)+SUMIF(Mapping!$D:$D,'Data BG'!$E33,Mapping!H:H)+SUMIF(Mapping!$B:$B,'Data BG'!$F33,Mapping!H:H)+SUMIF(Mapping!$C:$C,'Data BG'!$F33,Mapping!H:H)+SUMIF(Mapping!$D:$D,'Data BG'!$F33,Mapping!H:H)+SUMIF(Mapping!$B:$B,'Data BG'!$G33,Mapping!H:H)+SUMIF(Mapping!$C:$C,'Data BG'!$G33,Mapping!H:H)+SUMIF(Mapping!$D:$D,'Data BG'!$G33,Mapping!H:H)+SUMIF(Mapping!$B:$B,'Data BG'!$H33,Mapping!H:H)+SUMIF(Mapping!$C:$C,'Data BG'!$H33,Mapping!H:H)+SUMIF(Mapping!$D:$D,'Data BG'!$H33,Mapping!H:H)+SUMIF(Mapping!$B:$B,'Data BG'!$I33,Mapping!H:H)+SUMIF(Mapping!$C:$C,'Data BG'!$I33,Mapping!H:H)+SUMIF(Mapping!$D:$D,'Data BG'!$I33,Mapping!H:H)+SUMIF(Mapping!$B:$B,'Data BG'!$J33,Mapping!H:H)+SUMIF(Mapping!$C:$C,'Data BG'!$J33,Mapping!H:H)+SUMIF(Mapping!$D:$D,'Data BG'!$J33,Mapping!H:H)+SUMIF(Mapping!$B:$B,'Data BG'!$M33,Mapping!H:H)+SUMIF(Mapping!$C:$C,'Data BG'!$M33,Mapping!H:H)+SUMIF(Mapping!$D:$D,'Data BG'!$M33,Mapping!H:H)+SUMIF(Mapping!$B:$B,$N33,Mapping!H:H)+SUMIF(Mapping!$C:$C,$N33,Mapping!H:H)+SUMIF(Mapping!$D:$D,$N33,Mapping!H:H)+SUMIF(Mapping!$B:$B,'Data BG'!$K33,Mapping!H:H)+SUMIF(Mapping!$C:$C,'Data BG'!$K33,Mapping!H:H)+SUMIF(Mapping!$D:$D,'Data BG'!$K33,Mapping!H:H)+SUMIF(Mapping!$B:$B,'Data BG'!$L33,Mapping!H:H)+SUMIF(Mapping!$C:$C,'Data BG'!$L33,Mapping!H:H)+SUMIF(Mapping!$D:$D,'Data BG'!$L33,Mapping!H:H)","v":0}]
[4909,null,null,null,null,null,null,null,null,null,null,null,null,null,null,null,null,"Dépréc. Avances et acomptes versés sur commande ",{"$f":"SUMIF(Mapping!$B:$B,'Data BG'!$A34,Mapping!G:G)+SUMIF(Mapping!$C:$C,'Data BG'!$A34,Mapping!G:G)+SUMIF(Mapping!$D:$D,'Data BG'!$A34,Mapping!G:G)+SUMIF(Mapping!$B:$B,'Data BG'!$B34,Mapping!G:G)+SUMIF(Mapping!$C:$C,'Data BG'!$B34,Mapping!G:G)+SUMIF(Mapping!$D:$D,'Data BG'!$B34,Mapping!G:G)+SUMIF(Mapping!$B:$B,'Data BG'!$C34,Mapping!G:G)+SUMIF(Mapping!$C:$C,'Data BG'!$C34,Mapping!G:G)+SUMIF(Mapping!$D:$D,'Data BG'!$C34,Mapping!G:G)+SUMIF(Mapping!$B:$B,'Data BG'!$D34,Mapping!G:G)+SUMIF(Mapping!$C:$C,'Data BG'!$D34,Mapping!G:G)+SUMIF(Mapping!$D:$D,'Data BG'!$D34,Mapping!G:G)+SUMIF(Mapping!$B:$B,'Data BG'!$E34,Mapping!G:G)+SUMIF(Mapping!$C:$C,'Data BG'!$E34,Mapping!G:G)+SUMIF(Mapping!$D:$D,'Data BG'!$E34,Mapping!G:G)+SUMIF(Mapping!$B:$B,'Data BG'!$F34,Mapping!G:G)+SUMIF(Mapping!$C:$C,'Data BG'!$F34,Mapping!G:G)+SUMIF(Mapping!$D:$D,'Data BG'!$F34,Mapping!G:G)+SUMIF(Mapping!$B:$B,'Data BG'!$G34,Mapping!G:G)+SUMIF(Mapping!$C:$C,'Data BG'!$G34,Mapping!G:G)+SUMIF(Mapping!$D:$D,'Data BG'!$G34,Mapping!G:G)+SUMIF(Mapping!$B:$B,'Data BG'!$H34,Mapping!G:G)+SUMIF(Mapping!$C:$C,'Data BG'!$H34,Mapping!G:G)+SUMIF(Mapping!$D:$D,'Data BG'!$H34,Mapping!G:G)+SUMIF(Mapping!$B:$B,'Data BG'!$I34,Mapping!G:G)+SUMIF(Mapping!$C:$C,'Data BG'!$I34,Mapping!G:G)+SUMIF(Mapping!$D:$D,'Data BG'!$I34,Mapping!G:G)+SUMIF(Mapping!$B:$B,'Data BG'!$J34,Mapping!G:G)+SUMIF(Mapping!$C:$C,'Data BG'!$J34,Mapping!G:G)+SUMIF(Mapping!$D:$D,'Data BG'!$J34,Mapping!G:G)+SUMIF(Mapping!$B:$B,'Data BG'!$M34,Mapping!G:G)+SUMIF(Mapping!$C:$C,'Data BG'!$M34,Mapping!G:G)+SUMIF(Mapping!$D:$D,'Data BG'!$M34,Mapping!G:G)+SUMIF(Mapping!$B:$B,$N34,Mapping!G:G)+SUMIF(Mapping!$C:$C,$N34,Mapping!G:G)+SUMIF(Mapping!$D:$D,$N34,Mapping!G:G)+SUMIF(Mapping!$B:$B,'Data BG'!$K34,Mapping!G:G)+SUMIF(Mapping!$C:$C,'Data BG'!$K34,Mapping!G:G)+SUMIF(Mapping!$D:$D,'Data BG'!$K34,Mapping!G:G)+SUMIF(Mapping!$B:$B,'Data BG'!$L34,Mapping!G:G)+SUMIF(Mapping!$C:$C,'Data BG'!$L34,Mapping!G:G)+SUMIF(Mapping!$D:$D,'Data BG'!$L34,Mapping!G:G)","v":0},{"$f":"SUMIF(Mapping!$B:$B,'Data BG'!$A34,Mapping!H:H)+SUMIF(Mapping!$C:$C,'Data BG'!$A34,Mapping!H:H)+SUMIF(Mapping!$D:$D,'Data BG'!$A34,Mapping!H:H)+SUMIF(Mapping!$B:$B,'Data BG'!$B34,Mapping!H:H)+SUMIF(Mapping!$C:$C,'Data BG'!$B34,Mapping!H:H)+SUMIF(Mapping!$D:$D,'Data BG'!$B34,Mapping!H:H)+SUMIF(Mapping!$B:$B,'Data BG'!$C34,Mapping!H:H)+SUMIF(Mapping!$C:$C,'Data BG'!$C34,Mapping!H:H)+SUMIF(Mapping!$D:$D,'Data BG'!$C34,Mapping!H:H)+SUMIF(Mapping!$B:$B,'Data BG'!$D34,Mapping!H:H)+SUMIF(Mapping!$C:$C,'Data BG'!$D34,Mapping!H:H)+SUMIF(Mapping!$D:$D,'Data BG'!$D34,Mapping!H:H)+SUMIF(Mapping!$B:$B,'Data BG'!$E34,Mapping!H:H)+SUMIF(Mapping!$C:$C,'Data BG'!$E34,Mapping!H:H)+SUMIF(Mapping!$D:$D,'Data BG'!$E34,Mapping!H:H)+SUMIF(Mapping!$B:$B,'Data BG'!$F34,Mapping!H:H)+SUMIF(Mapping!$C:$C,'Data BG'!$F34,Mapping!H:H)+SUMIF(Mapping!$D:$D,'Data BG'!$F34,Mapping!H:H)+SUMIF(Mapping!$B:$B,'Data BG'!$G34,Mapping!H:H)+SUMIF(Mapping!$C:$C,'Data BG'!$G34,Mapping!H:H)+SUMIF(Mapping!$D:$D,'Data BG'!$G34,Mapping!H:H)+SUMIF(Mapping!$B:$B,'Data BG'!$H34,Mapping!H:H)+SUMIF(Mapping!$C:$C,'Data BG'!$H34,Mapping!H:H)+SUMIF(Mapping!$D:$D,'Data BG'!$H34,Mapping!H:H)+SUMIF(Mapping!$B:$B,'Data BG'!$I34,Mapping!H:H)+SUMIF(Mapping!$C:$C,'Data BG'!$I34,Mapping!H:H)+SUMIF(Mapping!$D:$D,'Data BG'!$I34,Mapping!H:H)+SUMIF(Mapping!$B:$B,'Data BG'!$J34,Mapping!H:H)+SUMIF(Mapping!$C:$C,'Data BG'!$J34,Mapping!H:H)+SUMIF(Mapping!$D:$D,'Data BG'!$J34,Mapping!H:H)+SUMIF(Mapping!$B:$B,'Data BG'!$M34,Mapping!H:H)+SUMIF(Mapping!$C:$C,'Data BG'!$M34,Mapping!H:H)+SUMIF(Mapping!$D:$D,'Data BG'!$M34,Mapping!H:H)+SUMIF(Mapping!$B:$B,$N34,Mapping!H:H)+SUMIF(Mapping!$C:$C,$N34,Mapping!H:H)+SUMIF(Mapping!$D:$D,$N34,Mapping!H:H)+SUMIF(Mapping!$B:$B,'Data BG'!$K34,Mapping!H:H)+SUMIF(Mapping!$C:$C,'Data BG'!$K34,Mapping!H:H)+SUMIF(Mapping!$D:$D,'Data BG'!$K34,Mapping!H:H)+SUMIF(Mapping!$B:$B,'Data BG'!$L34,Mapping!H:H)+SUMIF(Mapping!$C:$C,'Data BG'!$L34,Mapping!H:H)+SUMIF(Mapping!$D:$D,'Data BG'!$L34,Mapping!H:H)","v":0}]
[410,411,413,416,418,null,null,null,null,null,null,null,null,null,null,null,null,"Créances clients et comptes rattachés ",{"$f":"SUMIF(Mapping!$B:$B,'Data BG'!$A35,Mapping!G:G)+SUMIF(Mapping!$C:$C,'Data BG'!$A35,Mapping!G:G)+SUMIF(Mapping!$D:$D,'Data BG'!$A35,Mapping!G:G)+SUMIF(Mapping!$B:$B,'Data BG'!$B35,Mapping!G:G)+SUMIF(Mapping!$C:$C,'Data BG'!$B35,Mapping!G:G)+SUMIF(Mapping!$D:$D,'Data BG'!$B35,Mapping!G:G)+SUMIF(Mapping!$B:$B,'Data BG'!$C35,Mapping!G:G)+SUMIF(Mapping!$C:$C,'Data BG'!$C35,Mapping!G:G)+SUMIF(Mapping!$D:$D,'Data BG'!$C35,Mapping!G:G)+SUMIF(Mapping!$B:$B,'Data BG'!$D35,Mapping!G:G)+SUMIF(Mapping!$C:$C,'Data BG'!$D35,Mapping!G:G)+SUMIF(Mapping!$D:$D,'Data BG'!$D35,Mapping!G:G)+SUMIF(Mapping!$B:$B,'Data BG'!$E35,Mapping!G:G)+SUMIF(Mapping!$C:$C,'Data BG'!$E35,Mapping!G:G)+SUMIF(Mapping!$D:$D,'Data BG'!$E35,Mapping!G:G)+SUMIF(Mapping!$B:$B,'Data BG'!$F35,Mapping!G:G)+SUMIF(Mapping!$C:$C,'Data BG'!$F35,Mapping!G:G)+SUMIF(Mapping!$D:$D,'Data BG'!$F35,Mapping!G:G)+SUMIF(Mapping!$B:$B,'Data BG'!$G35,Mapping!G:G)+SUMIF(Mapping!$C:$C,'Data BG'!$G35,Mapping!G:G)+SUMIF(Mapping!$D:$D,'Data BG'!$G35,Mapping!G:G)+SUMIF(Mapping!$B:$B,'Data BG'!$H35,Mapping!G:G)+SUMIF(Mapping!$C:$C,'Data BG'!$H35,Mapping!G:G)+SUMIF(Mapping!$D:$D,'Data BG'!$H35,Mapping!G:G)+SUMIF(Mapping!$B:$B,'Data BG'!$I35,Mapping!G:G)+SUMIF(Mapping!$C:$C,'Data BG'!$I35,Mapping!G:G)+SUMIF(Mapping!$D:$D,'Data BG'!$I35,Mapping!G:G)+SUMIF(Mapping!$B:$B,'Data BG'!$J35,Mapping!G:G)+SUMIF(Mapping!$C:$C,'Data BG'!$J35,Mapping!G:G)+SUMIF(Mapping!$D:$D,'Data BG'!$J35,Mapping!G:G)+SUMIF(Mapping!$B:$B,'Data BG'!$M35,Mapping!G:G)+SUMIF(Mapping!$C:$C,'Data BG'!$M35,Mapping!G:G)+SUMIF(Mapping!$D:$D,'Data BG'!$M35,Mapping!G:G)+SUMIF(Mapping!$B:$B,$N35,Mapping!G:G)+SUMIF(Mapping!$C:$C,$N35,Mapping!G:G)+SUMIF(Mapping!$D:$D,$N35,Mapping!G:G)+SUMIF(Mapping!$B:$B,'Data BG'!$K35,Mapping!G:G)+SUMIF(Mapping!$C:$C,'Data BG'!$K35,Mapping!G:G)+SUMIF(Mapping!$D:$D,'Data BG'!$K35,Mapping!G:G)+SUMIF(Mapping!$B:$B,'Data BG'!$L35,Mapping!G:G)+SUMIF(Mapping!$C:$C,'Data BG'!$L35,Mapping!G:G)+SUMIF(Mapping!$D:$D,'Data BG'!$L35,Mapping!G:G)","v":0},{"$f":"SUMIF(Mapping!$B:$B,'Data BG'!$A35,Mapping!H:H)+SUMIF(Mapping!$C:$C,'Data BG'!$A35,Mapping!H:H)+SUMIF(Mapping!$D:$D,'Data BG'!$A35,Mapping!H:H)+SUMIF(Mapping!$B:$B,'Data BG'!$B35,Mapping!H:H)+SUMIF(Mapping!$C:$C,'Data BG'!$B35,Mapping!H:H)+SUMIF(Mapping!$D:$D,'Data BG'!$B35,Mapping!H:H)+SUMIF(Mapping!$B:$B,'Data BG'!$C35,Mapping!H:H)+SUMIF(Mapping!$C:$C,'Data BG'!$C35,Mapping!H:H)+SUMIF(Mapping!$D:$D,'Data BG'!$C35,Mapping!H:H)+SUMIF(Mapping!$B:$B,'Data BG'!$D35,Mapping!H:H)+SUMIF(Mapping!$C:$C,'Data BG'!$D35,Mapping!H:H)+SUMIF(Mapping!$D:$D,'Data BG'!$D35,Mapping!H:H)+SUMIF(Mapping!$B:$B,'Data BG'!$E35,Mapping!H:H)+SUMIF(Mapping!$C:$C,'Data BG'!$E35,Mapping!H:H)+SUMIF(Mapping!$D:$D,'Data BG'!$E35,Mapping!H:H)+SUMIF(Mapping!$B:$B,'Data BG'!$F35,Mapping!H:H)+SUMIF(Mapping!$C:$C,'Data BG'!$F35,Mapping!H:H)+SUMIF(Mapping!$D:$D,'Data BG'!$F35,Mapping!H:H)+SUMIF(Mapping!$B:$B,'Data BG'!$G35,Mapping!H:H)+SUMIF(Mapping!$C:$C,'Data BG'!$G35,Mapping!H:H)+SUMIF(Mapping!$D:$D,'Data BG'!$G35,Mapping!H:H)+SUMIF(Mapping!$B:$B,'Data BG'!$H35,Mapping!H:H)+SUMIF(Mapping!$C:$C,'Data BG'!$H35,Mapping!H:H)+SUMIF(Mapping!$D:$D,'Data BG'!$H35,Mapping!H:H)+SUMIF(Mapping!$B:$B,'Data BG'!$I35,Mapping!H:H)+SUMIF(Mapping!$C:$C,'Data BG'!$I35,Mapping!H:H)+SUMIF(Mapping!$D:$D,'Data BG'!$I35,Mapping!H:H)+SUMIF(Mapping!$B:$B,'Data BG'!$J35,Mapping!H:H)+SUMIF(Mapping!$C:$C,'Data BG'!$J35,Mapping!H:H)+SUMIF(Mapping!$D:$D,'Data BG'!$J35,Mapping!H:H)+SUMIF(Mapping!$B:$B,'Data BG'!$M35,Mapping!H:H)+SUMIF(Mapping!$C:$C,'Data BG'!$M35,Mapping!H:H)+SUMIF(Mapping!$D:$D,'Data BG'!$M35,Mapping!H:H)+SUMIF(Mapping!$B:$B,$N35,Mapping!H:H)+SUMIF(Mapping!$C:$C,$N35,Mapping!H:H)+SUMIF(Mapping!$D:$D,$N35,Mapping!H:H)+SUMIF(Mapping!$B:$B,'Data BG'!$K35,Mapping!H:H)+SUMIF(Mapping!$C:$C,'Data BG'!$K35,Mapping!H:H)+SUMIF(Mapping!$D:$D,'Data BG'!$K35,Mapping!H:H)+SUMIF(Mapping!$B:$B,'Data BG'!$L35,Mapping!H:H)+SUMIF(Mapping!$C:$C,'Data BG'!$L35,Mapping!H:H)+SUMIF(Mapping!$D:$D,'Data BG'!$L35,Mapping!H:H)","v":0}]
[491,null,null,null,null,null,null,null,null,null,null,null,null,null,null,null,null,"Dépréc. Créances clients et comptes rattachés ",{"$f":"SUMIF(Mapping!$B:$B,'Data BG'!$A36,Mapping!G:G)+SUMIF(Mapping!$C:$C,'Data BG'!$A36,Mapping!G:G)+SUMIF(Mapping!$D:$D,'Data BG'!$A36,Mapping!G:G)+SUMIF(Mapping!$B:$B,'Data BG'!$B36,Mapping!G:G)+SUMIF(Mapping!$C:$C,'Data BG'!$B36,Mapping!G:G)+SUMIF(Mapping!$D:$D,'Data BG'!$B36,Mapping!G:G)+SUMIF(Mapping!$B:$B,'Data BG'!$C36,Mapping!G:G)+SUMIF(Mapping!$C:$C,'Data BG'!$C36,Mapping!G:G)+SUMIF(Mapping!$D:$D,'Data BG'!$C36,Mapping!G:G)+SUMIF(Mapping!$B:$B,'Data BG'!$D36,Mapping!G:G)+SUMIF(Mapping!$C:$C,'Data BG'!$D36,Mapping!G:G)+SUMIF(Mapping!$D:$D,'Data BG'!$D36,Mapping!G:G)+SUMIF(Mapping!$B:$B,'Data BG'!$E36,Mapping!G:G)+SUMIF(Mapping!$C:$C,'Data BG'!$E36,Mapping!G:G)+SUMIF(Mapping!$D:$D,'Data BG'!$E36,Mapping!G:G)+SUMIF(Mapping!$B:$B,'Data BG'!$F36,Mapping!G:G)+SUMIF(Mapping!$C:$C,'Data BG'!$F36,Mapping!G:G)+SUMIF(Mapping!$D:$D,'Data BG'!$F36,Mapping!G:G)+SUMIF(Mapping!$B:$B,'Data BG'!$G36,Mapping!G:G)+SUMIF(Mapping!$C:$C,'Data BG'!$G36,Mapping!G:G)+SUMIF(Mapping!$D:$D,'Data BG'!$G36,Mapping!G:G)+SUMIF(Mapping!$B:$B,'Data BG'!$H36,Mapping!G:G)+SUMIF(Mapping!$C:$C,'Data BG'!$H36,Mapping!G:G)+SUMIF(Mapping!$D:$D,'Data BG'!$H36,Mapping!G:G)+SUMIF(Mapping!$B:$B,'Data BG'!$I36,Mapping!G:G)+SUMIF(Mapping!$C:$C,'Data BG'!$I36,Mapping!G:G)+SUMIF(Mapping!$D:$D,'Data BG'!$I36,Mapping!G:G)+SUMIF(Mapping!$B:$B,'Data BG'!$J36,Mapping!G:G)+SUMIF(Mapping!$C:$C,'Data BG'!$J36,Mapping!G:G)+SUMIF(Mapping!$D:$D,'Data BG'!$J36,Mapping!G:G)+SUMIF(Mapping!$B:$B,'Data BG'!$M36,Mapping!G:G)+SUMIF(Mapping!$C:$C,'Data BG'!$M36,Mapping!G:G)+SUMIF(Mapping!$D:$D,'Data BG'!$M36,Mapping!G:G)+SUMIF(Mapping!$B:$B,$N36,Mapping!G:G)+SUMIF(Mapping!$C:$C,$N36,Mapping!G:G)+SUMIF(Mapping!$D:$D,$N36,Mapping!G:G)+SUMIF(Mapping!$B:$B,'Data BG'!$K36,Mapping!G:G)+SUMIF(Mapping!$C:$C,'Data BG'!$K36,Mapping!G:G)+SUMIF(Mapping!$D:$D,'Data BG'!$K36,Mapping!G:G)+SUMIF(Mapping!$B:$B,'Data BG'!$L36,Mapping!G:G)+SUMIF(Mapping!$C:$C,'Data BG'!$L36,Mapping!G:G)+SUMIF(Mapping!$D:$D,'Data BG'!$L36,Mapping!G:G)","v":0},{"$f":"SUMIF(Mapping!$B:$B,'Data BG'!$A36,Mapping!H:H)+SUMIF(Mapping!$C:$C,'Data BG'!$A36,Mapping!H:H)+SUMIF(Mapping!$D:$D,'Data BG'!$A36,Mapping!H:H)+SUMIF(Mapping!$B:$B,'Data BG'!$B36,Mapping!H:H)+SUMIF(Mapping!$C:$C,'Data BG'!$B36,Mapping!H:H)+SUMIF(Mapping!$D:$D,'Data BG'!$B36,Mapping!H:H)+SUMIF(Mapping!$B:$B,'Data BG'!$C36,Mapping!H:H)+SUMIF(Mapping!$C:$C,'Data BG'!$C36,Mapping!H:H)+SUMIF(Mapping!$D:$D,'Data BG'!$C36,Mapping!H:H)+SUMIF(Mapping!$B:$B,'Data BG'!$D36,Mapping!H:H)+SUMIF(Mapping!$C:$C,'Data BG'!$D36,Mapping!H:H)+SUMIF(Mapping!$D:$D,'Data BG'!$D36,Mapping!H:H)+SUMIF(Mapping!$B:$B,'Data BG'!$E36,Mapping!H:H)+SUMIF(Mapping!$C:$C,'Data BG'!$E36,Mapping!H:H)+SUMIF(Mapping!$D:$D,'Data BG'!$E36,Mapping!H:H)+SUMIF(Mapping!$B:$B,'Data BG'!$F36,Mapping!H:H)+SUMIF(Mapping!$C:$C,'Data BG'!$F36,Mapping!H:H)+SUMIF(Mapping!$D:$D,'Data BG'!$F36,Mapping!H:H)+SUMIF(Mapping!$B:$B,'Data BG'!$G36,Mapping!H:H)+SUMIF(Mapping!$C:$C,'Data BG'!$G36,Mapping!H:H)+SUMIF(Mapping!$D:$D,'Data BG'!$G36,Mapping!H:H)+SUMIF(Mapping!$B:$B,'Data BG'!$H36,Mapping!H:H)+SUMIF(Mapping!$C:$C,'Data BG'!$H36,Mapping!H:H)+SUMIF(Mapping!$D:$D,'Data BG'!$H36,Mapping!H:H)+SUMIF(Mapping!$B:$B,'Data BG'!$I36,Mapping!H:H)+SUMIF(Mapping!$C:$C,'Data BG'!$I36,Mapping!H:H)+SUMIF(Mapping!$D:$D,'Data BG'!$I36,Mapping!H:H)+SUMIF(Mapping!$B:$B,'Data BG'!$J36,Mapping!H:H)+SUMIF(Mapping!$C:$C,'Data BG'!$J36,Mapping!H:H)+SUMIF(Mapping!$D:$D,'Data BG'!$J36,Mapping!H:H)+SUMIF(Mapping!$B:$B,'Data BG'!$M36,Mapping!H:H)+SUMIF(Mapping!$C:$C,'Data BG'!$M36,Mapping!H:H)+SUMIF(Mapping!$D:$D,'Data BG'!$M36,Mapping!H:H)+SUMIF(Mapping!$B:$B,$N36,Mapping!H:H)+SUMIF(Mapping!$C:$C,$N36,Mapping!H:H)+SUMIF(Mapping!$D:$D,$N36,Mapping!H:H)+SUMIF(Mapping!$B:$B,'Data BG'!$K36,Mapping!H:H)+SUMIF(Mapping!$C:$C,'Data BG'!$K36,Mapping!H:H)+SUMIF(Mapping!$D:$D,'Data BG'!$K36,Mapping!H:H)+SUMIF(Mapping!$B:$B,'Data BG'!$L36,Mapping!H:H)+SUMIF(Mapping!$C:$C,'Data BG'!$L36,Mapping!H:H)+SUMIF(Mapping!$D:$D,'Data BG'!$L36,Mapping!H:H)","v":0}]
[4610,null,null,null,null,null,null,null,null,null,null,null,null,null,null,null,null,"Créances auprès de partis ou groupements politiques ",{"$f":"SUMIF(Mapping!$B:$B,'Data BG'!$A37,Mapping!G:G)+SUMIF(Mapping!$C:$C,'Data BG'!$A37,Mapping!G:G)+SUMIF(Mapping!$D:$D,'Data BG'!$A37,Mapping!G:G)+SUMIF(Mapping!$B:$B,'Data BG'!$B37,Mapping!G:G)+SUMIF(Mapping!$C:$C,'Data BG'!$B37,Mapping!G:G)+SUMIF(Mapping!$D:$D,'Data BG'!$B37,Mapping!G:G)+SUMIF(Mapping!$B:$B,'Data BG'!$C37,Mapping!G:G)+SUMIF(Mapping!$C:$C,'Data BG'!$C37,Mapping!G:G)+SUMIF(Mapping!$D:$D,'Data BG'!$C37,Mapping!G:G)+SUMIF(Mapping!$B:$B,'Data BG'!$D37,Mapping!G:G)+SUMIF(Mapping!$C:$C,'Data BG'!$D37,Mapping!G:G)+SUMIF(Mapping!$D:$D,'Data BG'!$D37,Mapping!G:G)+SUMIF(Mapping!$B:$B,'Data BG'!$E37,Mapping!G:G)+SUMIF(Mapping!$C:$C,'Data BG'!$E37,Mapping!G:G)+SUMIF(Mapping!$D:$D,'Data BG'!$E37,Mapping!G:G)+SUMIF(Mapping!$B:$B,'Data BG'!$F37,Mapping!G:G)+SUMIF(Mapping!$C:$C,'Data BG'!$F37,Mapping!G:G)+SUMIF(Mapping!$D:$D,'Data BG'!$F37,Mapping!G:G)+SUMIF(Mapping!$B:$B,'Data BG'!$G37,Mapping!G:G)+SUMIF(Mapping!$C:$C,'Data BG'!$G37,Mapping!G:G)+SUMIF(Mapping!$D:$D,'Data BG'!$G37,Mapping!G:G)+SUMIF(Mapping!$B:$B,'Data BG'!$H37,Mapping!G:G)+SUMIF(Mapping!$C:$C,'Data BG'!$H37,Mapping!G:G)+SUMIF(Mapping!$D:$D,'Data BG'!$H37,Mapping!G:G)+SUMIF(Mapping!$B:$B,'Data BG'!$I37,Mapping!G:G)+SUMIF(Mapping!$C:$C,'Data BG'!$I37,Mapping!G:G)+SUMIF(Mapping!$D:$D,'Data BG'!$I37,Mapping!G:G)+SUMIF(Mapping!$B:$B,'Data BG'!$J37,Mapping!G:G)+SUMIF(Mapping!$C:$C,'Data BG'!$J37,Mapping!G:G)+SUMIF(Mapping!$D:$D,'Data BG'!$J37,Mapping!G:G)+SUMIF(Mapping!$B:$B,'Data BG'!$M37,Mapping!G:G)+SUMIF(Mapping!$C:$C,'Data BG'!$M37,Mapping!G:G)+SUMIF(Mapping!$D:$D,'Data BG'!$M37,Mapping!G:G)+SUMIF(Mapping!$B:$B,$N37,Mapping!G:G)+SUMIF(Mapping!$C:$C,$N37,Mapping!G:G)+SUMIF(Mapping!$D:$D,$N37,Mapping!G:G)+SUMIF(Mapping!$B:$B,'Data BG'!$K37,Mapping!G:G)+SUMIF(Mapping!$C:$C,'Data BG'!$K37,Mapping!G:G)+SUMIF(Mapping!$D:$D,'Data BG'!$K37,Mapping!G:G)+SUMIF(Mapping!$B:$B,'Data BG'!$L37,Mapping!G:G)+SUMIF(Mapping!$C:$C,'Data BG'!$L37,Mapping!G:G)+SUMIF(Mapping!$D:$D,'Data BG'!$L37,Mapping!G:G)","v":0},{"$f":"SUMIF(Mapping!$B:$B,'Data BG'!$A37,Mapping!H:H)+SUMIF(Mapping!$C:$C,'Data BG'!$A37,Mapping!H:H)+SUMIF(Mapping!$D:$D,'Data BG'!$A37,Mapping!H:H)+SUMIF(Mapping!$B:$B,'Data BG'!$B37,Mapping!H:H)+SUMIF(Mapping!$C:$C,'Data BG'!$B37,Mapping!H:H)+SUMIF(Mapping!$D:$D,'Data BG'!$B37,Mapping!H:H)+SUMIF(Mapping!$B:$B,'Data BG'!$C37,Mapping!H:H)+SUMIF(Mapping!$C:$C,'Data BG'!$C37,Mapping!H:H)+SUMIF(Mapping!$D:$D,'Data BG'!$C37,Mapping!H:H)+SUMIF(Mapping!$B:$B,'Data BG'!$D37,Mapping!H:H)+SUMIF(Mapping!$C:$C,'Data BG'!$D37,Mapping!H:H)+SUMIF(Mapping!$D:$D,'Data BG'!$D37,Mapping!H:H)+SUMIF(Mapping!$B:$B,'Data BG'!$E37,Mapping!H:H)+SUMIF(Mapping!$C:$C,'Data BG'!$E37,Mapping!H:H)+SUMIF(Mapping!$D:$D,'Data BG'!$E37,Mapping!H:H)+SUMIF(Mapping!$B:$B,'Data BG'!$F37,Mapping!H:H)+SUMIF(Mapping!$C:$C,'Data BG'!$F37,Mapping!H:H)+SUMIF(Mapping!$D:$D,'Data BG'!$F37,Mapping!H:H)+SUMIF(Mapping!$B:$B,'Data BG'!$G37,Mapping!H:H)+SUMIF(Mapping!$C:$C,'Data BG'!$G37,Mapping!H:H)+SUMIF(Mapping!$D:$D,'Data BG'!$G37,Mapping!H:H)+SUMIF(Mapping!$B:$B,'Data BG'!$H37,Mapping!H:H)+SUMIF(Mapping!$C:$C,'Data BG'!$H37,Mapping!H:H)+SUMIF(Mapping!$D:$D,'Data BG'!$H37,Mapping!H:H)+SUMIF(Mapping!$B:$B,'Data BG'!$I37,Mapping!H:H)+SUMIF(Mapping!$C:$C,'Data BG'!$I37,Mapping!H:H)+SUMIF(Mapping!$D:$D,'Data BG'!$I37,Mapping!H:H)+SUMIF(Mapping!$B:$B,'Data BG'!$J37,Mapping!H:H)+SUMIF(Mapping!$C:$C,'Data BG'!$J37,Mapping!H:H)+SUMIF(Mapping!$D:$D,'Data BG'!$J37,Mapping!H:H)+SUMIF(Mapping!$B:$B,'Data BG'!$M37,Mapping!H:H)+SUMIF(Mapping!$C:$C,'Data BG'!$M37,Mapping!H:H)+SUMIF(Mapping!$D:$D,'Data BG'!$M37,Mapping!H:H)+SUMIF(Mapping!$B:$B,$N37,Mapping!H:H)+SUMIF(Mapping!$C:$C,$N37,Mapping!H:H)+SUMIF(Mapping!$D:$D,$N37,Mapping!H:H)+SUMIF(Mapping!$B:$B,'Data BG'!$K37,Mapping!H:H)+SUMIF(Mapping!$C:$C,'Data BG'!$K37,Mapping!H:H)+SUMIF(Mapping!$D:$D,'Data BG'!$K37,Mapping!H:H)+SUMIF(Mapping!$B:$B,'Data BG'!$L37,Mapping!H:H)+SUMIF(Mapping!$C:$C,'Data BG'!$L37,Mapping!H:H)+SUMIF(Mapping!$D:$D,'Data BG'!$L37,Mapping!H:H)","v":0}]
[4961,null,null,null,null,null,null,null,null,null,null,null,null,null,null,null,null,"Dépréc. Créances auprès de partis ou groupements politiques ",{"$f":"SUMIF(Mapping!$B:$B,'Data BG'!$A38,Mapping!G:G)+SUMIF(Mapping!$C:$C,'Data BG'!$A38,Mapping!G:G)+SUMIF(Mapping!$D:$D,'Data BG'!$A38,Mapping!G:G)+SUMIF(Mapping!$B:$B,'Data BG'!$B38,Mapping!G:G)+SUMIF(Mapping!$C:$C,'Data BG'!$B38,Mapping!G:G)+SUMIF(Mapping!$D:$D,'Data BG'!$B38,Mapping!G:G)+SUMIF(Mapping!$B:$B,'Data BG'!$C38,Mapping!G:G)+SUMIF(Mapping!$C:$C,'Data BG'!$C38,Mapping!G:G)+SUMIF(Mapping!$D:$D,'Data BG'!$C38,Mapping!G:G)+SUMIF(Mapping!$B:$B,'Data BG'!$D38,Mapping!G:G)+SUMIF(Mapping!$C:$C,'Data BG'!$D38,Mapping!G:G)+SUMIF(Mapping!$D:$D,'Data BG'!$D38,Mapping!G:G)+SUMIF(Mapping!$B:$B,'Data BG'!$E38,Mapping!G:G)+SUMIF(Mapping!$C:$C,'Data BG'!$E38,Mapping!G:G)+SUMIF(Mapping!$D:$D,'Data BG'!$E38,Mapping!G:G)+SUMIF(Mapping!$B:$B,'Data BG'!$F38,Mapping!G:G)+SUMIF(Mapping!$C:$C,'Data BG'!$F38,Mapping!G:G)+SUMIF(Mapping!$D:$D,'Data BG'!$F38,Mapping!G:G)+SUMIF(Mapping!$B:$B,'Data BG'!$G38,Mapping!G:G)+SUMIF(Mapping!$C:$C,'Data BG'!$G38,Mapping!G:G)+SUMIF(Mapping!$D:$D,'Data BG'!$G38,Mapping!G:G)+SUMIF(Mapping!$B:$B,'Data BG'!$H38,Mapping!G:G)+SUMIF(Mapping!$C:$C,'Data BG'!$H38,Mapping!G:G)+SUMIF(Mapping!$D:$D,'Data BG'!$H38,Mapping!G:G)+SUMIF(Mapping!$B:$B,'Data BG'!$I38,Mapping!G:G)+SUMIF(Mapping!$C:$C,'Data BG'!$I38,Mapping!G:G)+SUMIF(Mapping!$D:$D,'Data BG'!$I38,Mapping!G:G)+SUMIF(Mapping!$B:$B,'Data BG'!$J38,Mapping!G:G)+SUMIF(Mapping!$C:$C,'Data BG'!$J38,Mapping!G:G)+SUMIF(Mapping!$D:$D,'Data BG'!$J38,Mapping!G:G)+SUMIF(Mapping!$B:$B,'Data BG'!$M38,Mapping!G:G)+SUMIF(Mapping!$C:$C,'Data BG'!$M38,Mapping!G:G)+SUMIF(Mapping!$D:$D,'Data BG'!$M38,Mapping!G:G)+SUMIF(Mapping!$B:$B,$N38,Mapping!G:G)+SUMIF(Mapping!$C:$C,$N38,Mapping!G:G)+SUMIF(Mapping!$D:$D,$N38,Mapping!G:G)+SUMIF(Mapping!$B:$B,'Data BG'!$K38,Mapping!G:G)+SUMIF(Mapping!$C:$C,'Data BG'!$K38,Mapping!G:G)+SUMIF(Mapping!$D:$D,'Data BG'!$K38,Mapping!G:G)+SUMIF(Mapping!$B:$B,'Data BG'!$L38,Mapping!G:G)+SUMIF(Mapping!$C:$C,'Data BG'!$L38,Mapping!G:G)+SUMIF(Mapping!$D:$D,'Data BG'!$L38,Mapping!G:G)","v":0},{"$f":"SUMIF(Mapping!$B:$B,'Data BG'!$A38,Mapping!H:H)+SUMIF(Mapping!$C:$C,'Data BG'!$A38,Mapping!H:H)+SUMIF(Mapping!$D:$D,'Data BG'!$A38,Mapping!H:H)+SUMIF(Mapping!$B:$B,'Data BG'!$B38,Mapping!H:H)+SUMIF(Mapping!$C:$C,'Data BG'!$B38,Mapping!H:H)+SUMIF(Mapping!$D:$D,'Data BG'!$B38,Mapping!H:H)+SUMIF(Mapping!$B:$B,'Data BG'!$C38,Mapping!H:H)+SUMIF(Mapping!$C:$C,'Data BG'!$C38,Mapping!H:H)+SUMIF(Mapping!$D:$D,'Data BG'!$C38,Mapping!H:H)+SUMIF(Mapping!$B:$B,'Data BG'!$D38,Mapping!H:H)+SUMIF(Mapping!$C:$C,'Data BG'!$D38,Mapping!H:H)+SUMIF(Mapping!$D:$D,'Data BG'!$D38,Mapping!H:H)+SUMIF(Mapping!$B:$B,'Data BG'!$E38,Mapping!H:H)+SUMIF(Mapping!$C:$C,'Data BG'!$E38,Mapping!H:H)+SUMIF(Mapping!$D:$D,'Data BG'!$E38,Mapping!H:H)+SUMIF(Mapping!$B:$B,'Data BG'!$F38,Mapping!H:H)+SUMIF(Mapping!$C:$C,'Data BG'!$F38,Mapping!H:H)+SUMIF(Mapping!$D:$D,'Data BG'!$F38,Mapping!H:H)+SUMIF(Mapping!$B:$B,'Data BG'!$G38,Mapping!H:H)+SUMIF(Mapping!$C:$C,'Data BG'!$G38,Mapping!H:H)+SUMIF(Mapping!$D:$D,'Data BG'!$G38,Mapping!H:H)+SUMIF(Mapping!$B:$B,'Data BG'!$H38,Mapping!H:H)+SUMIF(Mapping!$C:$C,'Data BG'!$H38,Mapping!H:H)+SUMIF(Mapping!$D:$D,'Data BG'!$H38,Mapping!H:H)+SUMIF(Mapping!$B:$B,'Data BG'!$I38,Mapping!H:H)+SUMIF(Mapping!$C:$C,'Data BG'!$I38,Mapping!H:H)+SUMIF(Mapping!$D:$D,'Data BG'!$I38,Mapping!H:H)+SUMIF(Mapping!$B:$B,'Data BG'!$J38,Mapping!H:H)+SUMIF(Mapping!$C:$C,'Data BG'!$J38,Mapping!H:H)+SUMIF(Mapping!$D:$D,'Data BG'!$J38,Mapping!H:H)+SUMIF(Mapping!$B:$B,'Data BG'!$M38,Mapping!H:H)+SUMIF(Mapping!$C:$C,'Data BG'!$M38,Mapping!H:H)+SUMIF(Mapping!$D:$D,'Data BG'!$M38,Mapping!H:H)+SUMIF(Mapping!$B:$B,$N38,Mapping!H:H)+SUMIF(Mapping!$C:$C,$N38,Mapping!H:H)+SUMIF(Mapping!$D:$D,$N38,Mapping!H:H)+SUMIF(Mapping!$B:$B,'Data BG'!$K38,Mapping!H:H)+SUMIF(Mapping!$C:$C,'Data BG'!$K38,Mapping!H:H)+SUMIF(Mapping!$D:$D,'Data BG'!$K38,Mapping!H:H)+SUMIF(Mapping!$B:$B,'Data BG'!$L38,Mapping!H:H)+SUMIF(Mapping!$C:$C,'Data BG'!$L38,Mapping!H:H)+SUMIF(Mapping!$D:$D,'Data BG'!$L38,Mapping!H:H)","v":0}]
["42A","43A","44A","45A","46A","47A",409,4880,109,481,4886,null,null,null,null,null,null,"Autres créances ",{"$f":"SUMIF(Mapping!$B:$B,'Data BG'!$A39,Mapping!G:G)+SUMIF(Mapping!$C:$C,'Data BG'!$A39,Mapping!G:G)+SUMIF(Mapping!$D:$D,'Data BG'!$A39,Mapping!G:G)+SUMIF(Mapping!$B:$B,'Data BG'!$B39,Mapping!G:G)+SUMIF(Mapping!$C:$C,'Data BG'!$B39,Mapping!G:G)+SUMIF(Mapping!$D:$D,'Data BG'!$B39,Mapping!G:G)+SUMIF(Mapping!$B:$B,'Data BG'!$C39,Mapping!G:G)+SUMIF(Mapping!$C:$C,'Data BG'!$C39,Mapping!G:G)+SUMIF(Mapping!$D:$D,'Data BG'!$C39,Mapping!G:G)+SUMIF(Mapping!$B:$B,'Data BG'!$D39,Mapping!G:G)+SUMIF(Mapping!$C:$C,'Data BG'!$D39,Mapping!G:G)+SUMIF(Mapping!$D:$D,'Data BG'!$D39,Mapping!G:G)+SUMIF(Mapping!$B:$B,'Data BG'!$E39,Mapping!G:G)+SUMIF(Mapping!$C:$C,'Data BG'!$E39,Mapping!G:G)+SUMIF(Mapping!$D:$D,'Data BG'!$E39,Mapping!G:G)+SUMIF(Mapping!$B:$B,'Data BG'!$F39,Mapping!G:G)+SUMIF(Mapping!$C:$C,'Data BG'!$F39,Mapping!G:G)+SUMIF(Mapping!$D:$D,'Data BG'!$F39,Mapping!G:G)+SUMIF(Mapping!$B:$B,'Data BG'!$G39,Mapping!G:G)+SUMIF(Mapping!$C:$C,'Data BG'!$G39,Mapping!G:G)+SUMIF(Mapping!$D:$D,'Data BG'!$G39,Mapping!G:G)+SUMIF(Mapping!$B:$B,'Data BG'!$H39,Mapping!G:G)+SUMIF(Mapping!$C:$C,'Data BG'!$H39,Mapping!G:G)+SUMIF(Mapping!$D:$D,'Data BG'!$H39,Mapping!G:G)+SUMIF(Mapping!$B:$B,'Data BG'!$I39,Mapping!G:G)+SUMIF(Mapping!$C:$C,'Data BG'!$I39,Mapping!G:G)+SUMIF(Mapping!$D:$D,'Data BG'!$I39,Mapping!G:G)+SUMIF(Mapping!$B:$B,'Data BG'!$J39,Mapping!G:G)+SUMIF(Mapping!$C:$C,'Data BG'!$J39,Mapping!G:G)+SUMIF(Mapping!$D:$D,'Data BG'!$J39,Mapping!G:G)+SUMIF(Mapping!$B:$B,'Data BG'!$M39,Mapping!G:G)+SUMIF(Mapping!$C:$C,'Data BG'!$M39,Mapping!G:G)+SUMIF(Mapping!$D:$D,'Data BG'!$M39,Mapping!G:G)+SUMIF(Mapping!$B:$B,$N39,Mapping!G:G)+SUMIF(Mapping!$C:$C,$N39,Mapping!G:G)+SUMIF(Mapping!$D:$D,$N39,Mapping!G:G)+SUMIF(Mapping!$B:$B,'Data BG'!$K39,Mapping!G:G)+SUMIF(Mapping!$C:$C,'Data BG'!$K39,Mapping!G:G)+SUMIF(Mapping!$D:$D,'Data BG'!$K39,Mapping!G:G)+SUMIF(Mapping!$B:$B,'Data BG'!$L39,Mapping!G:G)+SUMIF(Mapping!$C:$C,'Data BG'!$L39,Mapping!G:G)+SUMIF(Mapping!$D:$D,'Data BG'!$L39,Mapping!G:G)-S33-S37-S45","v":0},{"$f":"SUMIF(Mapping!$B:$B,'Data BG'!$A39,Mapping!H:H)+SUMIF(Mapping!$C:$C,'Data BG'!$A39,Mapping!H:H)+SUMIF(Mapping!$D:$D,'Data BG'!$A39,Mapping!H:H)+SUMIF(Mapping!$B:$B,'Data BG'!$B39,Mapping!H:H)+SUMIF(Mapping!$C:$C,'Data BG'!$B39,Mapping!H:H)+SUMIF(Mapping!$D:$D,'Data BG'!$B39,Mapping!H:H)+SUMIF(Mapping!$B:$B,'Data BG'!$C39,Mapping!H:H)+SUMIF(Mapping!$C:$C,'Data BG'!$C39,Mapping!H:H)+SUMIF(Mapping!$D:$D,'Data BG'!$C39,Mapping!H:H)+SUMIF(Mapping!$B:$B,'Data BG'!$D39,Mapping!H:H)+SUMIF(Mapping!$C:$C,'Data BG'!$D39,Mapping!H:H)+SUMIF(Mapping!$D:$D,'Data BG'!$D39,Mapping!H:H)+SUMIF(Mapping!$B:$B,'Data BG'!$E39,Mapping!H:H)+SUMIF(Mapping!$C:$C,'Data BG'!$E39,Mapping!H:H)+SUMIF(Mapping!$D:$D,'Data BG'!$E39,Mapping!H:H)+SUMIF(Mapping!$B:$B,'Data BG'!$F39,Mapping!H:H)+SUMIF(Mapping!$C:$C,'Data BG'!$F39,Mapping!H:H)+SUMIF(Mapping!$D:$D,'Data BG'!$F39,Mapping!H:H)+SUMIF(Mapping!$B:$B,'Data BG'!$G39,Mapping!H:H)+SUMIF(Mapping!$C:$C,'Data BG'!$G39,Mapping!H:H)+SUMIF(Mapping!$D:$D,'Data BG'!$G39,Mapping!H:H)+SUMIF(Mapping!$B:$B,'Data BG'!$H39,Mapping!H:H)+SUMIF(Mapping!$C:$C,'Data BG'!$H39,Mapping!H:H)+SUMIF(Mapping!$D:$D,'Data BG'!$H39,Mapping!H:H)+SUMIF(Mapping!$B:$B,'Data BG'!$I39,Mapping!H:H)+SUMIF(Mapping!$C:$C,'Data BG'!$I39,Mapping!H:H)+SUMIF(Mapping!$D:$D,'Data BG'!$I39,Mapping!H:H)+SUMIF(Mapping!$B:$B,'Data BG'!$J39,Mapping!H:H)+SUMIF(Mapping!$C:$C,'Data BG'!$J39,Mapping!H:H)+SUMIF(Mapping!$D:$D,'Data BG'!$J39,Mapping!H:H)+SUMIF(Mapping!$B:$B,'Data BG'!$M39,Mapping!H:H)+SUMIF(Mapping!$C:$C,'Data BG'!$M39,Mapping!H:H)+SUMIF(Mapping!$D:$D,'Data BG'!$M39,Mapping!H:H)+SUMIF(Mapping!$B:$B,$N39,Mapping!H:H)+SUMIF(Mapping!$C:$C,$N39,Mapping!H:H)+SUMIF(Mapping!$D:$D,$N39,Mapping!H:H)+SUMIF(Mapping!$B:$B,'Data BG'!$K39,Mapping!H:H)+SUMIF(Mapping!$C:$C,'Data BG'!$K39,Mapping!H:H)+SUMIF(Mapping!$D:$D,'Data BG'!$K39,Mapping!H:H)+SUMIF(Mapping!$B:$B,'Data BG'!$L39,Mapping!H:H)+SUMIF(Mapping!$C:$C,'Data BG'!$L39,Mapping!H:H)+SUMIF(Mapping!$D:$D,'Data BG'!$L39,Mapping!H:H)-T33-T37-T45","v":0}]
[null,null,null,495,496,null,null,null,null,null,null,null,null,null,null,null,null,"Déprec. Autres créances ",{"$f":"SUMIF(Mapping!$B:$B,'Data BG'!$A40,Mapping!G:G)+SUMIF(Mapping!$C:$C,'Data BG'!$A40,Mapping!G:G)+SUMIF(Mapping!$D:$D,'Data BG'!$A40,Mapping!G:G)+SUMIF(Mapping!$B:$B,'Data BG'!$B40,Mapping!G:G)+SUMIF(Mapping!$C:$C,'Data BG'!$B40,Mapping!G:G)+SUMIF(Mapping!$D:$D,'Data BG'!$B40,Mapping!G:G)+SUMIF(Mapping!$B:$B,'Data BG'!$C40,Mapping!G:G)+SUMIF(Mapping!$C:$C,'Data BG'!$C40,Mapping!G:G)+SUMIF(Mapping!$D:$D,'Data BG'!$C40,Mapping!G:G)+SUMIF(Mapping!$B:$B,'Data BG'!$D40,Mapping!G:G)+SUMIF(Mapping!$C:$C,'Data BG'!$D40,Mapping!G:G)+SUMIF(Mapping!$D:$D,'Data BG'!$D40,Mapping!G:G)+SUMIF(Mapping!$B:$B,'Data BG'!$E40,Mapping!G:G)+SUMIF(Mapping!$C:$C,'Data BG'!$E40,Mapping!G:G)+SUMIF(Mapping!$D:$D,'Data BG'!$E40,Mapping!G:G)+SUMIF(Mapping!$B:$B,'Data BG'!$F40,Mapping!G:G)+SUMIF(Mapping!$C:$C,'Data BG'!$F40,Mapping!G:G)+SUMIF(Mapping!$D:$D,'Data BG'!$F40,Mapping!G:G)+SUMIF(Mapping!$B:$B,'Data BG'!$G40,Mapping!G:G)+SUMIF(Mapping!$C:$C,'Data BG'!$G40,Mapping!G:G)+SUMIF(Mapping!$D:$D,'Data BG'!$G40,Mapping!G:G)+SUMIF(Mapping!$B:$B,'Data BG'!$H40,Mapping!G:G)+SUMIF(Mapping!$C:$C,'Data BG'!$H40,Mapping!G:G)+SUMIF(Mapping!$D:$D,'Data BG'!$H40,Mapping!G:G)+SUMIF(Mapping!$B:$B,'Data BG'!$I40,Mapping!G:G)+SUMIF(Mapping!$C:$C,'Data BG'!$I40,Mapping!G:G)+SUMIF(Mapping!$D:$D,'Data BG'!$I40,Mapping!G:G)+SUMIF(Mapping!$B:$B,'Data BG'!$J40,Mapping!G:G)+SUMIF(Mapping!$C:$C,'Data BG'!$J40,Mapping!G:G)+SUMIF(Mapping!$D:$D,'Data BG'!$J40,Mapping!G:G)+SUMIF(Mapping!$B:$B,'Data BG'!$M40,Mapping!G:G)+SUMIF(Mapping!$C:$C,'Data BG'!$M40,Mapping!G:G)+SUMIF(Mapping!$D:$D,'Data BG'!$M40,Mapping!G:G)+SUMIF(Mapping!$B:$B,$N40,Mapping!G:G)+SUMIF(Mapping!$C:$C,$N40,Mapping!G:G)+SUMIF(Mapping!$D:$D,$N40,Mapping!G:G)+SUMIF(Mapping!$B:$B,'Data BG'!$K40,Mapping!G:G)+SUMIF(Mapping!$C:$C,'Data BG'!$K40,Mapping!G:G)+SUMIF(Mapping!$D:$D,'Data BG'!$K40,Mapping!G:G)+SUMIF(Mapping!$B:$B,'Data BG'!$L40,Mapping!G:G)+SUMIF(Mapping!$C:$C,'Data BG'!$L40,Mapping!G:G)+SUMIF(Mapping!$D:$D,'Data BG'!$L40,Mapping!G:G)-S38-S46","v":0},{"$f":"SUMIF(Mapping!$B:$B,'Data BG'!$A40,Mapping!H:H)+SUMIF(Mapping!$C:$C,'Data BG'!$A40,Mapping!H:H)+SUMIF(Mapping!$D:$D,'Data BG'!$A40,Mapping!H:H)+SUMIF(Mapping!$B:$B,'Data BG'!$B40,Mapping!H:H)+SUMIF(Mapping!$C:$C,'Data BG'!$B40,Mapping!H:H)+SUMIF(Mapping!$D:$D,'Data BG'!$B40,Mapping!H:H)+SUMIF(Mapping!$B:$B,'Data BG'!$C40,Mapping!H:H)+SUMIF(Mapping!$C:$C,'Data BG'!$C40,Mapping!H:H)+SUMIF(Mapping!$D:$D,'Data BG'!$C40,Mapping!H:H)+SUMIF(Mapping!$B:$B,'Data BG'!$D40,Mapping!H:H)+SUMIF(Mapping!$C:$C,'Data BG'!$D40,Mapping!H:H)+SUMIF(Mapping!$D:$D,'Data BG'!$D40,Mapping!H:H)+SUMIF(Mapping!$B:$B,'Data BG'!$E40,Mapping!H:H)+SUMIF(Mapping!$C:$C,'Data BG'!$E40,Mapping!H:H)+SUMIF(Mapping!$D:$D,'Data BG'!$E40,Mapping!H:H)+SUMIF(Mapping!$B:$B,'Data BG'!$F40,Mapping!H:H)+SUMIF(Mapping!$C:$C,'Data BG'!$F40,Mapping!H:H)+SUMIF(Mapping!$D:$D,'Data BG'!$F40,Mapping!H:H)+SUMIF(Mapping!$B:$B,'Data BG'!$G40,Mapping!H:H)+SUMIF(Mapping!$C:$C,'Data BG'!$G40,Mapping!H:H)+SUMIF(Mapping!$D:$D,'Data BG'!$G40,Mapping!H:H)+SUMIF(Mapping!$B:$B,'Data BG'!$H40,Mapping!H:H)+SUMIF(Mapping!$C:$C,'Data BG'!$H40,Mapping!H:H)+SUMIF(Mapping!$D:$D,'Data BG'!$H40,Mapping!H:H)+SUMIF(Mapping!$B:$B,'Data BG'!$I40,Mapping!H:H)+SUMIF(Mapping!$C:$C,'Data BG'!$I40,Mapping!H:H)+SUMIF(Mapping!$D:$D,'Data BG'!$I40,Mapping!H:H)+SUMIF(Mapping!$B:$B,'Data BG'!$J40,Mapping!H:H)+SUMIF(Mapping!$C:$C,'Data BG'!$J40,Mapping!H:H)+SUMIF(Mapping!$D:$D,'Data BG'!$J40,Mapping!H:H)+SUMIF(Mapping!$B:$B,'Data BG'!$M40,Mapping!H:H)+SUMIF(Mapping!$C:$C,'Data BG'!$M40,Mapping!H:H)+SUMIF(Mapping!$D:$D,'Data BG'!$M40,Mapping!H:H)+SUMIF(Mapping!$B:$B,$N40,Mapping!H:H)+SUMIF(Mapping!$C:$C,$N40,Mapping!H:H)+SUMIF(Mapping!$D:$D,$N40,Mapping!H:H)+SUMIF(Mapping!$B:$B,'Data BG'!$K40,Mapping!H:H)+SUMIF(Mapping!$C:$C,'Data BG'!$K40,Mapping!H:H)+SUMIF(Mapping!$D:$D,'Data BG'!$K40,Mapping!H:H)+SUMIF(Mapping!$B:$B,'Data BG'!$L40,Mapping!H:H)+SUMIF(Mapping!$C:$C,'Data BG'!$L40,Mapping!H:H)+SUMIF(Mapping!$D:$D,'Data BG'!$L40,Mapping!H:H)-T38-T46","v":0}]
[486,null,null,null,null,null,null,null,null,null,null,null,null,null,null,null,null,"Charges constatées d'avance ",{"$f":"SUMIF(Mapping!$B:$B,'Data BG'!$A41,Mapping!G:G)+SUMIF(Mapping!$C:$C,'Data BG'!$A41,Mapping!G:G)+SUMIF(Mapping!$D:$D,'Data BG'!$A41,Mapping!G:G)+SUMIF(Mapping!$B:$B,'Data BG'!$B41,Mapping!G:G)+SUMIF(Mapping!$C:$C,'Data BG'!$B41,Mapping!G:G)+SUMIF(Mapping!$D:$D,'Data BG'!$B41,Mapping!G:G)+SUMIF(Mapping!$B:$B,'Data BG'!$C41,Mapping!G:G)+SUMIF(Mapping!$C:$C,'Data BG'!$C41,Mapping!G:G)+SUMIF(Mapping!$D:$D,'Data BG'!$C41,Mapping!G:G)+SUMIF(Mapping!$B:$B,'Data BG'!$D41,Mapping!G:G)+SUMIF(Mapping!$C:$C,'Data BG'!$D41,Mapping!G:G)+SUMIF(Mapping!$D:$D,'Data BG'!$D41,Mapping!G:G)+SUMIF(Mapping!$B:$B,'Data BG'!$E41,Mapping!G:G)+SUMIF(Mapping!$C:$C,'Data BG'!$E41,Mapping!G:G)+SUMIF(Mapping!$D:$D,'Data BG'!$E41,Mapping!G:G)+SUMIF(Mapping!$B:$B,'Data BG'!$F41,Mapping!G:G)+SUMIF(Mapping!$C:$C,'Data BG'!$F41,Mapping!G:G)+SUMIF(Mapping!$D:$D,'Data BG'!$F41,Mapping!G:G)+SUMIF(Mapping!$B:$B,'Data BG'!$G41,Mapping!G:G)+SUMIF(Mapping!$C:$C,'Data BG'!$G41,Mapping!G:G)+SUMIF(Mapping!$D:$D,'Data BG'!$G41,Mapping!G:G)+SUMIF(Mapping!$B:$B,'Data BG'!$H41,Mapping!G:G)+SUMIF(Mapping!$C:$C,'Data BG'!$H41,Mapping!G:G)+SUMIF(Mapping!$D:$D,'Data BG'!$H41,Mapping!G:G)+SUMIF(Mapping!$B:$B,'Data BG'!$I41,Mapping!G:G)+SUMIF(Mapping!$C:$C,'Data BG'!$I41,Mapping!G:G)+SUMIF(Mapping!$D:$D,'Data BG'!$I41,Mapping!G:G)+SUMIF(Mapping!$B:$B,'Data BG'!$J41,Mapping!G:G)+SUMIF(Mapping!$C:$C,'Data BG'!$J41,Mapping!G:G)+SUMIF(Mapping!$D:$D,'Data BG'!$J41,Mapping!G:G)+SUMIF(Mapping!$B:$B,'Data BG'!$M41,Mapping!G:G)+SUMIF(Mapping!$C:$C,'Data BG'!$M41,Mapping!G:G)+SUMIF(Mapping!$D:$D,'Data BG'!$M41,Mapping!G:G)+SUMIF(Mapping!$B:$B,$N41,Mapping!G:G)+SUMIF(Mapping!$C:$C,$N41,Mapping!G:G)+SUMIF(Mapping!$D:$D,$N41,Mapping!G:G)+SUMIF(Mapping!$B:$B,'Data BG'!$K41,Mapping!G:G)+SUMIF(Mapping!$C:$C,'Data BG'!$K41,Mapping!G:G)+SUMIF(Mapping!$D:$D,'Data BG'!$K41,Mapping!G:G)+SUMIF(Mapping!$B:$B,'Data BG'!$L41,Mapping!G:G)+SUMIF(Mapping!$C:$C,'Data BG'!$L41,Mapping!G:G)+SUMIF(Mapping!$D:$D,'Data BG'!$L41,Mapping!G:G)","v":0},{"$f":"SUMIF(Mapping!$B:$B,'Data BG'!$A41,Mapping!H:H)+SUMIF(Mapping!$C:$C,'Data BG'!$A41,Mapping!H:H)+SUMIF(Mapping!$D:$D,'Data BG'!$A41,Mapping!H:H)+SUMIF(Mapping!$B:$B,'Data BG'!$B41,Mapping!H:H)+SUMIF(Mapping!$C:$C,'Data BG'!$B41,Mapping!H:H)+SUMIF(Mapping!$D:$D,'Data BG'!$B41,Mapping!H:H)+SUMIF(Mapping!$B:$B,'Data BG'!$C41,Mapping!H:H)+SUMIF(Mapping!$C:$C,'Data BG'!$C41,Mapping!H:H)+SUMIF(Mapping!$D:$D,'Data BG'!$C41,Mapping!H:H)+SUMIF(Mapping!$B:$B,'Data BG'!$D41,Mapping!H:H)+SUMIF(Mapping!$C:$C,'Data BG'!$D41,Mapping!H:H)+SUMIF(Mapping!$D:$D,'Data BG'!$D41,Mapping!H:H)+SUMIF(Mapping!$B:$B,'Data BG'!$E41,Mapping!H:H)+SUMIF(Mapping!$C:$C,'Data BG'!$E41,Mapping!H:H)+SUMIF(Mapping!$D:$D,'Data BG'!$E41,Mapping!H:H)+SUMIF(Mapping!$B:$B,'Data BG'!$F41,Mapping!H:H)+SUMIF(Mapping!$C:$C,'Data BG'!$F41,Mapping!H:H)+SUMIF(Mapping!$D:$D,'Data BG'!$F41,Mapping!H:H)+SUMIF(Mapping!$B:$B,'Data BG'!$G41,Mapping!H:H)+SUMIF(Mapping!$C:$C,'Data BG'!$G41,Mapping!H:H)+SUMIF(Mapping!$D:$D,'Data BG'!$G41,Mapping!H:H)+SUMIF(Mapping!$B:$B,'Data BG'!$H41,Mapping!H:H)+SUMIF(Mapping!$C:$C,'Data BG'!$H41,Mapping!H:H)+SUMIF(Mapping!$D:$D,'Data BG'!$H41,Mapping!H:H)+SUMIF(Mapping!$B:$B,'Data BG'!$I41,Mapping!H:H)+SUMIF(Mapping!$C:$C,'Data BG'!$I41,Mapping!H:H)+SUMIF(Mapping!$D:$D,'Data BG'!$I41,Mapping!H:H)+SUMIF(Mapping!$B:$B,'Data BG'!$J41,Mapping!H:H)+SUMIF(Mapping!$C:$C,'Data BG'!$J41,Mapping!H:H)+SUMIF(Mapping!$D:$D,'Data BG'!$J41,Mapping!H:H)+SUMIF(Mapping!$B:$B,'Data BG'!$M41,Mapping!H:H)+SUMIF(Mapping!$C:$C,'Data BG'!$M41,Mapping!H:H)+SUMIF(Mapping!$D:$D,'Data BG'!$M41,Mapping!H:H)+SUMIF(Mapping!$B:$B,$N41,Mapping!H:H)+SUMIF(Mapping!$C:$C,$N41,Mapping!H:H)+SUMIF(Mapping!$D:$D,$N41,Mapping!H:H)+SUMIF(Mapping!$B:$B,'Data BG'!$K41,Mapping!H:H)+SUMIF(Mapping!$C:$C,'Data BG'!$K41,Mapping!H:H)+SUMIF(Mapping!$D:$D,'Data BG'!$K41,Mapping!H:H)+SUMIF(Mapping!$B:$B,'Data BG'!$L41,Mapping!H:H)+SUMIF(Mapping!$C:$C,'Data BG'!$L41,Mapping!H:H)+SUMIF(Mapping!$D:$D,'Data BG'!$L41,Mapping!H:H)","v":0}]
[50,null,null,null,null,null,null,null,null,null,null,null,null,null,null,null,null,"Valeurs mobilières de placement ",{"$f":"SUMIF(Mapping!$B:$B,'Data BG'!$A42,Mapping!G:G)+SUMIF(Mapping!$C:$C,'Data BG'!$A42,Mapping!G:G)+SUMIF(Mapping!$D:$D,'Data BG'!$A42,Mapping!G:G)+SUMIF(Mapping!$B:$B,'Data BG'!$B42,Mapping!G:G)+SUMIF(Mapping!$C:$C,'Data BG'!$B42,Mapping!G:G)+SUMIF(Mapping!$D:$D,'Data BG'!$B42,Mapping!G:G)+SUMIF(Mapping!$B:$B,'Data BG'!$C42,Mapping!G:G)+SUMIF(Mapping!$C:$C,'Data BG'!$C42,Mapping!G:G)+SUMIF(Mapping!$D:$D,'Data BG'!$C42,Mapping!G:G)+SUMIF(Mapping!$B:$B,'Data BG'!$D42,Mapping!G:G)+SUMIF(Mapping!$C:$C,'Data BG'!$D42,Mapping!G:G)+SUMIF(Mapping!$D:$D,'Data BG'!$D42,Mapping!G:G)+SUMIF(Mapping!$B:$B,'Data BG'!$E42,Mapping!G:G)+SUMIF(Mapping!$C:$C,'Data BG'!$E42,Mapping!G:G)+SUMIF(Mapping!$D:$D,'Data BG'!$E42,Mapping!G:G)+SUMIF(Mapping!$B:$B,'Data BG'!$F42,Mapping!G:G)+SUMIF(Mapping!$C:$C,'Data BG'!$F42,Mapping!G:G)+SUMIF(Mapping!$D:$D,'Data BG'!$F42,Mapping!G:G)+SUMIF(Mapping!$B:$B,'Data BG'!$G42,Mapping!G:G)+SUMIF(Mapping!$C:$C,'Data BG'!$G42,Mapping!G:G)+SUMIF(Mapping!$D:$D,'Data BG'!$G42,Mapping!G:G)+SUMIF(Mapping!$B:$B,'Data BG'!$H42,Mapping!G:G)+SUMIF(Mapping!$C:$C,'Data BG'!$H42,Mapping!G:G)+SUMIF(Mapping!$D:$D,'Data BG'!$H42,Mapping!G:G)+SUMIF(Mapping!$B:$B,'Data BG'!$I42,Mapping!G:G)+SUMIF(Mapping!$C:$C,'Data BG'!$I42,Mapping!G:G)+SUMIF(Mapping!$D:$D,'Data BG'!$I42,Mapping!G:G)+SUMIF(Mapping!$B:$B,'Data BG'!$J42,Mapping!G:G)+SUMIF(Mapping!$C:$C,'Data BG'!$J42,Mapping!G:G)+SUMIF(Mapping!$D:$D,'Data BG'!$J42,Mapping!G:G)+SUMIF(Mapping!$B:$B,'Data BG'!$M42,Mapping!G:G)+SUMIF(Mapping!$C:$C,'Data BG'!$M42,Mapping!G:G)+SUMIF(Mapping!$D:$D,'Data BG'!$M42,Mapping!G:G)+SUMIF(Mapping!$B:$B,$N42,Mapping!G:G)+SUMIF(Mapping!$C:$C,$N42,Mapping!G:G)+SUMIF(Mapping!$D:$D,$N42,Mapping!G:G)+SUMIF(Mapping!$B:$B,'Data BG'!$K42,Mapping!G:G)+SUMIF(Mapping!$C:$C,'Data BG'!$K42,Mapping!G:G)+SUMIF(Mapping!$D:$D,'Data BG'!$K42,Mapping!G:G)+SUMIF(Mapping!$B:$B,'Data BG'!$L42,Mapping!G:G)+SUMIF(Mapping!$C:$C,'Data BG'!$L42,Mapping!G:G)+SUMIF(Mapping!$D:$D,'Data BG'!$L42,Mapping!G:G)","v":0},{"$f":"SUMIF(Mapping!$B:$B,'Data BG'!$A42,Mapping!H:H)+SUMIF(Mapping!$C:$C,'Data BG'!$A42,Mapping!H:H)+SUMIF(Mapping!$D:$D,'Data BG'!$A42,Mapping!H:H)+SUMIF(Mapping!$B:$B,'Data BG'!$B42,Mapping!H:H)+SUMIF(Mapping!$C:$C,'Data BG'!$B42,Mapping!H:H)+SUMIF(Mapping!$D:$D,'Data BG'!$B42,Mapping!H:H)+SUMIF(Mapping!$B:$B,'Data BG'!$C42,Mapping!H:H)+SUMIF(Mapping!$C:$C,'Data BG'!$C42,Mapping!H:H)+SUMIF(Mapping!$D:$D,'Data BG'!$C42,Mapping!H:H)+SUMIF(Mapping!$B:$B,'Data BG'!$D42,Mapping!H:H)+SUMIF(Mapping!$C:$C,'Data BG'!$D42,Mapping!H:H)+SUMIF(Mapping!$D:$D,'Data BG'!$D42,Mapping!H:H)+SUMIF(Mapping!$B:$B,'Data BG'!$E42,Mapping!H:H)+SUMIF(Mapping!$C:$C,'Data BG'!$E42,Mapping!H:H)+SUMIF(Mapping!$D:$D,'Data BG'!$E42,Mapping!H:H)+SUMIF(Mapping!$B:$B,'Data BG'!$F42,Mapping!H:H)+SUMIF(Mapping!$C:$C,'Data BG'!$F42,Mapping!H:H)+SUMIF(Mapping!$D:$D,'Data BG'!$F42,Mapping!H:H)+SUMIF(Mapping!$B:$B,'Data BG'!$G42,Mapping!H:H)+SUMIF(Mapping!$C:$C,'Data BG'!$G42,Mapping!H:H)+SUMIF(Mapping!$D:$D,'Data BG'!$G42,Mapping!H:H)+SUMIF(Mapping!$B:$B,'Data BG'!$H42,Mapping!H:H)+SUMIF(Mapping!$C:$C,'Data BG'!$H42,Mapping!H:H)+SUMIF(Mapping!$D:$D,'Data BG'!$H42,Mapping!H:H)+SUMIF(Mapping!$B:$B,'Data BG'!$I42,Mapping!H:H)+SUMIF(Mapping!$C:$C,'Data BG'!$I42,Mapping!H:H)+SUMIF(Mapping!$D:$D,'Data BG'!$I42,Mapping!H:H)+SUMIF(Mapping!$B:$B,'Data BG'!$J42,Mapping!H:H)+SUMIF(Mapping!$C:$C,'Data BG'!$J42,Mapping!H:H)+SUMIF(Mapping!$D:$D,'Data BG'!$J42,Mapping!H:H)+SUMIF(Mapping!$B:$B,'Data BG'!$M42,Mapping!H:H)+SUMIF(Mapping!$C:$C,'Data BG'!$M42,Mapping!H:H)+SUMIF(Mapping!$D:$D,'Data BG'!$M42,Mapping!H:H)+SUMIF(Mapping!$B:$B,$N42,Mapping!H:H)+SUMIF(Mapping!$C:$C,$N42,Mapping!H:H)+SUMIF(Mapping!$D:$D,$N42,Mapping!H:H)+SUMIF(Mapping!$B:$B,'Data BG'!$K42,Mapping!H:H)+SUMIF(Mapping!$C:$C,'Data BG'!$K42,Mapping!H:H)+SUMIF(Mapping!$D:$D,'Data BG'!$K42,Mapping!H:H)+SUMIF(Mapping!$B:$B,'Data BG'!$L42,Mapping!H:H)+SUMIF(Mapping!$C:$C,'Data BG'!$L42,Mapping!H:H)+SUMIF(Mapping!$D:$D,'Data BG'!$L42,Mapping!H:H)","v":0}]
[59,null,null,null,null,null,null,null,null,null,null,null,null,null,null,null,null,"Dépréc. Valeurs mobilières de placement ",{"$f":"SUMIF(Mapping!$B:$B,'Data BG'!$A43,Mapping!G:G)+SUMIF(Mapping!$C:$C,'Data BG'!$A43,Mapping!G:G)+SUMIF(Mapping!$D:$D,'Data BG'!$A43,Mapping!G:G)+SUMIF(Mapping!$B:$B,'Data BG'!$B43,Mapping!G:G)+SUMIF(Mapping!$C:$C,'Data BG'!$B43,Mapping!G:G)+SUMIF(Mapping!$D:$D,'Data BG'!$B43,Mapping!G:G)+SUMIF(Mapping!$B:$B,'Data BG'!$C43,Mapping!G:G)+SUMIF(Mapping!$C:$C,'Data BG'!$C43,Mapping!G:G)+SUMIF(Mapping!$D:$D,'Data BG'!$C43,Mapping!G:G)+SUMIF(Mapping!$B:$B,'Data BG'!$D43,Mapping!G:G)+SUMIF(Mapping!$C:$C,'Data BG'!$D43,Mapping!G:G)+SUMIF(Mapping!$D:$D,'Data BG'!$D43,Mapping!G:G)+SUMIF(Mapping!$B:$B,'Data BG'!$E43,Mapping!G:G)+SUMIF(Mapping!$C:$C,'Data BG'!$E43,Mapping!G:G)+SUMIF(Mapping!$D:$D,'Data BG'!$E43,Mapping!G:G)+SUMIF(Mapping!$B:$B,'Data BG'!$F43,Mapping!G:G)+SUMIF(Mapping!$C:$C,'Data BG'!$F43,Mapping!G:G)+SUMIF(Mapping!$D:$D,'Data BG'!$F43,Mapping!G:G)+SUMIF(Mapping!$B:$B,'Data BG'!$G43,Mapping!G:G)+SUMIF(Mapping!$C:$C,'Data BG'!$G43,Mapping!G:G)+SUMIF(Mapping!$D:$D,'Data BG'!$G43,Mapping!G:G)+SUMIF(Mapping!$B:$B,'Data BG'!$H43,Mapping!G:G)+SUMIF(Mapping!$C:$C,'Data BG'!$H43,Mapping!G:G)+SUMIF(Mapping!$D:$D,'Data BG'!$H43,Mapping!G:G)+SUMIF(Mapping!$B:$B,'Data BG'!$I43,Mapping!G:G)+SUMIF(Mapping!$C:$C,'Data BG'!$I43,Mapping!G:G)+SUMIF(Mapping!$D:$D,'Data BG'!$I43,Mapping!G:G)+SUMIF(Mapping!$B:$B,'Data BG'!$J43,Mapping!G:G)+SUMIF(Mapping!$C:$C,'Data BG'!$J43,Mapping!G:G)+SUMIF(Mapping!$D:$D,'Data BG'!$J43,Mapping!G:G)+SUMIF(Mapping!$B:$B,'Data BG'!$M43,Mapping!G:G)+SUMIF(Mapping!$C:$C,'Data BG'!$M43,Mapping!G:G)+SUMIF(Mapping!$D:$D,'Data BG'!$M43,Mapping!G:G)+SUMIF(Mapping!$B:$B,$N43,Mapping!G:G)+SUMIF(Mapping!$C:$C,$N43,Mapping!G:G)+SUMIF(Mapping!$D:$D,$N43,Mapping!G:G)+SUMIF(Mapping!$B:$B,'Data BG'!$K43,Mapping!G:G)+SUMIF(Mapping!$C:$C,'Data BG'!$K43,Mapping!G:G)+SUMIF(Mapping!$D:$D,'Data BG'!$K43,Mapping!G:G)+SUMIF(Mapping!$B:$B,'Data BG'!$L43,Mapping!G:G)+SUMIF(Mapping!$C:$C,'Data BG'!$L43,Mapping!G:G)+SUMIF(Mapping!$D:$D,'Data BG'!$L43,Mapping!G:G)","v":0},{"$f":"SUMIF(Mapping!$B:$B,'Data BG'!$A43,Mapping!H:H)+SUMIF(Mapping!$C:$C,'Data BG'!$A43,Mapping!H:H)+SUMIF(Mapping!$D:$D,'Data BG'!$A43,Mapping!H:H)+SUMIF(Mapping!$B:$B,'Data BG'!$B43,Mapping!H:H)+SUMIF(Mapping!$C:$C,'Data BG'!$B43,Mapping!H:H)+SUMIF(Mapping!$D:$D,'Data BG'!$B43,Mapping!H:H)+SUMIF(Mapping!$B:$B,'Data BG'!$C43,Mapping!H:H)+SUMIF(Mapping!$C:$C,'Data BG'!$C43,Mapping!H:H)+SUMIF(Mapping!$D:$D,'Data BG'!$C43,Mapping!H:H)+SUMIF(Mapping!$B:$B,'Data BG'!$D43,Mapping!H:H)+SUMIF(Mapping!$C:$C,'Data BG'!$D43,Mapping!H:H)+SUMIF(Mapping!$D:$D,'Data BG'!$D43,Mapping!H:H)+SUMIF(Mapping!$B:$B,'Data BG'!$E43,Mapping!H:H)+SUMIF(Mapping!$C:$C,'Data BG'!$E43,Mapping!H:H)+SUMIF(Mapping!$D:$D,'Data BG'!$E43,Mapping!H:H)+SUMIF(Mapping!$B:$B,'Data BG'!$F43,Mapping!H:H)+SUMIF(Mapping!$C:$C,'Data BG'!$F43,Mapping!H:H)+SUMIF(Mapping!$D:$D,'Data BG'!$F43,Mapping!H:H)+SUMIF(Mapping!$B:$B,'Data BG'!$G43,Mapping!H:H)+SUMIF(Mapping!$C:$C,'Data BG'!$G43,Mapping!H:H)+SUMIF(Mapping!$D:$D,'Data BG'!$G43,Mapping!H:H)+SUMIF(Mapping!$B:$B,'Data BG'!$H43,Mapping!H:H)+SUMIF(Mapping!$C:$C,'Data BG'!$H43,Mapping!H:H)+SUMIF(Mapping!$D:$D,'Data BG'!$H43,Mapping!H:H)+SUMIF(Mapping!$B:$B,'Data BG'!$I43,Mapping!H:H)+SUMIF(Mapping!$C:$C,'Data BG'!$I43,Mapping!H:H)+SUMIF(Mapping!$D:$D,'Data BG'!$I43,Mapping!H:H)+SUMIF(Mapping!$B:$B,'Data BG'!$J43,Mapping!H:H)+SUMIF(Mapping!$C:$C,'Data BG'!$J43,Mapping!H:H)+SUMIF(Mapping!$D:$D,'Data BG'!$J43,Mapping!H:H)+SUMIF(Mapping!$B:$B,'Data BG'!$M43,Mapping!H:H)+SUMIF(Mapping!$C:$C,'Data BG'!$M43,Mapping!H:H)+SUMIF(Mapping!$D:$D,'Data BG'!$M43,Mapping!H:H)+SUMIF(Mapping!$B:$B,$N43,Mapping!H:H)+SUMIF(Mapping!$C:$C,$N43,Mapping!H:H)+SUMIF(Mapping!$D:$D,$N43,Mapping!H:H)+SUMIF(Mapping!$B:$B,'Data BG'!$K43,Mapping!H:H)+SUMIF(Mapping!$C:$C,'Data BG'!$K43,Mapping!H:H)+SUMIF(Mapping!$D:$D,'Data BG'!$K43,Mapping!H:H)+SUMIF(Mapping!$B:$B,'Data BG'!$L43,Mapping!H:H)+SUMIF(Mapping!$C:$C,'Data BG'!$L43,Mapping!H:H)+SUMIF(Mapping!$D:$D,'Data BG'!$L43,Mapping!H:H)","v":0}]
["51A",53,54,58,null,null,null,null,null,null,null,null,null,null,null,null,null,"Disponibilités ",{"$f":"SUMIF(Mapping!$B:$B,'Data BG'!$A44,Mapping!G:G)+SUMIF(Mapping!$C:$C,'Data BG'!$A44,Mapping!G:G)+SUMIF(Mapping!$D:$D,'Data BG'!$A44,Mapping!G:G)+SUMIF(Mapping!$B:$B,'Data BG'!$B44,Mapping!G:G)+SUMIF(Mapping!$C:$C,'Data BG'!$B44,Mapping!G:G)+SUMIF(Mapping!$D:$D,'Data BG'!$B44,Mapping!G:G)+SUMIF(Mapping!$B:$B,'Data BG'!$C44,Mapping!G:G)+SUMIF(Mapping!$C:$C,'Data BG'!$C44,Mapping!G:G)+SUMIF(Mapping!$D:$D,'Data BG'!$C44,Mapping!G:G)+SUMIF(Mapping!$B:$B,'Data BG'!$D44,Mapping!G:G)+SUMIF(Mapping!$C:$C,'Data BG'!$D44,Mapping!G:G)+SUMIF(Mapping!$D:$D,'Data BG'!$D44,Mapping!G:G)+SUMIF(Mapping!$B:$B,'Data BG'!$E44,Mapping!G:G)+SUMIF(Mapping!$C:$C,'Data BG'!$E44,Mapping!G:G)+SUMIF(Mapping!$D:$D,'Data BG'!$E44,Mapping!G:G)+SUMIF(Mapping!$B:$B,'Data BG'!$F44,Mapping!G:G)+SUMIF(Mapping!$C:$C,'Data BG'!$F44,Mapping!G:G)+SUMIF(Mapping!$D:$D,'Data BG'!$F44,Mapping!G:G)+SUMIF(Mapping!$B:$B,'Data BG'!$G44,Mapping!G:G)+SUMIF(Mapping!$C:$C,'Data BG'!$G44,Mapping!G:G)+SUMIF(Mapping!$D:$D,'Data BG'!$G44,Mapping!G:G)+SUMIF(Mapping!$B:$B,'Data BG'!$H44,Mapping!G:G)+SUMIF(Mapping!$C:$C,'Data BG'!$H44,Mapping!G:G)+SUMIF(Mapping!$D:$D,'Data BG'!$H44,Mapping!G:G)+SUMIF(Mapping!$B:$B,'Data BG'!$I44,Mapping!G:G)+SUMIF(Mapping!$C:$C,'Data BG'!$I44,Mapping!G:G)+SUMIF(Mapping!$D:$D,'Data BG'!$I44,Mapping!G:G)+SUMIF(Mapping!$B:$B,'Data BG'!$J44,Mapping!G:G)+SUMIF(Mapping!$C:$C,'Data BG'!$J44,Mapping!G:G)+SUMIF(Mapping!$D:$D,'Data BG'!$J44,Mapping!G:G)+SUMIF(Mapping!$B:$B,'Data BG'!$M44,Mapping!G:G)+SUMIF(Mapping!$C:$C,'Data BG'!$M44,Mapping!G:G)+SUMIF(Mapping!$D:$D,'Data BG'!$M44,Mapping!G:G)+SUMIF(Mapping!$B:$B,$N44,Mapping!G:G)+SUMIF(Mapping!$C:$C,$N44,Mapping!G:G)+SUMIF(Mapping!$D:$D,$N44,Mapping!G:G)+SUMIF(Mapping!$B:$B,'Data BG'!$K44,Mapping!G:G)+SUMIF(Mapping!$C:$C,'Data BG'!$K44,Mapping!G:G)+SUMIF(Mapping!$D:$D,'Data BG'!$K44,Mapping!G:G)+SUMIF(Mapping!$B:$B,'Data BG'!$L44,Mapping!G:G)+SUMIF(Mapping!$C:$C,'Data BG'!$L44,Mapping!G:G)+SUMIF(Mapping!$D:$D,'Data BG'!$L44,Mapping!G:G)","v":0},{"$f":"SUMIF(Mapping!$B:$B,'Data BG'!$A44,Mapping!H:H)+SUMIF(Mapping!$C:$C,'Data BG'!$A44,Mapping!H:H)+SUMIF(Mapping!$D:$D,'Data BG'!$A44,Mapping!H:H)+SUMIF(Mapping!$B:$B,'Data BG'!$B44,Mapping!H:H)+SUMIF(Mapping!$C:$C,'Data BG'!$B44,Mapping!H:H)+SUMIF(Mapping!$D:$D,'Data BG'!$B44,Mapping!H:H)+SUMIF(Mapping!$B:$B,'Data BG'!$C44,Mapping!H:H)+SUMIF(Mapping!$C:$C,'Data BG'!$C44,Mapping!H:H)+SUMIF(Mapping!$D:$D,'Data BG'!$C44,Mapping!H:H)+SUMIF(Mapping!$B:$B,'Data BG'!$D44,Mapping!H:H)+SUMIF(Mapping!$C:$C,'Data BG'!$D44,Mapping!H:H)+SUMIF(Mapping!$D:$D,'Data BG'!$D44,Mapping!H:H)+SUMIF(Mapping!$B:$B,'Data BG'!$E44,Mapping!H:H)+SUMIF(Mapping!$C:$C,'Data BG'!$E44,Mapping!H:H)+SUMIF(Mapping!$D:$D,'Data BG'!$E44,Mapping!H:H)+SUMIF(Mapping!$B:$B,'Data BG'!$F44,Mapping!H:H)+SUMIF(Mapping!$C:$C,'Data BG'!$F44,Mapping!H:H)+SUMIF(Mapping!$D:$D,'Data BG'!$F44,Mapping!H:H)+SUMIF(Mapping!$B:$B,'Data BG'!$G44,Mapping!H:H)+SUMIF(Mapping!$C:$C,'Data BG'!$G44,Mapping!H:H)+SUMIF(Mapping!$D:$D,'Data BG'!$G44,Mapping!H:H)+SUMIF(Mapping!$B:$B,'Data BG'!$H44,Mapping!H:H)+SUMIF(Mapping!$C:$C,'Data BG'!$H44,Mapping!H:H)+SUMIF(Mapping!$D:$D,'Data BG'!$H44,Mapping!H:H)+SUMIF(Mapping!$B:$B,'Data BG'!$I44,Mapping!H:H)+SUMIF(Mapping!$C:$C,'Data BG'!$I44,Mapping!H:H)+SUMIF(Mapping!$D:$D,'Data BG'!$I44,Mapping!H:H)+SUMIF(Mapping!$B:$B,'Data BG'!$J44,Mapping!H:H)+SUMIF(Mapping!$C:$C,'Data BG'!$J44,Mapping!H:H)+SUMIF(Mapping!$D:$D,'Data BG'!$J44,Mapping!H:H)+SUMIF(Mapping!$B:$B,'Data BG'!$M44,Mapping!H:H)+SUMIF(Mapping!$C:$C,'Data BG'!$M44,Mapping!H:H)+SUMIF(Mapping!$D:$D,'Data BG'!$M44,Mapping!H:H)+SUMIF(Mapping!$B:$B,$N44,Mapping!H:H)+SUMIF(Mapping!$C:$C,$N44,Mapping!H:H)+SUMIF(Mapping!$D:$D,$N44,Mapping!H:H)+SUMIF(Mapping!$B:$B,'Data BG'!$K44,Mapping!H:H)+SUMIF(Mapping!$C:$C,'Data BG'!$K44,Mapping!H:H)+SUMIF(Mapping!$D:$D,'Data BG'!$K44,Mapping!H:H)+SUMIF(Mapping!$B:$B,'Data BG'!$L44,Mapping!H:H)+SUMIF(Mapping!$C:$C,'Data BG'!$L44,Mapping!H:H)+SUMIF(Mapping!$D:$D,'Data BG'!$L44,Mapping!H:H)","v":0}]
[4671,null,null,null,null,null,null,null,null,null,null,null,null,null,null,null,null,"Actifs des entités non significatives (III) ",{"$f":"SUMIF(Mapping!$B:$B,'Data BG'!$A45,Mapping!G:G)+SUMIF(Mapping!$C:$C,'Data BG'!$A45,Mapping!G:G)+SUMIF(Mapping!$D:$D,'Data BG'!$A45,Mapping!G:G)+SUMIF(Mapping!$B:$B,'Data BG'!$B45,Mapping!G:G)+SUMIF(Mapping!$C:$C,'Data BG'!$B45,Mapping!G:G)+SUMIF(Mapping!$D:$D,'Data BG'!$B45,Mapping!G:G)+SUMIF(Mapping!$B:$B,'Data BG'!$C45,Mapping!G:G)+SUMIF(Mapping!$C:$C,'Data BG'!$C45,Mapping!G:G)+SUMIF(Mapping!$D:$D,'Data BG'!$C45,Mapping!G:G)+SUMIF(Mapping!$B:$B,'Data BG'!$D45,Mapping!G:G)+SUMIF(Mapping!$C:$C,'Data BG'!$D45,Mapping!G:G)+SUMIF(Mapping!$D:$D,'Data BG'!$D45,Mapping!G:G)+SUMIF(Mapping!$B:$B,'Data BG'!$E45,Mapping!G:G)+SUMIF(Mapping!$C:$C,'Data BG'!$E45,Mapping!G:G)+SUMIF(Mapping!$D:$D,'Data BG'!$E45,Mapping!G:G)+SUMIF(Mapping!$B:$B,'Data BG'!$F45,Mapping!G:G)+SUMIF(Mapping!$C:$C,'Data BG'!$F45,Mapping!G:G)+SUMIF(Mapping!$D:$D,'Data BG'!$F45,Mapping!G:G)+SUMIF(Mapping!$B:$B,'Data BG'!$G45,Mapping!G:G)+SUMIF(Mapping!$C:$C,'Data BG'!$G45,Mapping!G:G)+SUMIF(Mapping!$D:$D,'Data BG'!$G45,Mapping!G:G)+SUMIF(Mapping!$B:$B,'Data BG'!$H45,Mapping!G:G)+SUMIF(Mapping!$C:$C,'Data BG'!$H45,Mapping!G:G)+SUMIF(Mapping!$D:$D,'Data BG'!$H45,Mapping!G:G)+SUMIF(Mapping!$B:$B,'Data BG'!$I45,Mapping!G:G)+SUMIF(Mapping!$C:$C,'Data BG'!$I45,Mapping!G:G)+SUMIF(Mapping!$D:$D,'Data BG'!$I45,Mapping!G:G)+SUMIF(Mapping!$B:$B,'Data BG'!$J45,Mapping!G:G)+SUMIF(Mapping!$C:$C,'Data BG'!$J45,Mapping!G:G)+SUMIF(Mapping!$D:$D,'Data BG'!$J45,Mapping!G:G)+SUMIF(Mapping!$B:$B,'Data BG'!$M45,Mapping!G:G)+SUMIF(Mapping!$C:$C,'Data BG'!$M45,Mapping!G:G)+SUMIF(Mapping!$D:$D,'Data BG'!$M45,Mapping!G:G)+SUMIF(Mapping!$B:$B,$N45,Mapping!G:G)+SUMIF(Mapping!$C:$C,$N45,Mapping!G:G)+SUMIF(Mapping!$D:$D,$N45,Mapping!G:G)+SUMIF(Mapping!$B:$B,'Data BG'!$K45,Mapping!G:G)+SUMIF(Mapping!$C:$C,'Data BG'!$K45,Mapping!G:G)+SUMIF(Mapping!$D:$D,'Data BG'!$K45,Mapping!G:G)+SUMIF(Mapping!$B:$B,'Data BG'!$L45,Mapping!G:G)+SUMIF(Mapping!$C:$C,'Data BG'!$L45,Mapping!G:G)+SUMIF(Mapping!$D:$D,'Data BG'!$L45,Mapping!G:G)","v":0},{"$f":"SUMIF(Mapping!$B:$B,'Data BG'!$A45,Mapping!H:H)+SUMIF(Mapping!$C:$C,'Data BG'!$A45,Mapping!H:H)+SUMIF(Mapping!$D:$D,'Data BG'!$A45,Mapping!H:H)+SUMIF(Mapping!$B:$B,'Data BG'!$B45,Mapping!H:H)+SUMIF(Mapping!$C:$C,'Data BG'!$B45,Mapping!H:H)+SUMIF(Mapping!$D:$D,'Data BG'!$B45,Mapping!H:H)+SUMIF(Mapping!$B:$B,'Data BG'!$C45,Mapping!H:H)+SUMIF(Mapping!$C:$C,'Data BG'!$C45,Mapping!H:H)+SUMIF(Mapping!$D:$D,'Data BG'!$C45,Mapping!H:H)+SUMIF(Mapping!$B:$B,'Data BG'!$D45,Mapping!H:H)+SUMIF(Mapping!$C:$C,'Data BG'!$D45,Mapping!H:H)+SUMIF(Mapping!$D:$D,'Data BG'!$D45,Mapping!H:H)+SUMIF(Mapping!$B:$B,'Data BG'!$E45,Mapping!H:H)+SUMIF(Mapping!$C:$C,'Data BG'!$E45,Mapping!H:H)+SUMIF(Mapping!$D:$D,'Data BG'!$E45,Mapping!H:H)+SUMIF(Mapping!$B:$B,'Data BG'!$F45,Mapping!H:H)+SUMIF(Mapping!$C:$C,'Data BG'!$F45,Mapping!H:H)+SUMIF(Mapping!$D:$D,'Data BG'!$F45,Mapping!H:H)+SUMIF(Mapping!$B:$B,'Data BG'!$G45,Mapping!H:H)+SUMIF(Mapping!$C:$C,'Data BG'!$G45,Mapping!H:H)+SUMIF(Mapping!$D:$D,'Data BG'!$G45,Mapping!H:H)+SUMIF(Mapping!$B:$B,'Data BG'!$H45,Mapping!H:H)+SUMIF(Mapping!$C:$C,'Data BG'!$H45,Mapping!H:H)+SUMIF(Mapping!$D:$D,'Data BG'!$H45,Mapping!H:H)+SUMIF(Mapping!$B:$B,'Data BG'!$I45,Mapping!H:H)+SUMIF(Mapping!$C:$C,'Data BG'!$I45,Mapping!H:H)+SUMIF(Mapping!$D:$D,'Data BG'!$I45,Mapping!H:H)+SUMIF(Mapping!$B:$B,'Data BG'!$J45,Mapping!H:H)+SUMIF(Mapping!$C:$C,'Data BG'!$J45,Mapping!H:H)+SUMIF(Mapping!$D:$D,'Data BG'!$J45,Mapping!H:H)+SUMIF(Mapping!$B:$B,'Data BG'!$M45,Mapping!H:H)+SUMIF(Mapping!$C:$C,'Data BG'!$M45,Mapping!H:H)+SUMIF(Mapping!$D:$D,'Data BG'!$M45,Mapping!H:H)+SUMIF(Mapping!$B:$B,$N45,Mapping!H:H)+SUMIF(Mapping!$C:$C,$N45,Mapping!H:H)+SUMIF(Mapping!$D:$D,$N45,Mapping!H:H)+SUMIF(Mapping!$B:$B,'Data BG'!$K45,Mapping!H:H)+SUMIF(Mapping!$C:$C,'Data BG'!$K45,Mapping!H:H)+SUMIF(Mapping!$D:$D,'Data BG'!$K45,Mapping!H:H)+SUMIF(Mapping!$B:$B,'Data BG'!$L45,Mapping!H:H)+SUMIF(Mapping!$C:$C,'Data BG'!$L45,Mapping!H:H)+SUMIF(Mapping!$D:$D,'Data BG'!$L45,Mapping!H:H)","v":0}]
[49671,null,null,null,null,null,null,null,null,null,null,null,null,null,null,null,null,"Actifs des entités non significatives (amortissements et dépréciations) ",{"$f":"SUMIF(Mapping!$B:$B,'Data BG'!$A46,Mapping!G:G)+SUMIF(Mapping!$C:$C,'Data BG'!$A46,Mapping!G:G)+SUMIF(Mapping!$D:$D,'Data BG'!$A46,Mapping!G:G)+SUMIF(Mapping!$B:$B,'Data BG'!$B46,Mapping!G:G)+SUMIF(Mapping!$C:$C,'Data BG'!$B46,Mapping!G:G)+SUMIF(Mapping!$D:$D,'Data BG'!$B46,Mapping!G:G)+SUMIF(Mapping!$B:$B,'Data BG'!$C46,Mapping!G:G)+SUMIF(Mapping!$C:$C,'Data BG'!$C46,Mapping!G:G)+SUMIF(Mapping!$D:$D,'Data BG'!$C46,Mapping!G:G)+SUMIF(Mapping!$B:$B,'Data BG'!$D46,Mapping!G:G)+SUMIF(Mapping!$C:$C,'Data BG'!$D46,Mapping!G:G)+SUMIF(Mapping!$D:$D,'Data BG'!$D46,Mapping!G:G)+SUMIF(Mapping!$B:$B,'Data BG'!$E46,Mapping!G:G)+SUMIF(Mapping!$C:$C,'Data BG'!$E46,Mapping!G:G)+SUMIF(Mapping!$D:$D,'Data BG'!$E46,Mapping!G:G)+SUMIF(Mapping!$B:$B,'Data BG'!$F46,Mapping!G:G)+SUMIF(Mapping!$C:$C,'Data BG'!$F46,Mapping!G:G)+SUMIF(Mapping!$D:$D,'Data BG'!$F46,Mapping!G:G)+SUMIF(Mapping!$B:$B,'Data BG'!$G46,Mapping!G:G)+SUMIF(Mapping!$C:$C,'Data BG'!$G46,Mapping!G:G)+SUMIF(Mapping!$D:$D,'Data BG'!$G46,Mapping!G:G)+SUMIF(Mapping!$B:$B,'Data BG'!$H46,Mapping!G:G)+SUMIF(Mapping!$C:$C,'Data BG'!$H46,Mapping!G:G)+SUMIF(Mapping!$D:$D,'Data BG'!$H46,Mapping!G:G)+SUMIF(Mapping!$B:$B,'Data BG'!$I46,Mapping!G:G)+SUMIF(Mapping!$C:$C,'Data BG'!$I46,Mapping!G:G)+SUMIF(Mapping!$D:$D,'Data BG'!$I46,Mapping!G:G)+SUMIF(Mapping!$B:$B,'Data BG'!$J46,Mapping!G:G)+SUMIF(Mapping!$C:$C,'Data BG'!$J46,Mapping!G:G)+SUMIF(Mapping!$D:$D,'Data BG'!$J46,Mapping!G:G)+SUMIF(Mapping!$B:$B,'Data BG'!$M46,Mapping!G:G)+SUMIF(Mapping!$C:$C,'Data BG'!$M46,Mapping!G:G)+SUMIF(Mapping!$D:$D,'Data BG'!$M46,Mapping!G:G)+SUMIF(Mapping!$B:$B,$N46,Mapping!G:G)+SUMIF(Mapping!$C:$C,$N46,Mapping!G:G)+SUMIF(Mapping!$D:$D,$N46,Mapping!G:G)+SUMIF(Mapping!$B:$B,'Data BG'!$K46,Mapping!G:G)+SUMIF(Mapping!$C:$C,'Data BG'!$K46,Mapping!G:G)+SUMIF(Mapping!$D:$D,'Data BG'!$K46,Mapping!G:G)+SUMIF(Mapping!$B:$B,'Data BG'!$L46,Mapping!G:G)+SUMIF(Mapping!$C:$C,'Data BG'!$L46,Mapping!G:G)+SUMIF(Mapping!$D:$D,'Data BG'!$L46,Mapping!G:G)","v":0},{"$f":"SUMIF(Mapping!$B:$B,'Data BG'!$A46,Mapping!H:H)+SUMIF(Mapping!$C:$C,'Data BG'!$A46,Mapping!H:H)+SUMIF(Mapping!$D:$D,'Data BG'!$A46,Mapping!H:H)+SUMIF(Mapping!$B:$B,'Data BG'!$B46,Mapping!H:H)+SUMIF(Mapping!$C:$C,'Data BG'!$B46,Mapping!H:H)+SUMIF(Mapping!$D:$D,'Data BG'!$B46,Mapping!H:H)+SUMIF(Mapping!$B:$B,'Data BG'!$C46,Mapping!H:H)+SUMIF(Mapping!$C:$C,'Data BG'!$C46,Mapping!H:H)+SUMIF(Mapping!$D:$D,'Data BG'!$C46,Mapping!H:H)+SUMIF(Mapping!$B:$B,'Data BG'!$D46,Mapping!H:H)+SUMIF(Mapping!$C:$C,'Data BG'!$D46,Mapping!H:H)+SUMIF(Mapping!$D:$D,'Data BG'!$D46,Mapping!H:H)+SUMIF(Mapping!$B:$B,'Data BG'!$E46,Mapping!H:H)+SUMIF(Mapping!$C:$C,'Data BG'!$E46,Mapping!H:H)+SUMIF(Mapping!$D:$D,'Data BG'!$E46,Mapping!H:H)+SUMIF(Mapping!$B:$B,'Data BG'!$F46,Mapping!H:H)+SUMIF(Mapping!$C:$C,'Data BG'!$F46,Mapping!H:H)+SUMIF(Mapping!$D:$D,'Data BG'!$F46,Mapping!H:H)+SUMIF(Mapping!$B:$B,'Data BG'!$G46,Mapping!H:H)+SUMIF(Mapping!$C:$C,'Data BG'!$G46,Mapping!H:H)+SUMIF(Mapping!$D:$D,'Data BG'!$G46,Mapping!H:H)+SUMIF(Mapping!$B:$B,'Data BG'!$H46,Mapping!H:H)+SUMIF(Mapping!$C:$C,'Data BG'!$H46,Mapping!H:H)+SUMIF(Mapping!$D:$D,'Data BG'!$H46,Mapping!H:H)+SUMIF(Mapping!$B:$B,'Data BG'!$I46,Mapping!H:H)+SUMIF(Mapping!$C:$C,'Data BG'!$I46,Mapping!H:H)+SUMIF(Mapping!$D:$D,'Data BG'!$I46,Mapping!H:H)+SUMIF(Mapping!$B:$B,'Data BG'!$J46,Mapping!H:H)+SUMIF(Mapping!$C:$C,'Data BG'!$J46,Mapping!H:H)+SUMIF(Mapping!$D:$D,'Data BG'!$J46,Mapping!H:H)+SUMIF(Mapping!$B:$B,'Data BG'!$M46,Mapping!H:H)+SUMIF(Mapping!$C:$C,'Data BG'!$M46,Mapping!H:H)+SUMIF(Mapping!$D:$D,'Data BG'!$M46,Mapping!H:H)+SUMIF(Mapping!$B:$B,$N46,Mapping!H:H)+SUMIF(Mapping!$C:$C,$N46,Mapping!H:H)+SUMIF(Mapping!$D:$D,$N46,Mapping!H:H)+SUMIF(Mapping!$B:$B,'Data BG'!$K46,Mapping!H:H)+SUMIF(Mapping!$C:$C,'Data BG'!$K46,Mapping!H:H)+SUMIF(Mapping!$D:$D,'Data BG'!$K46,Mapping!H:H)+SUMIF(Mapping!$B:$B,'Data BG'!$L46,Mapping!H:H)+SUMIF(Mapping!$C:$C,'Data BG'!$L46,Mapping!H:H)+SUMIF(Mapping!$D:$D,'Data BG'!$L46,Mapping!H:H)","v":0}]
[null,null,null,null,null,null,null,null,null,null,null,null,null,null,null,null,null,"TOTAL ACTIF",{"$f":"SUM(S2:S46)","v":0},{"$f":"SUM(T2:T46)","v":0}]
[null,null,null,null,null,null,null,null,null,null,null,null,null,null,null,null,null,"FONDS PROPRES "]
[null,null,null,null,null,null,null,null,null,null,null,null,null,null,null,null,null,"Réserves d'ensemble "]
[1060,1061,1062,1064,1068,1209,null,null,null,null,null,null,null,null,null,null,null,"Réserves ",{"$f":"SUMIF(Mapping!$B:$B,'Data BG'!$A50,Mapping!G:G)+SUMIF(Mapping!$C:$C,'Data BG'!$A50,Mapping!G:G)+SUMIF(Mapping!$D:$D,'Data BG'!$A50,Mapping!G:G)+SUMIF(Mapping!$B:$B,'Data BG'!$B50,Mapping!G:G)+SUMIF(Mapping!$C:$C,'Data BG'!$B50,Mapping!G:G)+SUMIF(Mapping!$D:$D,'Data BG'!$B50,Mapping!G:G)+SUMIF(Mapping!$B:$B,'Data BG'!$C50,Mapping!G:G)+SUMIF(Mapping!$C:$C,'Data BG'!$C50,Mapping!G:G)+SUMIF(Mapping!$D:$D,'Data BG'!$C50,Mapping!G:G)+SUMIF(Mapping!$B:$B,'Data BG'!$D50,Mapping!G:G)+SUMIF(Mapping!$C:$C,'Data BG'!$D50,Mapping!G:G)+SUMIF(Mapping!$D:$D,'Data BG'!$D50,Mapping!G:G)+SUMIF(Mapping!$B:$B,'Data BG'!$E50,Mapping!G:G)+SUMIF(Mapping!$C:$C,'Data BG'!$E50,Mapping!G:G)+SUMIF(Mapping!$D:$D,'Data BG'!$E50,Mapping!G:G)+SUMIF(Mapping!$B:$B,'Data BG'!$F50,Mapping!G:G)+SUMIF(Mapping!$C:$C,'Data BG'!$F50,Mapping!G:G)+SUMIF(Mapping!$D:$D,'Data BG'!$F50,Mapping!G:G)+SUMIF(Mapping!$B:$B,'Data BG'!$G50,Mapping!G:G)+SUMIF(Mapping!$C:$C,'Data BG'!$G50,Mapping!G:G)+SUMIF(Mapping!$D:$D,'Data BG'!$G50,Mapping!G:G)+SUMIF(Mapping!$B:$B,'Data BG'!$H50,Mapping!G:G)+SUMIF(Mapping!$C:$C,'Data BG'!$H50,Mapping!G:G)+SUMIF(Mapping!$D:$D,'Data BG'!$H50,Mapping!G:G)+SUMIF(Mapping!$B:$B,'Data BG'!$I50,Mapping!G:G)+SUMIF(Mapping!$C:$C,'Data BG'!$I50,Mapping!G:G)+SUMIF(Mapping!$D:$D,'Data BG'!$I50,Mapping!G:G)+SUMIF(Mapping!$B:$B,'Data BG'!$J50,Mapping!G:G)+SUMIF(Mapping!$C:$C,'Data BG'!$J50,Mapping!G:G)+SUMIF(Mapping!$D:$D,'Data BG'!$J50,Mapping!G:G)+SUMIF(Mapping!$B:$B,'Data BG'!$M50,Mapping!G:G)+SUMIF(Mapping!$C:$C,'Data BG'!$M50,Mapping!G:G)+SUMIF(Mapping!$D:$D,'Data BG'!$M50,Mapping!G:G)+SUMIF(Mapping!$B:$B,$N50,Mapping!G:G)+SUMIF(Mapping!$C:$C,$N50,Mapping!G:G)+SUMIF(Mapping!$D:$D,$N50,Mapping!G:G)+SUMIF(Mapping!$B:$B,'Data BG'!$K50,Mapping!G:G)+SUMIF(Mapping!$C:$C,'Data BG'!$K50,Mapping!G:G)+SUMIF(Mapping!$D:$D,'Data BG'!$K50,Mapping!G:G)+SUMIF(Mapping!$B:$B,'Data BG'!$L50,Mapping!G:G)+SUMIF(Mapping!$C:$C,'Data BG'!$L50,Mapping!G:G)+SUMIF(Mapping!$D:$D,'Data BG'!$L50,Mapping!G:G)","v":0},{"$f":"SUMIF(Mapping!$B:$B,'Data BG'!$A50,Mapping!H:H)+SUMIF(Mapping!$C:$C,'Data BG'!$A50,Mapping!H:H)+SUMIF(Mapping!$D:$D,'Data BG'!$A50,Mapping!H:H)+SUMIF(Mapping!$B:$B,'Data BG'!$B50,Mapping!H:H)+SUMIF(Mapping!$C:$C,'Data BG'!$B50,Mapping!H:H)+SUMIF(Mapping!$D:$D,'Data BG'!$B50,Mapping!H:H)+SUMIF(Mapping!$B:$B,'Data BG'!$C50,Mapping!H:H)+SUMIF(Mapping!$C:$C,'Data BG'!$C50,Mapping!H:H)+SUMIF(Mapping!$D:$D,'Data BG'!$C50,Mapping!H:H)+SUMIF(Mapping!$B:$B,'Data BG'!$D50,Mapping!H:H)+SUMIF(Mapping!$C:$C,'Data BG'!$D50,Mapping!H:H)+SUMIF(Mapping!$D:$D,'Data BG'!$D50,Mapping!H:H)+SUMIF(Mapping!$B:$B,'Data BG'!$E50,Mapping!H:H)+SUMIF(Mapping!$C:$C,'Data BG'!$E50,Mapping!H:H)+SUMIF(Mapping!$D:$D,'Data BG'!$E50,Mapping!H:H)+SUMIF(Mapping!$B:$B,'Data BG'!$F50,Mapping!H:H)+SUMIF(Mapping!$C:$C,'Data BG'!$F50,Mapping!H:H)+SUMIF(Mapping!$D:$D,'Data BG'!$F50,Mapping!H:H)+SUMIF(Mapping!$B:$B,'Data BG'!$G50,Mapping!H:H)+SUMIF(Mapping!$C:$C,'Data BG'!$G50,Mapping!H:H)+SUMIF(Mapping!$D:$D,'Data BG'!$G50,Mapping!H:H)+SUMIF(Mapping!$B:$B,'Data BG'!$H50,Mapping!H:H)+SUMIF(Mapping!$C:$C,'Data BG'!$H50,Mapping!H:H)+SUMIF(Mapping!$D:$D,'Data BG'!$H50,Mapping!H:H)+SUMIF(Mapping!$B:$B,'Data BG'!$I50,Mapping!H:H)+SUMIF(Mapping!$C:$C,'Data BG'!$I50,Mapping!H:H)+SUMIF(Mapping!$D:$D,'Data BG'!$I50,Mapping!H:H)+SUMIF(Mapping!$B:$B,'Data BG'!$J50,Mapping!H:H)+SUMIF(Mapping!$C:$C,'Data BG'!$J50,Mapping!H:H)+SUMIF(Mapping!$D:$D,'Data BG'!$J50,Mapping!H:H)+SUMIF(Mapping!$B:$B,'Data BG'!$M50,Mapping!H:H)+SUMIF(Mapping!$C:$C,'Data BG'!$M50,Mapping!H:H)+SUMIF(Mapping!$D:$D,'Data BG'!$M50,Mapping!H:H)+SUMIF(Mapping!$B:$B,$N50,Mapping!H:H)+SUMIF(Mapping!$C:$C,$N50,Mapping!H:H)+SUMIF(Mapping!$D:$D,$N50,Mapping!H:H)+SUMIF(Mapping!$B:$B,'Data BG'!$K50,Mapping!H:H)+SUMIF(Mapping!$C:$C,'Data BG'!$K50,Mapping!H:H)+SUMIF(Mapping!$D:$D,'Data BG'!$K50,Mapping!H:H)+SUMIF(Mapping!$B:$B,'Data BG'!$L50,Mapping!H:H)+SUMIF(Mapping!$C:$C,'Data BG'!$L50,Mapping!H:H)+SUMIF(Mapping!$D:$D,'Data BG'!$L50,Mapping!H:H)","v":0}]
[1063,null,null,null,null,null,null,null,null,null,null,null,null,null,null,null,null,"Réserves pour frais de campagnes électorales ",{"$f":"SUMIF(Mapping!$B:$B,'Data BG'!$A51,Mapping!G:G)+SUMIF(Mapping!$C:$C,'Data BG'!$A51,Mapping!G:G)+SUMIF(Mapping!$D:$D,'Data BG'!$A51,Mapping!G:G)+SUMIF(Mapping!$B:$B,'Data BG'!$B51,Mapping!G:G)+SUMIF(Mapping!$C:$C,'Data BG'!$B51,Mapping!G:G)+SUMIF(Mapping!$D:$D,'Data BG'!$B51,Mapping!G:G)+SUMIF(Mapping!$B:$B,'Data BG'!$C51,Mapping!G:G)+SUMIF(Mapping!$C:$C,'Data BG'!$C51,Mapping!G:G)+SUMIF(Mapping!$D:$D,'Data BG'!$C51,Mapping!G:G)+SUMIF(Mapping!$B:$B,'Data BG'!$D51,Mapping!G:G)+SUMIF(Mapping!$C:$C,'Data BG'!$D51,Mapping!G:G)+SUMIF(Mapping!$D:$D,'Data BG'!$D51,Mapping!G:G)+SUMIF(Mapping!$B:$B,'Data BG'!$E51,Mapping!G:G)+SUMIF(Mapping!$C:$C,'Data BG'!$E51,Mapping!G:G)+SUMIF(Mapping!$D:$D,'Data BG'!$E51,Mapping!G:G)+SUMIF(Mapping!$B:$B,'Data BG'!$F51,Mapping!G:G)+SUMIF(Mapping!$C:$C,'Data BG'!$F51,Mapping!G:G)+SUMIF(Mapping!$D:$D,'Data BG'!$F51,Mapping!G:G)+SUMIF(Mapping!$B:$B,'Data BG'!$G51,Mapping!G:G)+SUMIF(Mapping!$C:$C,'Data BG'!$G51,Mapping!G:G)+SUMIF(Mapping!$D:$D,'Data BG'!$G51,Mapping!G:G)+SUMIF(Mapping!$B:$B,'Data BG'!$H51,Mapping!G:G)+SUMIF(Mapping!$C:$C,'Data BG'!$H51,Mapping!G:G)+SUMIF(Mapping!$D:$D,'Data BG'!$H51,Mapping!G:G)+SUMIF(Mapping!$B:$B,'Data BG'!$I51,Mapping!G:G)+SUMIF(Mapping!$C:$C,'Data BG'!$I51,Mapping!G:G)+SUMIF(Mapping!$D:$D,'Data BG'!$I51,Mapping!G:G)+SUMIF(Mapping!$B:$B,'Data BG'!$J51,Mapping!G:G)+SUMIF(Mapping!$C:$C,'Data BG'!$J51,Mapping!G:G)+SUMIF(Mapping!$D:$D,'Data BG'!$J51,Mapping!G:G)+SUMIF(Mapping!$B:$B,'Data BG'!$M51,Mapping!G:G)+SUMIF(Mapping!$C:$C,'Data BG'!$M51,Mapping!G:G)+SUMIF(Mapping!$D:$D,'Data BG'!$M51,Mapping!G:G)+SUMIF(Mapping!$B:$B,$N51,Mapping!G:G)+SUMIF(Mapping!$C:$C,$N51,Mapping!G:G)+SUMIF(Mapping!$D:$D,$N51,Mapping!G:G)+SUMIF(Mapping!$B:$B,'Data BG'!$K51,Mapping!G:G)+SUMIF(Mapping!$C:$C,'Data BG'!$K51,Mapping!G:G)+SUMIF(Mapping!$D:$D,'Data BG'!$K51,Mapping!G:G)+SUMIF(Mapping!$B:$B,'Data BG'!$L51,Mapping!G:G)+SUMIF(Mapping!$C:$C,'Data BG'!$L51,Mapping!G:G)+SUMIF(Mapping!$D:$D,'Data BG'!$L51,Mapping!G:G)","v":0},{"$f":"SUMIF(Mapping!$B:$B,'Data BG'!$A51,Mapping!H:H)+SUMIF(Mapping!$C:$C,'Data BG'!$A51,Mapping!H:H)+SUMIF(Mapping!$D:$D,'Data BG'!$A51,Mapping!H:H)+SUMIF(Mapping!$B:$B,'Data BG'!$B51,Mapping!H:H)+SUMIF(Mapping!$C:$C,'Data BG'!$B51,Mapping!H:H)+SUMIF(Mapping!$D:$D,'Data BG'!$B51,Mapping!H:H)+SUMIF(Mapping!$B:$B,'Data BG'!$C51,Mapping!H:H)+SUMIF(Mapping!$C:$C,'Data BG'!$C51,Mapping!H:H)+SUMIF(Mapping!$D:$D,'Data BG'!$C51,Mapping!H:H)+SUMIF(Mapping!$B:$B,'Data BG'!$D51,Mapping!H:H)+SUMIF(Mapping!$C:$C,'Data BG'!$D51,Mapping!H:H)+SUMIF(Mapping!$D:$D,'Data BG'!$D51,Mapping!H:H)+SUMIF(Mapping!$B:$B,'Data BG'!$E51,Mapping!H:H)+SUMIF(Mapping!$C:$C,'Data BG'!$E51,Mapping!H:H)+SUMIF(Mapping!$D:$D,'Data BG'!$E51,Mapping!H:H)+SUMIF(Mapping!$B:$B,'Data BG'!$F51,Mapping!H:H)+SUMIF(Mapping!$C:$C,'Data BG'!$F51,Mapping!H:H)+SUMIF(Mapping!$D:$D,'Data BG'!$F51,Mapping!H:H)+SUMIF(Mapping!$B:$B,'Data BG'!$G51,Mapping!H:H)+SUMIF(Mapping!$C:$C,'Data BG'!$G51,Mapping!H:H)+SUMIF(Mapping!$D:$D,'Data BG'!$G51,Mapping!H:H)+SUMIF(Mapping!$B:$B,'Data BG'!$H51,Mapping!H:H)+SUMIF(Mapping!$C:$C,'Data BG'!$H51,Mapping!H:H)+SUMIF(Mapping!$D:$D,'Data BG'!$H51,Mapping!H:H)+SUMIF(Mapping!$B:$B,'Data BG'!$I51,Mapping!H:H)+SUMIF(Mapping!$C:$C,'Data BG'!$I51,Mapping!H:H)+SUMIF(Mapping!$D:$D,'Data BG'!$I51,Mapping!H:H)+SUMIF(Mapping!$B:$B,'Data BG'!$J51,Mapping!H:H)+SUMIF(Mapping!$C:$C,'Data BG'!$J51,Mapping!H:H)+SUMIF(Mapping!$D:$D,'Data BG'!$J51,Mapping!H:H)+SUMIF(Mapping!$B:$B,'Data BG'!$M51,Mapping!H:H)+SUMIF(Mapping!$C:$C,'Data BG'!$M51,Mapping!H:H)+SUMIF(Mapping!$D:$D,'Data BG'!$M51,Mapping!H:H)+SUMIF(Mapping!$B:$B,$N51,Mapping!H:H)+SUMIF(Mapping!$C:$C,$N51,Mapping!H:H)+SUMIF(Mapping!$D:$D,$N51,Mapping!H:H)+SUMIF(Mapping!$B:$B,'Data BG'!$K51,Mapping!H:H)+SUMIF(Mapping!$C:$C,'Data BG'!$K51,Mapping!H:H)+SUMIF(Mapping!$D:$D,'Data BG'!$K51,Mapping!H:H)+SUMIF(Mapping!$B:$B,'Data BG'!$L51,Mapping!H:H)+SUMIF(Mapping!$C:$C,'Data BG'!$L51,Mapping!H:H)+SUMIF(Mapping!$D:$D,'Data BG'!$L51,Mapping!H:H)","v":0}]
[1066,null,null,null,null,null,null,null,null,null,null,null,null,null,null,null,null,"Réserves pour frais de manifestation ",{"$f":"SUMIF(Mapping!$B:$B,'Data BG'!$A52,Mapping!G:G)+SUMIF(Mapping!$C:$C,'Data BG'!$A52,Mapping!G:G)+SUMIF(Mapping!$D:$D,'Data BG'!$A52,Mapping!G:G)+SUMIF(Mapping!$B:$B,'Data BG'!$B52,Mapping!G:G)+SUMIF(Mapping!$C:$C,'Data BG'!$B52,Mapping!G:G)+SUMIF(Mapping!$D:$D,'Data BG'!$B52,Mapping!G:G)+SUMIF(Mapping!$B:$B,'Data BG'!$C52,Mapping!G:G)+SUMIF(Mapping!$C:$C,'Data BG'!$C52,Mapping!G:G)+SUMIF(Mapping!$D:$D,'Data BG'!$C52,Mapping!G:G)+SUMIF(Mapping!$B:$B,'Data BG'!$D52,Mapping!G:G)+SUMIF(Mapping!$C:$C,'Data BG'!$D52,Mapping!G:G)+SUMIF(Mapping!$D:$D,'Data BG'!$D52,Mapping!G:G)+SUMIF(Mapping!$B:$B,'Data BG'!$E52,Mapping!G:G)+SUMIF(Mapping!$C:$C,'Data BG'!$E52,Mapping!G:G)+SUMIF(Mapping!$D:$D,'Data BG'!$E52,Mapping!G:G)+SUMIF(Mapping!$B:$B,'Data BG'!$F52,Mapping!G:G)+SUMIF(Mapping!$C:$C,'Data BG'!$F52,Mapping!G:G)+SUMIF(Mapping!$D:$D,'Data BG'!$F52,Mapping!G:G)+SUMIF(Mapping!$B:$B,'Data BG'!$G52,Mapping!G:G)+SUMIF(Mapping!$C:$C,'Data BG'!$G52,Mapping!G:G)+SUMIF(Mapping!$D:$D,'Data BG'!$G52,Mapping!G:G)+SUMIF(Mapping!$B:$B,'Data BG'!$H52,Mapping!G:G)+SUMIF(Mapping!$C:$C,'Data BG'!$H52,Mapping!G:G)+SUMIF(Mapping!$D:$D,'Data BG'!$H52,Mapping!G:G)+SUMIF(Mapping!$B:$B,'Data BG'!$I52,Mapping!G:G)+SUMIF(Mapping!$C:$C,'Data BG'!$I52,Mapping!G:G)+SUMIF(Mapping!$D:$D,'Data BG'!$I52,Mapping!G:G)+SUMIF(Mapping!$B:$B,'Data BG'!$J52,Mapping!G:G)+SUMIF(Mapping!$C:$C,'Data BG'!$J52,Mapping!G:G)+SUMIF(Mapping!$D:$D,'Data BG'!$J52,Mapping!G:G)+SUMIF(Mapping!$B:$B,'Data BG'!$M52,Mapping!G:G)+SUMIF(Mapping!$C:$C,'Data BG'!$M52,Mapping!G:G)+SUMIF(Mapping!$D:$D,'Data BG'!$M52,Mapping!G:G)+SUMIF(Mapping!$B:$B,$N52,Mapping!G:G)+SUMIF(Mapping!$C:$C,$N52,Mapping!G:G)+SUMIF(Mapping!$D:$D,$N52,Mapping!G:G)+SUMIF(Mapping!$B:$B,'Data BG'!$K52,Mapping!G:G)+SUMIF(Mapping!$C:$C,'Data BG'!$K52,Mapping!G:G)+SUMIF(Mapping!$D:$D,'Data BG'!$K52,Mapping!G:G)+SUMIF(Mapping!$B:$B,'Data BG'!$L52,Mapping!G:G)+SUMIF(Mapping!$C:$C,'Data BG'!$L52,Mapping!G:G)+SUMIF(Mapping!$D:$D,'Data BG'!$L52,Mapping!G:G)","v":0},{"$f":"SUMIF(Mapping!$B:$B,'Data BG'!$A52,Mapping!H:H)+SUMIF(Mapping!$C:$C,'Data BG'!$A52,Mapping!H:H)+SUMIF(Mapping!$D:$D,'Data BG'!$A52,Mapping!H:H)+SUMIF(Mapping!$B:$B,'Data BG'!$B52,Mapping!H:H)+SUMIF(Mapping!$C:$C,'Data BG'!$B52,Mapping!H:H)+SUMIF(Mapping!$D:$D,'Data BG'!$B52,Mapping!H:H)+SUMIF(Mapping!$B:$B,'Data BG'!$C52,Mapping!H:H)+SUMIF(Mapping!$C:$C,'Data BG'!$C52,Mapping!H:H)+SUMIF(Mapping!$D:$D,'Data BG'!$C52,Mapping!H:H)+SUMIF(Mapping!$B:$B,'Data BG'!$D52,Mapping!H:H)+SUMIF(Mapping!$C:$C,'Data BG'!$D52,Mapping!H:H)+SUMIF(Mapping!$D:$D,'Data BG'!$D52,Mapping!H:H)+SUMIF(Mapping!$B:$B,'Data BG'!$E52,Mapping!H:H)+SUMIF(Mapping!$C:$C,'Data BG'!$E52,Mapping!H:H)+SUMIF(Mapping!$D:$D,'Data BG'!$E52,Mapping!H:H)+SUMIF(Mapping!$B:$B,'Data BG'!$F52,Mapping!H:H)+SUMIF(Mapping!$C:$C,'Data BG'!$F52,Mapping!H:H)+SUMIF(Mapping!$D:$D,'Data BG'!$F52,Mapping!H:H)+SUMIF(Mapping!$B:$B,'Data BG'!$G52,Mapping!H:H)+SUMIF(Mapping!$C:$C,'Data BG'!$G52,Mapping!H:H)+SUMIF(Mapping!$D:$D,'Data BG'!$G52,Mapping!H:H)+SUMIF(Mapping!$B:$B,'Data BG'!$H52,Mapping!H:H)+SUMIF(Mapping!$C:$C,'Data BG'!$H52,Mapping!H:H)+SUMIF(Mapping!$D:$D,'Data BG'!$H52,Mapping!H:H)+SUMIF(Mapping!$B:$B,'Data BG'!$I52,Mapping!H:H)+SUMIF(Mapping!$C:$C,'Data BG'!$I52,Mapping!H:H)+SUMIF(Mapping!$D:$D,'Data BG'!$I52,Mapping!H:H)+SUMIF(Mapping!$B:$B,'Data BG'!$J52,Mapping!H:H)+SUMIF(Mapping!$C:$C,'Data BG'!$J52,Mapping!H:H)+SUMIF(Mapping!$D:$D,'Data BG'!$J52,Mapping!H:H)+SUMIF(Mapping!$B:$B,'Data BG'!$M52,Mapping!H:H)+SUMIF(Mapping!$C:$C,'Data BG'!$M52,Mapping!H:H)+SUMIF(Mapping!$D:$D,'Data BG'!$M52,Mapping!H:H)+SUMIF(Mapping!$B:$B,$N52,Mapping!H:H)+SUMIF(Mapping!$C:$C,$N52,Mapping!H:H)+SUMIF(Mapping!$D:$D,$N52,Mapping!H:H)+SUMIF(Mapping!$B:$B,'Data BG'!$K52,Mapping!H:H)+SUMIF(Mapping!$C:$C,'Data BG'!$K52,Mapping!H:H)+SUMIF(Mapping!$D:$D,'Data BG'!$K52,Mapping!H:H)+SUMIF(Mapping!$B:$B,'Data BG'!$L52,Mapping!H:H)+SUMIF(Mapping!$C:$C,'Data BG'!$L52,Mapping!H:H)+SUMIF(Mapping!$D:$D,'Data BG'!$L52,Mapping!H:H)","v":0}]
[110,119,null,null,null,null,null,null,null,null,null,null,null,null,null,null,null,"Report à nouveau ",{"$f":"SUMIF(Mapping!$B:$B,'Data BG'!$A53,Mapping!G:G)+SUMIF(Mapping!$C:$C,'Data BG'!$A53,Mapping!G:G)+SUMIF(Mapping!$D:$D,'Data BG'!$A53,Mapping!G:G)+SUMIF(Mapping!$B:$B,'Data BG'!$B53,Mapping!G:G)+SUMIF(Mapping!$C:$C,'Data BG'!$B53,Mapping!G:G)+SUMIF(Mapping!$D:$D,'Data BG'!$B53,Mapping!G:G)+SUMIF(Mapping!$B:$B,'Data BG'!$C53,Mapping!G:G)+SUMIF(Mapping!$C:$C,'Data BG'!$C53,Mapping!G:G)+SUMIF(Mapping!$D:$D,'Data BG'!$C53,Mapping!G:G)+SUMIF(Mapping!$B:$B,'Data BG'!$D53,Mapping!G:G)+SUMIF(Mapping!$C:$C,'Data BG'!$D53,Mapping!G:G)+SUMIF(Mapping!$D:$D,'Data BG'!$D53,Mapping!G:G)+SUMIF(Mapping!$B:$B,'Data BG'!$E53,Mapping!G:G)+SUMIF(Mapping!$C:$C,'Data BG'!$E53,Mapping!G:G)+SUMIF(Mapping!$D:$D,'Data BG'!$E53,Mapping!G:G)+SUMIF(Mapping!$B:$B,'Data BG'!$F53,Mapping!G:G)+SUMIF(Mapping!$C:$C,'Data BG'!$F53,Mapping!G:G)+SUMIF(Mapping!$D:$D,'Data BG'!$F53,Mapping!G:G)+SUMIF(Mapping!$B:$B,'Data BG'!$G53,Mapping!G:G)+SUMIF(Mapping!$C:$C,'Data BG'!$G53,Mapping!G:G)+SUMIF(Mapping!$D:$D,'Data BG'!$G53,Mapping!G:G)+SUMIF(Mapping!$B:$B,'Data BG'!$H53,Mapping!G:G)+SUMIF(Mapping!$C:$C,'Data BG'!$H53,Mapping!G:G)+SUMIF(Mapping!$D:$D,'Data BG'!$H53,Mapping!G:G)+SUMIF(Mapping!$B:$B,'Data BG'!$I53,Mapping!G:G)+SUMIF(Mapping!$C:$C,'Data BG'!$I53,Mapping!G:G)+SUMIF(Mapping!$D:$D,'Data BG'!$I53,Mapping!G:G)+SUMIF(Mapping!$B:$B,'Data BG'!$J53,Mapping!G:G)+SUMIF(Mapping!$C:$C,'Data BG'!$J53,Mapping!G:G)+SUMIF(Mapping!$D:$D,'Data BG'!$J53,Mapping!G:G)+SUMIF(Mapping!$B:$B,'Data BG'!$M53,Mapping!G:G)+SUMIF(Mapping!$C:$C,'Data BG'!$M53,Mapping!G:G)+SUMIF(Mapping!$D:$D,'Data BG'!$M53,Mapping!G:G)+SUMIF(Mapping!$B:$B,$N53,Mapping!G:G)+SUMIF(Mapping!$C:$C,$N53,Mapping!G:G)+SUMIF(Mapping!$D:$D,$N53,Mapping!G:G)+SUMIF(Mapping!$B:$B,'Data BG'!$K53,Mapping!G:G)+SUMIF(Mapping!$C:$C,'Data BG'!$K53,Mapping!G:G)+SUMIF(Mapping!$D:$D,'Data BG'!$K53,Mapping!G:G)+SUMIF(Mapping!$B:$B,'Data BG'!$L53,Mapping!G:G)+SUMIF(Mapping!$C:$C,'Data BG'!$L53,Mapping!G:G)+SUMIF(Mapping!$D:$D,'Data BG'!$L53,Mapping!G:G)","v":0},{"$f":"SUMIF(Mapping!$B:$B,'Data BG'!$A53,Mapping!H:H)+SUMIF(Mapping!$C:$C,'Data BG'!$A53,Mapping!H:H)+SUMIF(Mapping!$D:$D,'Data BG'!$A53,Mapping!H:H)+SUMIF(Mapping!$B:$B,'Data BG'!$B53,Mapping!H:H)+SUMIF(Mapping!$C:$C,'Data BG'!$B53,Mapping!H:H)+SUMIF(Mapping!$D:$D,'Data BG'!$B53,Mapping!H:H)+SUMIF(Mapping!$B:$B,'Data BG'!$C53,Mapping!H:H)+SUMIF(Mapping!$C:$C,'Data BG'!$C53,Mapping!H:H)+SUMIF(Mapping!$D:$D,'Data BG'!$C53,Mapping!H:H)+SUMIF(Mapping!$B:$B,'Data BG'!$D53,Mapping!H:H)+SUMIF(Mapping!$C:$C,'Data BG'!$D53,Mapping!H:H)+SUMIF(Mapping!$D:$D,'Data BG'!$D53,Mapping!H:H)+SUMIF(Mapping!$B:$B,'Data BG'!$E53,Mapping!H:H)+SUMIF(Mapping!$C:$C,'Data BG'!$E53,Mapping!H:H)+SUMIF(Mapping!$D:$D,'Data BG'!$E53,Mapping!H:H)+SUMIF(Mapping!$B:$B,'Data BG'!$F53,Mapping!H:H)+SUMIF(Mapping!$C:$C,'Data BG'!$F53,Mapping!H:H)+SUMIF(Mapping!$D:$D,'Data BG'!$F53,Mapping!H:H)+SUMIF(Mapping!$B:$B,'Data BG'!$G53,Mapping!H:H)+SUMIF(Mapping!$C:$C,'Data BG'!$G53,Mapping!H:H)+SUMIF(Mapping!$D:$D,'Data BG'!$G53,Mapping!H:H)+SUMIF(Mapping!$B:$B,'Data BG'!$H53,Mapping!H:H)+SUMIF(Mapping!$C:$C,'Data BG'!$H53,Mapping!H:H)+SUMIF(Mapping!$D:$D,'Data BG'!$H53,Mapping!H:H)+SUMIF(Mapping!$B:$B,'Data BG'!$I53,Mapping!H:H)+SUMIF(Mapping!$C:$C,'Data BG'!$I53,Mapping!H:H)+SUMIF(Mapping!$D:$D,'Data BG'!$I53,Mapping!H:H)+SUMIF(Mapping!$B:$B,'Data BG'!$J53,Mapping!H:H)+SUMIF(Mapping!$C:$C,'Data BG'!$J53,Mapping!H:H)+SUMIF(Mapping!$D:$D,'Data BG'!$J53,Mapping!H:H)+SUMIF(Mapping!$B:$B,'Data BG'!$M53,Mapping!H:H)+SUMIF(Mapping!$C:$C,'Data BG'!$M53,Mapping!H:H)+SUMIF(Mapping!$D:$D,'Data BG'!$M53,Mapping!H:H)+SUMIF(Mapping!$B:$B,$N53,Mapping!H:H)+SUMIF(Mapping!$C:$C,$N53,Mapping!H:H)+SUMIF(Mapping!$D:$D,$N53,Mapping!H:H)+SUMIF(Mapping!$B:$B,'Data BG'!$K53,Mapping!H:H)+SUMIF(Mapping!$C:$C,'Data BG'!$K53,Mapping!H:H)+SUMIF(Mapping!$D:$D,'Data BG'!$K53,Mapping!H:H)+SUMIF(Mapping!$B:$B,'Data BG'!$L53,Mapping!H:H)+SUMIF(Mapping!$C:$C,'Data BG'!$L53,Mapping!H:H)+SUMIF(Mapping!$D:$D,'Data BG'!$L53,Mapping!H:H)","v":0}]
["RNC",1200,129,null,null,null,null,null,null,null,null,null,null,null,null,null,null,"Excédent ou déficit de l'exercice ",{"$f":"SUMIF(Mapping!$B:$B,'Data BG'!$A54,Mapping!G:G)+SUMIF(Mapping!$C:$C,'Data BG'!$A54,Mapping!G:G)+SUMIF(Mapping!$D:$D,'Data BG'!$A54,Mapping!G:G)+SUMIF(Mapping!$B:$B,'Data BG'!$B54,Mapping!G:G)+SUMIF(Mapping!$C:$C,'Data BG'!$B54,Mapping!G:G)+SUMIF(Mapping!$D:$D,'Data BG'!$B54,Mapping!G:G)+SUMIF(Mapping!$B:$B,'Data BG'!$C54,Mapping!G:G)+SUMIF(Mapping!$C:$C,'Data BG'!$C54,Mapping!G:G)+SUMIF(Mapping!$D:$D,'Data BG'!$C54,Mapping!G:G)+SUMIF(Mapping!$B:$B,'Data BG'!$D54,Mapping!G:G)+SUMIF(Mapping!$C:$C,'Data BG'!$D54,Mapping!G:G)+SUMIF(Mapping!$D:$D,'Data BG'!$D54,Mapping!G:G)+SUMIF(Mapping!$B:$B,'Data BG'!$E54,Mapping!G:G)+SUMIF(Mapping!$C:$C,'Data BG'!$E54,Mapping!G:G)+SUMIF(Mapping!$D:$D,'Data BG'!$E54,Mapping!G:G)+SUMIF(Mapping!$B:$B,'Data BG'!$F54,Mapping!G:G)+SUMIF(Mapping!$C:$C,'Data BG'!$F54,Mapping!G:G)+SUMIF(Mapping!$D:$D,'Data BG'!$F54,Mapping!G:G)+SUMIF(Mapping!$B:$B,'Data BG'!$G54,Mapping!G:G)+SUMIF(Mapping!$C:$C,'Data BG'!$G54,Mapping!G:G)+SUMIF(Mapping!$D:$D,'Data BG'!$G54,Mapping!G:G)+SUMIF(Mapping!$B:$B,'Data BG'!$H54,Mapping!G:G)+SUMIF(Mapping!$C:$C,'Data BG'!$H54,Mapping!G:G)+SUMIF(Mapping!$D:$D,'Data BG'!$H54,Mapping!G:G)+SUMIF(Mapping!$B:$B,'Data BG'!$I54,Mapping!G:G)+SUMIF(Mapping!$C:$C,'Data BG'!$I54,Mapping!G:G)+SUMIF(Mapping!$D:$D,'Data BG'!$I54,Mapping!G:G)+SUMIF(Mapping!$B:$B,'Data BG'!$J54,Mapping!G:G)+SUMIF(Mapping!$C:$C,'Data BG'!$J54,Mapping!G:G)+SUMIF(Mapping!$D:$D,'Data BG'!$J54,Mapping!G:G)+SUMIF(Mapping!$B:$B,'Data BG'!$M54,Mapping!G:G)+SUMIF(Mapping!$C:$C,'Data BG'!$M54,Mapping!G:G)+SUMIF(Mapping!$D:$D,'Data BG'!$M54,Mapping!G:G)+SUMIF(Mapping!$B:$B,$N54,Mapping!G:G)+SUMIF(Mapping!$C:$C,$N54,Mapping!G:G)+SUMIF(Mapping!$D:$D,$N54,Mapping!G:G)+SUMIF(Mapping!$B:$B,'Data BG'!$K54,Mapping!G:G)+SUMIF(Mapping!$C:$C,'Data BG'!$K54,Mapping!G:G)+SUMIF(Mapping!$D:$D,'Data BG'!$K54,Mapping!G:G)+SUMIF(Mapping!$B:$B,'Data BG'!$L54,Mapping!G:G)+SUMIF(Mapping!$C:$C,'Data BG'!$L54,Mapping!G:G)+SUMIF(Mapping!$D:$D,'Data BG'!$L54,Mapping!G:G)","v":0},{"$f":"SUMIF(Mapping!$B:$B,'Data BG'!$A54,Mapping!H:H)+SUMIF(Mapping!$C:$C,'Data BG'!$A54,Mapping!H:H)+SUMIF(Mapping!$D:$D,'Data BG'!$A54,Mapping!H:H)+SUMIF(Mapping!$B:$B,'Data BG'!$B54,Mapping!H:H)+SUMIF(Mapping!$C:$C,'Data BG'!$B54,Mapping!H:H)+SUMIF(Mapping!$D:$D,'Data BG'!$B54,Mapping!H:H)+SUMIF(Mapping!$B:$B,'Data BG'!$C54,Mapping!H:H)+SUMIF(Mapping!$C:$C,'Data BG'!$C54,Mapping!H:H)+SUMIF(Mapping!$D:$D,'Data BG'!$C54,Mapping!H:H)+SUMIF(Mapping!$B:$B,'Data BG'!$D54,Mapping!H:H)+SUMIF(Mapping!$C:$C,'Data BG'!$D54,Mapping!H:H)+SUMIF(Mapping!$D:$D,'Data BG'!$D54,Mapping!H:H)+SUMIF(Mapping!$B:$B,'Data BG'!$E54,Mapping!H:H)+SUMIF(Mapping!$C:$C,'Data BG'!$E54,Mapping!H:H)+SUMIF(Mapping!$D:$D,'Data BG'!$E54,Mapping!H:H)+SUMIF(Mapping!$B:$B,'Data BG'!$F54,Mapping!H:H)+SUMIF(Mapping!$C:$C,'Data BG'!$F54,Mapping!H:H)+SUMIF(Mapping!$D:$D,'Data BG'!$F54,Mapping!H:H)+SUMIF(Mapping!$B:$B,'Data BG'!$G54,Mapping!H:H)+SUMIF(Mapping!$C:$C,'Data BG'!$G54,Mapping!H:H)+SUMIF(Mapping!$D:$D,'Data BG'!$G54,Mapping!H:H)+SUMIF(Mapping!$B:$B,'Data BG'!$H54,Mapping!H:H)+SUMIF(Mapping!$C:$C,'Data BG'!$H54,Mapping!H:H)+SUMIF(Mapping!$D:$D,'Data BG'!$H54,Mapping!H:H)+SUMIF(Mapping!$B:$B,'Data BG'!$I54,Mapping!H:H)+SUMIF(Mapping!$C:$C,'Data BG'!$I54,Mapping!H:H)+SUMIF(Mapping!$D:$D,'Data BG'!$I54,Mapping!H:H)+SUMIF(Mapping!$B:$B,'Data BG'!$J54,Mapping!H:H)+SUMIF(Mapping!$C:$C,'Data BG'!$J54,Mapping!H:H)+SUMIF(Mapping!$D:$D,'Data BG'!$J54,Mapping!H:H)+SUMIF(Mapping!$B:$B,'Data BG'!$M54,Mapping!H:H)+SUMIF(Mapping!$C:$C,'Data BG'!$M54,Mapping!H:H)+SUMIF(Mapping!$D:$D,'Data BG'!$M54,Mapping!H:H)+SUMIF(Mapping!$B:$B,$N54,Mapping!H:H)+SUMIF(Mapping!$C:$C,$N54,Mapping!H:H)+SUMIF(Mapping!$D:$D,$N54,Mapping!H:H)+SUMIF(Mapping!$B:$B,'Data BG'!$K54,Mapping!H:H)+SUMIF(Mapping!$C:$C,'Data BG'!$K54,Mapping!H:H)+SUMIF(Mapping!$D:$D,'Data BG'!$K54,Mapping!H:H)+SUMIF(Mapping!$B:$B,'Data BG'!$L54,Mapping!H:H)+SUMIF(Mapping!$C:$C,'Data BG'!$L54,Mapping!H:H)+SUMIF(Mapping!$D:$D,'Data BG'!$L54,Mapping!H:H)","v":0}]
[101,102,104,105,107,108,13,14,null,null,null,null,null,null,null,null,null,"Autres fonds propres ",{"$f":"SUMIF(Mapping!$B:$B,'Data BG'!$A55,Mapping!G:G)+SUMIF(Mapping!$C:$C,'Data BG'!$A55,Mapping!G:G)+SUMIF(Mapping!$D:$D,'Data BG'!$A55,Mapping!G:G)+SUMIF(Mapping!$B:$B,'Data BG'!$B55,Mapping!G:G)+SUMIF(Mapping!$C:$C,'Data BG'!$B55,Mapping!G:G)+SUMIF(Mapping!$D:$D,'Data BG'!$B55,Mapping!G:G)+SUMIF(Mapping!$B:$B,'Data BG'!$C55,Mapping!G:G)+SUMIF(Mapping!$C:$C,'Data BG'!$C55,Mapping!G:G)+SUMIF(Mapping!$D:$D,'Data BG'!$C55,Mapping!G:G)+SUMIF(Mapping!$B:$B,'Data BG'!$D55,Mapping!G:G)+SUMIF(Mapping!$C:$C,'Data BG'!$D55,Mapping!G:G)+SUMIF(Mapping!$D:$D,'Data BG'!$D55,Mapping!G:G)+SUMIF(Mapping!$B:$B,'Data BG'!$E55,Mapping!G:G)+SUMIF(Mapping!$C:$C,'Data BG'!$E55,Mapping!G:G)+SUMIF(Mapping!$D:$D,'Data BG'!$E55,Mapping!G:G)+SUMIF(Mapping!$B:$B,'Data BG'!$F55,Mapping!G:G)+SUMIF(Mapping!$C:$C,'Data BG'!$F55,Mapping!G:G)+SUMIF(Mapping!$D:$D,'Data BG'!$F55,Mapping!G:G)+SUMIF(Mapping!$B:$B,'Data BG'!$G55,Mapping!G:G)+SUMIF(Mapping!$C:$C,'Data BG'!$G55,Mapping!G:G)+SUMIF(Mapping!$D:$D,'Data BG'!$G55,Mapping!G:G)+SUMIF(Mapping!$B:$B,'Data BG'!$H55,Mapping!G:G)+SUMIF(Mapping!$C:$C,'Data BG'!$H55,Mapping!G:G)+SUMIF(Mapping!$D:$D,'Data BG'!$H55,Mapping!G:G)+SUMIF(Mapping!$B:$B,'Data BG'!$I55,Mapping!G:G)+SUMIF(Mapping!$C:$C,'Data BG'!$I55,Mapping!G:G)+SUMIF(Mapping!$D:$D,'Data BG'!$I55,Mapping!G:G)+SUMIF(Mapping!$B:$B,'Data BG'!$J55,Mapping!G:G)+SUMIF(Mapping!$C:$C,'Data BG'!$J55,Mapping!G:G)+SUMIF(Mapping!$D:$D,'Data BG'!$J55,Mapping!G:G)+SUMIF(Mapping!$B:$B,'Data BG'!$M55,Mapping!G:G)+SUMIF(Mapping!$C:$C,'Data BG'!$M55,Mapping!G:G)+SUMIF(Mapping!$D:$D,'Data BG'!$M55,Mapping!G:G)+SUMIF(Mapping!$B:$B,$N55,Mapping!G:G)+SUMIF(Mapping!$C:$C,$N55,Mapping!G:G)+SUMIF(Mapping!$D:$D,$N55,Mapping!G:G)+SUMIF(Mapping!$B:$B,'Data BG'!$K55,Mapping!G:G)+SUMIF(Mapping!$C:$C,'Data BG'!$K55,Mapping!G:G)+SUMIF(Mapping!$D:$D,'Data BG'!$K55,Mapping!G:G)+SUMIF(Mapping!$B:$B,'Data BG'!$L55,Mapping!G:G)+SUMIF(Mapping!$C:$C,'Data BG'!$L55,Mapping!G:G)+SUMIF(Mapping!$D:$D,'Data BG'!$L55,Mapping!G:G)","v":0},{"$f":"SUMIF(Mapping!$B:$B,'Data BG'!$A55,Mapping!H:H)+SUMIF(Mapping!$C:$C,'Data BG'!$A55,Mapping!H:H)+SUMIF(Mapping!$D:$D,'Data BG'!$A55,Mapping!H:H)+SUMIF(Mapping!$B:$B,'Data BG'!$B55,Mapping!H:H)+SUMIF(Mapping!$C:$C,'Data BG'!$B55,Mapping!H:H)+SUMIF(Mapping!$D:$D,'Data BG'!$B55,Mapping!H:H)+SUMIF(Mapping!$B:$B,'Data BG'!$C55,Mapping!H:H)+SUMIF(Mapping!$C:$C,'Data BG'!$C55,Mapping!H:H)+SUMIF(Mapping!$D:$D,'Data BG'!$C55,Mapping!H:H)+SUMIF(Mapping!$B:$B,'Data BG'!$D55,Mapping!H:H)+SUMIF(Mapping!$C:$C,'Data BG'!$D55,Mapping!H:H)+SUMIF(Mapping!$D:$D,'Data BG'!$D55,Mapping!H:H)+SUMIF(Mapping!$B:$B,'Data BG'!$E55,Mapping!H:H)+SUMIF(Mapping!$C:$C,'Data BG'!$E55,Mapping!H:H)+SUMIF(Mapping!$D:$D,'Data BG'!$E55,Mapping!H:H)+SUMIF(Mapping!$B:$B,'Data BG'!$F55,Mapping!H:H)+SUMIF(Mapping!$C:$C,'Data BG'!$F55,Mapping!H:H)+SUMIF(Mapping!$D:$D,'Data BG'!$F55,Mapping!H:H)+SUMIF(Mapping!$B:$B,'Data BG'!$G55,Mapping!H:H)+SUMIF(Mapping!$C:$C,'Data BG'!$G55,Mapping!H:H)+SUMIF(Mapping!$D:$D,'Data BG'!$G55,Mapping!H:H)+SUMIF(Mapping!$B:$B,'Data BG'!$H55,Mapping!H:H)+SUMIF(Mapping!$C:$C,'Data BG'!$H55,Mapping!H:H)+SUMIF(Mapping!$D:$D,'Data BG'!$H55,Mapping!H:H)+SUMIF(Mapping!$B:$B,'Data BG'!$I55,Mapping!H:H)+SUMIF(Mapping!$C:$C,'Data BG'!$I55,Mapping!H:H)+SUMIF(Mapping!$D:$D,'Data BG'!$I55,Mapping!H:H)+SUMIF(Mapping!$B:$B,'Data BG'!$J55,Mapping!H:H)+SUMIF(Mapping!$C:$C,'Data BG'!$J55,Mapping!H:H)+SUMIF(Mapping!$D:$D,'Data BG'!$J55,Mapping!H:H)+SUMIF(Mapping!$B:$B,'Data BG'!$M55,Mapping!H:H)+SUMIF(Mapping!$C:$C,'Data BG'!$M55,Mapping!H:H)+SUMIF(Mapping!$D:$D,'Data BG'!$M55,Mapping!H:H)+SUMIF(Mapping!$B:$B,$N55,Mapping!H:H)+SUMIF(Mapping!$C:$C,$N55,Mapping!H:H)+SUMIF(Mapping!$D:$D,$N55,Mapping!H:H)+SUMIF(Mapping!$B:$B,'Data BG'!$K55,Mapping!H:H)+SUMIF(Mapping!$C:$C,'Data BG'!$K55,Mapping!H:H)+SUMIF(Mapping!$D:$D,'Data BG'!$K55,Mapping!H:H)+SUMIF(Mapping!$B:$B,'Data BG'!$L55,Mapping!H:H)+SUMIF(Mapping!$C:$C,'Data BG'!$L55,Mapping!H:H)+SUMIF(Mapping!$D:$D,'Data BG'!$L55,Mapping!H:H)","v":0}]
[1065,125,null,null,null,null,null,null,null,null,null,null,null,null,null,null,null,"Intérêts des tiers ",{"$f":"SUMIF(Mapping!$B:$B,'Data BG'!$A56,Mapping!G:G)+SUMIF(Mapping!$C:$C,'Data BG'!$A56,Mapping!G:G)+SUMIF(Mapping!$D:$D,'Data BG'!$A56,Mapping!G:G)+SUMIF(Mapping!$B:$B,'Data BG'!$B56,Mapping!G:G)+SUMIF(Mapping!$C:$C,'Data BG'!$B56,Mapping!G:G)+SUMIF(Mapping!$D:$D,'Data BG'!$B56,Mapping!G:G)+SUMIF(Mapping!$B:$B,'Data BG'!$C56,Mapping!G:G)+SUMIF(Mapping!$C:$C,'Data BG'!$C56,Mapping!G:G)+SUMIF(Mapping!$D:$D,'Data BG'!$C56,Mapping!G:G)+SUMIF(Mapping!$B:$B,'Data BG'!$D56,Mapping!G:G)+SUMIF(Mapping!$C:$C,'Data BG'!$D56,Mapping!G:G)+SUMIF(Mapping!$D:$D,'Data BG'!$D56,Mapping!G:G)+SUMIF(Mapping!$B:$B,'Data BG'!$E56,Mapping!G:G)+SUMIF(Mapping!$C:$C,'Data BG'!$E56,Mapping!G:G)+SUMIF(Mapping!$D:$D,'Data BG'!$E56,Mapping!G:G)+SUMIF(Mapping!$B:$B,'Data BG'!$F56,Mapping!G:G)+SUMIF(Mapping!$C:$C,'Data BG'!$F56,Mapping!G:G)+SUMIF(Mapping!$D:$D,'Data BG'!$F56,Mapping!G:G)+SUMIF(Mapping!$B:$B,'Data BG'!$G56,Mapping!G:G)+SUMIF(Mapping!$C:$C,'Data BG'!$G56,Mapping!G:G)+SUMIF(Mapping!$D:$D,'Data BG'!$G56,Mapping!G:G)+SUMIF(Mapping!$B:$B,'Data BG'!$H56,Mapping!G:G)+SUMIF(Mapping!$C:$C,'Data BG'!$H56,Mapping!G:G)+SUMIF(Mapping!$D:$D,'Data BG'!$H56,Mapping!G:G)+SUMIF(Mapping!$B:$B,'Data BG'!$I56,Mapping!G:G)+SUMIF(Mapping!$C:$C,'Data BG'!$I56,Mapping!G:G)+SUMIF(Mapping!$D:$D,'Data BG'!$I56,Mapping!G:G)+SUMIF(Mapping!$B:$B,'Data BG'!$J56,Mapping!G:G)+SUMIF(Mapping!$C:$C,'Data BG'!$J56,Mapping!G:G)+SUMIF(Mapping!$D:$D,'Data BG'!$J56,Mapping!G:G)+SUMIF(Mapping!$B:$B,'Data BG'!$M56,Mapping!G:G)+SUMIF(Mapping!$C:$C,'Data BG'!$M56,Mapping!G:G)+SUMIF(Mapping!$D:$D,'Data BG'!$M56,Mapping!G:G)+SUMIF(Mapping!$B:$B,$N56,Mapping!G:G)+SUMIF(Mapping!$C:$C,$N56,Mapping!G:G)+SUMIF(Mapping!$D:$D,$N56,Mapping!G:G)+SUMIF(Mapping!$B:$B,'Data BG'!$K56,Mapping!G:G)+SUMIF(Mapping!$C:$C,'Data BG'!$K56,Mapping!G:G)+SUMIF(Mapping!$D:$D,'Data BG'!$K56,Mapping!G:G)+SUMIF(Mapping!$B:$B,'Data BG'!$L56,Mapping!G:G)+SUMIF(Mapping!$C:$C,'Data BG'!$L56,Mapping!G:G)+SUMIF(Mapping!$D:$D,'Data BG'!$L56,Mapping!G:G)","v":0},{"$f":"SUMIF(Mapping!$B:$B,'Data BG'!$A56,Mapping!H:H)+SUMIF(Mapping!$C:$C,'Data BG'!$A56,Mapping!H:H)+SUMIF(Mapping!$D:$D,'Data BG'!$A56,Mapping!H:H)+SUMIF(Mapping!$B:$B,'Data BG'!$B56,Mapping!H:H)+SUMIF(Mapping!$C:$C,'Data BG'!$B56,Mapping!H:H)+SUMIF(Mapping!$D:$D,'Data BG'!$B56,Mapping!H:H)+SUMIF(Mapping!$B:$B,'Data BG'!$C56,Mapping!H:H)+SUMIF(Mapping!$C:$C,'Data BG'!$C56,Mapping!H:H)+SUMIF(Mapping!$D:$D,'Data BG'!$C56,Mapping!H:H)+SUMIF(Mapping!$B:$B,'Data BG'!$D56,Mapping!H:H)+SUMIF(Mapping!$C:$C,'Data BG'!$D56,Mapping!H:H)+SUMIF(Mapping!$D:$D,'Data BG'!$D56,Mapping!H:H)+SUMIF(Mapping!$B:$B,'Data BG'!$E56,Mapping!H:H)+SUMIF(Mapping!$C:$C,'Data BG'!$E56,Mapping!H:H)+SUMIF(Mapping!$D:$D,'Data BG'!$E56,Mapping!H:H)+SUMIF(Mapping!$B:$B,'Data BG'!$F56,Mapping!H:H)+SUMIF(Mapping!$C:$C,'Data BG'!$F56,Mapping!H:H)+SUMIF(Mapping!$D:$D,'Data BG'!$F56,Mapping!H:H)+SUMIF(Mapping!$B:$B,'Data BG'!$G56,Mapping!H:H)+SUMIF(Mapping!$C:$C,'Data BG'!$G56,Mapping!H:H)+SUMIF(Mapping!$D:$D,'Data BG'!$G56,Mapping!H:H)+SUMIF(Mapping!$B:$B,'Data BG'!$H56,Mapping!H:H)+SUMIF(Mapping!$C:$C,'Data BG'!$H56,Mapping!H:H)+SUMIF(Mapping!$D:$D,'Data BG'!$H56,Mapping!H:H)+SUMIF(Mapping!$B:$B,'Data BG'!$I56,Mapping!H:H)+SUMIF(Mapping!$C:$C,'Data BG'!$I56,Mapping!H:H)+SUMIF(Mapping!$D:$D,'Data BG'!$I56,Mapping!H:H)+SUMIF(Mapping!$B:$B,'Data BG'!$J56,Mapping!H:H)+SUMIF(Mapping!$C:$C,'Data BG'!$J56,Mapping!H:H)+SUMIF(Mapping!$D:$D,'Data BG'!$J56,Mapping!H:H)+SUMIF(Mapping!$B:$B,'Data BG'!$M56,Mapping!H:H)+SUMIF(Mapping!$C:$C,'Data BG'!$M56,Mapping!H:H)+SUMIF(Mapping!$D:$D,'Data BG'!$M56,Mapping!H:H)+SUMIF(Mapping!$B:$B,$N56,Mapping!H:H)+SUMIF(Mapping!$C:$C,$N56,Mapping!H:H)+SUMIF(Mapping!$D:$D,$N56,Mapping!H:H)+SUMIF(Mapping!$B:$B,'Data BG'!$K56,Mapping!H:H)+SUMIF(Mapping!$C:$C,'Data BG'!$K56,Mapping!H:H)+SUMIF(Mapping!$D:$D,'Data BG'!$K56,Mapping!H:H)+SUMIF(Mapping!$B:$B,'Data BG'!$L56,Mapping!H:H)+SUMIF(Mapping!$C:$C,'Data BG'!$L56,Mapping!H:H)+SUMIF(Mapping!$D:$D,'Data BG'!$L56,Mapping!H:H)","v":0}]
[null,null,null,null,null,null,null,null,null,null,null,null,null,null,null,null,null,"PROVISIONS "]
[151,null,null,null,null,null,null,null,null,null,null,null,null,null,null,null,null,"Provisions pour risques ",{"$f":"SUMIF(Mapping!$B:$B,'Data BG'!$A58,Mapping!G:G)+SUMIF(Mapping!$C:$C,'Data BG'!$A58,Mapping!G:G)+SUMIF(Mapping!$D:$D,'Data BG'!$A58,Mapping!G:G)+SUMIF(Mapping!$B:$B,'Data BG'!$B58,Mapping!G:G)+SUMIF(Mapping!$C:$C,'Data BG'!$B58,Mapping!G:G)+SUMIF(Mapping!$D:$D,'Data BG'!$B58,Mapping!G:G)+SUMIF(Mapping!$B:$B,'Data BG'!$C58,Mapping!G:G)+SUMIF(Mapping!$C:$C,'Data BG'!$C58,Mapping!G:G)+SUMIF(Mapping!$D:$D,'Data BG'!$C58,Mapping!G:G)+SUMIF(Mapping!$B:$B,'Data BG'!$D58,Mapping!G:G)+SUMIF(Mapping!$C:$C,'Data BG'!$D58,Mapping!G:G)+SUMIF(Mapping!$D:$D,'Data BG'!$D58,Mapping!G:G)+SUMIF(Mapping!$B:$B,'Data BG'!$E58,Mapping!G:G)+SUMIF(Mapping!$C:$C,'Data BG'!$E58,Mapping!G:G)+SUMIF(Mapping!$D:$D,'Data BG'!$E58,Mapping!G:G)+SUMIF(Mapping!$B:$B,'Data BG'!$F58,Mapping!G:G)+SUMIF(Mapping!$C:$C,'Data BG'!$F58,Mapping!G:G)+SUMIF(Mapping!$D:$D,'Data BG'!$F58,Mapping!G:G)+SUMIF(Mapping!$B:$B,'Data BG'!$G58,Mapping!G:G)+SUMIF(Mapping!$C:$C,'Data BG'!$G58,Mapping!G:G)+SUMIF(Mapping!$D:$D,'Data BG'!$G58,Mapping!G:G)+SUMIF(Mapping!$B:$B,'Data BG'!$H58,Mapping!G:G)+SUMIF(Mapping!$C:$C,'Data BG'!$H58,Mapping!G:G)+SUMIF(Mapping!$D:$D,'Data BG'!$H58,Mapping!G:G)+SUMIF(Mapping!$B:$B,'Data BG'!$I58,Mapping!G:G)+SUMIF(Mapping!$C:$C,'Data BG'!$I58,Mapping!G:G)+SUMIF(Mapping!$D:$D,'Data BG'!$I58,Mapping!G:G)+SUMIF(Mapping!$B:$B,'Data BG'!$J58,Mapping!G:G)+SUMIF(Mapping!$C:$C,'Data BG'!$J58,Mapping!G:G)+SUMIF(Mapping!$D:$D,'Data BG'!$J58,Mapping!G:G)+SUMIF(Mapping!$B:$B,'Data BG'!$M58,Mapping!G:G)+SUMIF(Mapping!$C:$C,'Data BG'!$M58,Mapping!G:G)+SUMIF(Mapping!$D:$D,'Data BG'!$M58,Mapping!G:G)+SUMIF(Mapping!$B:$B,$N58,Mapping!G:G)+SUMIF(Mapping!$C:$C,$N58,Mapping!G:G)+SUMIF(Mapping!$D:$D,$N58,Mapping!G:G)+SUMIF(Mapping!$B:$B,'Data BG'!$K58,Mapping!G:G)+SUMIF(Mapping!$C:$C,'Data BG'!$K58,Mapping!G:G)+SUMIF(Mapping!$D:$D,'Data BG'!$K58,Mapping!G:G)+SUMIF(Mapping!$B:$B,'Data BG'!$L58,Mapping!G:G)+SUMIF(Mapping!$C:$C,'Data BG'!$L58,Mapping!G:G)+SUMIF(Mapping!$D:$D,'Data BG'!$L58,Mapping!G:G)","v":0},{"$f":"SUMIF(Mapping!$B:$B,'Data BG'!$A58,Mapping!H:H)+SUMIF(Mapping!$C:$C,'Data BG'!$A58,Mapping!H:H)+SUMIF(Mapping!$D:$D,'Data BG'!$A58,Mapping!H:H)+SUMIF(Mapping!$B:$B,'Data BG'!$B58,Mapping!H:H)+SUMIF(Mapping!$C:$C,'Data BG'!$B58,Mapping!H:H)+SUMIF(Mapping!$D:$D,'Data BG'!$B58,Mapping!H:H)+SUMIF(Mapping!$B:$B,'Data BG'!$C58,Mapping!H:H)+SUMIF(Mapping!$C:$C,'Data BG'!$C58,Mapping!H:H)+SUMIF(Mapping!$D:$D,'Data BG'!$C58,Mapping!H:H)+SUMIF(Mapping!$B:$B,'Data BG'!$D58,Mapping!H:H)+SUMIF(Mapping!$C:$C,'Data BG'!$D58,Mapping!H:H)+SUMIF(Mapping!$D:$D,'Data BG'!$D58,Mapping!H:H)+SUMIF(Mapping!$B:$B,'Data BG'!$E58,Mapping!H:H)+SUMIF(Mapping!$C:$C,'Data BG'!$E58,Mapping!H:H)+SUMIF(Mapping!$D:$D,'Data BG'!$E58,Mapping!H:H)+SUMIF(Mapping!$B:$B,'Data BG'!$F58,Mapping!H:H)+SUMIF(Mapping!$C:$C,'Data BG'!$F58,Mapping!H:H)+SUMIF(Mapping!$D:$D,'Data BG'!$F58,Mapping!H:H)+SUMIF(Mapping!$B:$B,'Data BG'!$G58,Mapping!H:H)+SUMIF(Mapping!$C:$C,'Data BG'!$G58,Mapping!H:H)+SUMIF(Mapping!$D:$D,'Data BG'!$G58,Mapping!H:H)+SUMIF(Mapping!$B:$B,'Data BG'!$H58,Mapping!H:H)+SUMIF(Mapping!$C:$C,'Data BG'!$H58,Mapping!H:H)+SUMIF(Mapping!$D:$D,'Data BG'!$H58,Mapping!H:H)+SUMIF(Mapping!$B:$B,'Data BG'!$I58,Mapping!H:H)+SUMIF(Mapping!$C:$C,'Data BG'!$I58,Mapping!H:H)+SUMIF(Mapping!$D:$D,'Data BG'!$I58,Mapping!H:H)+SUMIF(Mapping!$B:$B,'Data BG'!$J58,Mapping!H:H)+SUMIF(Mapping!$C:$C,'Data BG'!$J58,Mapping!H:H)+SUMIF(Mapping!$D:$D,'Data BG'!$J58,Mapping!H:H)+SUMIF(Mapping!$B:$B,'Data BG'!$M58,Mapping!H:H)+SUMIF(Mapping!$C:$C,'Data BG'!$M58,Mapping!H:H)+SUMIF(Mapping!$D:$D,'Data BG'!$M58,Mapping!H:H)+SUMIF(Mapping!$B:$B,$N58,Mapping!H:H)+SUMIF(Mapping!$C:$C,$N58,Mapping!H:H)+SUMIF(Mapping!$D:$D,$N58,Mapping!H:H)+SUMIF(Mapping!$B:$B,'Data BG'!$K58,Mapping!H:H)+SUMIF(Mapping!$C:$C,'Data BG'!$K58,Mapping!H:H)+SUMIF(Mapping!$D:$D,'Data BG'!$K58,Mapping!H:H)+SUMIF(Mapping!$B:$B,'Data BG'!$L58,Mapping!H:H)+SUMIF(Mapping!$C:$C,'Data BG'!$L58,Mapping!H:H)+SUMIF(Mapping!$D:$D,'Data BG'!$L58,Mapping!H:H)","v":0}]
[152,154,155,156,157,158,null,null,null,null,null,null,null,null,null,null,null,"Provisions pour charges ",{"$f":"SUMIF(Mapping!$B:$B,'Data BG'!$A59,Mapping!G:G)+SUMIF(Mapping!$C:$C,'Data BG'!$A59,Mapping!G:G)+SUMIF(Mapping!$D:$D,'Data BG'!$A59,Mapping!G:G)+SUMIF(Mapping!$B:$B,'Data BG'!$B59,Mapping!G:G)+SUMIF(Mapping!$C:$C,'Data BG'!$B59,Mapping!G:G)+SUMIF(Mapping!$D:$D,'Data BG'!$B59,Mapping!G:G)+SUMIF(Mapping!$B:$B,'Data BG'!$C59,Mapping!G:G)+SUMIF(Mapping!$C:$C,'Data BG'!$C59,Mapping!G:G)+SUMIF(Mapping!$D:$D,'Data BG'!$C59,Mapping!G:G)+SUMIF(Mapping!$B:$B,'Data BG'!$D59,Mapping!G:G)+SUMIF(Mapping!$C:$C,'Data BG'!$D59,Mapping!G:G)+SUMIF(Mapping!$D:$D,'Data BG'!$D59,Mapping!G:G)+SUMIF(Mapping!$B:$B,'Data BG'!$E59,Mapping!G:G)+SUMIF(Mapping!$C:$C,'Data BG'!$E59,Mapping!G:G)+SUMIF(Mapping!$D:$D,'Data BG'!$E59,Mapping!G:G)+SUMIF(Mapping!$B:$B,'Data BG'!$F59,Mapping!G:G)+SUMIF(Mapping!$C:$C,'Data BG'!$F59,Mapping!G:G)+SUMIF(Mapping!$D:$D,'Data BG'!$F59,Mapping!G:G)+SUMIF(Mapping!$B:$B,'Data BG'!$G59,Mapping!G:G)+SUMIF(Mapping!$C:$C,'Data BG'!$G59,Mapping!G:G)+SUMIF(Mapping!$D:$D,'Data BG'!$G59,Mapping!G:G)+SUMIF(Mapping!$B:$B,'Data BG'!$H59,Mapping!G:G)+SUMIF(Mapping!$C:$C,'Data BG'!$H59,Mapping!G:G)+SUMIF(Mapping!$D:$D,'Data BG'!$H59,Mapping!G:G)+SUMIF(Mapping!$B:$B,'Data BG'!$I59,Mapping!G:G)+SUMIF(Mapping!$C:$C,'Data BG'!$I59,Mapping!G:G)+SUMIF(Mapping!$D:$D,'Data BG'!$I59,Mapping!G:G)+SUMIF(Mapping!$B:$B,'Data BG'!$J59,Mapping!G:G)+SUMIF(Mapping!$C:$C,'Data BG'!$J59,Mapping!G:G)+SUMIF(Mapping!$D:$D,'Data BG'!$J59,Mapping!G:G)+SUMIF(Mapping!$B:$B,'Data BG'!$M59,Mapping!G:G)+SUMIF(Mapping!$C:$C,'Data BG'!$M59,Mapping!G:G)+SUMIF(Mapping!$D:$D,'Data BG'!$M59,Mapping!G:G)+SUMIF(Mapping!$B:$B,$N59,Mapping!G:G)+SUMIF(Mapping!$C:$C,$N59,Mapping!G:G)+SUMIF(Mapping!$D:$D,$N59,Mapping!G:G)+SUMIF(Mapping!$B:$B,'Data BG'!$K59,Mapping!G:G)+SUMIF(Mapping!$C:$C,'Data BG'!$K59,Mapping!G:G)+SUMIF(Mapping!$D:$D,'Data BG'!$K59,Mapping!G:G)+SUMIF(Mapping!$B:$B,'Data BG'!$L59,Mapping!G:G)+SUMIF(Mapping!$C:$C,'Data BG'!$L59,Mapping!G:G)+SUMIF(Mapping!$D:$D,'Data BG'!$L59,Mapping!G:G)","v":0},{"$f":"SUMIF(Mapping!$B:$B,'Data BG'!$A59,Mapping!H:H)+SUMIF(Mapping!$C:$C,'Data BG'!$A59,Mapping!H:H)+SUMIF(Mapping!$D:$D,'Data BG'!$A59,Mapping!H:H)+SUMIF(Mapping!$B:$B,'Data BG'!$B59,Mapping!H:H)+SUMIF(Mapping!$C:$C,'Data BG'!$B59,Mapping!H:H)+SUMIF(Mapping!$D:$D,'Data BG'!$B59,Mapping!H:H)+SUMIF(Mapping!$B:$B,'Data BG'!$C59,Mapping!H:H)+SUMIF(Mapping!$C:$C,'Data BG'!$C59,Mapping!H:H)+SUMIF(Mapping!$D:$D,'Data BG'!$C59,Mapping!H:H)+SUMIF(Mapping!$B:$B,'Data BG'!$D59,Mapping!H:H)+SUMIF(Mapping!$C:$C,'Data BG'!$D59,Mapping!H:H)+SUMIF(Mapping!$D:$D,'Data BG'!$D59,Mapping!H:H)+SUMIF(Mapping!$B:$B,'Data BG'!$E59,Mapping!H:H)+SUMIF(Mapping!$C:$C,'Data BG'!$E59,Mapping!H:H)+SUMIF(Mapping!$D:$D,'Data BG'!$E59,Mapping!H:H)+SUMIF(Mapping!$B:$B,'Data BG'!$F59,Mapping!H:H)+SUMIF(Mapping!$C:$C,'Data BG'!$F59,Mapping!H:H)+SUMIF(Mapping!$D:$D,'Data BG'!$F59,Mapping!H:H)+SUMIF(Mapping!$B:$B,'Data BG'!$G59,Mapping!H:H)+SUMIF(Mapping!$C:$C,'Data BG'!$G59,Mapping!H:H)+SUMIF(Mapping!$D:$D,'Data BG'!$G59,Mapping!H:H)+SUMIF(Mapping!$B:$B,'Data BG'!$H59,Mapping!H:H)+SUMIF(Mapping!$C:$C,'Data BG'!$H59,Mapping!H:H)+SUMIF(Mapping!$D:$D,'Data BG'!$H59,Mapping!H:H)+SUMIF(Mapping!$B:$B,'Data BG'!$I59,Mapping!H:H)+SUMIF(Mapping!$C:$C,'Data BG'!$I59,Mapping!H:H)+SUMIF(Mapping!$D:$D,'Data BG'!$I59,Mapping!H:H)+SUMIF(Mapping!$B:$B,'Data BG'!$J59,Mapping!H:H)+SUMIF(Mapping!$C:$C,'Data BG'!$J59,Mapping!H:H)+SUMIF(Mapping!$D:$D,'Data BG'!$J59,Mapping!H:H)+SUMIF(Mapping!$B:$B,'Data BG'!$M59,Mapping!H:H)+SUMIF(Mapping!$C:$C,'Data BG'!$M59,Mapping!H:H)+SUMIF(Mapping!$D:$D,'Data BG'!$M59,Mapping!H:H)+SUMIF(Mapping!$B:$B,$N59,Mapping!H:H)+SUMIF(Mapping!$C:$C,$N59,Mapping!H:H)+SUMIF(Mapping!$D:$D,$N59,Mapping!H:H)+SUMIF(Mapping!$B:$B,'Data BG'!$K59,Mapping!H:H)+SUMIF(Mapping!$C:$C,'Data BG'!$K59,Mapping!H:H)+SUMIF(Mapping!$D:$D,'Data BG'!$K59,Mapping!H:H)+SUMIF(Mapping!$B:$B,'Data BG'!$L59,Mapping!H:H)+SUMIF(Mapping!$C:$C,'Data BG'!$L59,Mapping!H:H)+SUMIF(Mapping!$D:$D,'Data BG'!$L59,Mapping!H:H)","v":0}]
[null,null,null,null,null,null,null,null,null,null,null,null,null,null,null,null,null,"    DETTES  "]
[null,null,null,null,null,null,null,null,null,null,null,null,null,null,null,null,null,"EMPRUNTS"]
[1640,1641,"51P",16880,16881,16883,1648,16887,16888,null,null,null,null,null,null,null,null,"Emprunts et dettes auprès d'établissements de crédit ",{"$f":"SUMIF(Mapping!$B:$B,'Data BG'!$A62,Mapping!G:G)+SUMIF(Mapping!$C:$C,'Data BG'!$A62,Mapping!G:G)+SUMIF(Mapping!$D:$D,'Data BG'!$A62,Mapping!G:G)+SUMIF(Mapping!$B:$B,'Data BG'!$B62,Mapping!G:G)+SUMIF(Mapping!$C:$C,'Data BG'!$B62,Mapping!G:G)+SUMIF(Mapping!$D:$D,'Data BG'!$B62,Mapping!G:G)+SUMIF(Mapping!$B:$B,'Data BG'!$C62,Mapping!G:G)+SUMIF(Mapping!$C:$C,'Data BG'!$C62,Mapping!G:G)+SUMIF(Mapping!$D:$D,'Data BG'!$C62,Mapping!G:G)+SUMIF(Mapping!$B:$B,'Data BG'!$D62,Mapping!G:G)+SUMIF(Mapping!$C:$C,'Data BG'!$D62,Mapping!G:G)+SUMIF(Mapping!$D:$D,'Data BG'!$D62,Mapping!G:G)+SUMIF(Mapping!$B:$B,'Data BG'!$E62,Mapping!G:G)+SUMIF(Mapping!$C:$C,'Data BG'!$E62,Mapping!G:G)+SUMIF(Mapping!$D:$D,'Data BG'!$E62,Mapping!G:G)+SUMIF(Mapping!$B:$B,'Data BG'!$F62,Mapping!G:G)+SUMIF(Mapping!$C:$C,'Data BG'!$F62,Mapping!G:G)+SUMIF(Mapping!$D:$D,'Data BG'!$F62,Mapping!G:G)+SUMIF(Mapping!$B:$B,'Data BG'!$G62,Mapping!G:G)+SUMIF(Mapping!$C:$C,'Data BG'!$G62,Mapping!G:G)+SUMIF(Mapping!$D:$D,'Data BG'!$G62,Mapping!G:G)+SUMIF(Mapping!$B:$B,'Data BG'!$H62,Mapping!G:G)+SUMIF(Mapping!$C:$C,'Data BG'!$H62,Mapping!G:G)+SUMIF(Mapping!$D:$D,'Data BG'!$H62,Mapping!G:G)+SUMIF(Mapping!$B:$B,'Data BG'!$I62,Mapping!G:G)+SUMIF(Mapping!$C:$C,'Data BG'!$I62,Mapping!G:G)+SUMIF(Mapping!$D:$D,'Data BG'!$I62,Mapping!G:G)+SUMIF(Mapping!$B:$B,'Data BG'!$J62,Mapping!G:G)+SUMIF(Mapping!$C:$C,'Data BG'!$J62,Mapping!G:G)+SUMIF(Mapping!$D:$D,'Data BG'!$J62,Mapping!G:G)+SUMIF(Mapping!$B:$B,'Data BG'!$M62,Mapping!G:G)+SUMIF(Mapping!$C:$C,'Data BG'!$M62,Mapping!G:G)+SUMIF(Mapping!$D:$D,'Data BG'!$M62,Mapping!G:G)+SUMIF(Mapping!$B:$B,$N62,Mapping!G:G)+SUMIF(Mapping!$C:$C,$N62,Mapping!G:G)+SUMIF(Mapping!$D:$D,$N62,Mapping!G:G)+SUMIF(Mapping!$B:$B,'Data BG'!$K62,Mapping!G:G)+SUMIF(Mapping!$C:$C,'Data BG'!$K62,Mapping!G:G)+SUMIF(Mapping!$D:$D,'Data BG'!$K62,Mapping!G:G)+SUMIF(Mapping!$B:$B,'Data BG'!$L62,Mapping!G:G)+SUMIF(Mapping!$C:$C,'Data BG'!$L62,Mapping!G:G)+SUMIF(Mapping!$D:$D,'Data BG'!$L62,Mapping!G:G)","v":0},{"$f":"SUMIF(Mapping!$B:$B,'Data BG'!$A62,Mapping!H:H)+SUMIF(Mapping!$C:$C,'Data BG'!$A62,Mapping!H:H)+SUMIF(Mapping!$D:$D,'Data BG'!$A62,Mapping!H:H)+SUMIF(Mapping!$B:$B,'Data BG'!$B62,Mapping!H:H)+SUMIF(Mapping!$C:$C,'Data BG'!$B62,Mapping!H:H)+SUMIF(Mapping!$D:$D,'Data BG'!$B62,Mapping!H:H)+SUMIF(Mapping!$B:$B,'Data BG'!$C62,Mapping!H:H)+SUMIF(Mapping!$C:$C,'Data BG'!$C62,Mapping!H:H)+SUMIF(Mapping!$D:$D,'Data BG'!$C62,Mapping!H:H)+SUMIF(Mapping!$B:$B,'Data BG'!$D62,Mapping!H:H)+SUMIF(Mapping!$C:$C,'Data BG'!$D62,Mapping!H:H)+SUMIF(Mapping!$D:$D,'Data BG'!$D62,Mapping!H:H)+SUMIF(Mapping!$B:$B,'Data BG'!$E62,Mapping!H:H)+SUMIF(Mapping!$C:$C,'Data BG'!$E62,Mapping!H:H)+SUMIF(Mapping!$D:$D,'Data BG'!$E62,Mapping!H:H)+SUMIF(Mapping!$B:$B,'Data BG'!$F62,Mapping!H:H)+SUMIF(Mapping!$C:$C,'Data BG'!$F62,Mapping!H:H)+SUMIF(Mapping!$D:$D,'Data BG'!$F62,Mapping!H:H)+SUMIF(Mapping!$B:$B,'Data BG'!$G62,Mapping!H:H)+SUMIF(Mapping!$C:$C,'Data BG'!$G62,Mapping!H:H)+SUMIF(Mapping!$D:$D,'Data BG'!$G62,Mapping!H:H)+SUMIF(Mapping!$B:$B,'Data BG'!$H62,Mapping!H:H)+SUMIF(Mapping!$C:$C,'Data BG'!$H62,Mapping!H:H)+SUMIF(Mapping!$D:$D,'Data BG'!$H62,Mapping!H:H)+SUMIF(Mapping!$B:$B,'Data BG'!$I62,Mapping!H:H)+SUMIF(Mapping!$C:$C,'Data BG'!$I62,Mapping!H:H)+SUMIF(Mapping!$D:$D,'Data BG'!$I62,Mapping!H:H)+SUMIF(Mapping!$B:$B,'Data BG'!$J62,Mapping!H:H)+SUMIF(Mapping!$C:$C,'Data BG'!$J62,Mapping!H:H)+SUMIF(Mapping!$D:$D,'Data BG'!$J62,Mapping!H:H)+SUMIF(Mapping!$B:$B,'Data BG'!$M62,Mapping!H:H)+SUMIF(Mapping!$C:$C,'Data BG'!$M62,Mapping!H:H)+SUMIF(Mapping!$D:$D,'Data BG'!$M62,Mapping!H:H)+SUMIF(Mapping!$B:$B,$N62,Mapping!H:H)+SUMIF(Mapping!$C:$C,$N62,Mapping!H:H)+SUMIF(Mapping!$D:$D,$N62,Mapping!H:H)+SUMIF(Mapping!$B:$B,'Data BG'!$K62,Mapping!H:H)+SUMIF(Mapping!$C:$C,'Data BG'!$K62,Mapping!H:H)+SUMIF(Mapping!$D:$D,'Data BG'!$K62,Mapping!H:H)+SUMIF(Mapping!$B:$B,'Data BG'!$L62,Mapping!H:H)+SUMIF(Mapping!$C:$C,'Data BG'!$L62,Mapping!H:H)+SUMIF(Mapping!$D:$D,'Data BG'!$L62,Mapping!H:H)","v":0}]
[1610,1611,168821,null,null,null,null,null,null,null,null,null,null,null,null,null,null,"Emprunts et dettes auprès des personnes physiques à taux préférentiel",{"$f":"SUMIF(Mapping!$B:$B,'Data BG'!$A63,Mapping!G:G)+SUMIF(Mapping!$C:$C,'Data BG'!$A63,Mapping!G:G)+SUMIF(Mapping!$D:$D,'Data BG'!$A63,Mapping!G:G)+SUMIF(Mapping!$B:$B,'Data BG'!$B63,Mapping!G:G)+SUMIF(Mapping!$C:$C,'Data BG'!$B63,Mapping!G:G)+SUMIF(Mapping!$D:$D,'Data BG'!$B63,Mapping!G:G)+SUMIF(Mapping!$B:$B,'Data BG'!$C63,Mapping!G:G)+SUMIF(Mapping!$C:$C,'Data BG'!$C63,Mapping!G:G)+SUMIF(Mapping!$D:$D,'Data BG'!$C63,Mapping!G:G)+SUMIF(Mapping!$B:$B,'Data BG'!$D63,Mapping!G:G)+SUMIF(Mapping!$C:$C,'Data BG'!$D63,Mapping!G:G)+SUMIF(Mapping!$D:$D,'Data BG'!$D63,Mapping!G:G)+SUMIF(Mapping!$B:$B,'Data BG'!$E63,Mapping!G:G)+SUMIF(Mapping!$C:$C,'Data BG'!$E63,Mapping!G:G)+SUMIF(Mapping!$D:$D,'Data BG'!$E63,Mapping!G:G)+SUMIF(Mapping!$B:$B,'Data BG'!$F63,Mapping!G:G)+SUMIF(Mapping!$C:$C,'Data BG'!$F63,Mapping!G:G)+SUMIF(Mapping!$D:$D,'Data BG'!$F63,Mapping!G:G)+SUMIF(Mapping!$B:$B,'Data BG'!$G63,Mapping!G:G)+SUMIF(Mapping!$C:$C,'Data BG'!$G63,Mapping!G:G)+SUMIF(Mapping!$D:$D,'Data BG'!$G63,Mapping!G:G)+SUMIF(Mapping!$B:$B,'Data BG'!$H63,Mapping!G:G)+SUMIF(Mapping!$C:$C,'Data BG'!$H63,Mapping!G:G)+SUMIF(Mapping!$D:$D,'Data BG'!$H63,Mapping!G:G)+SUMIF(Mapping!$B:$B,'Data BG'!$I63,Mapping!G:G)+SUMIF(Mapping!$C:$C,'Data BG'!$I63,Mapping!G:G)+SUMIF(Mapping!$D:$D,'Data BG'!$I63,Mapping!G:G)+SUMIF(Mapping!$B:$B,'Data BG'!$J63,Mapping!G:G)+SUMIF(Mapping!$C:$C,'Data BG'!$J63,Mapping!G:G)+SUMIF(Mapping!$D:$D,'Data BG'!$J63,Mapping!G:G)+SUMIF(Mapping!$B:$B,'Data BG'!$M63,Mapping!G:G)+SUMIF(Mapping!$C:$C,'Data BG'!$M63,Mapping!G:G)+SUMIF(Mapping!$D:$D,'Data BG'!$M63,Mapping!G:G)+SUMIF(Mapping!$B:$B,$N63,Mapping!G:G)+SUMIF(Mapping!$C:$C,$N63,Mapping!G:G)+SUMIF(Mapping!$D:$D,$N63,Mapping!G:G)+SUMIF(Mapping!$B:$B,'Data BG'!$K63,Mapping!G:G)+SUMIF(Mapping!$C:$C,'Data BG'!$K63,Mapping!G:G)+SUMIF(Mapping!$D:$D,'Data BG'!$K63,Mapping!G:G)+SUMIF(Mapping!$B:$B,'Data BG'!$L63,Mapping!G:G)+SUMIF(Mapping!$C:$C,'Data BG'!$L63,Mapping!G:G)+SUMIF(Mapping!$D:$D,'Data BG'!$L63,Mapping!G:G)","v":0},{"$f":"SUMIF(Mapping!$B:$B,'Data BG'!$A63,Mapping!H:H)+SUMIF(Mapping!$C:$C,'Data BG'!$A63,Mapping!H:H)+SUMIF(Mapping!$D:$D,'Data BG'!$A63,Mapping!H:H)+SUMIF(Mapping!$B:$B,'Data BG'!$B63,Mapping!H:H)+SUMIF(Mapping!$C:$C,'Data BG'!$B63,Mapping!H:H)+SUMIF(Mapping!$D:$D,'Data BG'!$B63,Mapping!H:H)+SUMIF(Mapping!$B:$B,'Data BG'!$C63,Mapping!H:H)+SUMIF(Mapping!$C:$C,'Data BG'!$C63,Mapping!H:H)+SUMIF(Mapping!$D:$D,'Data BG'!$C63,Mapping!H:H)+SUMIF(Mapping!$B:$B,'Data BG'!$D63,Mapping!H:H)+SUMIF(Mapping!$C:$C,'Data BG'!$D63,Mapping!H:H)+SUMIF(Mapping!$D:$D,'Data BG'!$D63,Mapping!H:H)+SUMIF(Mapping!$B:$B,'Data BG'!$E63,Mapping!H:H)+SUMIF(Mapping!$C:$C,'Data BG'!$E63,Mapping!H:H)+SUMIF(Mapping!$D:$D,'Data BG'!$E63,Mapping!H:H)+SUMIF(Mapping!$B:$B,'Data BG'!$F63,Mapping!H:H)+SUMIF(Mapping!$C:$C,'Data BG'!$F63,Mapping!H:H)+SUMIF(Mapping!$D:$D,'Data BG'!$F63,Mapping!H:H)+SUMIF(Mapping!$B:$B,'Data BG'!$G63,Mapping!H:H)+SUMIF(Mapping!$C:$C,'Data BG'!$G63,Mapping!H:H)+SUMIF(Mapping!$D:$D,'Data BG'!$G63,Mapping!H:H)+SUMIF(Mapping!$B:$B,'Data BG'!$H63,Mapping!H:H)+SUMIF(Mapping!$C:$C,'Data BG'!$H63,Mapping!H:H)+SUMIF(Mapping!$D:$D,'Data BG'!$H63,Mapping!H:H)+SUMIF(Mapping!$B:$B,'Data BG'!$I63,Mapping!H:H)+SUMIF(Mapping!$C:$C,'Data BG'!$I63,Mapping!H:H)+SUMIF(Mapping!$D:$D,'Data BG'!$I63,Mapping!H:H)+SUMIF(Mapping!$B:$B,'Data BG'!$J63,Mapping!H:H)+SUMIF(Mapping!$C:$C,'Data BG'!$J63,Mapping!H:H)+SUMIF(Mapping!$D:$D,'Data BG'!$J63,Mapping!H:H)+SUMIF(Mapping!$B:$B,'Data BG'!$M63,Mapping!H:H)+SUMIF(Mapping!$C:$C,'Data BG'!$M63,Mapping!H:H)+SUMIF(Mapping!$D:$D,'Data BG'!$M63,Mapping!H:H)+SUMIF(Mapping!$B:$B,$N63,Mapping!H:H)+SUMIF(Mapping!$C:$C,$N63,Mapping!H:H)+SUMIF(Mapping!$D:$D,$N63,Mapping!H:H)+SUMIF(Mapping!$B:$B,'Data BG'!$K63,Mapping!H:H)+SUMIF(Mapping!$C:$C,'Data BG'!$K63,Mapping!H:H)+SUMIF(Mapping!$D:$D,'Data BG'!$K63,Mapping!H:H)+SUMIF(Mapping!$B:$B,'Data BG'!$L63,Mapping!H:H)+SUMIF(Mapping!$C:$C,'Data BG'!$L63,Mapping!H:H)+SUMIF(Mapping!$D:$D,'Data BG'!$L63,Mapping!H:H)","v":0}]
[1620,1621,null,168822,null,null,null,null,null,null,null,null,null,null,null,null,null,"Emprunts et dettes auprès des personnes physiques",{"$f":"SUMIF(Mapping!$B:$B,'Data BG'!$A64,Mapping!G:G)+SUMIF(Mapping!$C:$C,'Data BG'!$A64,Mapping!G:G)+SUMIF(Mapping!$D:$D,'Data BG'!$A64,Mapping!G:G)+SUMIF(Mapping!$B:$B,'Data BG'!$B64,Mapping!G:G)+SUMIF(Mapping!$C:$C,'Data BG'!$B64,Mapping!G:G)+SUMIF(Mapping!$D:$D,'Data BG'!$B64,Mapping!G:G)+SUMIF(Mapping!$B:$B,'Data BG'!$C64,Mapping!G:G)+SUMIF(Mapping!$C:$C,'Data BG'!$C64,Mapping!G:G)+SUMIF(Mapping!$D:$D,'Data BG'!$C64,Mapping!G:G)+SUMIF(Mapping!$B:$B,'Data BG'!$D64,Mapping!G:G)+SUMIF(Mapping!$C:$C,'Data BG'!$D64,Mapping!G:G)+SUMIF(Mapping!$D:$D,'Data BG'!$D64,Mapping!G:G)+SUMIF(Mapping!$B:$B,'Data BG'!$E64,Mapping!G:G)+SUMIF(Mapping!$C:$C,'Data BG'!$E64,Mapping!G:G)+SUMIF(Mapping!$D:$D,'Data BG'!$E64,Mapping!G:G)+SUMIF(Mapping!$B:$B,'Data BG'!$F64,Mapping!G:G)+SUMIF(Mapping!$C:$C,'Data BG'!$F64,Mapping!G:G)+SUMIF(Mapping!$D:$D,'Data BG'!$F64,Mapping!G:G)+SUMIF(Mapping!$B:$B,'Data BG'!$G64,Mapping!G:G)+SUMIF(Mapping!$C:$C,'Data BG'!$G64,Mapping!G:G)+SUMIF(Mapping!$D:$D,'Data BG'!$G64,Mapping!G:G)+SUMIF(Mapping!$B:$B,'Data BG'!$H64,Mapping!G:G)+SUMIF(Mapping!$C:$C,'Data BG'!$H64,Mapping!G:G)+SUMIF(Mapping!$D:$D,'Data BG'!$H64,Mapping!G:G)+SUMIF(Mapping!$B:$B,'Data BG'!$I64,Mapping!G:G)+SUMIF(Mapping!$C:$C,'Data BG'!$I64,Mapping!G:G)+SUMIF(Mapping!$D:$D,'Data BG'!$I64,Mapping!G:G)+SUMIF(Mapping!$B:$B,'Data BG'!$J64,Mapping!G:G)+SUMIF(Mapping!$C:$C,'Data BG'!$J64,Mapping!G:G)+SUMIF(Mapping!$D:$D,'Data BG'!$J64,Mapping!G:G)+SUMIF(Mapping!$B:$B,'Data BG'!$M64,Mapping!G:G)+SUMIF(Mapping!$C:$C,'Data BG'!$M64,Mapping!G:G)+SUMIF(Mapping!$D:$D,'Data BG'!$M64,Mapping!G:G)+SUMIF(Mapping!$B:$B,$N64,Mapping!G:G)+SUMIF(Mapping!$C:$C,$N64,Mapping!G:G)+SUMIF(Mapping!$D:$D,$N64,Mapping!G:G)+SUMIF(Mapping!$B:$B,'Data BG'!$K64,Mapping!G:G)+SUMIF(Mapping!$C:$C,'Data BG'!$K64,Mapping!G:G)+SUMIF(Mapping!$D:$D,'Data BG'!$K64,Mapping!G:G)+SUMIF(Mapping!$B:$B,'Data BG'!$L64,Mapping!G:G)+SUMIF(Mapping!$C:$C,'Data BG'!$L64,Mapping!G:G)+SUMIF(Mapping!$D:$D,'Data BG'!$L64,Mapping!G:G)","v":0},{"$f":"SUMIF(Mapping!$B:$B,'Data BG'!$A64,Mapping!H:H)+SUMIF(Mapping!$C:$C,'Data BG'!$A64,Mapping!H:H)+SUMIF(Mapping!$D:$D,'Data BG'!$A64,Mapping!H:H)+SUMIF(Mapping!$B:$B,'Data BG'!$B64,Mapping!H:H)+SUMIF(Mapping!$C:$C,'Data BG'!$B64,Mapping!H:H)+SUMIF(Mapping!$D:$D,'Data BG'!$B64,Mapping!H:H)+SUMIF(Mapping!$B:$B,'Data BG'!$C64,Mapping!H:H)+SUMIF(Mapping!$C:$C,'Data BG'!$C64,Mapping!H:H)+SUMIF(Mapping!$D:$D,'Data BG'!$C64,Mapping!H:H)+SUMIF(Mapping!$B:$B,'Data BG'!$D64,Mapping!H:H)+SUMIF(Mapping!$C:$C,'Data BG'!$D64,Mapping!H:H)+SUMIF(Mapping!$D:$D,'Data BG'!$D64,Mapping!H:H)+SUMIF(Mapping!$B:$B,'Data BG'!$E64,Mapping!H:H)+SUMIF(Mapping!$C:$C,'Data BG'!$E64,Mapping!H:H)+SUMIF(Mapping!$D:$D,'Data BG'!$E64,Mapping!H:H)+SUMIF(Mapping!$B:$B,'Data BG'!$F64,Mapping!H:H)+SUMIF(Mapping!$C:$C,'Data BG'!$F64,Mapping!H:H)+SUMIF(Mapping!$D:$D,'Data BG'!$F64,Mapping!H:H)+SUMIF(Mapping!$B:$B,'Data BG'!$G64,Mapping!H:H)+SUMIF(Mapping!$C:$C,'Data BG'!$G64,Mapping!H:H)+SUMIF(Mapping!$D:$D,'Data BG'!$G64,Mapping!H:H)+SUMIF(Mapping!$B:$B,'Data BG'!$H64,Mapping!H:H)+SUMIF(Mapping!$C:$C,'Data BG'!$H64,Mapping!H:H)+SUMIF(Mapping!$D:$D,'Data BG'!$H64,Mapping!H:H)+SUMIF(Mapping!$B:$B,'Data BG'!$I64,Mapping!H:H)+SUMIF(Mapping!$C:$C,'Data BG'!$I64,Mapping!H:H)+SUMIF(Mapping!$D:$D,'Data BG'!$I64,Mapping!H:H)+SUMIF(Mapping!$B:$B,'Data BG'!$J64,Mapping!H:H)+SUMIF(Mapping!$C:$C,'Data BG'!$J64,Mapping!H:H)+SUMIF(Mapping!$D:$D,'Data BG'!$J64,Mapping!H:H)+SUMIF(Mapping!$B:$B,'Data BG'!$M64,Mapping!H:H)+SUMIF(Mapping!$C:$C,'Data BG'!$M64,Mapping!H:H)+SUMIF(Mapping!$D:$D,'Data BG'!$M64,Mapping!H:H)+SUMIF(Mapping!$B:$B,$N64,Mapping!H:H)+SUMIF(Mapping!$C:$C,$N64,Mapping!H:H)+SUMIF(Mapping!$D:$D,$N64,Mapping!H:H)+SUMIF(Mapping!$B:$B,'Data BG'!$K64,Mapping!H:H)+SUMIF(Mapping!$C:$C,'Data BG'!$K64,Mapping!H:H)+SUMIF(Mapping!$D:$D,'Data BG'!$K64,Mapping!H:H)+SUMIF(Mapping!$B:$B,'Data BG'!$L64,Mapping!H:H)+SUMIF(Mapping!$C:$C,'Data BG'!$L64,Mapping!H:H)+SUMIF(Mapping!$D:$D,'Data BG'!$L64,Mapping!H:H)","v":0}]
[1630,1631,16889,null,null,null,null,null,null,null,null,null,null,null,null,null,null,"Emprunts et dettes auprès de partis ou groupements politiques ",{"$f":"SUMIF(Mapping!$B:$B,'Data BG'!$A65,Mapping!G:G)+SUMIF(Mapping!$C:$C,'Data BG'!$A65,Mapping!G:G)+SUMIF(Mapping!$D:$D,'Data BG'!$A65,Mapping!G:G)+SUMIF(Mapping!$B:$B,'Data BG'!$B65,Mapping!G:G)+SUMIF(Mapping!$C:$C,'Data BG'!$B65,Mapping!G:G)+SUMIF(Mapping!$D:$D,'Data BG'!$B65,Mapping!G:G)+SUMIF(Mapping!$B:$B,'Data BG'!$C65,Mapping!G:G)+SUMIF(Mapping!$C:$C,'Data BG'!$C65,Mapping!G:G)+SUMIF(Mapping!$D:$D,'Data BG'!$C65,Mapping!G:G)+SUMIF(Mapping!$B:$B,'Data BG'!$D65,Mapping!G:G)+SUMIF(Mapping!$C:$C,'Data BG'!$D65,Mapping!G:G)+SUMIF(Mapping!$D:$D,'Data BG'!$D65,Mapping!G:G)+SUMIF(Mapping!$B:$B,'Data BG'!$E65,Mapping!G:G)+SUMIF(Mapping!$C:$C,'Data BG'!$E65,Mapping!G:G)+SUMIF(Mapping!$D:$D,'Data BG'!$E65,Mapping!G:G)+SUMIF(Mapping!$B:$B,'Data BG'!$F65,Mapping!G:G)+SUMIF(Mapping!$C:$C,'Data BG'!$F65,Mapping!G:G)+SUMIF(Mapping!$D:$D,'Data BG'!$F65,Mapping!G:G)+SUMIF(Mapping!$B:$B,'Data BG'!$G65,Mapping!G:G)+SUMIF(Mapping!$C:$C,'Data BG'!$G65,Mapping!G:G)+SUMIF(Mapping!$D:$D,'Data BG'!$G65,Mapping!G:G)+SUMIF(Mapping!$B:$B,'Data BG'!$H65,Mapping!G:G)+SUMIF(Mapping!$C:$C,'Data BG'!$H65,Mapping!G:G)+SUMIF(Mapping!$D:$D,'Data BG'!$H65,Mapping!G:G)+SUMIF(Mapping!$B:$B,'Data BG'!$I65,Mapping!G:G)+SUMIF(Mapping!$C:$C,'Data BG'!$I65,Mapping!G:G)+SUMIF(Mapping!$D:$D,'Data BG'!$I65,Mapping!G:G)+SUMIF(Mapping!$B:$B,'Data BG'!$J65,Mapping!G:G)+SUMIF(Mapping!$C:$C,'Data BG'!$J65,Mapping!G:G)+SUMIF(Mapping!$D:$D,'Data BG'!$J65,Mapping!G:G)+SUMIF(Mapping!$B:$B,'Data BG'!$M65,Mapping!G:G)+SUMIF(Mapping!$C:$C,'Data BG'!$M65,Mapping!G:G)+SUMIF(Mapping!$D:$D,'Data BG'!$M65,Mapping!G:G)+SUMIF(Mapping!$B:$B,$N65,Mapping!G:G)+SUMIF(Mapping!$C:$C,$N65,Mapping!G:G)+SUMIF(Mapping!$D:$D,$N65,Mapping!G:G)+SUMIF(Mapping!$B:$B,'Data BG'!$K65,Mapping!G:G)+SUMIF(Mapping!$C:$C,'Data BG'!$K65,Mapping!G:G)+SUMIF(Mapping!$D:$D,'Data BG'!$K65,Mapping!G:G)+SUMIF(Mapping!$B:$B,'Data BG'!$L65,Mapping!G:G)+SUMIF(Mapping!$C:$C,'Data BG'!$L65,Mapping!G:G)+SUMIF(Mapping!$D:$D,'Data BG'!$L65,Mapping!G:G)","v":0},{"$f":"SUMIF(Mapping!$B:$B,'Data BG'!$A65,Mapping!H:H)+SUMIF(Mapping!$C:$C,'Data BG'!$A65,Mapping!H:H)+SUMIF(Mapping!$D:$D,'Data BG'!$A65,Mapping!H:H)+SUMIF(Mapping!$B:$B,'Data BG'!$B65,Mapping!H:H)+SUMIF(Mapping!$C:$C,'Data BG'!$B65,Mapping!H:H)+SUMIF(Mapping!$D:$D,'Data BG'!$B65,Mapping!H:H)+SUMIF(Mapping!$B:$B,'Data BG'!$C65,Mapping!H:H)+SUMIF(Mapping!$C:$C,'Data BG'!$C65,Mapping!H:H)+SUMIF(Mapping!$D:$D,'Data BG'!$C65,Mapping!H:H)+SUMIF(Mapping!$B:$B,'Data BG'!$D65,Mapping!H:H)+SUMIF(Mapping!$C:$C,'Data BG'!$D65,Mapping!H:H)+SUMIF(Mapping!$D:$D,'Data BG'!$D65,Mapping!H:H)+SUMIF(Mapping!$B:$B,'Data BG'!$E65,Mapping!H:H)+SUMIF(Mapping!$C:$C,'Data BG'!$E65,Mapping!H:H)+SUMIF(Mapping!$D:$D,'Data BG'!$E65,Mapping!H:H)+SUMIF(Mapping!$B:$B,'Data BG'!$F65,Mapping!H:H)+SUMIF(Mapping!$C:$C,'Data BG'!$F65,Mapping!H:H)+SUMIF(Mapping!$D:$D,'Data BG'!$F65,Mapping!H:H)+SUMIF(Mapping!$B:$B,'Data BG'!$G65,Mapping!H:H)+SUMIF(Mapping!$C:$C,'Data BG'!$G65,Mapping!H:H)+SUMIF(Mapping!$D:$D,'Data BG'!$G65,Mapping!H:H)+SUMIF(Mapping!$B:$B,'Data BG'!$H65,Mapping!H:H)+SUMIF(Mapping!$C:$C,'Data BG'!$H65,Mapping!H:H)+SUMIF(Mapping!$D:$D,'Data BG'!$H65,Mapping!H:H)+SUMIF(Mapping!$B:$B,'Data BG'!$I65,Mapping!H:H)+SUMIF(Mapping!$C:$C,'Data BG'!$I65,Mapping!H:H)+SUMIF(Mapping!$D:$D,'Data BG'!$I65,Mapping!H:H)+SUMIF(Mapping!$B:$B,'Data BG'!$J65,Mapping!H:H)+SUMIF(Mapping!$C:$C,'Data BG'!$J65,Mapping!H:H)+SUMIF(Mapping!$D:$D,'Data BG'!$J65,Mapping!H:H)+SUMIF(Mapping!$B:$B,'Data BG'!$M65,Mapping!H:H)+SUMIF(Mapping!$C:$C,'Data BG'!$M65,Mapping!H:H)+SUMIF(Mapping!$D:$D,'Data BG'!$M65,Mapping!H:H)+SUMIF(Mapping!$B:$B,$N65,Mapping!H:H)+SUMIF(Mapping!$C:$C,$N65,Mapping!H:H)+SUMIF(Mapping!$D:$D,$N65,Mapping!H:H)+SUMIF(Mapping!$B:$B,'Data BG'!$K65,Mapping!H:H)+SUMIF(Mapping!$C:$C,'Data BG'!$K65,Mapping!H:H)+SUMIF(Mapping!$D:$D,'Data BG'!$K65,Mapping!H:H)+SUMIF(Mapping!$B:$B,'Data BG'!$L65,Mapping!H:H)+SUMIF(Mapping!$C:$C,'Data BG'!$L65,Mapping!H:H)+SUMIF(Mapping!$D:$D,'Data BG'!$L65,Mapping!H:H)","v":0}]
[401,403,404,405,408,400,null,null,null,null,null,null,null,null,null,null,null,"Dettes fournisseurs et comptes rattachés ",{"$f":"SUMIF(Mapping!$B:$B,'Data BG'!$A66,Mapping!G:G)+SUMIF(Mapping!$C:$C,'Data BG'!$A66,Mapping!G:G)+SUMIF(Mapping!$D:$D,'Data BG'!$A66,Mapping!G:G)+SUMIF(Mapping!$B:$B,'Data BG'!$B66,Mapping!G:G)+SUMIF(Mapping!$C:$C,'Data BG'!$B66,Mapping!G:G)+SUMIF(Mapping!$D:$D,'Data BG'!$B66,Mapping!G:G)+SUMIF(Mapping!$B:$B,'Data BG'!$C66,Mapping!G:G)+SUMIF(Mapping!$C:$C,'Data BG'!$C66,Mapping!G:G)+SUMIF(Mapping!$D:$D,'Data BG'!$C66,Mapping!G:G)+SUMIF(Mapping!$B:$B,'Data BG'!$D66,Mapping!G:G)+SUMIF(Mapping!$C:$C,'Data BG'!$D66,Mapping!G:G)+SUMIF(Mapping!$D:$D,'Data BG'!$D66,Mapping!G:G)+SUMIF(Mapping!$B:$B,'Data BG'!$E66,Mapping!G:G)+SUMIF(Mapping!$C:$C,'Data BG'!$E66,Mapping!G:G)+SUMIF(Mapping!$D:$D,'Data BG'!$E66,Mapping!G:G)+SUMIF(Mapping!$B:$B,'Data BG'!$F66,Mapping!G:G)+SUMIF(Mapping!$C:$C,'Data BG'!$F66,Mapping!G:G)+SUMIF(Mapping!$D:$D,'Data BG'!$F66,Mapping!G:G)+SUMIF(Mapping!$B:$B,'Data BG'!$G66,Mapping!G:G)+SUMIF(Mapping!$C:$C,'Data BG'!$G66,Mapping!G:G)+SUMIF(Mapping!$D:$D,'Data BG'!$G66,Mapping!G:G)+SUMIF(Mapping!$B:$B,'Data BG'!$H66,Mapping!G:G)+SUMIF(Mapping!$C:$C,'Data BG'!$H66,Mapping!G:G)+SUMIF(Mapping!$D:$D,'Data BG'!$H66,Mapping!G:G)+SUMIF(Mapping!$B:$B,'Data BG'!$I66,Mapping!G:G)+SUMIF(Mapping!$C:$C,'Data BG'!$I66,Mapping!G:G)+SUMIF(Mapping!$D:$D,'Data BG'!$I66,Mapping!G:G)+SUMIF(Mapping!$B:$B,'Data BG'!$J66,Mapping!G:G)+SUMIF(Mapping!$C:$C,'Data BG'!$J66,Mapping!G:G)+SUMIF(Mapping!$D:$D,'Data BG'!$J66,Mapping!G:G)+SUMIF(Mapping!$B:$B,'Data BG'!$M66,Mapping!G:G)+SUMIF(Mapping!$C:$C,'Data BG'!$M66,Mapping!G:G)+SUMIF(Mapping!$D:$D,'Data BG'!$M66,Mapping!G:G)+SUMIF(Mapping!$B:$B,$N66,Mapping!G:G)+SUMIF(Mapping!$C:$C,$N66,Mapping!G:G)+SUMIF(Mapping!$D:$D,$N66,Mapping!G:G)+SUMIF(Mapping!$B:$B,'Data BG'!$K66,Mapping!G:G)+SUMIF(Mapping!$C:$C,'Data BG'!$K66,Mapping!G:G)+SUMIF(Mapping!$D:$D,'Data BG'!$K66,Mapping!G:G)+SUMIF(Mapping!$B:$B,'Data BG'!$L66,Mapping!G:G)+SUMIF(Mapping!$C:$C,'Data BG'!$L66,Mapping!G:G)+SUMIF(Mapping!$D:$D,'Data BG'!$L66,Mapping!G:G)","v":0},{"$f":"SUMIF(Mapping!$B:$B,'Data BG'!$A66,Mapping!H:H)+SUMIF(Mapping!$C:$C,'Data BG'!$A66,Mapping!H:H)+SUMIF(Mapping!$D:$D,'Data BG'!$A66,Mapping!H:H)+SUMIF(Mapping!$B:$B,'Data BG'!$B66,Mapping!H:H)+SUMIF(Mapping!$C:$C,'Data BG'!$B66,Mapping!H:H)+SUMIF(Mapping!$D:$D,'Data BG'!$B66,Mapping!H:H)+SUMIF(Mapping!$B:$B,'Data BG'!$C66,Mapping!H:H)+SUMIF(Mapping!$C:$C,'Data BG'!$C66,Mapping!H:H)+SUMIF(Mapping!$D:$D,'Data BG'!$C66,Mapping!H:H)+SUMIF(Mapping!$B:$B,'Data BG'!$D66,Mapping!H:H)+SUMIF(Mapping!$C:$C,'Data BG'!$D66,Mapping!H:H)+SUMIF(Mapping!$D:$D,'Data BG'!$D66,Mapping!H:H)+SUMIF(Mapping!$B:$B,'Data BG'!$E66,Mapping!H:H)+SUMIF(Mapping!$C:$C,'Data BG'!$E66,Mapping!H:H)+SUMIF(Mapping!$D:$D,'Data BG'!$E66,Mapping!H:H)+SUMIF(Mapping!$B:$B,'Data BG'!$F66,Mapping!H:H)+SUMIF(Mapping!$C:$C,'Data BG'!$F66,Mapping!H:H)+SUMIF(Mapping!$D:$D,'Data BG'!$F66,Mapping!H:H)+SUMIF(Mapping!$B:$B,'Data BG'!$G66,Mapping!H:H)+SUMIF(Mapping!$C:$C,'Data BG'!$G66,Mapping!H:H)+SUMIF(Mapping!$D:$D,'Data BG'!$G66,Mapping!H:H)+SUMIF(Mapping!$B:$B,'Data BG'!$H66,Mapping!H:H)+SUMIF(Mapping!$C:$C,'Data BG'!$H66,Mapping!H:H)+SUMIF(Mapping!$D:$D,'Data BG'!$H66,Mapping!H:H)+SUMIF(Mapping!$B:$B,'Data BG'!$I66,Mapping!H:H)+SUMIF(Mapping!$C:$C,'Data BG'!$I66,Mapping!H:H)+SUMIF(Mapping!$D:$D,'Data BG'!$I66,Mapping!H:H)+SUMIF(Mapping!$B:$B,'Data BG'!$J66,Mapping!H:H)+SUMIF(Mapping!$C:$C,'Data BG'!$J66,Mapping!H:H)+SUMIF(Mapping!$D:$D,'Data BG'!$J66,Mapping!H:H)+SUMIF(Mapping!$B:$B,'Data BG'!$M66,Mapping!H:H)+SUMIF(Mapping!$C:$C,'Data BG'!$M66,Mapping!H:H)+SUMIF(Mapping!$D:$D,'Data BG'!$M66,Mapping!H:H)+SUMIF(Mapping!$B:$B,$N66,Mapping!H:H)+SUMIF(Mapping!$C:$C,$N66,Mapping!H:H)+SUMIF(Mapping!$D:$D,$N66,Mapping!H:H)+SUMIF(Mapping!$B:$B,'Data BG'!$K66,Mapping!H:H)+SUMIF(Mapping!$C:$C,'Data BG'!$K66,Mapping!H:H)+SUMIF(Mapping!$D:$D,'Data BG'!$K66,Mapping!H:H)+SUMIF(Mapping!$B:$B,'Data BG'!$L66,Mapping!H:H)+SUMIF(Mapping!$C:$C,'Data BG'!$L66,Mapping!H:H)+SUMIF(Mapping!$D:$D,'Data BG'!$L66,Mapping!H:H)","v":0}]
["42P","43P","44P",null,null,null,null,null,null,null,null,null,null,null,null,null,null,"Dettes fiscales et sociales ",{"$f":"SUMIF(Mapping!$B:$B,'Data BG'!$A67,Mapping!G:G)+SUMIF(Mapping!$C:$C,'Data BG'!$A67,Mapping!G:G)+SUMIF(Mapping!$D:$D,'Data BG'!$A67,Mapping!G:G)+SUMIF(Mapping!$B:$B,'Data BG'!$B67,Mapping!G:G)+SUMIF(Mapping!$C:$C,'Data BG'!$B67,Mapping!G:G)+SUMIF(Mapping!$D:$D,'Data BG'!$B67,Mapping!G:G)+SUMIF(Mapping!$B:$B,'Data BG'!$C67,Mapping!G:G)+SUMIF(Mapping!$C:$C,'Data BG'!$C67,Mapping!G:G)+SUMIF(Mapping!$D:$D,'Data BG'!$C67,Mapping!G:G)+SUMIF(Mapping!$B:$B,'Data BG'!$D67,Mapping!G:G)+SUMIF(Mapping!$C:$C,'Data BG'!$D67,Mapping!G:G)+SUMIF(Mapping!$D:$D,'Data BG'!$D67,Mapping!G:G)+SUMIF(Mapping!$B:$B,'Data BG'!$E67,Mapping!G:G)+SUMIF(Mapping!$C:$C,'Data BG'!$E67,Mapping!G:G)+SUMIF(Mapping!$D:$D,'Data BG'!$E67,Mapping!G:G)+SUMIF(Mapping!$B:$B,'Data BG'!$F67,Mapping!G:G)+SUMIF(Mapping!$C:$C,'Data BG'!$F67,Mapping!G:G)+SUMIF(Mapping!$D:$D,'Data BG'!$F67,Mapping!G:G)+SUMIF(Mapping!$B:$B,'Data BG'!$G67,Mapping!G:G)+SUMIF(Mapping!$C:$C,'Data BG'!$G67,Mapping!G:G)+SUMIF(Mapping!$D:$D,'Data BG'!$G67,Mapping!G:G)+SUMIF(Mapping!$B:$B,'Data BG'!$H67,Mapping!G:G)+SUMIF(Mapping!$C:$C,'Data BG'!$H67,Mapping!G:G)+SUMIF(Mapping!$D:$D,'Data BG'!$H67,Mapping!G:G)+SUMIF(Mapping!$B:$B,'Data BG'!$I67,Mapping!G:G)+SUMIF(Mapping!$C:$C,'Data BG'!$I67,Mapping!G:G)+SUMIF(Mapping!$D:$D,'Data BG'!$I67,Mapping!G:G)+SUMIF(Mapping!$B:$B,'Data BG'!$J67,Mapping!G:G)+SUMIF(Mapping!$C:$C,'Data BG'!$J67,Mapping!G:G)+SUMIF(Mapping!$D:$D,'Data BG'!$J67,Mapping!G:G)+SUMIF(Mapping!$B:$B,'Data BG'!$M67,Mapping!G:G)+SUMIF(Mapping!$C:$C,'Data BG'!$M67,Mapping!G:G)+SUMIF(Mapping!$D:$D,'Data BG'!$M67,Mapping!G:G)+SUMIF(Mapping!$B:$B,$N67,Mapping!G:G)+SUMIF(Mapping!$C:$C,$N67,Mapping!G:G)+SUMIF(Mapping!$D:$D,$N67,Mapping!G:G)+SUMIF(Mapping!$B:$B,'Data BG'!$K67,Mapping!G:G)+SUMIF(Mapping!$C:$C,'Data BG'!$K67,Mapping!G:G)+SUMIF(Mapping!$D:$D,'Data BG'!$K67,Mapping!G:G)+SUMIF(Mapping!$B:$B,'Data BG'!$L67,Mapping!G:G)+SUMIF(Mapping!$C:$C,'Data BG'!$L67,Mapping!G:G)+SUMIF(Mapping!$D:$D,'Data BG'!$L67,Mapping!G:G)","v":0},{"$f":"SUMIF(Mapping!$B:$B,'Data BG'!$A67,Mapping!H:H)+SUMIF(Mapping!$C:$C,'Data BG'!$A67,Mapping!H:H)+SUMIF(Mapping!$D:$D,'Data BG'!$A67,Mapping!H:H)+SUMIF(Mapping!$B:$B,'Data BG'!$B67,Mapping!H:H)+SUMIF(Mapping!$C:$C,'Data BG'!$B67,Mapping!H:H)+SUMIF(Mapping!$D:$D,'Data BG'!$B67,Mapping!H:H)+SUMIF(Mapping!$B:$B,'Data BG'!$C67,Mapping!H:H)+SUMIF(Mapping!$C:$C,'Data BG'!$C67,Mapping!H:H)+SUMIF(Mapping!$D:$D,'Data BG'!$C67,Mapping!H:H)+SUMIF(Mapping!$B:$B,'Data BG'!$D67,Mapping!H:H)+SUMIF(Mapping!$C:$C,'Data BG'!$D67,Mapping!H:H)+SUMIF(Mapping!$D:$D,'Data BG'!$D67,Mapping!H:H)+SUMIF(Mapping!$B:$B,'Data BG'!$E67,Mapping!H:H)+SUMIF(Mapping!$C:$C,'Data BG'!$E67,Mapping!H:H)+SUMIF(Mapping!$D:$D,'Data BG'!$E67,Mapping!H:H)+SUMIF(Mapping!$B:$B,'Data BG'!$F67,Mapping!H:H)+SUMIF(Mapping!$C:$C,'Data BG'!$F67,Mapping!H:H)+SUMIF(Mapping!$D:$D,'Data BG'!$F67,Mapping!H:H)+SUMIF(Mapping!$B:$B,'Data BG'!$G67,Mapping!H:H)+SUMIF(Mapping!$C:$C,'Data BG'!$G67,Mapping!H:H)+SUMIF(Mapping!$D:$D,'Data BG'!$G67,Mapping!H:H)+SUMIF(Mapping!$B:$B,'Data BG'!$H67,Mapping!H:H)+SUMIF(Mapping!$C:$C,'Data BG'!$H67,Mapping!H:H)+SUMIF(Mapping!$D:$D,'Data BG'!$H67,Mapping!H:H)+SUMIF(Mapping!$B:$B,'Data BG'!$I67,Mapping!H:H)+SUMIF(Mapping!$C:$C,'Data BG'!$I67,Mapping!H:H)+SUMIF(Mapping!$D:$D,'Data BG'!$I67,Mapping!H:H)+SUMIF(Mapping!$B:$B,'Data BG'!$J67,Mapping!H:H)+SUMIF(Mapping!$C:$C,'Data BG'!$J67,Mapping!H:H)+SUMIF(Mapping!$D:$D,'Data BG'!$J67,Mapping!H:H)+SUMIF(Mapping!$B:$B,'Data BG'!$M67,Mapping!H:H)+SUMIF(Mapping!$C:$C,'Data BG'!$M67,Mapping!H:H)+SUMIF(Mapping!$D:$D,'Data BG'!$M67,Mapping!H:H)+SUMIF(Mapping!$B:$B,$N67,Mapping!H:H)+SUMIF(Mapping!$C:$C,$N67,Mapping!H:H)+SUMIF(Mapping!$D:$D,$N67,Mapping!H:H)+SUMIF(Mapping!$B:$B,'Data BG'!$K67,Mapping!H:H)+SUMIF(Mapping!$C:$C,'Data BG'!$K67,Mapping!H:H)+SUMIF(Mapping!$D:$D,'Data BG'!$K67,Mapping!H:H)+SUMIF(Mapping!$B:$B,'Data BG'!$L67,Mapping!H:H)+SUMIF(Mapping!$C:$C,'Data BG'!$L67,Mapping!H:H)+SUMIF(Mapping!$D:$D,'Data BG'!$L67,Mapping!H:H)","v":0}]
[4632,null,null,null,null,null,null,null,null,null,null,null,null,null,null,null,null,"Dettes envers les candidats ",{"$f":"SUMIF(Mapping!$B:$B,'Data BG'!$A68,Mapping!G:G)+SUMIF(Mapping!$C:$C,'Data BG'!$A68,Mapping!G:G)+SUMIF(Mapping!$D:$D,'Data BG'!$A68,Mapping!G:G)+SUMIF(Mapping!$B:$B,'Data BG'!$B68,Mapping!G:G)+SUMIF(Mapping!$C:$C,'Data BG'!$B68,Mapping!G:G)+SUMIF(Mapping!$D:$D,'Data BG'!$B68,Mapping!G:G)+SUMIF(Mapping!$B:$B,'Data BG'!$C68,Mapping!G:G)+SUMIF(Mapping!$C:$C,'Data BG'!$C68,Mapping!G:G)+SUMIF(Mapping!$D:$D,'Data BG'!$C68,Mapping!G:G)+SUMIF(Mapping!$B:$B,'Data BG'!$D68,Mapping!G:G)+SUMIF(Mapping!$C:$C,'Data BG'!$D68,Mapping!G:G)+SUMIF(Mapping!$D:$D,'Data BG'!$D68,Mapping!G:G)+SUMIF(Mapping!$B:$B,'Data BG'!$E68,Mapping!G:G)+SUMIF(Mapping!$C:$C,'Data BG'!$E68,Mapping!G:G)+SUMIF(Mapping!$D:$D,'Data BG'!$E68,Mapping!G:G)+SUMIF(Mapping!$B:$B,'Data BG'!$F68,Mapping!G:G)+SUMIF(Mapping!$C:$C,'Data BG'!$F68,Mapping!G:G)+SUMIF(Mapping!$D:$D,'Data BG'!$F68,Mapping!G:G)+SUMIF(Mapping!$B:$B,'Data BG'!$G68,Mapping!G:G)+SUMIF(Mapping!$C:$C,'Data BG'!$G68,Mapping!G:G)+SUMIF(Mapping!$D:$D,'Data BG'!$G68,Mapping!G:G)+SUMIF(Mapping!$B:$B,'Data BG'!$H68,Mapping!G:G)+SUMIF(Mapping!$C:$C,'Data BG'!$H68,Mapping!G:G)+SUMIF(Mapping!$D:$D,'Data BG'!$H68,Mapping!G:G)+SUMIF(Mapping!$B:$B,'Data BG'!$I68,Mapping!G:G)+SUMIF(Mapping!$C:$C,'Data BG'!$I68,Mapping!G:G)+SUMIF(Mapping!$D:$D,'Data BG'!$I68,Mapping!G:G)+SUMIF(Mapping!$B:$B,'Data BG'!$J68,Mapping!G:G)+SUMIF(Mapping!$C:$C,'Data BG'!$J68,Mapping!G:G)+SUMIF(Mapping!$D:$D,'Data BG'!$J68,Mapping!G:G)+SUMIF(Mapping!$B:$B,'Data BG'!$M68,Mapping!G:G)+SUMIF(Mapping!$C:$C,'Data BG'!$M68,Mapping!G:G)+SUMIF(Mapping!$D:$D,'Data BG'!$M68,Mapping!G:G)+SUMIF(Mapping!$B:$B,$N68,Mapping!G:G)+SUMIF(Mapping!$C:$C,$N68,Mapping!G:G)+SUMIF(Mapping!$D:$D,$N68,Mapping!G:G)+SUMIF(Mapping!$B:$B,'Data BG'!$K68,Mapping!G:G)+SUMIF(Mapping!$C:$C,'Data BG'!$K68,Mapping!G:G)+SUMIF(Mapping!$D:$D,'Data BG'!$K68,Mapping!G:G)+SUMIF(Mapping!$B:$B,'Data BG'!$L68,Mapping!G:G)+SUMIF(Mapping!$C:$C,'Data BG'!$L68,Mapping!G:G)+SUMIF(Mapping!$D:$D,'Data BG'!$L68,Mapping!G:G)","v":0},{"$f":"SUMIF(Mapping!$B:$B,'Data BG'!$A68,Mapping!H:H)+SUMIF(Mapping!$C:$C,'Data BG'!$A68,Mapping!H:H)+SUMIF(Mapping!$D:$D,'Data BG'!$A68,Mapping!H:H)+SUMIF(Mapping!$B:$B,'Data BG'!$B68,Mapping!H:H)+SUMIF(Mapping!$C:$C,'Data BG'!$B68,Mapping!H:H)+SUMIF(Mapping!$D:$D,'Data BG'!$B68,Mapping!H:H)+SUMIF(Mapping!$B:$B,'Data BG'!$C68,Mapping!H:H)+SUMIF(Mapping!$C:$C,'Data BG'!$C68,Mapping!H:H)+SUMIF(Mapping!$D:$D,'Data BG'!$C68,Mapping!H:H)+SUMIF(Mapping!$B:$B,'Data BG'!$D68,Mapping!H:H)+SUMIF(Mapping!$C:$C,'Data BG'!$D68,Mapping!H:H)+SUMIF(Mapping!$D:$D,'Data BG'!$D68,Mapping!H:H)+SUMIF(Mapping!$B:$B,'Data BG'!$E68,Mapping!H:H)+SUMIF(Mapping!$C:$C,'Data BG'!$E68,Mapping!H:H)+SUMIF(Mapping!$D:$D,'Data BG'!$E68,Mapping!H:H)+SUMIF(Mapping!$B:$B,'Data BG'!$F68,Mapping!H:H)+SUMIF(Mapping!$C:$C,'Data BG'!$F68,Mapping!H:H)+SUMIF(Mapping!$D:$D,'Data BG'!$F68,Mapping!H:H)+SUMIF(Mapping!$B:$B,'Data BG'!$G68,Mapping!H:H)+SUMIF(Mapping!$C:$C,'Data BG'!$G68,Mapping!H:H)+SUMIF(Mapping!$D:$D,'Data BG'!$G68,Mapping!H:H)+SUMIF(Mapping!$B:$B,'Data BG'!$H68,Mapping!H:H)+SUMIF(Mapping!$C:$C,'Data BG'!$H68,Mapping!H:H)+SUMIF(Mapping!$D:$D,'Data BG'!$H68,Mapping!H:H)+SUMIF(Mapping!$B:$B,'Data BG'!$I68,Mapping!H:H)+SUMIF(Mapping!$C:$C,'Data BG'!$I68,Mapping!H:H)+SUMIF(Mapping!$D:$D,'Data BG'!$I68,Mapping!H:H)+SUMIF(Mapping!$B:$B,'Data BG'!$J68,Mapping!H:H)+SUMIF(Mapping!$C:$C,'Data BG'!$J68,Mapping!H:H)+SUMIF(Mapping!$D:$D,'Data BG'!$J68,Mapping!H:H)+SUMIF(Mapping!$B:$B,'Data BG'!$M68,Mapping!H:H)+SUMIF(Mapping!$C:$C,'Data BG'!$M68,Mapping!H:H)+SUMIF(Mapping!$D:$D,'Data BG'!$M68,Mapping!H:H)+SUMIF(Mapping!$B:$B,$N68,Mapping!H:H)+SUMIF(Mapping!$C:$C,$N68,Mapping!H:H)+SUMIF(Mapping!$D:$D,$N68,Mapping!H:H)+SUMIF(Mapping!$B:$B,'Data BG'!$K68,Mapping!H:H)+SUMIF(Mapping!$C:$C,'Data BG'!$K68,Mapping!H:H)+SUMIF(Mapping!$D:$D,'Data BG'!$K68,Mapping!H:H)+SUMIF(Mapping!$B:$B,'Data BG'!$L68,Mapping!H:H)+SUMIF(Mapping!$C:$C,'Data BG'!$L68,Mapping!H:H)+SUMIF(Mapping!$D:$D,'Data BG'!$L68,Mapping!H:H)","v":0}]
[4633,null,null,null,null,null,null,null,null,null,null,null,null,null,null,null,null,"Dettes envers les organisations territoriales ou spécialisées ",{"$f":"SUMIF(Mapping!$B:$B,'Data BG'!$A69,Mapping!G:G)+SUMIF(Mapping!$C:$C,'Data BG'!$A69,Mapping!G:G)+SUMIF(Mapping!$D:$D,'Data BG'!$A69,Mapping!G:G)+SUMIF(Mapping!$B:$B,'Data BG'!$B69,Mapping!G:G)+SUMIF(Mapping!$C:$C,'Data BG'!$B69,Mapping!G:G)+SUMIF(Mapping!$D:$D,'Data BG'!$B69,Mapping!G:G)+SUMIF(Mapping!$B:$B,'Data BG'!$C69,Mapping!G:G)+SUMIF(Mapping!$C:$C,'Data BG'!$C69,Mapping!G:G)+SUMIF(Mapping!$D:$D,'Data BG'!$C69,Mapping!G:G)+SUMIF(Mapping!$B:$B,'Data BG'!$D69,Mapping!G:G)+SUMIF(Mapping!$C:$C,'Data BG'!$D69,Mapping!G:G)+SUMIF(Mapping!$D:$D,'Data BG'!$D69,Mapping!G:G)+SUMIF(Mapping!$B:$B,'Data BG'!$E69,Mapping!G:G)+SUMIF(Mapping!$C:$C,'Data BG'!$E69,Mapping!G:G)+SUMIF(Mapping!$D:$D,'Data BG'!$E69,Mapping!G:G)+SUMIF(Mapping!$B:$B,'Data BG'!$F69,Mapping!G:G)+SUMIF(Mapping!$C:$C,'Data BG'!$F69,Mapping!G:G)+SUMIF(Mapping!$D:$D,'Data BG'!$F69,Mapping!G:G)+SUMIF(Mapping!$B:$B,'Data BG'!$G69,Mapping!G:G)+SUMIF(Mapping!$C:$C,'Data BG'!$G69,Mapping!G:G)+SUMIF(Mapping!$D:$D,'Data BG'!$G69,Mapping!G:G)+SUMIF(Mapping!$B:$B,'Data BG'!$H69,Mapping!G:G)+SUMIF(Mapping!$C:$C,'Data BG'!$H69,Mapping!G:G)+SUMIF(Mapping!$D:$D,'Data BG'!$H69,Mapping!G:G)+SUMIF(Mapping!$B:$B,'Data BG'!$I69,Mapping!G:G)+SUMIF(Mapping!$C:$C,'Data BG'!$I69,Mapping!G:G)+SUMIF(Mapping!$D:$D,'Data BG'!$I69,Mapping!G:G)+SUMIF(Mapping!$B:$B,'Data BG'!$J69,Mapping!G:G)+SUMIF(Mapping!$C:$C,'Data BG'!$J69,Mapping!G:G)+SUMIF(Mapping!$D:$D,'Data BG'!$J69,Mapping!G:G)+SUMIF(Mapping!$B:$B,'Data BG'!$M69,Mapping!G:G)+SUMIF(Mapping!$C:$C,'Data BG'!$M69,Mapping!G:G)+SUMIF(Mapping!$D:$D,'Data BG'!$M69,Mapping!G:G)+SUMIF(Mapping!$B:$B,$N69,Mapping!G:G)+SUMIF(Mapping!$C:$C,$N69,Mapping!G:G)+SUMIF(Mapping!$D:$D,$N69,Mapping!G:G)+SUMIF(Mapping!$B:$B,'Data BG'!$K69,Mapping!G:G)+SUMIF(Mapping!$C:$C,'Data BG'!$K69,Mapping!G:G)+SUMIF(Mapping!$D:$D,'Data BG'!$K69,Mapping!G:G)+SUMIF(Mapping!$B:$B,'Data BG'!$L69,Mapping!G:G)+SUMIF(Mapping!$C:$C,'Data BG'!$L69,Mapping!G:G)+SUMIF(Mapping!$D:$D,'Data BG'!$L69,Mapping!G:G)","v":0},{"$f":"SUMIF(Mapping!$B:$B,'Data BG'!$A69,Mapping!H:H)+SUMIF(Mapping!$C:$C,'Data BG'!$A69,Mapping!H:H)+SUMIF(Mapping!$D:$D,'Data BG'!$A69,Mapping!H:H)+SUMIF(Mapping!$B:$B,'Data BG'!$B69,Mapping!H:H)+SUMIF(Mapping!$C:$C,'Data BG'!$B69,Mapping!H:H)+SUMIF(Mapping!$D:$D,'Data BG'!$B69,Mapping!H:H)+SUMIF(Mapping!$B:$B,'Data BG'!$C69,Mapping!H:H)+SUMIF(Mapping!$C:$C,'Data BG'!$C69,Mapping!H:H)+SUMIF(Mapping!$D:$D,'Data BG'!$C69,Mapping!H:H)+SUMIF(Mapping!$B:$B,'Data BG'!$D69,Mapping!H:H)+SUMIF(Mapping!$C:$C,'Data BG'!$D69,Mapping!H:H)+SUMIF(Mapping!$D:$D,'Data BG'!$D69,Mapping!H:H)+SUMIF(Mapping!$B:$B,'Data BG'!$E69,Mapping!H:H)+SUMIF(Mapping!$C:$C,'Data BG'!$E69,Mapping!H:H)+SUMIF(Mapping!$D:$D,'Data BG'!$E69,Mapping!H:H)+SUMIF(Mapping!$B:$B,'Data BG'!$F69,Mapping!H:H)+SUMIF(Mapping!$C:$C,'Data BG'!$F69,Mapping!H:H)+SUMIF(Mapping!$D:$D,'Data BG'!$F69,Mapping!H:H)+SUMIF(Mapping!$B:$B,'Data BG'!$G69,Mapping!H:H)+SUMIF(Mapping!$C:$C,'Data BG'!$G69,Mapping!H:H)+SUMIF(Mapping!$D:$D,'Data BG'!$G69,Mapping!H:H)+SUMIF(Mapping!$B:$B,'Data BG'!$H69,Mapping!H:H)+SUMIF(Mapping!$C:$C,'Data BG'!$H69,Mapping!H:H)+SUMIF(Mapping!$D:$D,'Data BG'!$H69,Mapping!H:H)+SUMIF(Mapping!$B:$B,'Data BG'!$I69,Mapping!H:H)+SUMIF(Mapping!$C:$C,'Data BG'!$I69,Mapping!H:H)+SUMIF(Mapping!$D:$D,'Data BG'!$I69,Mapping!H:H)+SUMIF(Mapping!$B:$B,'Data BG'!$J69,Mapping!H:H)+SUMIF(Mapping!$C:$C,'Data BG'!$J69,Mapping!H:H)+SUMIF(Mapping!$D:$D,'Data BG'!$J69,Mapping!H:H)+SUMIF(Mapping!$B:$B,'Data BG'!$M69,Mapping!H:H)+SUMIF(Mapping!$C:$C,'Data BG'!$M69,Mapping!H:H)+SUMIF(Mapping!$D:$D,'Data BG'!$M69,Mapping!H:H)+SUMIF(Mapping!$B:$B,$N69,Mapping!H:H)+SUMIF(Mapping!$C:$C,$N69,Mapping!H:H)+SUMIF(Mapping!$D:$D,$N69,Mapping!H:H)+SUMIF(Mapping!$B:$B,'Data BG'!$K69,Mapping!H:H)+SUMIF(Mapping!$C:$C,'Data BG'!$K69,Mapping!H:H)+SUMIF(Mapping!$D:$D,'Data BG'!$K69,Mapping!H:H)+SUMIF(Mapping!$B:$B,'Data BG'!$L69,Mapping!H:H)+SUMIF(Mapping!$C:$C,'Data BG'!$L69,Mapping!H:H)+SUMIF(Mapping!$D:$D,'Data BG'!$L69,Mapping!H:H)","v":0}]
["45P","46P","47P",419,165,166,167,1680,1681,1685,1687,17,169,4887,null,null,null,"Autres dettes ",{"$f":"SUMIF(Mapping!$B:$B,'Data BG'!$A70,Mapping!G:G)+SUMIF(Mapping!$C:$C,'Data BG'!$A70,Mapping!G:G)+SUMIF(Mapping!$D:$D,'Data BG'!$A70,Mapping!G:G)+SUMIF(Mapping!$B:$B,'Data BG'!$B70,Mapping!G:G)+SUMIF(Mapping!$C:$C,'Data BG'!$B70,Mapping!G:G)+SUMIF(Mapping!$D:$D,'Data BG'!$B70,Mapping!G:G)+SUMIF(Mapping!$B:$B,'Data BG'!$C70,Mapping!G:G)+SUMIF(Mapping!$C:$C,'Data BG'!$C70,Mapping!G:G)+SUMIF(Mapping!$D:$D,'Data BG'!$C70,Mapping!G:G)+SUMIF(Mapping!$B:$B,'Data BG'!$D70,Mapping!G:G)+SUMIF(Mapping!$C:$C,'Data BG'!$D70,Mapping!G:G)+SUMIF(Mapping!$D:$D,'Data BG'!$D70,Mapping!G:G)+SUMIF(Mapping!$B:$B,'Data BG'!$E70,Mapping!G:G)+SUMIF(Mapping!$C:$C,'Data BG'!$E70,Mapping!G:G)+SUMIF(Mapping!$D:$D,'Data BG'!$E70,Mapping!G:G)+SUMIF(Mapping!$B:$B,'Data BG'!$F70,Mapping!G:G)+SUMIF(Mapping!$C:$C,'Data BG'!$F70,Mapping!G:G)+SUMIF(Mapping!$D:$D,'Data BG'!$F70,Mapping!G:G)+SUMIF(Mapping!$B:$B,'Data BG'!$G70,Mapping!G:G)+SUMIF(Mapping!$C:$C,'Data BG'!$G70,Mapping!G:G)+SUMIF(Mapping!$D:$D,'Data BG'!$G70,Mapping!G:G)+SUMIF(Mapping!$B:$B,'Data BG'!$H70,Mapping!G:G)+SUMIF(Mapping!$C:$C,'Data BG'!$H70,Mapping!G:G)+SUMIF(Mapping!$D:$D,'Data BG'!$H70,Mapping!G:G)+SUMIF(Mapping!$B:$B,'Data BG'!$I70,Mapping!G:G)+SUMIF(Mapping!$C:$C,'Data BG'!$I70,Mapping!G:G)+SUMIF(Mapping!$D:$D,'Data BG'!$I70,Mapping!G:G)+SUMIF(Mapping!$B:$B,'Data BG'!$J70,Mapping!G:G)+SUMIF(Mapping!$C:$C,'Data BG'!$J70,Mapping!G:G)+SUMIF(Mapping!$D:$D,'Data BG'!$J70,Mapping!G:G)+SUMIF(Mapping!$B:$B,'Data BG'!$M70,Mapping!G:G)+SUMIF(Mapping!$C:$C,'Data BG'!$M70,Mapping!G:G)+SUMIF(Mapping!$D:$D,'Data BG'!$M70,Mapping!G:G)+SUMIF(Mapping!$B:$B,$N70,Mapping!G:G)+SUMIF(Mapping!$C:$C,$N70,Mapping!G:G)+SUMIF(Mapping!$D:$D,$N70,Mapping!G:G)+SUMIF(Mapping!$B:$B,'Data BG'!$K70,Mapping!G:G)+SUMIF(Mapping!$C:$C,'Data BG'!$K70,Mapping!G:G)+SUMIF(Mapping!$D:$D,'Data BG'!$K70,Mapping!G:G)+SUMIF(Mapping!$B:$B,'Data BG'!$L70,Mapping!G:G)+SUMIF(Mapping!$C:$C,'Data BG'!$L70,Mapping!G:G)+SUMIF(Mapping!$D:$D,'Data BG'!$L70,Mapping!G:G)-S68-S69-S72","v":0},{"$f":"SUMIF(Mapping!$B:$B,'Data BG'!$A70,Mapping!H:H)+SUMIF(Mapping!$C:$C,'Data BG'!$A70,Mapping!H:H)+SUMIF(Mapping!$D:$D,'Data BG'!$A70,Mapping!H:H)+SUMIF(Mapping!$B:$B,'Data BG'!$B70,Mapping!H:H)+SUMIF(Mapping!$C:$C,'Data BG'!$B70,Mapping!H:H)+SUMIF(Mapping!$D:$D,'Data BG'!$B70,Mapping!H:H)+SUMIF(Mapping!$B:$B,'Data BG'!$C70,Mapping!H:H)+SUMIF(Mapping!$C:$C,'Data BG'!$C70,Mapping!H:H)+SUMIF(Mapping!$D:$D,'Data BG'!$C70,Mapping!H:H)+SUMIF(Mapping!$B:$B,'Data BG'!$D70,Mapping!H:H)+SUMIF(Mapping!$C:$C,'Data BG'!$D70,Mapping!H:H)+SUMIF(Mapping!$D:$D,'Data BG'!$D70,Mapping!H:H)+SUMIF(Mapping!$B:$B,'Data BG'!$E70,Mapping!H:H)+SUMIF(Mapping!$C:$C,'Data BG'!$E70,Mapping!H:H)+SUMIF(Mapping!$D:$D,'Data BG'!$E70,Mapping!H:H)+SUMIF(Mapping!$B:$B,'Data BG'!$F70,Mapping!H:H)+SUMIF(Mapping!$C:$C,'Data BG'!$F70,Mapping!H:H)+SUMIF(Mapping!$D:$D,'Data BG'!$F70,Mapping!H:H)+SUMIF(Mapping!$B:$B,'Data BG'!$G70,Mapping!H:H)+SUMIF(Mapping!$C:$C,'Data BG'!$G70,Mapping!H:H)+SUMIF(Mapping!$D:$D,'Data BG'!$G70,Mapping!H:H)+SUMIF(Mapping!$B:$B,'Data BG'!$H70,Mapping!H:H)+SUMIF(Mapping!$C:$C,'Data BG'!$H70,Mapping!H:H)+SUMIF(Mapping!$D:$D,'Data BG'!$H70,Mapping!H:H)+SUMIF(Mapping!$B:$B,'Data BG'!$I70,Mapping!H:H)+SUMIF(Mapping!$C:$C,'Data BG'!$I70,Mapping!H:H)+SUMIF(Mapping!$D:$D,'Data BG'!$I70,Mapping!H:H)+SUMIF(Mapping!$B:$B,'Data BG'!$J70,Mapping!H:H)+SUMIF(Mapping!$C:$C,'Data BG'!$J70,Mapping!H:H)+SUMIF(Mapping!$D:$D,'Data BG'!$J70,Mapping!H:H)+SUMIF(Mapping!$B:$B,'Data BG'!$M70,Mapping!H:H)+SUMIF(Mapping!$C:$C,'Data BG'!$M70,Mapping!H:H)+SUMIF(Mapping!$D:$D,'Data BG'!$M70,Mapping!H:H)+SUMIF(Mapping!$B:$B,$N70,Mapping!H:H)+SUMIF(Mapping!$C:$C,$N70,Mapping!H:H)+SUMIF(Mapping!$D:$D,$N70,Mapping!H:H)+SUMIF(Mapping!$B:$B,'Data BG'!$K70,Mapping!H:H)+SUMIF(Mapping!$C:$C,'Data BG'!$K70,Mapping!H:H)+SUMIF(Mapping!$D:$D,'Data BG'!$K70,Mapping!H:H)+SUMIF(Mapping!$B:$B,'Data BG'!$L70,Mapping!H:H)+SUMIF(Mapping!$C:$C,'Data BG'!$L70,Mapping!H:H)+SUMIF(Mapping!$D:$D,'Data BG'!$L70,Mapping!H:H)-T68-T69-T72","v":0}]
[487,null,null,null,null,null,null,null,null,null,null,null,null,null,null,null,null,"Produits constatés d'avance ",{"$f":"SUMIF(Mapping!$B:$B,'Data BG'!$A71,Mapping!G:G)+SUMIF(Mapping!$C:$C,'Data BG'!$A71,Mapping!G:G)+SUMIF(Mapping!$D:$D,'Data BG'!$A71,Mapping!G:G)+SUMIF(Mapping!$B:$B,'Data BG'!$B71,Mapping!G:G)+SUMIF(Mapping!$C:$C,'Data BG'!$B71,Mapping!G:G)+SUMIF(Mapping!$D:$D,'Data BG'!$B71,Mapping!G:G)+SUMIF(Mapping!$B:$B,'Data BG'!$C71,Mapping!G:G)+SUMIF(Mapping!$C:$C,'Data BG'!$C71,Mapping!G:G)+SUMIF(Mapping!$D:$D,'Data BG'!$C71,Mapping!G:G)+SUMIF(Mapping!$B:$B,'Data BG'!$D71,Mapping!G:G)+SUMIF(Mapping!$C:$C,'Data BG'!$D71,Mapping!G:G)+SUMIF(Mapping!$D:$D,'Data BG'!$D71,Mapping!G:G)+SUMIF(Mapping!$B:$B,'Data BG'!$E71,Mapping!G:G)+SUMIF(Mapping!$C:$C,'Data BG'!$E71,Mapping!G:G)+SUMIF(Mapping!$D:$D,'Data BG'!$E71,Mapping!G:G)+SUMIF(Mapping!$B:$B,'Data BG'!$F71,Mapping!G:G)+SUMIF(Mapping!$C:$C,'Data BG'!$F71,Mapping!G:G)+SUMIF(Mapping!$D:$D,'Data BG'!$F71,Mapping!G:G)+SUMIF(Mapping!$B:$B,'Data BG'!$G71,Mapping!G:G)+SUMIF(Mapping!$C:$C,'Data BG'!$G71,Mapping!G:G)+SUMIF(Mapping!$D:$D,'Data BG'!$G71,Mapping!G:G)+SUMIF(Mapping!$B:$B,'Data BG'!$H71,Mapping!G:G)+SUMIF(Mapping!$C:$C,'Data BG'!$H71,Mapping!G:G)+SUMIF(Mapping!$D:$D,'Data BG'!$H71,Mapping!G:G)+SUMIF(Mapping!$B:$B,'Data BG'!$I71,Mapping!G:G)+SUMIF(Mapping!$C:$C,'Data BG'!$I71,Mapping!G:G)+SUMIF(Mapping!$D:$D,'Data BG'!$I71,Mapping!G:G)+SUMIF(Mapping!$B:$B,'Data BG'!$J71,Mapping!G:G)+SUMIF(Mapping!$C:$C,'Data BG'!$J71,Mapping!G:G)+SUMIF(Mapping!$D:$D,'Data BG'!$J71,Mapping!G:G)+SUMIF(Mapping!$B:$B,'Data BG'!$M71,Mapping!G:G)+SUMIF(Mapping!$C:$C,'Data BG'!$M71,Mapping!G:G)+SUMIF(Mapping!$D:$D,'Data BG'!$M71,Mapping!G:G)+SUMIF(Mapping!$B:$B,$N71,Mapping!G:G)+SUMIF(Mapping!$C:$C,$N71,Mapping!G:G)+SUMIF(Mapping!$D:$D,$N71,Mapping!G:G)+SUMIF(Mapping!$B:$B,'Data BG'!$K71,Mapping!G:G)+SUMIF(Mapping!$C:$C,'Data BG'!$K71,Mapping!G:G)+SUMIF(Mapping!$D:$D,'Data BG'!$K71,Mapping!G:G)+SUMIF(Mapping!$B:$B,'Data BG'!$L71,Mapping!G:G)+SUMIF(Mapping!$C:$C,'Data BG'!$L71,Mapping!G:G)+SUMIF(Mapping!$D:$D,'Data BG'!$L71,Mapping!G:G)","v":0},{"$f":"SUMIF(Mapping!$B:$B,'Data BG'!$A71,Mapping!H:H)+SUMIF(Mapping!$C:$C,'Data BG'!$A71,Mapping!H:H)+SUMIF(Mapping!$D:$D,'Data BG'!$A71,Mapping!H:H)+SUMIF(Mapping!$B:$B,'Data BG'!$B71,Mapping!H:H)+SUMIF(Mapping!$C:$C,'Data BG'!$B71,Mapping!H:H)+SUMIF(Mapping!$D:$D,'Data BG'!$B71,Mapping!H:H)+SUMIF(Mapping!$B:$B,'Data BG'!$C71,Mapping!H:H)+SUMIF(Mapping!$C:$C,'Data BG'!$C71,Mapping!H:H)+SUMIF(Mapping!$D:$D,'Data BG'!$C71,Mapping!H:H)+SUMIF(Mapping!$B:$B,'Data BG'!$D71,Mapping!H:H)+SUMIF(Mapping!$C:$C,'Data BG'!$D71,Mapping!H:H)+SUMIF(Mapping!$D:$D,'Data BG'!$D71,Mapping!H:H)+SUMIF(Mapping!$B:$B,'Data BG'!$E71,Mapping!H:H)+SUMIF(Mapping!$C:$C,'Data BG'!$E71,Mapping!H:H)+SUMIF(Mapping!$D:$D,'Data BG'!$E71,Mapping!H:H)+SUMIF(Mapping!$B:$B,'Data BG'!$F71,Mapping!H:H)+SUMIF(Mapping!$C:$C,'Data BG'!$F71,Mapping!H:H)+SUMIF(Mapping!$D:$D,'Data BG'!$F71,Mapping!H:H)+SUMIF(Mapping!$B:$B,'Data BG'!$G71,Mapping!H:H)+SUMIF(Mapping!$C:$C,'Data BG'!$G71,Mapping!H:H)+SUMIF(Mapping!$D:$D,'Data BG'!$G71,Mapping!H:H)+SUMIF(Mapping!$B:$B,'Data BG'!$H71,Mapping!H:H)+SUMIF(Mapping!$C:$C,'Data BG'!$H71,Mapping!H:H)+SUMIF(Mapping!$D:$D,'Data BG'!$H71,Mapping!H:H)+SUMIF(Mapping!$B:$B,'Data BG'!$I71,Mapping!H:H)+SUMIF(Mapping!$C:$C,'Data BG'!$I71,Mapping!H:H)+SUMIF(Mapping!$D:$D,'Data BG'!$I71,Mapping!H:H)+SUMIF(Mapping!$B:$B,'Data BG'!$J71,Mapping!H:H)+SUMIF(Mapping!$C:$C,'Data BG'!$J71,Mapping!H:H)+SUMIF(Mapping!$D:$D,'Data BG'!$J71,Mapping!H:H)+SUMIF(Mapping!$B:$B,'Data BG'!$M71,Mapping!H:H)+SUMIF(Mapping!$C:$C,'Data BG'!$M71,Mapping!H:H)+SUMIF(Mapping!$D:$D,'Data BG'!$M71,Mapping!H:H)+SUMIF(Mapping!$B:$B,$N71,Mapping!H:H)+SUMIF(Mapping!$C:$C,$N71,Mapping!H:H)+SUMIF(Mapping!$D:$D,$N71,Mapping!H:H)+SUMIF(Mapping!$B:$B,'Data BG'!$K71,Mapping!H:H)+SUMIF(Mapping!$C:$C,'Data BG'!$K71,Mapping!H:H)+SUMIF(Mapping!$D:$D,'Data BG'!$K71,Mapping!H:H)+SUMIF(Mapping!$B:$B,'Data BG'!$L71,Mapping!H:H)+SUMIF(Mapping!$C:$C,'Data BG'!$L71,Mapping!H:H)+SUMIF(Mapping!$D:$D,'Data BG'!$L71,Mapping!H:H)","v":0}]
[4672,null,null,null,null,null,null,null,null,null,null,null,null,null,null,null,null,"Passifs des entités non significatives (IV) ",{"$f":"SUMIF(Mapping!$B:$B,'Data BG'!$A72,Mapping!G:G)+SUMIF(Mapping!$C:$C,'Data BG'!$A72,Mapping!G:G)+SUMIF(Mapping!$D:$D,'Data BG'!$A72,Mapping!G:G)+SUMIF(Mapping!$B:$B,'Data BG'!$B72,Mapping!G:G)+SUMIF(Mapping!$C:$C,'Data BG'!$B72,Mapping!G:G)+SUMIF(Mapping!$D:$D,'Data BG'!$B72,Mapping!G:G)+SUMIF(Mapping!$B:$B,'Data BG'!$C72,Mapping!G:G)+SUMIF(Mapping!$C:$C,'Data BG'!$C72,Mapping!G:G)+SUMIF(Mapping!$D:$D,'Data BG'!$C72,Mapping!G:G)+SUMIF(Mapping!$B:$B,'Data BG'!$D72,Mapping!G:G)+SUMIF(Mapping!$C:$C,'Data BG'!$D72,Mapping!G:G)+SUMIF(Mapping!$D:$D,'Data BG'!$D72,Mapping!G:G)+SUMIF(Mapping!$B:$B,'Data BG'!$E72,Mapping!G:G)+SUMIF(Mapping!$C:$C,'Data BG'!$E72,Mapping!G:G)+SUMIF(Mapping!$D:$D,'Data BG'!$E72,Mapping!G:G)+SUMIF(Mapping!$B:$B,'Data BG'!$F72,Mapping!G:G)+SUMIF(Mapping!$C:$C,'Data BG'!$F72,Mapping!G:G)+SUMIF(Mapping!$D:$D,'Data BG'!$F72,Mapping!G:G)+SUMIF(Mapping!$B:$B,'Data BG'!$G72,Mapping!G:G)+SUMIF(Mapping!$C:$C,'Data BG'!$G72,Mapping!G:G)+SUMIF(Mapping!$D:$D,'Data BG'!$G72,Mapping!G:G)+SUMIF(Mapping!$B:$B,'Data BG'!$H72,Mapping!G:G)+SUMIF(Mapping!$C:$C,'Data BG'!$H72,Mapping!G:G)+SUMIF(Mapping!$D:$D,'Data BG'!$H72,Mapping!G:G)+SUMIF(Mapping!$B:$B,'Data BG'!$I72,Mapping!G:G)+SUMIF(Mapping!$C:$C,'Data BG'!$I72,Mapping!G:G)+SUMIF(Mapping!$D:$D,'Data BG'!$I72,Mapping!G:G)+SUMIF(Mapping!$B:$B,'Data BG'!$J72,Mapping!G:G)+SUMIF(Mapping!$C:$C,'Data BG'!$J72,Mapping!G:G)+SUMIF(Mapping!$D:$D,'Data BG'!$J72,Mapping!G:G)+SUMIF(Mapping!$B:$B,'Data BG'!$M72,Mapping!G:G)+SUMIF(Mapping!$C:$C,'Data BG'!$M72,Mapping!G:G)+SUMIF(Mapping!$D:$D,'Data BG'!$M72,Mapping!G:G)+SUMIF(Mapping!$B:$B,$N72,Mapping!G:G)+SUMIF(Mapping!$C:$C,$N72,Mapping!G:G)+SUMIF(Mapping!$D:$D,$N72,Mapping!G:G)+SUMIF(Mapping!$B:$B,'Data BG'!$K72,Mapping!G:G)+SUMIF(Mapping!$C:$C,'Data BG'!$K72,Mapping!G:G)+SUMIF(Mapping!$D:$D,'Data BG'!$K72,Mapping!G:G)+SUMIF(Mapping!$B:$B,'Data BG'!$L72,Mapping!G:G)+SUMIF(Mapping!$C:$C,'Data BG'!$L72,Mapping!G:G)+SUMIF(Mapping!$D:$D,'Data BG'!$L72,Mapping!G:G)","v":0},{"$f":"SUMIF(Mapping!$B:$B,'Data BG'!$A72,Mapping!H:H)+SUMIF(Mapping!$C:$C,'Data BG'!$A72,Mapping!H:H)+SUMIF(Mapping!$D:$D,'Data BG'!$A72,Mapping!H:H)+SUMIF(Mapping!$B:$B,'Data BG'!$B72,Mapping!H:H)+SUMIF(Mapping!$C:$C,'Data BG'!$B72,Mapping!H:H)+SUMIF(Mapping!$D:$D,'Data BG'!$B72,Mapping!H:H)+SUMIF(Mapping!$B:$B,'Data BG'!$C72,Mapping!H:H)+SUMIF(Mapping!$C:$C,'Data BG'!$C72,Mapping!H:H)+SUMIF(Mapping!$D:$D,'Data BG'!$C72,Mapping!H:H)+SUMIF(Mapping!$B:$B,'Data BG'!$D72,Mapping!H:H)+SUMIF(Mapping!$C:$C,'Data BG'!$D72,Mapping!H:H)+SUMIF(Mapping!$D:$D,'Data BG'!$D72,Mapping!H:H)+SUMIF(Mapping!$B:$B,'Data BG'!$E72,Mapping!H:H)+SUMIF(Mapping!$C:$C,'Data BG'!$E72,Mapping!H:H)+SUMIF(Mapping!$D:$D,'Data BG'!$E72,Mapping!H:H)+SUMIF(Mapping!$B:$B,'Data BG'!$F72,Mapping!H:H)+SUMIF(Mapping!$C:$C,'Data BG'!$F72,Mapping!H:H)+SUMIF(Mapping!$D:$D,'Data BG'!$F72,Mapping!H:H)+SUMIF(Mapping!$B:$B,'Data BG'!$G72,Mapping!H:H)+SUMIF(Mapping!$C:$C,'Data BG'!$G72,Mapping!H:H)+SUMIF(Mapping!$D:$D,'Data BG'!$G72,Mapping!H:H)+SUMIF(Mapping!$B:$B,'Data BG'!$H72,Mapping!H:H)+SUMIF(Mapping!$C:$C,'Data BG'!$H72,Mapping!H:H)+SUMIF(Mapping!$D:$D,'Data BG'!$H72,Mapping!H:H)+SUMIF(Mapping!$B:$B,'Data BG'!$I72,Mapping!H:H)+SUMIF(Mapping!$C:$C,'Data BG'!$I72,Mapping!H:H)+SUMIF(Mapping!$D:$D,'Data BG'!$I72,Mapping!H:H)+SUMIF(Mapping!$B:$B,'Data BG'!$J72,Mapping!H:H)+SUMIF(Mapping!$C:$C,'Data BG'!$J72,Mapping!H:H)+SUMIF(Mapping!$D:$D,'Data BG'!$J72,Mapping!H:H)+SUMIF(Mapping!$B:$B,'Data BG'!$M72,Mapping!H:H)+SUMIF(Mapping!$C:$C,'Data BG'!$M72,Mapping!H:H)+SUMIF(Mapping!$D:$D,'Data BG'!$M72,Mapping!H:H)+SUMIF(Mapping!$B:$B,$N72,Mapping!H:H)+SUMIF(Mapping!$C:$C,$N72,Mapping!H:H)+SUMIF(Mapping!$D:$D,$N72,Mapping!H:H)+SUMIF(Mapping!$B:$B,'Data BG'!$K72,Mapping!H:H)+SUMIF(Mapping!$C:$C,'Data BG'!$K72,Mapping!H:H)+SUMIF(Mapping!$D:$D,'Data BG'!$K72,Mapping!H:H)+SUMIF(Mapping!$B:$B,'Data BG'!$L72,Mapping!H:H)+SUMIF(Mapping!$C:$C,'Data BG'!$L72,Mapping!H:H)+SUMIF(Mapping!$D:$D,'Data BG'!$L72,Mapping!H:H)","v":0}]
[null,null,null,null,null,null,null,null,null,null,null,null,null,null,null,null,null,"TOTAL PASSIF",{"$f":"SUM(S48:S72)","v":0},{"$f":"SUM(T48:T72)","v":0}]
[null,null,null,null,null,null,null,null,null,null,null,null,null,null,null,null,null,"PRODUITS D'EXPLOITATION  "]
[7561,null,null,null,null,null,null,null,null,null,null,null,null,null,null,null,null,"Cotisations des adhérents ",{"$f":"SUMIF(Mapping!$B:$B,'Data BG'!$A75,Mapping!G:G)+SUMIF(Mapping!$C:$C,'Data BG'!$A75,Mapping!G:G)+SUMIF(Mapping!$D:$D,'Data BG'!$A75,Mapping!G:G)+SUMIF(Mapping!$B:$B,'Data BG'!$B75,Mapping!G:G)+SUMIF(Mapping!$C:$C,'Data BG'!$B75,Mapping!G:G)+SUMIF(Mapping!$D:$D,'Data BG'!$B75,Mapping!G:G)+SUMIF(Mapping!$B:$B,'Data BG'!$C75,Mapping!G:G)+SUMIF(Mapping!$C:$C,'Data BG'!$C75,Mapping!G:G)+SUMIF(Mapping!$D:$D,'Data BG'!$C75,Mapping!G:G)+SUMIF(Mapping!$B:$B,'Data BG'!$D75,Mapping!G:G)+SUMIF(Mapping!$C:$C,'Data BG'!$D75,Mapping!G:G)+SUMIF(Mapping!$D:$D,'Data BG'!$D75,Mapping!G:G)+SUMIF(Mapping!$B:$B,'Data BG'!$E75,Mapping!G:G)+SUMIF(Mapping!$C:$C,'Data BG'!$E75,Mapping!G:G)+SUMIF(Mapping!$D:$D,'Data BG'!$E75,Mapping!G:G)+SUMIF(Mapping!$B:$B,'Data BG'!$F75,Mapping!G:G)+SUMIF(Mapping!$C:$C,'Data BG'!$F75,Mapping!G:G)+SUMIF(Mapping!$D:$D,'Data BG'!$F75,Mapping!G:G)+SUMIF(Mapping!$B:$B,'Data BG'!$G75,Mapping!G:G)+SUMIF(Mapping!$C:$C,'Data BG'!$G75,Mapping!G:G)+SUMIF(Mapping!$D:$D,'Data BG'!$G75,Mapping!G:G)+SUMIF(Mapping!$B:$B,'Data BG'!$H75,Mapping!G:G)+SUMIF(Mapping!$C:$C,'Data BG'!$H75,Mapping!G:G)+SUMIF(Mapping!$D:$D,'Data BG'!$H75,Mapping!G:G)+SUMIF(Mapping!$B:$B,'Data BG'!$I75,Mapping!G:G)+SUMIF(Mapping!$C:$C,'Data BG'!$I75,Mapping!G:G)+SUMIF(Mapping!$D:$D,'Data BG'!$I75,Mapping!G:G)+SUMIF(Mapping!$B:$B,'Data BG'!$J75,Mapping!G:G)+SUMIF(Mapping!$C:$C,'Data BG'!$J75,Mapping!G:G)+SUMIF(Mapping!$D:$D,'Data BG'!$J75,Mapping!G:G)+SUMIF(Mapping!$B:$B,'Data BG'!$M75,Mapping!G:G)+SUMIF(Mapping!$C:$C,'Data BG'!$M75,Mapping!G:G)+SUMIF(Mapping!$D:$D,'Data BG'!$M75,Mapping!G:G)+SUMIF(Mapping!$B:$B,$N75,Mapping!G:G)+SUMIF(Mapping!$C:$C,$N75,Mapping!G:G)+SUMIF(Mapping!$D:$D,$N75,Mapping!G:G)+SUMIF(Mapping!$B:$B,'Data BG'!$K75,Mapping!G:G)+SUMIF(Mapping!$C:$C,'Data BG'!$K75,Mapping!G:G)+SUMIF(Mapping!$D:$D,'Data BG'!$K75,Mapping!G:G)+SUMIF(Mapping!$B:$B,'Data BG'!$L75,Mapping!G:G)+SUMIF(Mapping!$C:$C,'Data BG'!$L75,Mapping!G:G)+SUMIF(Mapping!$D:$D,'Data BG'!$L75,Mapping!G:G)","v":0},{"$f":"SUMIF(Mapping!$B:$B,'Data BG'!$A75,Mapping!H:H)+SUMIF(Mapping!$C:$C,'Data BG'!$A75,Mapping!H:H)+SUMIF(Mapping!$D:$D,'Data BG'!$A75,Mapping!H:H)+SUMIF(Mapping!$B:$B,'Data BG'!$B75,Mapping!H:H)+SUMIF(Mapping!$C:$C,'Data BG'!$B75,Mapping!H:H)+SUMIF(Mapping!$D:$D,'Data BG'!$B75,Mapping!H:H)+SUMIF(Mapping!$B:$B,'Data BG'!$C75,Mapping!H:H)+SUMIF(Mapping!$C:$C,'Data BG'!$C75,Mapping!H:H)+SUMIF(Mapping!$D:$D,'Data BG'!$C75,Mapping!H:H)+SUMIF(Mapping!$B:$B,'Data BG'!$D75,Mapping!H:H)+SUMIF(Mapping!$C:$C,'Data BG'!$D75,Mapping!H:H)+SUMIF(Mapping!$D:$D,'Data BG'!$D75,Mapping!H:H)+SUMIF(Mapping!$B:$B,'Data BG'!$E75,Mapping!H:H)+SUMIF(Mapping!$C:$C,'Data BG'!$E75,Mapping!H:H)+SUMIF(Mapping!$D:$D,'Data BG'!$E75,Mapping!H:H)+SUMIF(Mapping!$B:$B,'Data BG'!$F75,Mapping!H:H)+SUMIF(Mapping!$C:$C,'Data BG'!$F75,Mapping!H:H)+SUMIF(Mapping!$D:$D,'Data BG'!$F75,Mapping!H:H)+SUMIF(Mapping!$B:$B,'Data BG'!$G75,Mapping!H:H)+SUMIF(Mapping!$C:$C,'Data BG'!$G75,Mapping!H:H)+SUMIF(Mapping!$D:$D,'Data BG'!$G75,Mapping!H:H)+SUMIF(Mapping!$B:$B,'Data BG'!$H75,Mapping!H:H)+SUMIF(Mapping!$C:$C,'Data BG'!$H75,Mapping!H:H)+SUMIF(Mapping!$D:$D,'Data BG'!$H75,Mapping!H:H)+SUMIF(Mapping!$B:$B,'Data BG'!$I75,Mapping!H:H)+SUMIF(Mapping!$C:$C,'Data BG'!$I75,Mapping!H:H)+SUMIF(Mapping!$D:$D,'Data BG'!$I75,Mapping!H:H)+SUMIF(Mapping!$B:$B,'Data BG'!$J75,Mapping!H:H)+SUMIF(Mapping!$C:$C,'Data BG'!$J75,Mapping!H:H)+SUMIF(Mapping!$D:$D,'Data BG'!$J75,Mapping!H:H)+SUMIF(Mapping!$B:$B,'Data BG'!$M75,Mapping!H:H)+SUMIF(Mapping!$C:$C,'Data BG'!$M75,Mapping!H:H)+SUMIF(Mapping!$D:$D,'Data BG'!$M75,Mapping!H:H)+SUMIF(Mapping!$B:$B,$N75,Mapping!H:H)+SUMIF(Mapping!$C:$C,$N75,Mapping!H:H)+SUMIF(Mapping!$D:$D,$N75,Mapping!H:H)+SUMIF(Mapping!$B:$B,'Data BG'!$K75,Mapping!H:H)+SUMIF(Mapping!$C:$C,'Data BG'!$K75,Mapping!H:H)+SUMIF(Mapping!$D:$D,'Data BG'!$K75,Mapping!H:H)+SUMIF(Mapping!$B:$B,'Data BG'!$L75,Mapping!H:H)+SUMIF(Mapping!$C:$C,'Data BG'!$L75,Mapping!H:H)+SUMIF(Mapping!$D:$D,'Data BG'!$L75,Mapping!H:H)","v":0}]
[7562,null,null,null,null,null,null,null,null,null,null,null,null,null,null,null,null,"Cotisations des élus ",{"$f":"SUMIF(Mapping!$B:$B,'Data BG'!$A76,Mapping!G:G)+SUMIF(Mapping!$C:$C,'Data BG'!$A76,Mapping!G:G)+SUMIF(Mapping!$D:$D,'Data BG'!$A76,Mapping!G:G)+SUMIF(Mapping!$B:$B,'Data BG'!$B76,Mapping!G:G)+SUMIF(Mapping!$C:$C,'Data BG'!$B76,Mapping!G:G)+SUMIF(Mapping!$D:$D,'Data BG'!$B76,Mapping!G:G)+SUMIF(Mapping!$B:$B,'Data BG'!$C76,Mapping!G:G)+SUMIF(Mapping!$C:$C,'Data BG'!$C76,Mapping!G:G)+SUMIF(Mapping!$D:$D,'Data BG'!$C76,Mapping!G:G)+SUMIF(Mapping!$B:$B,'Data BG'!$D76,Mapping!G:G)+SUMIF(Mapping!$C:$C,'Data BG'!$D76,Mapping!G:G)+SUMIF(Mapping!$D:$D,'Data BG'!$D76,Mapping!G:G)+SUMIF(Mapping!$B:$B,'Data BG'!$E76,Mapping!G:G)+SUMIF(Mapping!$C:$C,'Data BG'!$E76,Mapping!G:G)+SUMIF(Mapping!$D:$D,'Data BG'!$E76,Mapping!G:G)+SUMIF(Mapping!$B:$B,'Data BG'!$F76,Mapping!G:G)+SUMIF(Mapping!$C:$C,'Data BG'!$F76,Mapping!G:G)+SUMIF(Mapping!$D:$D,'Data BG'!$F76,Mapping!G:G)+SUMIF(Mapping!$B:$B,'Data BG'!$G76,Mapping!G:G)+SUMIF(Mapping!$C:$C,'Data BG'!$G76,Mapping!G:G)+SUMIF(Mapping!$D:$D,'Data BG'!$G76,Mapping!G:G)+SUMIF(Mapping!$B:$B,'Data BG'!$H76,Mapping!G:G)+SUMIF(Mapping!$C:$C,'Data BG'!$H76,Mapping!G:G)+SUMIF(Mapping!$D:$D,'Data BG'!$H76,Mapping!G:G)+SUMIF(Mapping!$B:$B,'Data BG'!$I76,Mapping!G:G)+SUMIF(Mapping!$C:$C,'Data BG'!$I76,Mapping!G:G)+SUMIF(Mapping!$D:$D,'Data BG'!$I76,Mapping!G:G)+SUMIF(Mapping!$B:$B,'Data BG'!$J76,Mapping!G:G)+SUMIF(Mapping!$C:$C,'Data BG'!$J76,Mapping!G:G)+SUMIF(Mapping!$D:$D,'Data BG'!$J76,Mapping!G:G)+SUMIF(Mapping!$B:$B,'Data BG'!$M76,Mapping!G:G)+SUMIF(Mapping!$C:$C,'Data BG'!$M76,Mapping!G:G)+SUMIF(Mapping!$D:$D,'Data BG'!$M76,Mapping!G:G)+SUMIF(Mapping!$B:$B,$N76,Mapping!G:G)+SUMIF(Mapping!$C:$C,$N76,Mapping!G:G)+SUMIF(Mapping!$D:$D,$N76,Mapping!G:G)+SUMIF(Mapping!$B:$B,'Data BG'!$K76,Mapping!G:G)+SUMIF(Mapping!$C:$C,'Data BG'!$K76,Mapping!G:G)+SUMIF(Mapping!$D:$D,'Data BG'!$K76,Mapping!G:G)+SUMIF(Mapping!$B:$B,'Data BG'!$L76,Mapping!G:G)+SUMIF(Mapping!$C:$C,'Data BG'!$L76,Mapping!G:G)+SUMIF(Mapping!$D:$D,'Data BG'!$L76,Mapping!G:G)","v":0},{"$f":"SUMIF(Mapping!$B:$B,'Data BG'!$A76,Mapping!H:H)+SUMIF(Mapping!$C:$C,'Data BG'!$A76,Mapping!H:H)+SUMIF(Mapping!$D:$D,'Data BG'!$A76,Mapping!H:H)+SUMIF(Mapping!$B:$B,'Data BG'!$B76,Mapping!H:H)+SUMIF(Mapping!$C:$C,'Data BG'!$B76,Mapping!H:H)+SUMIF(Mapping!$D:$D,'Data BG'!$B76,Mapping!H:H)+SUMIF(Mapping!$B:$B,'Data BG'!$C76,Mapping!H:H)+SUMIF(Mapping!$C:$C,'Data BG'!$C76,Mapping!H:H)+SUMIF(Mapping!$D:$D,'Data BG'!$C76,Mapping!H:H)+SUMIF(Mapping!$B:$B,'Data BG'!$D76,Mapping!H:H)+SUMIF(Mapping!$C:$C,'Data BG'!$D76,Mapping!H:H)+SUMIF(Mapping!$D:$D,'Data BG'!$D76,Mapping!H:H)+SUMIF(Mapping!$B:$B,'Data BG'!$E76,Mapping!H:H)+SUMIF(Mapping!$C:$C,'Data BG'!$E76,Mapping!H:H)+SUMIF(Mapping!$D:$D,'Data BG'!$E76,Mapping!H:H)+SUMIF(Mapping!$B:$B,'Data BG'!$F76,Mapping!H:H)+SUMIF(Mapping!$C:$C,'Data BG'!$F76,Mapping!H:H)+SUMIF(Mapping!$D:$D,'Data BG'!$F76,Mapping!H:H)+SUMIF(Mapping!$B:$B,'Data BG'!$G76,Mapping!H:H)+SUMIF(Mapping!$C:$C,'Data BG'!$G76,Mapping!H:H)+SUMIF(Mapping!$D:$D,'Data BG'!$G76,Mapping!H:H)+SUMIF(Mapping!$B:$B,'Data BG'!$H76,Mapping!H:H)+SUMIF(Mapping!$C:$C,'Data BG'!$H76,Mapping!H:H)+SUMIF(Mapping!$D:$D,'Data BG'!$H76,Mapping!H:H)+SUMIF(Mapping!$B:$B,'Data BG'!$I76,Mapping!H:H)+SUMIF(Mapping!$C:$C,'Data BG'!$I76,Mapping!H:H)+SUMIF(Mapping!$D:$D,'Data BG'!$I76,Mapping!H:H)+SUMIF(Mapping!$B:$B,'Data BG'!$J76,Mapping!H:H)+SUMIF(Mapping!$C:$C,'Data BG'!$J76,Mapping!H:H)+SUMIF(Mapping!$D:$D,'Data BG'!$J76,Mapping!H:H)+SUMIF(Mapping!$B:$B,'Data BG'!$M76,Mapping!H:H)+SUMIF(Mapping!$C:$C,'Data BG'!$M76,Mapping!H:H)+SUMIF(Mapping!$D:$D,'Data BG'!$M76,Mapping!H:H)+SUMIF(Mapping!$B:$B,$N76,Mapping!H:H)+SUMIF(Mapping!$C:$C,$N76,Mapping!H:H)+SUMIF(Mapping!$D:$D,$N76,Mapping!H:H)+SUMIF(Mapping!$B:$B,'Data BG'!$K76,Mapping!H:H)+SUMIF(Mapping!$C:$C,'Data BG'!$K76,Mapping!H:H)+SUMIF(Mapping!$D:$D,'Data BG'!$K76,Mapping!H:H)+SUMIF(Mapping!$B:$B,'Data BG'!$L76,Mapping!H:H)+SUMIF(Mapping!$C:$C,'Data BG'!$L76,Mapping!H:H)+SUMIF(Mapping!$D:$D,'Data BG'!$L76,Mapping!H:H)","v":0}]
[null,null,null,null,null,null,null,null,null,null,null,null,null,null,null,null,null,"Aides publiques "]
[741,null,null,null,null,null,null,null,null,null,null,null,null,null,null,null,null,"Aide publique 1ère fraction ",{"$f":"SUMIF(Mapping!$B:$B,'Data BG'!$A78,Mapping!G:G)+SUMIF(Mapping!$C:$C,'Data BG'!$A78,Mapping!G:G)+SUMIF(Mapping!$D:$D,'Data BG'!$A78,Mapping!G:G)+SUMIF(Mapping!$B:$B,'Data BG'!$B78,Mapping!G:G)+SUMIF(Mapping!$C:$C,'Data BG'!$B78,Mapping!G:G)+SUMIF(Mapping!$D:$D,'Data BG'!$B78,Mapping!G:G)+SUMIF(Mapping!$B:$B,'Data BG'!$C78,Mapping!G:G)+SUMIF(Mapping!$C:$C,'Data BG'!$C78,Mapping!G:G)+SUMIF(Mapping!$D:$D,'Data BG'!$C78,Mapping!G:G)+SUMIF(Mapping!$B:$B,'Data BG'!$D78,Mapping!G:G)+SUMIF(Mapping!$C:$C,'Data BG'!$D78,Mapping!G:G)+SUMIF(Mapping!$D:$D,'Data BG'!$D78,Mapping!G:G)+SUMIF(Mapping!$B:$B,'Data BG'!$E78,Mapping!G:G)+SUMIF(Mapping!$C:$C,'Data BG'!$E78,Mapping!G:G)+SUMIF(Mapping!$D:$D,'Data BG'!$E78,Mapping!G:G)+SUMIF(Mapping!$B:$B,'Data BG'!$F78,Mapping!G:G)+SUMIF(Mapping!$C:$C,'Data BG'!$F78,Mapping!G:G)+SUMIF(Mapping!$D:$D,'Data BG'!$F78,Mapping!G:G)+SUMIF(Mapping!$B:$B,'Data BG'!$G78,Mapping!G:G)+SUMIF(Mapping!$C:$C,'Data BG'!$G78,Mapping!G:G)+SUMIF(Mapping!$D:$D,'Data BG'!$G78,Mapping!G:G)+SUMIF(Mapping!$B:$B,'Data BG'!$H78,Mapping!G:G)+SUMIF(Mapping!$C:$C,'Data BG'!$H78,Mapping!G:G)+SUMIF(Mapping!$D:$D,'Data BG'!$H78,Mapping!G:G)+SUMIF(Mapping!$B:$B,'Data BG'!$I78,Mapping!G:G)+SUMIF(Mapping!$C:$C,'Data BG'!$I78,Mapping!G:G)+SUMIF(Mapping!$D:$D,'Data BG'!$I78,Mapping!G:G)+SUMIF(Mapping!$B:$B,'Data BG'!$J78,Mapping!G:G)+SUMIF(Mapping!$C:$C,'Data BG'!$J78,Mapping!G:G)+SUMIF(Mapping!$D:$D,'Data BG'!$J78,Mapping!G:G)+SUMIF(Mapping!$B:$B,'Data BG'!$M78,Mapping!G:G)+SUMIF(Mapping!$C:$C,'Data BG'!$M78,Mapping!G:G)+SUMIF(Mapping!$D:$D,'Data BG'!$M78,Mapping!G:G)+SUMIF(Mapping!$B:$B,$N78,Mapping!G:G)+SUMIF(Mapping!$C:$C,$N78,Mapping!G:G)+SUMIF(Mapping!$D:$D,$N78,Mapping!G:G)+SUMIF(Mapping!$B:$B,'Data BG'!$K78,Mapping!G:G)+SUMIF(Mapping!$C:$C,'Data BG'!$K78,Mapping!G:G)+SUMIF(Mapping!$D:$D,'Data BG'!$K78,Mapping!G:G)+SUMIF(Mapping!$B:$B,'Data BG'!$L78,Mapping!G:G)+SUMIF(Mapping!$C:$C,'Data BG'!$L78,Mapping!G:G)+SUMIF(Mapping!$D:$D,'Data BG'!$L78,Mapping!G:G)","v":0},{"$f":"SUMIF(Mapping!$B:$B,'Data BG'!$A78,Mapping!H:H)+SUMIF(Mapping!$C:$C,'Data BG'!$A78,Mapping!H:H)+SUMIF(Mapping!$D:$D,'Data BG'!$A78,Mapping!H:H)+SUMIF(Mapping!$B:$B,'Data BG'!$B78,Mapping!H:H)+SUMIF(Mapping!$C:$C,'Data BG'!$B78,Mapping!H:H)+SUMIF(Mapping!$D:$D,'Data BG'!$B78,Mapping!H:H)+SUMIF(Mapping!$B:$B,'Data BG'!$C78,Mapping!H:H)+SUMIF(Mapping!$C:$C,'Data BG'!$C78,Mapping!H:H)+SUMIF(Mapping!$D:$D,'Data BG'!$C78,Mapping!H:H)+SUMIF(Mapping!$B:$B,'Data BG'!$D78,Mapping!H:H)+SUMIF(Mapping!$C:$C,'Data BG'!$D78,Mapping!H:H)+SUMIF(Mapping!$D:$D,'Data BG'!$D78,Mapping!H:H)+SUMIF(Mapping!$B:$B,'Data BG'!$E78,Mapping!H:H)+SUMIF(Mapping!$C:$C,'Data BG'!$E78,Mapping!H:H)+SUMIF(Mapping!$D:$D,'Data BG'!$E78,Mapping!H:H)+SUMIF(Mapping!$B:$B,'Data BG'!$F78,Mapping!H:H)+SUMIF(Mapping!$C:$C,'Data BG'!$F78,Mapping!H:H)+SUMIF(Mapping!$D:$D,'Data BG'!$F78,Mapping!H:H)+SUMIF(Mapping!$B:$B,'Data BG'!$G78,Mapping!H:H)+SUMIF(Mapping!$C:$C,'Data BG'!$G78,Mapping!H:H)+SUMIF(Mapping!$D:$D,'Data BG'!$G78,Mapping!H:H)+SUMIF(Mapping!$B:$B,'Data BG'!$H78,Mapping!H:H)+SUMIF(Mapping!$C:$C,'Data BG'!$H78,Mapping!H:H)+SUMIF(Mapping!$D:$D,'Data BG'!$H78,Mapping!H:H)+SUMIF(Mapping!$B:$B,'Data BG'!$I78,Mapping!H:H)+SUMIF(Mapping!$C:$C,'Data BG'!$I78,Mapping!H:H)+SUMIF(Mapping!$D:$D,'Data BG'!$I78,Mapping!H:H)+SUMIF(Mapping!$B:$B,'Data BG'!$J78,Mapping!H:H)+SUMIF(Mapping!$C:$C,'Data BG'!$J78,Mapping!H:H)+SUMIF(Mapping!$D:$D,'Data BG'!$J78,Mapping!H:H)+SUMIF(Mapping!$B:$B,'Data BG'!$M78,Mapping!H:H)+SUMIF(Mapping!$C:$C,'Data BG'!$M78,Mapping!H:H)+SUMIF(Mapping!$D:$D,'Data BG'!$M78,Mapping!H:H)+SUMIF(Mapping!$B:$B,$N78,Mapping!H:H)+SUMIF(Mapping!$C:$C,$N78,Mapping!H:H)+SUMIF(Mapping!$D:$D,$N78,Mapping!H:H)+SUMIF(Mapping!$B:$B,'Data BG'!$K78,Mapping!H:H)+SUMIF(Mapping!$C:$C,'Data BG'!$K78,Mapping!H:H)+SUMIF(Mapping!$D:$D,'Data BG'!$K78,Mapping!H:H)+SUMIF(Mapping!$B:$B,'Data BG'!$L78,Mapping!H:H)+SUMIF(Mapping!$C:$C,'Data BG'!$L78,Mapping!H:H)+SUMIF(Mapping!$D:$D,'Data BG'!$L78,Mapping!H:H)","v":0}]
[742,null,null,null,null,null,null,null,null,null,null,null,null,null,null,null,null,"Aide publique 2ème fraction ",{"$f":"SUMIF(Mapping!$B:$B,'Data BG'!$A79,Mapping!G:G)+SUMIF(Mapping!$C:$C,'Data BG'!$A79,Mapping!G:G)+SUMIF(Mapping!$D:$D,'Data BG'!$A79,Mapping!G:G)+SUMIF(Mapping!$B:$B,'Data BG'!$B79,Mapping!G:G)+SUMIF(Mapping!$C:$C,'Data BG'!$B79,Mapping!G:G)+SUMIF(Mapping!$D:$D,'Data BG'!$B79,Mapping!G:G)+SUMIF(Mapping!$B:$B,'Data BG'!$C79,Mapping!G:G)+SUMIF(Mapping!$C:$C,'Data BG'!$C79,Mapping!G:G)+SUMIF(Mapping!$D:$D,'Data BG'!$C79,Mapping!G:G)+SUMIF(Mapping!$B:$B,'Data BG'!$D79,Mapping!G:G)+SUMIF(Mapping!$C:$C,'Data BG'!$D79,Mapping!G:G)+SUMIF(Mapping!$D:$D,'Data BG'!$D79,Mapping!G:G)+SUMIF(Mapping!$B:$B,'Data BG'!$E79,Mapping!G:G)+SUMIF(Mapping!$C:$C,'Data BG'!$E79,Mapping!G:G)+SUMIF(Mapping!$D:$D,'Data BG'!$E79,Mapping!G:G)+SUMIF(Mapping!$B:$B,'Data BG'!$F79,Mapping!G:G)+SUMIF(Mapping!$C:$C,'Data BG'!$F79,Mapping!G:G)+SUMIF(Mapping!$D:$D,'Data BG'!$F79,Mapping!G:G)+SUMIF(Mapping!$B:$B,'Data BG'!$G79,Mapping!G:G)+SUMIF(Mapping!$C:$C,'Data BG'!$G79,Mapping!G:G)+SUMIF(Mapping!$D:$D,'Data BG'!$G79,Mapping!G:G)+SUMIF(Mapping!$B:$B,'Data BG'!$H79,Mapping!G:G)+SUMIF(Mapping!$C:$C,'Data BG'!$H79,Mapping!G:G)+SUMIF(Mapping!$D:$D,'Data BG'!$H79,Mapping!G:G)+SUMIF(Mapping!$B:$B,'Data BG'!$I79,Mapping!G:G)+SUMIF(Mapping!$C:$C,'Data BG'!$I79,Mapping!G:G)+SUMIF(Mapping!$D:$D,'Data BG'!$I79,Mapping!G:G)+SUMIF(Mapping!$B:$B,'Data BG'!$J79,Mapping!G:G)+SUMIF(Mapping!$C:$C,'Data BG'!$J79,Mapping!G:G)+SUMIF(Mapping!$D:$D,'Data BG'!$J79,Mapping!G:G)+SUMIF(Mapping!$B:$B,'Data BG'!$M79,Mapping!G:G)+SUMIF(Mapping!$C:$C,'Data BG'!$M79,Mapping!G:G)+SUMIF(Mapping!$D:$D,'Data BG'!$M79,Mapping!G:G)+SUMIF(Mapping!$B:$B,$N79,Mapping!G:G)+SUMIF(Mapping!$C:$C,$N79,Mapping!G:G)+SUMIF(Mapping!$D:$D,$N79,Mapping!G:G)+SUMIF(Mapping!$B:$B,'Data BG'!$K79,Mapping!G:G)+SUMIF(Mapping!$C:$C,'Data BG'!$K79,Mapping!G:G)+SUMIF(Mapping!$D:$D,'Data BG'!$K79,Mapping!G:G)+SUMIF(Mapping!$B:$B,'Data BG'!$L79,Mapping!G:G)+SUMIF(Mapping!$C:$C,'Data BG'!$L79,Mapping!G:G)+SUMIF(Mapping!$D:$D,'Data BG'!$L79,Mapping!G:G)","v":0},{"$f":"SUMIF(Mapping!$B:$B,'Data BG'!$A79,Mapping!H:H)+SUMIF(Mapping!$C:$C,'Data BG'!$A79,Mapping!H:H)+SUMIF(Mapping!$D:$D,'Data BG'!$A79,Mapping!H:H)+SUMIF(Mapping!$B:$B,'Data BG'!$B79,Mapping!H:H)+SUMIF(Mapping!$C:$C,'Data BG'!$B79,Mapping!H:H)+SUMIF(Mapping!$D:$D,'Data BG'!$B79,Mapping!H:H)+SUMIF(Mapping!$B:$B,'Data BG'!$C79,Mapping!H:H)+SUMIF(Mapping!$C:$C,'Data BG'!$C79,Mapping!H:H)+SUMIF(Mapping!$D:$D,'Data BG'!$C79,Mapping!H:H)+SUMIF(Mapping!$B:$B,'Data BG'!$D79,Mapping!H:H)+SUMIF(Mapping!$C:$C,'Data BG'!$D79,Mapping!H:H)+SUMIF(Mapping!$D:$D,'Data BG'!$D79,Mapping!H:H)+SUMIF(Mapping!$B:$B,'Data BG'!$E79,Mapping!H:H)+SUMIF(Mapping!$C:$C,'Data BG'!$E79,Mapping!H:H)+SUMIF(Mapping!$D:$D,'Data BG'!$E79,Mapping!H:H)+SUMIF(Mapping!$B:$B,'Data BG'!$F79,Mapping!H:H)+SUMIF(Mapping!$C:$C,'Data BG'!$F79,Mapping!H:H)+SUMIF(Mapping!$D:$D,'Data BG'!$F79,Mapping!H:H)+SUMIF(Mapping!$B:$B,'Data BG'!$G79,Mapping!H:H)+SUMIF(Mapping!$C:$C,'Data BG'!$G79,Mapping!H:H)+SUMIF(Mapping!$D:$D,'Data BG'!$G79,Mapping!H:H)+SUMIF(Mapping!$B:$B,'Data BG'!$H79,Mapping!H:H)+SUMIF(Mapping!$C:$C,'Data BG'!$H79,Mapping!H:H)+SUMIF(Mapping!$D:$D,'Data BG'!$H79,Mapping!H:H)+SUMIF(Mapping!$B:$B,'Data BG'!$I79,Mapping!H:H)+SUMIF(Mapping!$C:$C,'Data BG'!$I79,Mapping!H:H)+SUMIF(Mapping!$D:$D,'Data BG'!$I79,Mapping!H:H)+SUMIF(Mapping!$B:$B,'Data BG'!$J79,Mapping!H:H)+SUMIF(Mapping!$C:$C,'Data BG'!$J79,Mapping!H:H)+SUMIF(Mapping!$D:$D,'Data BG'!$J79,Mapping!H:H)+SUMIF(Mapping!$B:$B,'Data BG'!$M79,Mapping!H:H)+SUMIF(Mapping!$C:$C,'Data BG'!$M79,Mapping!H:H)+SUMIF(Mapping!$D:$D,'Data BG'!$M79,Mapping!H:H)+SUMIF(Mapping!$B:$B,$N79,Mapping!H:H)+SUMIF(Mapping!$C:$C,$N79,Mapping!H:H)+SUMIF(Mapping!$D:$D,$N79,Mapping!H:H)+SUMIF(Mapping!$B:$B,'Data BG'!$K79,Mapping!H:H)+SUMIF(Mapping!$C:$C,'Data BG'!$K79,Mapping!H:H)+SUMIF(Mapping!$D:$D,'Data BG'!$K79,Mapping!H:H)+SUMIF(Mapping!$B:$B,'Data BG'!$L79,Mapping!H:H)+SUMIF(Mapping!$C:$C,'Data BG'!$L79,Mapping!H:H)+SUMIF(Mapping!$D:$D,'Data BG'!$L79,Mapping!H:H)","v":0}]
[748,null,null,null,null,null,null,null,null,null,null,null,null,null,null,null,null,"Autres aides publiques ",{"$f":"SUMIF(Mapping!$B:$B,'Data BG'!$A80,Mapping!G:G)+SUMIF(Mapping!$C:$C,'Data BG'!$A80,Mapping!G:G)+SUMIF(Mapping!$D:$D,'Data BG'!$A80,Mapping!G:G)+SUMIF(Mapping!$B:$B,'Data BG'!$B80,Mapping!G:G)+SUMIF(Mapping!$C:$C,'Data BG'!$B80,Mapping!G:G)+SUMIF(Mapping!$D:$D,'Data BG'!$B80,Mapping!G:G)+SUMIF(Mapping!$B:$B,'Data BG'!$C80,Mapping!G:G)+SUMIF(Mapping!$C:$C,'Data BG'!$C80,Mapping!G:G)+SUMIF(Mapping!$D:$D,'Data BG'!$C80,Mapping!G:G)+SUMIF(Mapping!$B:$B,'Data BG'!$D80,Mapping!G:G)+SUMIF(Mapping!$C:$C,'Data BG'!$D80,Mapping!G:G)+SUMIF(Mapping!$D:$D,'Data BG'!$D80,Mapping!G:G)+SUMIF(Mapping!$B:$B,'Data BG'!$E80,Mapping!G:G)+SUMIF(Mapping!$C:$C,'Data BG'!$E80,Mapping!G:G)+SUMIF(Mapping!$D:$D,'Data BG'!$E80,Mapping!G:G)+SUMIF(Mapping!$B:$B,'Data BG'!$F80,Mapping!G:G)+SUMIF(Mapping!$C:$C,'Data BG'!$F80,Mapping!G:G)+SUMIF(Mapping!$D:$D,'Data BG'!$F80,Mapping!G:G)+SUMIF(Mapping!$B:$B,'Data BG'!$G80,Mapping!G:G)+SUMIF(Mapping!$C:$C,'Data BG'!$G80,Mapping!G:G)+SUMIF(Mapping!$D:$D,'Data BG'!$G80,Mapping!G:G)+SUMIF(Mapping!$B:$B,'Data BG'!$H80,Mapping!G:G)+SUMIF(Mapping!$C:$C,'Data BG'!$H80,Mapping!G:G)+SUMIF(Mapping!$D:$D,'Data BG'!$H80,Mapping!G:G)+SUMIF(Mapping!$B:$B,'Data BG'!$I80,Mapping!G:G)+SUMIF(Mapping!$C:$C,'Data BG'!$I80,Mapping!G:G)+SUMIF(Mapping!$D:$D,'Data BG'!$I80,Mapping!G:G)+SUMIF(Mapping!$B:$B,'Data BG'!$J80,Mapping!G:G)+SUMIF(Mapping!$C:$C,'Data BG'!$J80,Mapping!G:G)+SUMIF(Mapping!$D:$D,'Data BG'!$J80,Mapping!G:G)+SUMIF(Mapping!$B:$B,'Data BG'!$M80,Mapping!G:G)+SUMIF(Mapping!$C:$C,'Data BG'!$M80,Mapping!G:G)+SUMIF(Mapping!$D:$D,'Data BG'!$M80,Mapping!G:G)+SUMIF(Mapping!$B:$B,$N80,Mapping!G:G)+SUMIF(Mapping!$C:$C,$N80,Mapping!G:G)+SUMIF(Mapping!$D:$D,$N80,Mapping!G:G)+SUMIF(Mapping!$B:$B,'Data BG'!$K80,Mapping!G:G)+SUMIF(Mapping!$C:$C,'Data BG'!$K80,Mapping!G:G)+SUMIF(Mapping!$D:$D,'Data BG'!$K80,Mapping!G:G)+SUMIF(Mapping!$B:$B,'Data BG'!$L80,Mapping!G:G)+SUMIF(Mapping!$C:$C,'Data BG'!$L80,Mapping!G:G)+SUMIF(Mapping!$D:$D,'Data BG'!$L80,Mapping!G:G)","v":0},{"$f":"SUMIF(Mapping!$B:$B,'Data BG'!$A80,Mapping!H:H)+SUMIF(Mapping!$C:$C,'Data BG'!$A80,Mapping!H:H)+SUMIF(Mapping!$D:$D,'Data BG'!$A80,Mapping!H:H)+SUMIF(Mapping!$B:$B,'Data BG'!$B80,Mapping!H:H)+SUMIF(Mapping!$C:$C,'Data BG'!$B80,Mapping!H:H)+SUMIF(Mapping!$D:$D,'Data BG'!$B80,Mapping!H:H)+SUMIF(Mapping!$B:$B,'Data BG'!$C80,Mapping!H:H)+SUMIF(Mapping!$C:$C,'Data BG'!$C80,Mapping!H:H)+SUMIF(Mapping!$D:$D,'Data BG'!$C80,Mapping!H:H)+SUMIF(Mapping!$B:$B,'Data BG'!$D80,Mapping!H:H)+SUMIF(Mapping!$C:$C,'Data BG'!$D80,Mapping!H:H)+SUMIF(Mapping!$D:$D,'Data BG'!$D80,Mapping!H:H)+SUMIF(Mapping!$B:$B,'Data BG'!$E80,Mapping!H:H)+SUMIF(Mapping!$C:$C,'Data BG'!$E80,Mapping!H:H)+SUMIF(Mapping!$D:$D,'Data BG'!$E80,Mapping!H:H)+SUMIF(Mapping!$B:$B,'Data BG'!$F80,Mapping!H:H)+SUMIF(Mapping!$C:$C,'Data BG'!$F80,Mapping!H:H)+SUMIF(Mapping!$D:$D,'Data BG'!$F80,Mapping!H:H)+SUMIF(Mapping!$B:$B,'Data BG'!$G80,Mapping!H:H)+SUMIF(Mapping!$C:$C,'Data BG'!$G80,Mapping!H:H)+SUMIF(Mapping!$D:$D,'Data BG'!$G80,Mapping!H:H)+SUMIF(Mapping!$B:$B,'Data BG'!$H80,Mapping!H:H)+SUMIF(Mapping!$C:$C,'Data BG'!$H80,Mapping!H:H)+SUMIF(Mapping!$D:$D,'Data BG'!$H80,Mapping!H:H)+SUMIF(Mapping!$B:$B,'Data BG'!$I80,Mapping!H:H)+SUMIF(Mapping!$C:$C,'Data BG'!$I80,Mapping!H:H)+SUMIF(Mapping!$D:$D,'Data BG'!$I80,Mapping!H:H)+SUMIF(Mapping!$B:$B,'Data BG'!$J80,Mapping!H:H)+SUMIF(Mapping!$C:$C,'Data BG'!$J80,Mapping!H:H)+SUMIF(Mapping!$D:$D,'Data BG'!$J80,Mapping!H:H)+SUMIF(Mapping!$B:$B,'Data BG'!$M80,Mapping!H:H)+SUMIF(Mapping!$C:$C,'Data BG'!$M80,Mapping!H:H)+SUMIF(Mapping!$D:$D,'Data BG'!$M80,Mapping!H:H)+SUMIF(Mapping!$B:$B,$N80,Mapping!H:H)+SUMIF(Mapping!$C:$C,$N80,Mapping!H:H)+SUMIF(Mapping!$D:$D,$N80,Mapping!H:H)+SUMIF(Mapping!$B:$B,'Data BG'!$K80,Mapping!H:H)+SUMIF(Mapping!$C:$C,'Data BG'!$K80,Mapping!H:H)+SUMIF(Mapping!$D:$D,'Data BG'!$K80,Mapping!H:H)+SUMIF(Mapping!$B:$B,'Data BG'!$L80,Mapping!H:H)+SUMIF(Mapping!$C:$C,'Data BG'!$L80,Mapping!H:H)+SUMIF(Mapping!$D:$D,'Data BG'!$L80,Mapping!H:H)","v":0}]
[7540,7541,7542,null,null,null,null,null,null,null,null,null,null,null,null,null,null,"Dons de personnes physiques ",{"$f":"SUMIF(Mapping!$B:$B,'Data BG'!$A81,Mapping!G:G)+SUMIF(Mapping!$C:$C,'Data BG'!$A81,Mapping!G:G)+SUMIF(Mapping!$D:$D,'Data BG'!$A81,Mapping!G:G)+SUMIF(Mapping!$B:$B,'Data BG'!$B81,Mapping!G:G)+SUMIF(Mapping!$C:$C,'Data BG'!$B81,Mapping!G:G)+SUMIF(Mapping!$D:$D,'Data BG'!$B81,Mapping!G:G)+SUMIF(Mapping!$B:$B,'Data BG'!$C81,Mapping!G:G)+SUMIF(Mapping!$C:$C,'Data BG'!$C81,Mapping!G:G)+SUMIF(Mapping!$D:$D,'Data BG'!$C81,Mapping!G:G)+SUMIF(Mapping!$B:$B,'Data BG'!$D81,Mapping!G:G)+SUMIF(Mapping!$C:$C,'Data BG'!$D81,Mapping!G:G)+SUMIF(Mapping!$D:$D,'Data BG'!$D81,Mapping!G:G)+SUMIF(Mapping!$B:$B,'Data BG'!$E81,Mapping!G:G)+SUMIF(Mapping!$C:$C,'Data BG'!$E81,Mapping!G:G)+SUMIF(Mapping!$D:$D,'Data BG'!$E81,Mapping!G:G)+SUMIF(Mapping!$B:$B,'Data BG'!$F81,Mapping!G:G)+SUMIF(Mapping!$C:$C,'Data BG'!$F81,Mapping!G:G)+SUMIF(Mapping!$D:$D,'Data BG'!$F81,Mapping!G:G)+SUMIF(Mapping!$B:$B,'Data BG'!$G81,Mapping!G:G)+SUMIF(Mapping!$C:$C,'Data BG'!$G81,Mapping!G:G)+SUMIF(Mapping!$D:$D,'Data BG'!$G81,Mapping!G:G)+SUMIF(Mapping!$B:$B,'Data BG'!$H81,Mapping!G:G)+SUMIF(Mapping!$C:$C,'Data BG'!$H81,Mapping!G:G)+SUMIF(Mapping!$D:$D,'Data BG'!$H81,Mapping!G:G)+SUMIF(Mapping!$B:$B,'Data BG'!$I81,Mapping!G:G)+SUMIF(Mapping!$C:$C,'Data BG'!$I81,Mapping!G:G)+SUMIF(Mapping!$D:$D,'Data BG'!$I81,Mapping!G:G)+SUMIF(Mapping!$B:$B,'Data BG'!$J81,Mapping!G:G)+SUMIF(Mapping!$C:$C,'Data BG'!$J81,Mapping!G:G)+SUMIF(Mapping!$D:$D,'Data BG'!$J81,Mapping!G:G)+SUMIF(Mapping!$B:$B,'Data BG'!$M81,Mapping!G:G)+SUMIF(Mapping!$C:$C,'Data BG'!$M81,Mapping!G:G)+SUMIF(Mapping!$D:$D,'Data BG'!$M81,Mapping!G:G)+SUMIF(Mapping!$B:$B,$N81,Mapping!G:G)+SUMIF(Mapping!$C:$C,$N81,Mapping!G:G)+SUMIF(Mapping!$D:$D,$N81,Mapping!G:G)+SUMIF(Mapping!$B:$B,'Data BG'!$K81,Mapping!G:G)+SUMIF(Mapping!$C:$C,'Data BG'!$K81,Mapping!G:G)+SUMIF(Mapping!$D:$D,'Data BG'!$K81,Mapping!G:G)+SUMIF(Mapping!$B:$B,'Data BG'!$L81,Mapping!G:G)+SUMIF(Mapping!$C:$C,'Data BG'!$L81,Mapping!G:G)+SUMIF(Mapping!$D:$D,'Data BG'!$L81,Mapping!G:G)","v":0},{"$f":"SUMIF(Mapping!$B:$B,'Data BG'!$A81,Mapping!H:H)+SUMIF(Mapping!$C:$C,'Data BG'!$A81,Mapping!H:H)+SUMIF(Mapping!$D:$D,'Data BG'!$A81,Mapping!H:H)+SUMIF(Mapping!$B:$B,'Data BG'!$B81,Mapping!H:H)+SUMIF(Mapping!$C:$C,'Data BG'!$B81,Mapping!H:H)+SUMIF(Mapping!$D:$D,'Data BG'!$B81,Mapping!H:H)+SUMIF(Mapping!$B:$B,'Data BG'!$C81,Mapping!H:H)+SUMIF(Mapping!$C:$C,'Data BG'!$C81,Mapping!H:H)+SUMIF(Mapping!$D:$D,'Data BG'!$C81,Mapping!H:H)+SUMIF(Mapping!$B:$B,'Data BG'!$D81,Mapping!H:H)+SUMIF(Mapping!$C:$C,'Data BG'!$D81,Mapping!H:H)+SUMIF(Mapping!$D:$D,'Data BG'!$D81,Mapping!H:H)+SUMIF(Mapping!$B:$B,'Data BG'!$E81,Mapping!H:H)+SUMIF(Mapping!$C:$C,'Data BG'!$E81,Mapping!H:H)+SUMIF(Mapping!$D:$D,'Data BG'!$E81,Mapping!H:H)+SUMIF(Mapping!$B:$B,'Data BG'!$F81,Mapping!H:H)+SUMIF(Mapping!$C:$C,'Data BG'!$F81,Mapping!H:H)+SUMIF(Mapping!$D:$D,'Data BG'!$F81,Mapping!H:H)+SUMIF(Mapping!$B:$B,'Data BG'!$G81,Mapping!H:H)+SUMIF(Mapping!$C:$C,'Data BG'!$G81,Mapping!H:H)+SUMIF(Mapping!$D:$D,'Data BG'!$G81,Mapping!H:H)+SUMIF(Mapping!$B:$B,'Data BG'!$H81,Mapping!H:H)+SUMIF(Mapping!$C:$C,'Data BG'!$H81,Mapping!H:H)+SUMIF(Mapping!$D:$D,'Data BG'!$H81,Mapping!H:H)+SUMIF(Mapping!$B:$B,'Data BG'!$I81,Mapping!H:H)+SUMIF(Mapping!$C:$C,'Data BG'!$I81,Mapping!H:H)+SUMIF(Mapping!$D:$D,'Data BG'!$I81,Mapping!H:H)+SUMIF(Mapping!$B:$B,'Data BG'!$J81,Mapping!H:H)+SUMIF(Mapping!$C:$C,'Data BG'!$J81,Mapping!H:H)+SUMIF(Mapping!$D:$D,'Data BG'!$J81,Mapping!H:H)+SUMIF(Mapping!$B:$B,'Data BG'!$M81,Mapping!H:H)+SUMIF(Mapping!$C:$C,'Data BG'!$M81,Mapping!H:H)+SUMIF(Mapping!$D:$D,'Data BG'!$M81,Mapping!H:H)+SUMIF(Mapping!$B:$B,$N81,Mapping!H:H)+SUMIF(Mapping!$C:$C,$N81,Mapping!H:H)+SUMIF(Mapping!$D:$D,$N81,Mapping!H:H)+SUMIF(Mapping!$B:$B,'Data BG'!$K81,Mapping!H:H)+SUMIF(Mapping!$C:$C,'Data BG'!$K81,Mapping!H:H)+SUMIF(Mapping!$D:$D,'Data BG'!$K81,Mapping!H:H)+SUMIF(Mapping!$B:$B,'Data BG'!$L81,Mapping!H:H)+SUMIF(Mapping!$C:$C,'Data BG'!$L81,Mapping!H:H)+SUMIF(Mapping!$D:$D,'Data BG'!$L81,Mapping!H:H)","v":0}]
[7530,7531,null,null,null,null,null,null,null,null,null,null,null,null,null,null,null,"Dévolutions de l'excédent des comptes de campagne ",{"$f":"SUMIF(Mapping!$B:$B,'Data BG'!$A82,Mapping!G:G)+SUMIF(Mapping!$C:$C,'Data BG'!$A82,Mapping!G:G)+SUMIF(Mapping!$D:$D,'Data BG'!$A82,Mapping!G:G)+SUMIF(Mapping!$B:$B,'Data BG'!$B82,Mapping!G:G)+SUMIF(Mapping!$C:$C,'Data BG'!$B82,Mapping!G:G)+SUMIF(Mapping!$D:$D,'Data BG'!$B82,Mapping!G:G)+SUMIF(Mapping!$B:$B,'Data BG'!$C82,Mapping!G:G)+SUMIF(Mapping!$C:$C,'Data BG'!$C82,Mapping!G:G)+SUMIF(Mapping!$D:$D,'Data BG'!$C82,Mapping!G:G)+SUMIF(Mapping!$B:$B,'Data BG'!$D82,Mapping!G:G)+SUMIF(Mapping!$C:$C,'Data BG'!$D82,Mapping!G:G)+SUMIF(Mapping!$D:$D,'Data BG'!$D82,Mapping!G:G)+SUMIF(Mapping!$B:$B,'Data BG'!$E82,Mapping!G:G)+SUMIF(Mapping!$C:$C,'Data BG'!$E82,Mapping!G:G)+SUMIF(Mapping!$D:$D,'Data BG'!$E82,Mapping!G:G)+SUMIF(Mapping!$B:$B,'Data BG'!$F82,Mapping!G:G)+SUMIF(Mapping!$C:$C,'Data BG'!$F82,Mapping!G:G)+SUMIF(Mapping!$D:$D,'Data BG'!$F82,Mapping!G:G)+SUMIF(Mapping!$B:$B,'Data BG'!$G82,Mapping!G:G)+SUMIF(Mapping!$C:$C,'Data BG'!$G82,Mapping!G:G)+SUMIF(Mapping!$D:$D,'Data BG'!$G82,Mapping!G:G)+SUMIF(Mapping!$B:$B,'Data BG'!$H82,Mapping!G:G)+SUMIF(Mapping!$C:$C,'Data BG'!$H82,Mapping!G:G)+SUMIF(Mapping!$D:$D,'Data BG'!$H82,Mapping!G:G)+SUMIF(Mapping!$B:$B,'Data BG'!$I82,Mapping!G:G)+SUMIF(Mapping!$C:$C,'Data BG'!$I82,Mapping!G:G)+SUMIF(Mapping!$D:$D,'Data BG'!$I82,Mapping!G:G)+SUMIF(Mapping!$B:$B,'Data BG'!$J82,Mapping!G:G)+SUMIF(Mapping!$C:$C,'Data BG'!$J82,Mapping!G:G)+SUMIF(Mapping!$D:$D,'Data BG'!$J82,Mapping!G:G)+SUMIF(Mapping!$B:$B,'Data BG'!$M82,Mapping!G:G)+SUMIF(Mapping!$C:$C,'Data BG'!$M82,Mapping!G:G)+SUMIF(Mapping!$D:$D,'Data BG'!$M82,Mapping!G:G)+SUMIF(Mapping!$B:$B,$N82,Mapping!G:G)+SUMIF(Mapping!$C:$C,$N82,Mapping!G:G)+SUMIF(Mapping!$D:$D,$N82,Mapping!G:G)+SUMIF(Mapping!$B:$B,'Data BG'!$K82,Mapping!G:G)+SUMIF(Mapping!$C:$C,'Data BG'!$K82,Mapping!G:G)+SUMIF(Mapping!$D:$D,'Data BG'!$K82,Mapping!G:G)+SUMIF(Mapping!$B:$B,'Data BG'!$L82,Mapping!G:G)+SUMIF(Mapping!$C:$C,'Data BG'!$L82,Mapping!G:G)+SUMIF(Mapping!$D:$D,'Data BG'!$L82,Mapping!G:G)","v":0},{"$f":"SUMIF(Mapping!$B:$B,'Data BG'!$A82,Mapping!H:H)+SUMIF(Mapping!$C:$C,'Data BG'!$A82,Mapping!H:H)+SUMIF(Mapping!$D:$D,'Data BG'!$A82,Mapping!H:H)+SUMIF(Mapping!$B:$B,'Data BG'!$B82,Mapping!H:H)+SUMIF(Mapping!$C:$C,'Data BG'!$B82,Mapping!H:H)+SUMIF(Mapping!$D:$D,'Data BG'!$B82,Mapping!H:H)+SUMIF(Mapping!$B:$B,'Data BG'!$C82,Mapping!H:H)+SUMIF(Mapping!$C:$C,'Data BG'!$C82,Mapping!H:H)+SUMIF(Mapping!$D:$D,'Data BG'!$C82,Mapping!H:H)+SUMIF(Mapping!$B:$B,'Data BG'!$D82,Mapping!H:H)+SUMIF(Mapping!$C:$C,'Data BG'!$D82,Mapping!H:H)+SUMIF(Mapping!$D:$D,'Data BG'!$D82,Mapping!H:H)+SUMIF(Mapping!$B:$B,'Data BG'!$E82,Mapping!H:H)+SUMIF(Mapping!$C:$C,'Data BG'!$E82,Mapping!H:H)+SUMIF(Mapping!$D:$D,'Data BG'!$E82,Mapping!H:H)+SUMIF(Mapping!$B:$B,'Data BG'!$F82,Mapping!H:H)+SUMIF(Mapping!$C:$C,'Data BG'!$F82,Mapping!H:H)+SUMIF(Mapping!$D:$D,'Data BG'!$F82,Mapping!H:H)+SUMIF(Mapping!$B:$B,'Data BG'!$G82,Mapping!H:H)+SUMIF(Mapping!$C:$C,'Data BG'!$G82,Mapping!H:H)+SUMIF(Mapping!$D:$D,'Data BG'!$G82,Mapping!H:H)+SUMIF(Mapping!$B:$B,'Data BG'!$H82,Mapping!H:H)+SUMIF(Mapping!$C:$C,'Data BG'!$H82,Mapping!H:H)+SUMIF(Mapping!$D:$D,'Data BG'!$H82,Mapping!H:H)+SUMIF(Mapping!$B:$B,'Data BG'!$I82,Mapping!H:H)+SUMIF(Mapping!$C:$C,'Data BG'!$I82,Mapping!H:H)+SUMIF(Mapping!$D:$D,'Data BG'!$I82,Mapping!H:H)+SUMIF(Mapping!$B:$B,'Data BG'!$J82,Mapping!H:H)+SUMIF(Mapping!$C:$C,'Data BG'!$J82,Mapping!H:H)+SUMIF(Mapping!$D:$D,'Data BG'!$J82,Mapping!H:H)+SUMIF(Mapping!$B:$B,'Data BG'!$M82,Mapping!H:H)+SUMIF(Mapping!$C:$C,'Data BG'!$M82,Mapping!H:H)+SUMIF(Mapping!$D:$D,'Data BG'!$M82,Mapping!H:H)+SUMIF(Mapping!$B:$B,$N82,Mapping!H:H)+SUMIF(Mapping!$C:$C,$N82,Mapping!H:H)+SUMIF(Mapping!$D:$D,$N82,Mapping!H:H)+SUMIF(Mapping!$B:$B,'Data BG'!$K82,Mapping!H:H)+SUMIF(Mapping!$C:$C,'Data BG'!$K82,Mapping!H:H)+SUMIF(Mapping!$D:$D,'Data BG'!$K82,Mapping!H:H)+SUMIF(Mapping!$B:$B,'Data BG'!$L82,Mapping!H:H)+SUMIF(Mapping!$C:$C,'Data BG'!$L82,Mapping!H:H)+SUMIF(Mapping!$D:$D,'Data BG'!$L82,Mapping!H:H)","v":0}]
[7532,null,null,null,null,null,null,null,null,null,null,null,null,null,null,null,null,"Dévolutions de partis ou groupements politiques ",{"$f":"SUMIF(Mapping!$B:$B,'Data BG'!$A83,Mapping!G:G)+SUMIF(Mapping!$C:$C,'Data BG'!$A83,Mapping!G:G)+SUMIF(Mapping!$D:$D,'Data BG'!$A83,Mapping!G:G)+SUMIF(Mapping!$B:$B,'Data BG'!$B83,Mapping!G:G)+SUMIF(Mapping!$C:$C,'Data BG'!$B83,Mapping!G:G)+SUMIF(Mapping!$D:$D,'Data BG'!$B83,Mapping!G:G)+SUMIF(Mapping!$B:$B,'Data BG'!$C83,Mapping!G:G)+SUMIF(Mapping!$C:$C,'Data BG'!$C83,Mapping!G:G)+SUMIF(Mapping!$D:$D,'Data BG'!$C83,Mapping!G:G)+SUMIF(Mapping!$B:$B,'Data BG'!$D83,Mapping!G:G)+SUMIF(Mapping!$C:$C,'Data BG'!$D83,Mapping!G:G)+SUMIF(Mapping!$D:$D,'Data BG'!$D83,Mapping!G:G)+SUMIF(Mapping!$B:$B,'Data BG'!$E83,Mapping!G:G)+SUMIF(Mapping!$C:$C,'Data BG'!$E83,Mapping!G:G)+SUMIF(Mapping!$D:$D,'Data BG'!$E83,Mapping!G:G)+SUMIF(Mapping!$B:$B,'Data BG'!$F83,Mapping!G:G)+SUMIF(Mapping!$C:$C,'Data BG'!$F83,Mapping!G:G)+SUMIF(Mapping!$D:$D,'Data BG'!$F83,Mapping!G:G)+SUMIF(Mapping!$B:$B,'Data BG'!$G83,Mapping!G:G)+SUMIF(Mapping!$C:$C,'Data BG'!$G83,Mapping!G:G)+SUMIF(Mapping!$D:$D,'Data BG'!$G83,Mapping!G:G)+SUMIF(Mapping!$B:$B,'Data BG'!$H83,Mapping!G:G)+SUMIF(Mapping!$C:$C,'Data BG'!$H83,Mapping!G:G)+SUMIF(Mapping!$D:$D,'Data BG'!$H83,Mapping!G:G)+SUMIF(Mapping!$B:$B,'Data BG'!$I83,Mapping!G:G)+SUMIF(Mapping!$C:$C,'Data BG'!$I83,Mapping!G:G)+SUMIF(Mapping!$D:$D,'Data BG'!$I83,Mapping!G:G)+SUMIF(Mapping!$B:$B,'Data BG'!$J83,Mapping!G:G)+SUMIF(Mapping!$C:$C,'Data BG'!$J83,Mapping!G:G)+SUMIF(Mapping!$D:$D,'Data BG'!$J83,Mapping!G:G)+SUMIF(Mapping!$B:$B,'Data BG'!$M83,Mapping!G:G)+SUMIF(Mapping!$C:$C,'Data BG'!$M83,Mapping!G:G)+SUMIF(Mapping!$D:$D,'Data BG'!$M83,Mapping!G:G)+SUMIF(Mapping!$B:$B,$N83,Mapping!G:G)+SUMIF(Mapping!$C:$C,$N83,Mapping!G:G)+SUMIF(Mapping!$D:$D,$N83,Mapping!G:G)+SUMIF(Mapping!$B:$B,'Data BG'!$K83,Mapping!G:G)+SUMIF(Mapping!$C:$C,'Data BG'!$K83,Mapping!G:G)+SUMIF(Mapping!$D:$D,'Data BG'!$K83,Mapping!G:G)+SUMIF(Mapping!$B:$B,'Data BG'!$L83,Mapping!G:G)+SUMIF(Mapping!$C:$C,'Data BG'!$L83,Mapping!G:G)+SUMIF(Mapping!$D:$D,'Data BG'!$L83,Mapping!G:G)","v":0},{"$f":"SUMIF(Mapping!$B:$B,'Data BG'!$A83,Mapping!H:H)+SUMIF(Mapping!$C:$C,'Data BG'!$A83,Mapping!H:H)+SUMIF(Mapping!$D:$D,'Data BG'!$A83,Mapping!H:H)+SUMIF(Mapping!$B:$B,'Data BG'!$B83,Mapping!H:H)+SUMIF(Mapping!$C:$C,'Data BG'!$B83,Mapping!H:H)+SUMIF(Mapping!$D:$D,'Data BG'!$B83,Mapping!H:H)+SUMIF(Mapping!$B:$B,'Data BG'!$C83,Mapping!H:H)+SUMIF(Mapping!$C:$C,'Data BG'!$C83,Mapping!H:H)+SUMIF(Mapping!$D:$D,'Data BG'!$C83,Mapping!H:H)+SUMIF(Mapping!$B:$B,'Data BG'!$D83,Mapping!H:H)+SUMIF(Mapping!$C:$C,'Data BG'!$D83,Mapping!H:H)+SUMIF(Mapping!$D:$D,'Data BG'!$D83,Mapping!H:H)+SUMIF(Mapping!$B:$B,'Data BG'!$E83,Mapping!H:H)+SUMIF(Mapping!$C:$C,'Data BG'!$E83,Mapping!H:H)+SUMIF(Mapping!$D:$D,'Data BG'!$E83,Mapping!H:H)+SUMIF(Mapping!$B:$B,'Data BG'!$F83,Mapping!H:H)+SUMIF(Mapping!$C:$C,'Data BG'!$F83,Mapping!H:H)+SUMIF(Mapping!$D:$D,'Data BG'!$F83,Mapping!H:H)+SUMIF(Mapping!$B:$B,'Data BG'!$G83,Mapping!H:H)+SUMIF(Mapping!$C:$C,'Data BG'!$G83,Mapping!H:H)+SUMIF(Mapping!$D:$D,'Data BG'!$G83,Mapping!H:H)+SUMIF(Mapping!$B:$B,'Data BG'!$H83,Mapping!H:H)+SUMIF(Mapping!$C:$C,'Data BG'!$H83,Mapping!H:H)+SUMIF(Mapping!$D:$D,'Data BG'!$H83,Mapping!H:H)+SUMIF(Mapping!$B:$B,'Data BG'!$I83,Mapping!H:H)+SUMIF(Mapping!$C:$C,'Data BG'!$I83,Mapping!H:H)+SUMIF(Mapping!$D:$D,'Data BG'!$I83,Mapping!H:H)+SUMIF(Mapping!$B:$B,'Data BG'!$J83,Mapping!H:H)+SUMIF(Mapping!$C:$C,'Data BG'!$J83,Mapping!H:H)+SUMIF(Mapping!$D:$D,'Data BG'!$J83,Mapping!H:H)+SUMIF(Mapping!$B:$B,'Data BG'!$M83,Mapping!H:H)+SUMIF(Mapping!$C:$C,'Data BG'!$M83,Mapping!H:H)+SUMIF(Mapping!$D:$D,'Data BG'!$M83,Mapping!H:H)+SUMIF(Mapping!$B:$B,$N83,Mapping!H:H)+SUMIF(Mapping!$C:$C,$N83,Mapping!H:H)+SUMIF(Mapping!$D:$D,$N83,Mapping!H:H)+SUMIF(Mapping!$B:$B,'Data BG'!$K83,Mapping!H:H)+SUMIF(Mapping!$C:$C,'Data BG'!$K83,Mapping!H:H)+SUMIF(Mapping!$D:$D,'Data BG'!$K83,Mapping!H:H)+SUMIF(Mapping!$B:$B,'Data BG'!$L83,Mapping!H:H)+SUMIF(Mapping!$C:$C,'Data BG'!$L83,Mapping!H:H)+SUMIF(Mapping!$D:$D,'Data BG'!$L83,Mapping!H:H)","v":0}]
[7550,7552,7553,7554,null,null,null,null,null,null,null,null,null,null,null,null,null,"Contributions financières de partis ou groupements politiques ",{"$f":"SUMIF(Mapping!$B:$B,'Data BG'!$A84,Mapping!G:G)+SUMIF(Mapping!$C:$C,'Data BG'!$A84,Mapping!G:G)+SUMIF(Mapping!$D:$D,'Data BG'!$A84,Mapping!G:G)+SUMIF(Mapping!$B:$B,'Data BG'!$B84,Mapping!G:G)+SUMIF(Mapping!$C:$C,'Data BG'!$B84,Mapping!G:G)+SUMIF(Mapping!$D:$D,'Data BG'!$B84,Mapping!G:G)+SUMIF(Mapping!$B:$B,'Data BG'!$C84,Mapping!G:G)+SUMIF(Mapping!$C:$C,'Data BG'!$C84,Mapping!G:G)+SUMIF(Mapping!$D:$D,'Data BG'!$C84,Mapping!G:G)+SUMIF(Mapping!$B:$B,'Data BG'!$D84,Mapping!G:G)+SUMIF(Mapping!$C:$C,'Data BG'!$D84,Mapping!G:G)+SUMIF(Mapping!$D:$D,'Data BG'!$D84,Mapping!G:G)+SUMIF(Mapping!$B:$B,'Data BG'!$E84,Mapping!G:G)+SUMIF(Mapping!$C:$C,'Data BG'!$E84,Mapping!G:G)+SUMIF(Mapping!$D:$D,'Data BG'!$E84,Mapping!G:G)+SUMIF(Mapping!$B:$B,'Data BG'!$F84,Mapping!G:G)+SUMIF(Mapping!$C:$C,'Data BG'!$F84,Mapping!G:G)+SUMIF(Mapping!$D:$D,'Data BG'!$F84,Mapping!G:G)+SUMIF(Mapping!$B:$B,'Data BG'!$G84,Mapping!G:G)+SUMIF(Mapping!$C:$C,'Data BG'!$G84,Mapping!G:G)+SUMIF(Mapping!$D:$D,'Data BG'!$G84,Mapping!G:G)+SUMIF(Mapping!$B:$B,'Data BG'!$H84,Mapping!G:G)+SUMIF(Mapping!$C:$C,'Data BG'!$H84,Mapping!G:G)+SUMIF(Mapping!$D:$D,'Data BG'!$H84,Mapping!G:G)+SUMIF(Mapping!$B:$B,'Data BG'!$I84,Mapping!G:G)+SUMIF(Mapping!$C:$C,'Data BG'!$I84,Mapping!G:G)+SUMIF(Mapping!$D:$D,'Data BG'!$I84,Mapping!G:G)+SUMIF(Mapping!$B:$B,'Data BG'!$J84,Mapping!G:G)+SUMIF(Mapping!$C:$C,'Data BG'!$J84,Mapping!G:G)+SUMIF(Mapping!$D:$D,'Data BG'!$J84,Mapping!G:G)+SUMIF(Mapping!$B:$B,'Data BG'!$M84,Mapping!G:G)+SUMIF(Mapping!$C:$C,'Data BG'!$M84,Mapping!G:G)+SUMIF(Mapping!$D:$D,'Data BG'!$M84,Mapping!G:G)+SUMIF(Mapping!$B:$B,$N84,Mapping!G:G)+SUMIF(Mapping!$C:$C,$N84,Mapping!G:G)+SUMIF(Mapping!$D:$D,$N84,Mapping!G:G)+SUMIF(Mapping!$B:$B,'Data BG'!$K84,Mapping!G:G)+SUMIF(Mapping!$C:$C,'Data BG'!$K84,Mapping!G:G)+SUMIF(Mapping!$D:$D,'Data BG'!$K84,Mapping!G:G)+SUMIF(Mapping!$B:$B,'Data BG'!$L84,Mapping!G:G)+SUMIF(Mapping!$C:$C,'Data BG'!$L84,Mapping!G:G)+SUMIF(Mapping!$D:$D,'Data BG'!$L84,Mapping!G:G)","v":0},{"$f":"SUMIF(Mapping!$B:$B,'Data BG'!$A84,Mapping!H:H)+SUMIF(Mapping!$C:$C,'Data BG'!$A84,Mapping!H:H)+SUMIF(Mapping!$D:$D,'Data BG'!$A84,Mapping!H:H)+SUMIF(Mapping!$B:$B,'Data BG'!$B84,Mapping!H:H)+SUMIF(Mapping!$C:$C,'Data BG'!$B84,Mapping!H:H)+SUMIF(Mapping!$D:$D,'Data BG'!$B84,Mapping!H:H)+SUMIF(Mapping!$B:$B,'Data BG'!$C84,Mapping!H:H)+SUMIF(Mapping!$C:$C,'Data BG'!$C84,Mapping!H:H)+SUMIF(Mapping!$D:$D,'Data BG'!$C84,Mapping!H:H)+SUMIF(Mapping!$B:$B,'Data BG'!$D84,Mapping!H:H)+SUMIF(Mapping!$C:$C,'Data BG'!$D84,Mapping!H:H)+SUMIF(Mapping!$D:$D,'Data BG'!$D84,Mapping!H:H)+SUMIF(Mapping!$B:$B,'Data BG'!$E84,Mapping!H:H)+SUMIF(Mapping!$C:$C,'Data BG'!$E84,Mapping!H:H)+SUMIF(Mapping!$D:$D,'Data BG'!$E84,Mapping!H:H)+SUMIF(Mapping!$B:$B,'Data BG'!$F84,Mapping!H:H)+SUMIF(Mapping!$C:$C,'Data BG'!$F84,Mapping!H:H)+SUMIF(Mapping!$D:$D,'Data BG'!$F84,Mapping!H:H)+SUMIF(Mapping!$B:$B,'Data BG'!$G84,Mapping!H:H)+SUMIF(Mapping!$C:$C,'Data BG'!$G84,Mapping!H:H)+SUMIF(Mapping!$D:$D,'Data BG'!$G84,Mapping!H:H)+SUMIF(Mapping!$B:$B,'Data BG'!$H84,Mapping!H:H)+SUMIF(Mapping!$C:$C,'Data BG'!$H84,Mapping!H:H)+SUMIF(Mapping!$D:$D,'Data BG'!$H84,Mapping!H:H)+SUMIF(Mapping!$B:$B,'Data BG'!$I84,Mapping!H:H)+SUMIF(Mapping!$C:$C,'Data BG'!$I84,Mapping!H:H)+SUMIF(Mapping!$D:$D,'Data BG'!$I84,Mapping!H:H)+SUMIF(Mapping!$B:$B,'Data BG'!$J84,Mapping!H:H)+SUMIF(Mapping!$C:$C,'Data BG'!$J84,Mapping!H:H)+SUMIF(Mapping!$D:$D,'Data BG'!$J84,Mapping!H:H)+SUMIF(Mapping!$B:$B,'Data BG'!$M84,Mapping!H:H)+SUMIF(Mapping!$C:$C,'Data BG'!$M84,Mapping!H:H)+SUMIF(Mapping!$D:$D,'Data BG'!$M84,Mapping!H:H)+SUMIF(Mapping!$B:$B,$N84,Mapping!H:H)+SUMIF(Mapping!$C:$C,$N84,Mapping!H:H)+SUMIF(Mapping!$D:$D,$N84,Mapping!H:H)+SUMIF(Mapping!$B:$B,'Data BG'!$K84,Mapping!H:H)+SUMIF(Mapping!$C:$C,'Data BG'!$K84,Mapping!H:H)+SUMIF(Mapping!$D:$D,'Data BG'!$K84,Mapping!H:H)+SUMIF(Mapping!$B:$B,'Data BG'!$L84,Mapping!H:H)+SUMIF(Mapping!$C:$C,'Data BG'!$L84,Mapping!H:H)+SUMIF(Mapping!$D:$D,'Data BG'!$L84,Mapping!H:H)","v":0}]
[7061,null,null,null,null,null,null,null,null,null,null,null,null,null,null,null,null,"Prestations de services (manifestations et colloques) ",{"$f":"SUMIF(Mapping!$B:$B,'Data BG'!$A85,Mapping!G:G)+SUMIF(Mapping!$C:$C,'Data BG'!$A85,Mapping!G:G)+SUMIF(Mapping!$D:$D,'Data BG'!$A85,Mapping!G:G)+SUMIF(Mapping!$B:$B,'Data BG'!$B85,Mapping!G:G)+SUMIF(Mapping!$C:$C,'Data BG'!$B85,Mapping!G:G)+SUMIF(Mapping!$D:$D,'Data BG'!$B85,Mapping!G:G)+SUMIF(Mapping!$B:$B,'Data BG'!$C85,Mapping!G:G)+SUMIF(Mapping!$C:$C,'Data BG'!$C85,Mapping!G:G)+SUMIF(Mapping!$D:$D,'Data BG'!$C85,Mapping!G:G)+SUMIF(Mapping!$B:$B,'Data BG'!$D85,Mapping!G:G)+SUMIF(Mapping!$C:$C,'Data BG'!$D85,Mapping!G:G)+SUMIF(Mapping!$D:$D,'Data BG'!$D85,Mapping!G:G)+SUMIF(Mapping!$B:$B,'Data BG'!$E85,Mapping!G:G)+SUMIF(Mapping!$C:$C,'Data BG'!$E85,Mapping!G:G)+SUMIF(Mapping!$D:$D,'Data BG'!$E85,Mapping!G:G)+SUMIF(Mapping!$B:$B,'Data BG'!$F85,Mapping!G:G)+SUMIF(Mapping!$C:$C,'Data BG'!$F85,Mapping!G:G)+SUMIF(Mapping!$D:$D,'Data BG'!$F85,Mapping!G:G)+SUMIF(Mapping!$B:$B,'Data BG'!$G85,Mapping!G:G)+SUMIF(Mapping!$C:$C,'Data BG'!$G85,Mapping!G:G)+SUMIF(Mapping!$D:$D,'Data BG'!$G85,Mapping!G:G)+SUMIF(Mapping!$B:$B,'Data BG'!$H85,Mapping!G:G)+SUMIF(Mapping!$C:$C,'Data BG'!$H85,Mapping!G:G)+SUMIF(Mapping!$D:$D,'Data BG'!$H85,Mapping!G:G)+SUMIF(Mapping!$B:$B,'Data BG'!$I85,Mapping!G:G)+SUMIF(Mapping!$C:$C,'Data BG'!$I85,Mapping!G:G)+SUMIF(Mapping!$D:$D,'Data BG'!$I85,Mapping!G:G)+SUMIF(Mapping!$B:$B,'Data BG'!$J85,Mapping!G:G)+SUMIF(Mapping!$C:$C,'Data BG'!$J85,Mapping!G:G)+SUMIF(Mapping!$D:$D,'Data BG'!$J85,Mapping!G:G)+SUMIF(Mapping!$B:$B,'Data BG'!$M85,Mapping!G:G)+SUMIF(Mapping!$C:$C,'Data BG'!$M85,Mapping!G:G)+SUMIF(Mapping!$D:$D,'Data BG'!$M85,Mapping!G:G)+SUMIF(Mapping!$B:$B,$N85,Mapping!G:G)+SUMIF(Mapping!$C:$C,$N85,Mapping!G:G)+SUMIF(Mapping!$D:$D,$N85,Mapping!G:G)+SUMIF(Mapping!$B:$B,'Data BG'!$K85,Mapping!G:G)+SUMIF(Mapping!$C:$C,'Data BG'!$K85,Mapping!G:G)+SUMIF(Mapping!$D:$D,'Data BG'!$K85,Mapping!G:G)+SUMIF(Mapping!$B:$B,'Data BG'!$L85,Mapping!G:G)+SUMIF(Mapping!$C:$C,'Data BG'!$L85,Mapping!G:G)+SUMIF(Mapping!$D:$D,'Data BG'!$L85,Mapping!G:G)","v":0},{"$f":"SUMIF(Mapping!$B:$B,'Data BG'!$A85,Mapping!H:H)+SUMIF(Mapping!$C:$C,'Data BG'!$A85,Mapping!H:H)+SUMIF(Mapping!$D:$D,'Data BG'!$A85,Mapping!H:H)+SUMIF(Mapping!$B:$B,'Data BG'!$B85,Mapping!H:H)+SUMIF(Mapping!$C:$C,'Data BG'!$B85,Mapping!H:H)+SUMIF(Mapping!$D:$D,'Data BG'!$B85,Mapping!H:H)+SUMIF(Mapping!$B:$B,'Data BG'!$C85,Mapping!H:H)+SUMIF(Mapping!$C:$C,'Data BG'!$C85,Mapping!H:H)+SUMIF(Mapping!$D:$D,'Data BG'!$C85,Mapping!H:H)+SUMIF(Mapping!$B:$B,'Data BG'!$D85,Mapping!H:H)+SUMIF(Mapping!$C:$C,'Data BG'!$D85,Mapping!H:H)+SUMIF(Mapping!$D:$D,'Data BG'!$D85,Mapping!H:H)+SUMIF(Mapping!$B:$B,'Data BG'!$E85,Mapping!H:H)+SUMIF(Mapping!$C:$C,'Data BG'!$E85,Mapping!H:H)+SUMIF(Mapping!$D:$D,'Data BG'!$E85,Mapping!H:H)+SUMIF(Mapping!$B:$B,'Data BG'!$F85,Mapping!H:H)+SUMIF(Mapping!$C:$C,'Data BG'!$F85,Mapping!H:H)+SUMIF(Mapping!$D:$D,'Data BG'!$F85,Mapping!H:H)+SUMIF(Mapping!$B:$B,'Data BG'!$G85,Mapping!H:H)+SUMIF(Mapping!$C:$C,'Data BG'!$G85,Mapping!H:H)+SUMIF(Mapping!$D:$D,'Data BG'!$G85,Mapping!H:H)+SUMIF(Mapping!$B:$B,'Data BG'!$H85,Mapping!H:H)+SUMIF(Mapping!$C:$C,'Data BG'!$H85,Mapping!H:H)+SUMIF(Mapping!$D:$D,'Data BG'!$H85,Mapping!H:H)+SUMIF(Mapping!$B:$B,'Data BG'!$I85,Mapping!H:H)+SUMIF(Mapping!$C:$C,'Data BG'!$I85,Mapping!H:H)+SUMIF(Mapping!$D:$D,'Data BG'!$I85,Mapping!H:H)+SUMIF(Mapping!$B:$B,'Data BG'!$J85,Mapping!H:H)+SUMIF(Mapping!$C:$C,'Data BG'!$J85,Mapping!H:H)+SUMIF(Mapping!$D:$D,'Data BG'!$J85,Mapping!H:H)+SUMIF(Mapping!$B:$B,'Data BG'!$M85,Mapping!H:H)+SUMIF(Mapping!$C:$C,'Data BG'!$M85,Mapping!H:H)+SUMIF(Mapping!$D:$D,'Data BG'!$M85,Mapping!H:H)+SUMIF(Mapping!$B:$B,$N85,Mapping!H:H)+SUMIF(Mapping!$C:$C,$N85,Mapping!H:H)+SUMIF(Mapping!$D:$D,$N85,Mapping!H:H)+SUMIF(Mapping!$B:$B,'Data BG'!$K85,Mapping!H:H)+SUMIF(Mapping!$C:$C,'Data BG'!$K85,Mapping!H:H)+SUMIF(Mapping!$D:$D,'Data BG'!$K85,Mapping!H:H)+SUMIF(Mapping!$B:$B,'Data BG'!$L85,Mapping!H:H)+SUMIF(Mapping!$C:$C,'Data BG'!$L85,Mapping!H:H)+SUMIF(Mapping!$D:$D,'Data BG'!$L85,Mapping!H:H)","v":0}]
[7062,null,null,null,null,null,null,null,null,null,null,null,null,null,null,null,null,"Prestations de services aux candidats ",{"$f":"SUMIF(Mapping!$B:$B,'Data BG'!$A86,Mapping!G:G)+SUMIF(Mapping!$C:$C,'Data BG'!$A86,Mapping!G:G)+SUMIF(Mapping!$D:$D,'Data BG'!$A86,Mapping!G:G)+SUMIF(Mapping!$B:$B,'Data BG'!$B86,Mapping!G:G)+SUMIF(Mapping!$C:$C,'Data BG'!$B86,Mapping!G:G)+SUMIF(Mapping!$D:$D,'Data BG'!$B86,Mapping!G:G)+SUMIF(Mapping!$B:$B,'Data BG'!$C86,Mapping!G:G)+SUMIF(Mapping!$C:$C,'Data BG'!$C86,Mapping!G:G)+SUMIF(Mapping!$D:$D,'Data BG'!$C86,Mapping!G:G)+SUMIF(Mapping!$B:$B,'Data BG'!$D86,Mapping!G:G)+SUMIF(Mapping!$C:$C,'Data BG'!$D86,Mapping!G:G)+SUMIF(Mapping!$D:$D,'Data BG'!$D86,Mapping!G:G)+SUMIF(Mapping!$B:$B,'Data BG'!$E86,Mapping!G:G)+SUMIF(Mapping!$C:$C,'Data BG'!$E86,Mapping!G:G)+SUMIF(Mapping!$D:$D,'Data BG'!$E86,Mapping!G:G)+SUMIF(Mapping!$B:$B,'Data BG'!$F86,Mapping!G:G)+SUMIF(Mapping!$C:$C,'Data BG'!$F86,Mapping!G:G)+SUMIF(Mapping!$D:$D,'Data BG'!$F86,Mapping!G:G)+SUMIF(Mapping!$B:$B,'Data BG'!$G86,Mapping!G:G)+SUMIF(Mapping!$C:$C,'Data BG'!$G86,Mapping!G:G)+SUMIF(Mapping!$D:$D,'Data BG'!$G86,Mapping!G:G)+SUMIF(Mapping!$B:$B,'Data BG'!$H86,Mapping!G:G)+SUMIF(Mapping!$C:$C,'Data BG'!$H86,Mapping!G:G)+SUMIF(Mapping!$D:$D,'Data BG'!$H86,Mapping!G:G)+SUMIF(Mapping!$B:$B,'Data BG'!$I86,Mapping!G:G)+SUMIF(Mapping!$C:$C,'Data BG'!$I86,Mapping!G:G)+SUMIF(Mapping!$D:$D,'Data BG'!$I86,Mapping!G:G)+SUMIF(Mapping!$B:$B,'Data BG'!$J86,Mapping!G:G)+SUMIF(Mapping!$C:$C,'Data BG'!$J86,Mapping!G:G)+SUMIF(Mapping!$D:$D,'Data BG'!$J86,Mapping!G:G)+SUMIF(Mapping!$B:$B,'Data BG'!$M86,Mapping!G:G)+SUMIF(Mapping!$C:$C,'Data BG'!$M86,Mapping!G:G)+SUMIF(Mapping!$D:$D,'Data BG'!$M86,Mapping!G:G)+SUMIF(Mapping!$B:$B,$N86,Mapping!G:G)+SUMIF(Mapping!$C:$C,$N86,Mapping!G:G)+SUMIF(Mapping!$D:$D,$N86,Mapping!G:G)+SUMIF(Mapping!$B:$B,'Data BG'!$K86,Mapping!G:G)+SUMIF(Mapping!$C:$C,'Data BG'!$K86,Mapping!G:G)+SUMIF(Mapping!$D:$D,'Data BG'!$K86,Mapping!G:G)+SUMIF(Mapping!$B:$B,'Data BG'!$L86,Mapping!G:G)+SUMIF(Mapping!$C:$C,'Data BG'!$L86,Mapping!G:G)+SUMIF(Mapping!$D:$D,'Data BG'!$L86,Mapping!G:G)","v":0},{"$f":"SUMIF(Mapping!$B:$B,'Data BG'!$A86,Mapping!H:H)+SUMIF(Mapping!$C:$C,'Data BG'!$A86,Mapping!H:H)+SUMIF(Mapping!$D:$D,'Data BG'!$A86,Mapping!H:H)+SUMIF(Mapping!$B:$B,'Data BG'!$B86,Mapping!H:H)+SUMIF(Mapping!$C:$C,'Data BG'!$B86,Mapping!H:H)+SUMIF(Mapping!$D:$D,'Data BG'!$B86,Mapping!H:H)+SUMIF(Mapping!$B:$B,'Data BG'!$C86,Mapping!H:H)+SUMIF(Mapping!$C:$C,'Data BG'!$C86,Mapping!H:H)+SUMIF(Mapping!$D:$D,'Data BG'!$C86,Mapping!H:H)+SUMIF(Mapping!$B:$B,'Data BG'!$D86,Mapping!H:H)+SUMIF(Mapping!$C:$C,'Data BG'!$D86,Mapping!H:H)+SUMIF(Mapping!$D:$D,'Data BG'!$D86,Mapping!H:H)+SUMIF(Mapping!$B:$B,'Data BG'!$E86,Mapping!H:H)+SUMIF(Mapping!$C:$C,'Data BG'!$E86,Mapping!H:H)+SUMIF(Mapping!$D:$D,'Data BG'!$E86,Mapping!H:H)+SUMIF(Mapping!$B:$B,'Data BG'!$F86,Mapping!H:H)+SUMIF(Mapping!$C:$C,'Data BG'!$F86,Mapping!H:H)+SUMIF(Mapping!$D:$D,'Data BG'!$F86,Mapping!H:H)+SUMIF(Mapping!$B:$B,'Data BG'!$G86,Mapping!H:H)+SUMIF(Mapping!$C:$C,'Data BG'!$G86,Mapping!H:H)+SUMIF(Mapping!$D:$D,'Data BG'!$G86,Mapping!H:H)+SUMIF(Mapping!$B:$B,'Data BG'!$H86,Mapping!H:H)+SUMIF(Mapping!$C:$C,'Data BG'!$H86,Mapping!H:H)+SUMIF(Mapping!$D:$D,'Data BG'!$H86,Mapping!H:H)+SUMIF(Mapping!$B:$B,'Data BG'!$I86,Mapping!H:H)+SUMIF(Mapping!$C:$C,'Data BG'!$I86,Mapping!H:H)+SUMIF(Mapping!$D:$D,'Data BG'!$I86,Mapping!H:H)+SUMIF(Mapping!$B:$B,'Data BG'!$J86,Mapping!H:H)+SUMIF(Mapping!$C:$C,'Data BG'!$J86,Mapping!H:H)+SUMIF(Mapping!$D:$D,'Data BG'!$J86,Mapping!H:H)+SUMIF(Mapping!$B:$B,'Data BG'!$M86,Mapping!H:H)+SUMIF(Mapping!$C:$C,'Data BG'!$M86,Mapping!H:H)+SUMIF(Mapping!$D:$D,'Data BG'!$M86,Mapping!H:H)+SUMIF(Mapping!$B:$B,$N86,Mapping!H:H)+SUMIF(Mapping!$C:$C,$N86,Mapping!H:H)+SUMIF(Mapping!$D:$D,$N86,Mapping!H:H)+SUMIF(Mapping!$B:$B,'Data BG'!$K86,Mapping!H:H)+SUMIF(Mapping!$C:$C,'Data BG'!$K86,Mapping!H:H)+SUMIF(Mapping!$D:$D,'Data BG'!$K86,Mapping!H:H)+SUMIF(Mapping!$B:$B,'Data BG'!$L86,Mapping!H:H)+SUMIF(Mapping!$C:$C,'Data BG'!$L86,Mapping!H:H)+SUMIF(Mapping!$D:$D,'Data BG'!$L86,Mapping!H:H)","v":0}]
[781,null,null,null,null,null,null,null,null,null,null,null,null,null,null,null,null,"Reprises sur amortissements, dépréciations et provisions ",{"$f":"SUMIF(Mapping!$B:$B,'Data BG'!$A87,Mapping!G:G)+SUMIF(Mapping!$C:$C,'Data BG'!$A87,Mapping!G:G)+SUMIF(Mapping!$D:$D,'Data BG'!$A87,Mapping!G:G)+SUMIF(Mapping!$B:$B,'Data BG'!$B87,Mapping!G:G)+SUMIF(Mapping!$C:$C,'Data BG'!$B87,Mapping!G:G)+SUMIF(Mapping!$D:$D,'Data BG'!$B87,Mapping!G:G)+SUMIF(Mapping!$B:$B,'Data BG'!$C87,Mapping!G:G)+SUMIF(Mapping!$C:$C,'Data BG'!$C87,Mapping!G:G)+SUMIF(Mapping!$D:$D,'Data BG'!$C87,Mapping!G:G)+SUMIF(Mapping!$B:$B,'Data BG'!$D87,Mapping!G:G)+SUMIF(Mapping!$C:$C,'Data BG'!$D87,Mapping!G:G)+SUMIF(Mapping!$D:$D,'Data BG'!$D87,Mapping!G:G)+SUMIF(Mapping!$B:$B,'Data BG'!$E87,Mapping!G:G)+SUMIF(Mapping!$C:$C,'Data BG'!$E87,Mapping!G:G)+SUMIF(Mapping!$D:$D,'Data BG'!$E87,Mapping!G:G)+SUMIF(Mapping!$B:$B,'Data BG'!$F87,Mapping!G:G)+SUMIF(Mapping!$C:$C,'Data BG'!$F87,Mapping!G:G)+SUMIF(Mapping!$D:$D,'Data BG'!$F87,Mapping!G:G)+SUMIF(Mapping!$B:$B,'Data BG'!$G87,Mapping!G:G)+SUMIF(Mapping!$C:$C,'Data BG'!$G87,Mapping!G:G)+SUMIF(Mapping!$D:$D,'Data BG'!$G87,Mapping!G:G)+SUMIF(Mapping!$B:$B,'Data BG'!$H87,Mapping!G:G)+SUMIF(Mapping!$C:$C,'Data BG'!$H87,Mapping!G:G)+SUMIF(Mapping!$D:$D,'Data BG'!$H87,Mapping!G:G)+SUMIF(Mapping!$B:$B,'Data BG'!$I87,Mapping!G:G)+SUMIF(Mapping!$C:$C,'Data BG'!$I87,Mapping!G:G)+SUMIF(Mapping!$D:$D,'Data BG'!$I87,Mapping!G:G)+SUMIF(Mapping!$B:$B,'Data BG'!$J87,Mapping!G:G)+SUMIF(Mapping!$C:$C,'Data BG'!$J87,Mapping!G:G)+SUMIF(Mapping!$D:$D,'Data BG'!$J87,Mapping!G:G)+SUMIF(Mapping!$B:$B,'Data BG'!$M87,Mapping!G:G)+SUMIF(Mapping!$C:$C,'Data BG'!$M87,Mapping!G:G)+SUMIF(Mapping!$D:$D,'Data BG'!$M87,Mapping!G:G)+SUMIF(Mapping!$B:$B,$N87,Mapping!G:G)+SUMIF(Mapping!$C:$C,$N87,Mapping!G:G)+SUMIF(Mapping!$D:$D,$N87,Mapping!G:G)+SUMIF(Mapping!$B:$B,'Data BG'!$K87,Mapping!G:G)+SUMIF(Mapping!$C:$C,'Data BG'!$K87,Mapping!G:G)+SUMIF(Mapping!$D:$D,'Data BG'!$K87,Mapping!G:G)+SUMIF(Mapping!$B:$B,'Data BG'!$L87,Mapping!G:G)+SUMIF(Mapping!$C:$C,'Data BG'!$L87,Mapping!G:G)+SUMIF(Mapping!$D:$D,'Data BG'!$L87,Mapping!G:G)","v":0},{"$f":"SUMIF(Mapping!$B:$B,'Data BG'!$A87,Mapping!H:H)+SUMIF(Mapping!$C:$C,'Data BG'!$A87,Mapping!H:H)+SUMIF(Mapping!$D:$D,'Data BG'!$A87,Mapping!H:H)+SUMIF(Mapping!$B:$B,'Data BG'!$B87,Mapping!H:H)+SUMIF(Mapping!$C:$C,'Data BG'!$B87,Mapping!H:H)+SUMIF(Mapping!$D:$D,'Data BG'!$B87,Mapping!H:H)+SUMIF(Mapping!$B:$B,'Data BG'!$C87,Mapping!H:H)+SUMIF(Mapping!$C:$C,'Data BG'!$C87,Mapping!H:H)+SUMIF(Mapping!$D:$D,'Data BG'!$C87,Mapping!H:H)+SUMIF(Mapping!$B:$B,'Data BG'!$D87,Mapping!H:H)+SUMIF(Mapping!$C:$C,'Data BG'!$D87,Mapping!H:H)+SUMIF(Mapping!$D:$D,'Data BG'!$D87,Mapping!H:H)+SUMIF(Mapping!$B:$B,'Data BG'!$E87,Mapping!H:H)+SUMIF(Mapping!$C:$C,'Data BG'!$E87,Mapping!H:H)+SUMIF(Mapping!$D:$D,'Data BG'!$E87,Mapping!H:H)+SUMIF(Mapping!$B:$B,'Data BG'!$F87,Mapping!H:H)+SUMIF(Mapping!$C:$C,'Data BG'!$F87,Mapping!H:H)+SUMIF(Mapping!$D:$D,'Data BG'!$F87,Mapping!H:H)+SUMIF(Mapping!$B:$B,'Data BG'!$G87,Mapping!H:H)+SUMIF(Mapping!$C:$C,'Data BG'!$G87,Mapping!H:H)+SUMIF(Mapping!$D:$D,'Data BG'!$G87,Mapping!H:H)+SUMIF(Mapping!$B:$B,'Data BG'!$H87,Mapping!H:H)+SUMIF(Mapping!$C:$C,'Data BG'!$H87,Mapping!H:H)+SUMIF(Mapping!$D:$D,'Data BG'!$H87,Mapping!H:H)+SUMIF(Mapping!$B:$B,'Data BG'!$I87,Mapping!H:H)+SUMIF(Mapping!$C:$C,'Data BG'!$I87,Mapping!H:H)+SUMIF(Mapping!$D:$D,'Data BG'!$I87,Mapping!H:H)+SUMIF(Mapping!$B:$B,'Data BG'!$J87,Mapping!H:H)+SUMIF(Mapping!$C:$C,'Data BG'!$J87,Mapping!H:H)+SUMIF(Mapping!$D:$D,'Data BG'!$J87,Mapping!H:H)+SUMIF(Mapping!$B:$B,'Data BG'!$M87,Mapping!H:H)+SUMIF(Mapping!$C:$C,'Data BG'!$M87,Mapping!H:H)+SUMIF(Mapping!$D:$D,'Data BG'!$M87,Mapping!H:H)+SUMIF(Mapping!$B:$B,$N87,Mapping!H:H)+SUMIF(Mapping!$C:$C,$N87,Mapping!H:H)+SUMIF(Mapping!$D:$D,$N87,Mapping!H:H)+SUMIF(Mapping!$B:$B,'Data BG'!$K87,Mapping!H:H)+SUMIF(Mapping!$C:$C,'Data BG'!$K87,Mapping!H:H)+SUMIF(Mapping!$D:$D,'Data BG'!$K87,Mapping!H:H)+SUMIF(Mapping!$B:$B,'Data BG'!$L87,Mapping!H:H)+SUMIF(Mapping!$C:$C,'Data BG'!$L87,Mapping!H:H)+SUMIF(Mapping!$D:$D,'Data BG'!$L87,Mapping!H:H)","v":0}]
[701,702,703,704,705,706,707,708,709,71,72,null,null,null,null,null,null,"Ventes de marchandises, production vendue (biens et services), production stockée et production immobilisée ",{"$f":"SUMIF(Mapping!$B:$B,'Data BG'!$A88,Mapping!G:G)+SUMIF(Mapping!$C:$C,'Data BG'!$A88,Mapping!G:G)+SUMIF(Mapping!$D:$D,'Data BG'!$A88,Mapping!G:G)+SUMIF(Mapping!$B:$B,'Data BG'!$B88,Mapping!G:G)+SUMIF(Mapping!$C:$C,'Data BG'!$B88,Mapping!G:G)+SUMIF(Mapping!$D:$D,'Data BG'!$B88,Mapping!G:G)+SUMIF(Mapping!$B:$B,'Data BG'!$C88,Mapping!G:G)+SUMIF(Mapping!$C:$C,'Data BG'!$C88,Mapping!G:G)+SUMIF(Mapping!$D:$D,'Data BG'!$C88,Mapping!G:G)+SUMIF(Mapping!$B:$B,'Data BG'!$D88,Mapping!G:G)+SUMIF(Mapping!$C:$C,'Data BG'!$D88,Mapping!G:G)+SUMIF(Mapping!$D:$D,'Data BG'!$D88,Mapping!G:G)+SUMIF(Mapping!$B:$B,'Data BG'!$E88,Mapping!G:G)+SUMIF(Mapping!$C:$C,'Data BG'!$E88,Mapping!G:G)+SUMIF(Mapping!$D:$D,'Data BG'!$E88,Mapping!G:G)+SUMIF(Mapping!$B:$B,'Data BG'!$F88,Mapping!G:G)+SUMIF(Mapping!$C:$C,'Data BG'!$F88,Mapping!G:G)+SUMIF(Mapping!$D:$D,'Data BG'!$F88,Mapping!G:G)+SUMIF(Mapping!$B:$B,'Data BG'!$G88,Mapping!G:G)+SUMIF(Mapping!$C:$C,'Data BG'!$G88,Mapping!G:G)+SUMIF(Mapping!$D:$D,'Data BG'!$G88,Mapping!G:G)+SUMIF(Mapping!$B:$B,'Data BG'!$H88,Mapping!G:G)+SUMIF(Mapping!$C:$C,'Data BG'!$H88,Mapping!G:G)+SUMIF(Mapping!$D:$D,'Data BG'!$H88,Mapping!G:G)+SUMIF(Mapping!$B:$B,'Data BG'!$I88,Mapping!G:G)+SUMIF(Mapping!$C:$C,'Data BG'!$I88,Mapping!G:G)+SUMIF(Mapping!$D:$D,'Data BG'!$I88,Mapping!G:G)+SUMIF(Mapping!$B:$B,'Data BG'!$J88,Mapping!G:G)+SUMIF(Mapping!$C:$C,'Data BG'!$J88,Mapping!G:G)+SUMIF(Mapping!$D:$D,'Data BG'!$J88,Mapping!G:G)+SUMIF(Mapping!$B:$B,'Data BG'!$M88,Mapping!G:G)+SUMIF(Mapping!$C:$C,'Data BG'!$M88,Mapping!G:G)+SUMIF(Mapping!$D:$D,'Data BG'!$M88,Mapping!G:G)+SUMIF(Mapping!$B:$B,$N88,Mapping!G:G)+SUMIF(Mapping!$C:$C,$N88,Mapping!G:G)+SUMIF(Mapping!$D:$D,$N88,Mapping!G:G)+SUMIF(Mapping!$B:$B,'Data BG'!$K88,Mapping!G:G)+SUMIF(Mapping!$C:$C,'Data BG'!$K88,Mapping!G:G)+SUMIF(Mapping!$D:$D,'Data BG'!$K88,Mapping!G:G)+SUMIF(Mapping!$B:$B,'Data BG'!$L88,Mapping!G:G)+SUMIF(Mapping!$C:$C,'Data BG'!$L88,Mapping!G:G)+SUMIF(Mapping!$D:$D,'Data BG'!$L88,Mapping!G:G)-S85-S86","v":0},{"$f":"SUMIF(Mapping!$B:$B,'Data BG'!$A88,Mapping!H:H)+SUMIF(Mapping!$C:$C,'Data BG'!$A88,Mapping!H:H)+SUMIF(Mapping!$D:$D,'Data BG'!$A88,Mapping!H:H)+SUMIF(Mapping!$B:$B,'Data BG'!$B88,Mapping!H:H)+SUMIF(Mapping!$C:$C,'Data BG'!$B88,Mapping!H:H)+SUMIF(Mapping!$D:$D,'Data BG'!$B88,Mapping!H:H)+SUMIF(Mapping!$B:$B,'Data BG'!$C88,Mapping!H:H)+SUMIF(Mapping!$C:$C,'Data BG'!$C88,Mapping!H:H)+SUMIF(Mapping!$D:$D,'Data BG'!$C88,Mapping!H:H)+SUMIF(Mapping!$B:$B,'Data BG'!$D88,Mapping!H:H)+SUMIF(Mapping!$C:$C,'Data BG'!$D88,Mapping!H:H)+SUMIF(Mapping!$D:$D,'Data BG'!$D88,Mapping!H:H)+SUMIF(Mapping!$B:$B,'Data BG'!$E88,Mapping!H:H)+SUMIF(Mapping!$C:$C,'Data BG'!$E88,Mapping!H:H)+SUMIF(Mapping!$D:$D,'Data BG'!$E88,Mapping!H:H)+SUMIF(Mapping!$B:$B,'Data BG'!$F88,Mapping!H:H)+SUMIF(Mapping!$C:$C,'Data BG'!$F88,Mapping!H:H)+SUMIF(Mapping!$D:$D,'Data BG'!$F88,Mapping!H:H)+SUMIF(Mapping!$B:$B,'Data BG'!$G88,Mapping!H:H)+SUMIF(Mapping!$C:$C,'Data BG'!$G88,Mapping!H:H)+SUMIF(Mapping!$D:$D,'Data BG'!$G88,Mapping!H:H)+SUMIF(Mapping!$B:$B,'Data BG'!$H88,Mapping!H:H)+SUMIF(Mapping!$C:$C,'Data BG'!$H88,Mapping!H:H)+SUMIF(Mapping!$D:$D,'Data BG'!$H88,Mapping!H:H)+SUMIF(Mapping!$B:$B,'Data BG'!$I88,Mapping!H:H)+SUMIF(Mapping!$C:$C,'Data BG'!$I88,Mapping!H:H)+SUMIF(Mapping!$D:$D,'Data BG'!$I88,Mapping!H:H)+SUMIF(Mapping!$B:$B,'Data BG'!$J88,Mapping!H:H)+SUMIF(Mapping!$C:$C,'Data BG'!$J88,Mapping!H:H)+SUMIF(Mapping!$D:$D,'Data BG'!$J88,Mapping!H:H)+SUMIF(Mapping!$B:$B,'Data BG'!$M88,Mapping!H:H)+SUMIF(Mapping!$C:$C,'Data BG'!$M88,Mapping!H:H)+SUMIF(Mapping!$D:$D,'Data BG'!$M88,Mapping!H:H)+SUMIF(Mapping!$B:$B,$N88,Mapping!H:H)+SUMIF(Mapping!$C:$C,$N88,Mapping!H:H)+SUMIF(Mapping!$D:$D,$N88,Mapping!H:H)+SUMIF(Mapping!$B:$B,'Data BG'!$K88,Mapping!H:H)+SUMIF(Mapping!$C:$C,'Data BG'!$K88,Mapping!H:H)+SUMIF(Mapping!$D:$D,'Data BG'!$K88,Mapping!H:H)+SUMIF(Mapping!$B:$B,'Data BG'!$L88,Mapping!H:H)+SUMIF(Mapping!$C:$C,'Data BG'!$L88,Mapping!H:H)+SUMIF(Mapping!$D:$D,'Data BG'!$L88,Mapping!H:H)-T85-T86","v":0}]
[7581,null,null,null,null,null,null,null,null,null,null,null,null,null,null,null,null,"Produits des entités non significatives ",{"$f":"SUMIF(Mapping!$B:$B,'Data BG'!$A89,Mapping!G:G)+SUMIF(Mapping!$C:$C,'Data BG'!$A89,Mapping!G:G)+SUMIF(Mapping!$D:$D,'Data BG'!$A89,Mapping!G:G)+SUMIF(Mapping!$B:$B,'Data BG'!$B89,Mapping!G:G)+SUMIF(Mapping!$C:$C,'Data BG'!$B89,Mapping!G:G)+SUMIF(Mapping!$D:$D,'Data BG'!$B89,Mapping!G:G)+SUMIF(Mapping!$B:$B,'Data BG'!$C89,Mapping!G:G)+SUMIF(Mapping!$C:$C,'Data BG'!$C89,Mapping!G:G)+SUMIF(Mapping!$D:$D,'Data BG'!$C89,Mapping!G:G)+SUMIF(Mapping!$B:$B,'Data BG'!$D89,Mapping!G:G)+SUMIF(Mapping!$C:$C,'Data BG'!$D89,Mapping!G:G)+SUMIF(Mapping!$D:$D,'Data BG'!$D89,Mapping!G:G)+SUMIF(Mapping!$B:$B,'Data BG'!$E89,Mapping!G:G)+SUMIF(Mapping!$C:$C,'Data BG'!$E89,Mapping!G:G)+SUMIF(Mapping!$D:$D,'Data BG'!$E89,Mapping!G:G)+SUMIF(Mapping!$B:$B,'Data BG'!$F89,Mapping!G:G)+SUMIF(Mapping!$C:$C,'Data BG'!$F89,Mapping!G:G)+SUMIF(Mapping!$D:$D,'Data BG'!$F89,Mapping!G:G)+SUMIF(Mapping!$B:$B,'Data BG'!$G89,Mapping!G:G)+SUMIF(Mapping!$C:$C,'Data BG'!$G89,Mapping!G:G)+SUMIF(Mapping!$D:$D,'Data BG'!$G89,Mapping!G:G)+SUMIF(Mapping!$B:$B,'Data BG'!$H89,Mapping!G:G)+SUMIF(Mapping!$C:$C,'Data BG'!$H89,Mapping!G:G)+SUMIF(Mapping!$D:$D,'Data BG'!$H89,Mapping!G:G)+SUMIF(Mapping!$B:$B,'Data BG'!$I89,Mapping!G:G)+SUMIF(Mapping!$C:$C,'Data BG'!$I89,Mapping!G:G)+SUMIF(Mapping!$D:$D,'Data BG'!$I89,Mapping!G:G)+SUMIF(Mapping!$B:$B,'Data BG'!$J89,Mapping!G:G)+SUMIF(Mapping!$C:$C,'Data BG'!$J89,Mapping!G:G)+SUMIF(Mapping!$D:$D,'Data BG'!$J89,Mapping!G:G)+SUMIF(Mapping!$B:$B,'Data BG'!$M89,Mapping!G:G)+SUMIF(Mapping!$C:$C,'Data BG'!$M89,Mapping!G:G)+SUMIF(Mapping!$D:$D,'Data BG'!$M89,Mapping!G:G)+SUMIF(Mapping!$B:$B,$N89,Mapping!G:G)+SUMIF(Mapping!$C:$C,$N89,Mapping!G:G)+SUMIF(Mapping!$D:$D,$N89,Mapping!G:G)+SUMIF(Mapping!$B:$B,'Data BG'!$K89,Mapping!G:G)+SUMIF(Mapping!$C:$C,'Data BG'!$K89,Mapping!G:G)+SUMIF(Mapping!$D:$D,'Data BG'!$K89,Mapping!G:G)+SUMIF(Mapping!$B:$B,'Data BG'!$L89,Mapping!G:G)+SUMIF(Mapping!$C:$C,'Data BG'!$L89,Mapping!G:G)+SUMIF(Mapping!$D:$D,'Data BG'!$L89,Mapping!G:G)","v":0},{"$f":"SUMIF(Mapping!$B:$B,'Data BG'!$A89,Mapping!H:H)+SUMIF(Mapping!$C:$C,'Data BG'!$A89,Mapping!H:H)+SUMIF(Mapping!$D:$D,'Data BG'!$A89,Mapping!H:H)+SUMIF(Mapping!$B:$B,'Data BG'!$B89,Mapping!H:H)+SUMIF(Mapping!$C:$C,'Data BG'!$B89,Mapping!H:H)+SUMIF(Mapping!$D:$D,'Data BG'!$B89,Mapping!H:H)+SUMIF(Mapping!$B:$B,'Data BG'!$C89,Mapping!H:H)+SUMIF(Mapping!$C:$C,'Data BG'!$C89,Mapping!H:H)+SUMIF(Mapping!$D:$D,'Data BG'!$C89,Mapping!H:H)+SUMIF(Mapping!$B:$B,'Data BG'!$D89,Mapping!H:H)+SUMIF(Mapping!$C:$C,'Data BG'!$D89,Mapping!H:H)+SUMIF(Mapping!$D:$D,'Data BG'!$D89,Mapping!H:H)+SUMIF(Mapping!$B:$B,'Data BG'!$E89,Mapping!H:H)+SUMIF(Mapping!$C:$C,'Data BG'!$E89,Mapping!H:H)+SUMIF(Mapping!$D:$D,'Data BG'!$E89,Mapping!H:H)+SUMIF(Mapping!$B:$B,'Data BG'!$F89,Mapping!H:H)+SUMIF(Mapping!$C:$C,'Data BG'!$F89,Mapping!H:H)+SUMIF(Mapping!$D:$D,'Data BG'!$F89,Mapping!H:H)+SUMIF(Mapping!$B:$B,'Data BG'!$G89,Mapping!H:H)+SUMIF(Mapping!$C:$C,'Data BG'!$G89,Mapping!H:H)+SUMIF(Mapping!$D:$D,'Data BG'!$G89,Mapping!H:H)+SUMIF(Mapping!$B:$B,'Data BG'!$H89,Mapping!H:H)+SUMIF(Mapping!$C:$C,'Data BG'!$H89,Mapping!H:H)+SUMIF(Mapping!$D:$D,'Data BG'!$H89,Mapping!H:H)+SUMIF(Mapping!$B:$B,'Data BG'!$I89,Mapping!H:H)+SUMIF(Mapping!$C:$C,'Data BG'!$I89,Mapping!H:H)+SUMIF(Mapping!$D:$D,'Data BG'!$I89,Mapping!H:H)+SUMIF(Mapping!$B:$B,'Data BG'!$J89,Mapping!H:H)+SUMIF(Mapping!$C:$C,'Data BG'!$J89,Mapping!H:H)+SUMIF(Mapping!$D:$D,'Data BG'!$J89,Mapping!H:H)+SUMIF(Mapping!$B:$B,'Data BG'!$M89,Mapping!H:H)+SUMIF(Mapping!$C:$C,'Data BG'!$M89,Mapping!H:H)+SUMIF(Mapping!$D:$D,'Data BG'!$M89,Mapping!H:H)+SUMIF(Mapping!$B:$B,$N89,Mapping!H:H)+SUMIF(Mapping!$C:$C,$N89,Mapping!H:H)+SUMIF(Mapping!$D:$D,$N89,Mapping!H:H)+SUMIF(Mapping!$B:$B,'Data BG'!$K89,Mapping!H:H)+SUMIF(Mapping!$C:$C,'Data BG'!$K89,Mapping!H:H)+SUMIF(Mapping!$D:$D,'Data BG'!$K89,Mapping!H:H)+SUMIF(Mapping!$B:$B,'Data BG'!$L89,Mapping!H:H)+SUMIF(Mapping!$C:$C,'Data BG'!$L89,Mapping!H:H)+SUMIF(Mapping!$D:$D,'Data BG'!$L89,Mapping!H:H)","v":0}]
[757,null,null,null,null,null,null,null,null,null,null,null,null,null,null,null,null,"Produits des cessions d'immobilisations incorporelles et corporelles ",{"$f":"SUMIF(Mapping!$B:$B,'Data BG'!$A90,Mapping!G:G)+SUMIF(Mapping!$C:$C,'Data BG'!$A90,Mapping!G:G)+SUMIF(Mapping!$D:$D,'Data BG'!$A90,Mapping!G:G)+SUMIF(Mapping!$B:$B,'Data BG'!$B90,Mapping!G:G)+SUMIF(Mapping!$C:$C,'Data BG'!$B90,Mapping!G:G)+SUMIF(Mapping!$D:$D,'Data BG'!$B90,Mapping!G:G)+SUMIF(Mapping!$B:$B,'Data BG'!$C90,Mapping!G:G)+SUMIF(Mapping!$C:$C,'Data BG'!$C90,Mapping!G:G)+SUMIF(Mapping!$D:$D,'Data BG'!$C90,Mapping!G:G)+SUMIF(Mapping!$B:$B,'Data BG'!$D90,Mapping!G:G)+SUMIF(Mapping!$C:$C,'Data BG'!$D90,Mapping!G:G)+SUMIF(Mapping!$D:$D,'Data BG'!$D90,Mapping!G:G)+SUMIF(Mapping!$B:$B,'Data BG'!$E90,Mapping!G:G)+SUMIF(Mapping!$C:$C,'Data BG'!$E90,Mapping!G:G)+SUMIF(Mapping!$D:$D,'Data BG'!$E90,Mapping!G:G)+SUMIF(Mapping!$B:$B,'Data BG'!$F90,Mapping!G:G)+SUMIF(Mapping!$C:$C,'Data BG'!$F90,Mapping!G:G)+SUMIF(Mapping!$D:$D,'Data BG'!$F90,Mapping!G:G)+SUMIF(Mapping!$B:$B,'Data BG'!$G90,Mapping!G:G)+SUMIF(Mapping!$C:$C,'Data BG'!$G90,Mapping!G:G)+SUMIF(Mapping!$D:$D,'Data BG'!$G90,Mapping!G:G)+SUMIF(Mapping!$B:$B,'Data BG'!$H90,Mapping!G:G)+SUMIF(Mapping!$C:$C,'Data BG'!$H90,Mapping!G:G)+SUMIF(Mapping!$D:$D,'Data BG'!$H90,Mapping!G:G)+SUMIF(Mapping!$B:$B,'Data BG'!$I90,Mapping!G:G)+SUMIF(Mapping!$C:$C,'Data BG'!$I90,Mapping!G:G)+SUMIF(Mapping!$D:$D,'Data BG'!$I90,Mapping!G:G)+SUMIF(Mapping!$B:$B,'Data BG'!$J90,Mapping!G:G)+SUMIF(Mapping!$C:$C,'Data BG'!$J90,Mapping!G:G)+SUMIF(Mapping!$D:$D,'Data BG'!$J90,Mapping!G:G)+SUMIF(Mapping!$B:$B,'Data BG'!$M90,Mapping!G:G)+SUMIF(Mapping!$C:$C,'Data BG'!$M90,Mapping!G:G)+SUMIF(Mapping!$D:$D,'Data BG'!$M90,Mapping!G:G)+SUMIF(Mapping!$B:$B,$N90,Mapping!G:G)+SUMIF(Mapping!$C:$C,$N90,Mapping!G:G)+SUMIF(Mapping!$D:$D,$N90,Mapping!G:G)+SUMIF(Mapping!$B:$B,'Data BG'!$K90,Mapping!G:G)+SUMIF(Mapping!$C:$C,'Data BG'!$K90,Mapping!G:G)+SUMIF(Mapping!$D:$D,'Data BG'!$K90,Mapping!G:G)+SUMIF(Mapping!$B:$B,'Data BG'!$L90,Mapping!G:G)+SUMIF(Mapping!$C:$C,'Data BG'!$L90,Mapping!G:G)+SUMIF(Mapping!$D:$D,'Data BG'!$L90,Mapping!G:G)","v":0},{"$f":"SUMIF(Mapping!$B:$B,'Data BG'!$A90,Mapping!H:H)+SUMIF(Mapping!$C:$C,'Data BG'!$A90,Mapping!H:H)+SUMIF(Mapping!$D:$D,'Data BG'!$A90,Mapping!H:H)+SUMIF(Mapping!$B:$B,'Data BG'!$B90,Mapping!H:H)+SUMIF(Mapping!$C:$C,'Data BG'!$B90,Mapping!H:H)+SUMIF(Mapping!$D:$D,'Data BG'!$B90,Mapping!H:H)+SUMIF(Mapping!$B:$B,'Data BG'!$C90,Mapping!H:H)+SUMIF(Mapping!$C:$C,'Data BG'!$C90,Mapping!H:H)+SUMIF(Mapping!$D:$D,'Data BG'!$C90,Mapping!H:H)+SUMIF(Mapping!$B:$B,'Data BG'!$D90,Mapping!H:H)+SUMIF(Mapping!$C:$C,'Data BG'!$D90,Mapping!H:H)+SUMIF(Mapping!$D:$D,'Data BG'!$D90,Mapping!H:H)+SUMIF(Mapping!$B:$B,'Data BG'!$E90,Mapping!H:H)+SUMIF(Mapping!$C:$C,'Data BG'!$E90,Mapping!H:H)+SUMIF(Mapping!$D:$D,'Data BG'!$E90,Mapping!H:H)+SUMIF(Mapping!$B:$B,'Data BG'!$F90,Mapping!H:H)+SUMIF(Mapping!$C:$C,'Data BG'!$F90,Mapping!H:H)+SUMIF(Mapping!$D:$D,'Data BG'!$F90,Mapping!H:H)+SUMIF(Mapping!$B:$B,'Data BG'!$G90,Mapping!H:H)+SUMIF(Mapping!$C:$C,'Data BG'!$G90,Mapping!H:H)+SUMIF(Mapping!$D:$D,'Data BG'!$G90,Mapping!H:H)+SUMIF(Mapping!$B:$B,'Data BG'!$H90,Mapping!H:H)+SUMIF(Mapping!$C:$C,'Data BG'!$H90,Mapping!H:H)+SUMIF(Mapping!$D:$D,'Data BG'!$H90,Mapping!H:H)+SUMIF(Mapping!$B:$B,'Data BG'!$I90,Mapping!H:H)+SUMIF(Mapping!$C:$C,'Data BG'!$I90,Mapping!H:H)+SUMIF(Mapping!$D:$D,'Data BG'!$I90,Mapping!H:H)+SUMIF(Mapping!$B:$B,'Data BG'!$J90,Mapping!H:H)+SUMIF(Mapping!$C:$C,'Data BG'!$J90,Mapping!H:H)+SUMIF(Mapping!$D:$D,'Data BG'!$J90,Mapping!H:H)+SUMIF(Mapping!$B:$B,'Data BG'!$M90,Mapping!H:H)+SUMIF(Mapping!$C:$C,'Data BG'!$M90,Mapping!H:H)+SUMIF(Mapping!$D:$D,'Data BG'!$M90,Mapping!H:H)+SUMIF(Mapping!$B:$B,$N90,Mapping!H:H)+SUMIF(Mapping!$C:$C,$N90,Mapping!H:H)+SUMIF(Mapping!$D:$D,$N90,Mapping!H:H)+SUMIF(Mapping!$B:$B,'Data BG'!$K90,Mapping!H:H)+SUMIF(Mapping!$C:$C,'Data BG'!$K90,Mapping!H:H)+SUMIF(Mapping!$D:$D,'Data BG'!$K90,Mapping!H:H)+SUMIF(Mapping!$B:$B,'Data BG'!$L90,Mapping!H:H)+SUMIF(Mapping!$C:$C,'Data BG'!$L90,Mapping!H:H)+SUMIF(Mapping!$D:$D,'Data BG'!$L90,Mapping!H:H)","v":0}]
[751,752,7551,7555,758,7470,7910,null,null,null,null,null,null,null,null,null,null,"Autres produits ",{"$f":"SUMIF(Mapping!$B:$B,'Data BG'!$A91,Mapping!G:G)+SUMIF(Mapping!$C:$C,'Data BG'!$A91,Mapping!G:G)+SUMIF(Mapping!$D:$D,'Data BG'!$A91,Mapping!G:G)+SUMIF(Mapping!$B:$B,'Data BG'!$B91,Mapping!G:G)+SUMIF(Mapping!$C:$C,'Data BG'!$B91,Mapping!G:G)+SUMIF(Mapping!$D:$D,'Data BG'!$B91,Mapping!G:G)+SUMIF(Mapping!$B:$B,'Data BG'!$C91,Mapping!G:G)+SUMIF(Mapping!$C:$C,'Data BG'!$C91,Mapping!G:G)+SUMIF(Mapping!$D:$D,'Data BG'!$C91,Mapping!G:G)+SUMIF(Mapping!$B:$B,'Data BG'!$D91,Mapping!G:G)+SUMIF(Mapping!$C:$C,'Data BG'!$D91,Mapping!G:G)+SUMIF(Mapping!$D:$D,'Data BG'!$D91,Mapping!G:G)+SUMIF(Mapping!$B:$B,'Data BG'!$E91,Mapping!G:G)+SUMIF(Mapping!$C:$C,'Data BG'!$E91,Mapping!G:G)+SUMIF(Mapping!$D:$D,'Data BG'!$E91,Mapping!G:G)+SUMIF(Mapping!$B:$B,'Data BG'!$F91,Mapping!G:G)+SUMIF(Mapping!$C:$C,'Data BG'!$F91,Mapping!G:G)+SUMIF(Mapping!$D:$D,'Data BG'!$F91,Mapping!G:G)+SUMIF(Mapping!$B:$B,'Data BG'!$G91,Mapping!G:G)+SUMIF(Mapping!$C:$C,'Data BG'!$G91,Mapping!G:G)+SUMIF(Mapping!$D:$D,'Data BG'!$G91,Mapping!G:G)+SUMIF(Mapping!$B:$B,'Data BG'!$H91,Mapping!G:G)+SUMIF(Mapping!$C:$C,'Data BG'!$H91,Mapping!G:G)+SUMIF(Mapping!$D:$D,'Data BG'!$H91,Mapping!G:G)+SUMIF(Mapping!$B:$B,'Data BG'!$I91,Mapping!G:G)+SUMIF(Mapping!$C:$C,'Data BG'!$I91,Mapping!G:G)+SUMIF(Mapping!$D:$D,'Data BG'!$I91,Mapping!G:G)+SUMIF(Mapping!$B:$B,'Data BG'!$J91,Mapping!G:G)+SUMIF(Mapping!$C:$C,'Data BG'!$J91,Mapping!G:G)+SUMIF(Mapping!$D:$D,'Data BG'!$J91,Mapping!G:G)+SUMIF(Mapping!$B:$B,'Data BG'!$M91,Mapping!G:G)+SUMIF(Mapping!$C:$C,'Data BG'!$M91,Mapping!G:G)+SUMIF(Mapping!$D:$D,'Data BG'!$M91,Mapping!G:G)+SUMIF(Mapping!$B:$B,$N91,Mapping!G:G)+SUMIF(Mapping!$C:$C,$N91,Mapping!G:G)+SUMIF(Mapping!$D:$D,$N91,Mapping!G:G)+SUMIF(Mapping!$B:$B,'Data BG'!$K91,Mapping!G:G)+SUMIF(Mapping!$C:$C,'Data BG'!$K91,Mapping!G:G)+SUMIF(Mapping!$D:$D,'Data BG'!$K91,Mapping!G:G)+SUMIF(Mapping!$B:$B,'Data BG'!$L91,Mapping!G:G)+SUMIF(Mapping!$C:$C,'Data BG'!$L91,Mapping!G:G)+SUMIF(Mapping!$D:$D,'Data BG'!$L91,Mapping!G:G)-S89","v":0},{"$f":"SUMIF(Mapping!$B:$B,'Data BG'!$A91,Mapping!H:H)+SUMIF(Mapping!$C:$C,'Data BG'!$A91,Mapping!H:H)+SUMIF(Mapping!$D:$D,'Data BG'!$A91,Mapping!H:H)+SUMIF(Mapping!$B:$B,'Data BG'!$B91,Mapping!H:H)+SUMIF(Mapping!$C:$C,'Data BG'!$B91,Mapping!H:H)+SUMIF(Mapping!$D:$D,'Data BG'!$B91,Mapping!H:H)+SUMIF(Mapping!$B:$B,'Data BG'!$C91,Mapping!H:H)+SUMIF(Mapping!$C:$C,'Data BG'!$C91,Mapping!H:H)+SUMIF(Mapping!$D:$D,'Data BG'!$C91,Mapping!H:H)+SUMIF(Mapping!$B:$B,'Data BG'!$D91,Mapping!H:H)+SUMIF(Mapping!$C:$C,'Data BG'!$D91,Mapping!H:H)+SUMIF(Mapping!$D:$D,'Data BG'!$D91,Mapping!H:H)+SUMIF(Mapping!$B:$B,'Data BG'!$E91,Mapping!H:H)+SUMIF(Mapping!$C:$C,'Data BG'!$E91,Mapping!H:H)+SUMIF(Mapping!$D:$D,'Data BG'!$E91,Mapping!H:H)+SUMIF(Mapping!$B:$B,'Data BG'!$F91,Mapping!H:H)+SUMIF(Mapping!$C:$C,'Data BG'!$F91,Mapping!H:H)+SUMIF(Mapping!$D:$D,'Data BG'!$F91,Mapping!H:H)+SUMIF(Mapping!$B:$B,'Data BG'!$G91,Mapping!H:H)+SUMIF(Mapping!$C:$C,'Data BG'!$G91,Mapping!H:H)+SUMIF(Mapping!$D:$D,'Data BG'!$G91,Mapping!H:H)+SUMIF(Mapping!$B:$B,'Data BG'!$H91,Mapping!H:H)+SUMIF(Mapping!$C:$C,'Data BG'!$H91,Mapping!H:H)+SUMIF(Mapping!$D:$D,'Data BG'!$H91,Mapping!H:H)+SUMIF(Mapping!$B:$B,'Data BG'!$I91,Mapping!H:H)+SUMIF(Mapping!$C:$C,'Data BG'!$I91,Mapping!H:H)+SUMIF(Mapping!$D:$D,'Data BG'!$I91,Mapping!H:H)+SUMIF(Mapping!$B:$B,'Data BG'!$J91,Mapping!H:H)+SUMIF(Mapping!$C:$C,'Data BG'!$J91,Mapping!H:H)+SUMIF(Mapping!$D:$D,'Data BG'!$J91,Mapping!H:H)+SUMIF(Mapping!$B:$B,'Data BG'!$M91,Mapping!H:H)+SUMIF(Mapping!$C:$C,'Data BG'!$M91,Mapping!H:H)+SUMIF(Mapping!$D:$D,'Data BG'!$M91,Mapping!H:H)+SUMIF(Mapping!$B:$B,$N91,Mapping!H:H)+SUMIF(Mapping!$C:$C,$N91,Mapping!H:H)+SUMIF(Mapping!$D:$D,$N91,Mapping!H:H)+SUMIF(Mapping!$B:$B,'Data BG'!$K91,Mapping!H:H)+SUMIF(Mapping!$C:$C,'Data BG'!$K91,Mapping!H:H)+SUMIF(Mapping!$D:$D,'Data BG'!$K91,Mapping!H:H)+SUMIF(Mapping!$B:$B,'Data BG'!$L91,Mapping!H:H)+SUMIF(Mapping!$C:$C,'Data BG'!$L91,Mapping!H:H)+SUMIF(Mapping!$D:$D,'Data BG'!$L91,Mapping!H:H)-T89","v":0}]
[null,null,null,null,null,null,null,null,null,null,null,null,null,null,null,null,null,"CHARGES D'EXPLOITATION "]
[null,null,null,null,null,null,null,null,null,null,null,null,null,null,null,null,null,"Contributions aux candidats "]
[6530,6531,6532,null,null,null,null,null,null,null,null,null,null,null,null,null,null,"Contributions versées aux candidats ",{"$f":"SUMIF(Mapping!$B:$B,'Data BG'!$A94,Mapping!G:G)+SUMIF(Mapping!$C:$C,'Data BG'!$A94,Mapping!G:G)+SUMIF(Mapping!$D:$D,'Data BG'!$A94,Mapping!G:G)+SUMIF(Mapping!$B:$B,'Data BG'!$B94,Mapping!G:G)+SUMIF(Mapping!$C:$C,'Data BG'!$B94,Mapping!G:G)+SUMIF(Mapping!$D:$D,'Data BG'!$B94,Mapping!G:G)+SUMIF(Mapping!$B:$B,'Data BG'!$C94,Mapping!G:G)+SUMIF(Mapping!$C:$C,'Data BG'!$C94,Mapping!G:G)+SUMIF(Mapping!$D:$D,'Data BG'!$C94,Mapping!G:G)+SUMIF(Mapping!$B:$B,'Data BG'!$D94,Mapping!G:G)+SUMIF(Mapping!$C:$C,'Data BG'!$D94,Mapping!G:G)+SUMIF(Mapping!$D:$D,'Data BG'!$D94,Mapping!G:G)+SUMIF(Mapping!$B:$B,'Data BG'!$E94,Mapping!G:G)+SUMIF(Mapping!$C:$C,'Data BG'!$E94,Mapping!G:G)+SUMIF(Mapping!$D:$D,'Data BG'!$E94,Mapping!G:G)+SUMIF(Mapping!$B:$B,'Data BG'!$F94,Mapping!G:G)+SUMIF(Mapping!$C:$C,'Data BG'!$F94,Mapping!G:G)+SUMIF(Mapping!$D:$D,'Data BG'!$F94,Mapping!G:G)+SUMIF(Mapping!$B:$B,'Data BG'!$G94,Mapping!G:G)+SUMIF(Mapping!$C:$C,'Data BG'!$G94,Mapping!G:G)+SUMIF(Mapping!$D:$D,'Data BG'!$G94,Mapping!G:G)+SUMIF(Mapping!$B:$B,'Data BG'!$H94,Mapping!G:G)+SUMIF(Mapping!$C:$C,'Data BG'!$H94,Mapping!G:G)+SUMIF(Mapping!$D:$D,'Data BG'!$H94,Mapping!G:G)+SUMIF(Mapping!$B:$B,'Data BG'!$I94,Mapping!G:G)+SUMIF(Mapping!$C:$C,'Data BG'!$I94,Mapping!G:G)+SUMIF(Mapping!$D:$D,'Data BG'!$I94,Mapping!G:G)+SUMIF(Mapping!$B:$B,'Data BG'!$J94,Mapping!G:G)+SUMIF(Mapping!$C:$C,'Data BG'!$J94,Mapping!G:G)+SUMIF(Mapping!$D:$D,'Data BG'!$J94,Mapping!G:G)+SUMIF(Mapping!$B:$B,'Data BG'!$M94,Mapping!G:G)+SUMIF(Mapping!$C:$C,'Data BG'!$M94,Mapping!G:G)+SUMIF(Mapping!$D:$D,'Data BG'!$M94,Mapping!G:G)+SUMIF(Mapping!$B:$B,$N94,Mapping!G:G)+SUMIF(Mapping!$C:$C,$N94,Mapping!G:G)+SUMIF(Mapping!$D:$D,$N94,Mapping!G:G)+SUMIF(Mapping!$B:$B,'Data BG'!$K94,Mapping!G:G)+SUMIF(Mapping!$C:$C,'Data BG'!$K94,Mapping!G:G)+SUMIF(Mapping!$D:$D,'Data BG'!$K94,Mapping!G:G)+SUMIF(Mapping!$B:$B,'Data BG'!$L94,Mapping!G:G)+SUMIF(Mapping!$C:$C,'Data BG'!$L94,Mapping!G:G)+SUMIF(Mapping!$D:$D,'Data BG'!$L94,Mapping!G:G)","v":0},{"$f":"SUMIF(Mapping!$B:$B,'Data BG'!$A94,Mapping!H:H)+SUMIF(Mapping!$C:$C,'Data BG'!$A94,Mapping!H:H)+SUMIF(Mapping!$D:$D,'Data BG'!$A94,Mapping!H:H)+SUMIF(Mapping!$B:$B,'Data BG'!$B94,Mapping!H:H)+SUMIF(Mapping!$C:$C,'Data BG'!$B94,Mapping!H:H)+SUMIF(Mapping!$D:$D,'Data BG'!$B94,Mapping!H:H)+SUMIF(Mapping!$B:$B,'Data BG'!$C94,Mapping!H:H)+SUMIF(Mapping!$C:$C,'Data BG'!$C94,Mapping!H:H)+SUMIF(Mapping!$D:$D,'Data BG'!$C94,Mapping!H:H)+SUMIF(Mapping!$B:$B,'Data BG'!$D94,Mapping!H:H)+SUMIF(Mapping!$C:$C,'Data BG'!$D94,Mapping!H:H)+SUMIF(Mapping!$D:$D,'Data BG'!$D94,Mapping!H:H)+SUMIF(Mapping!$B:$B,'Data BG'!$E94,Mapping!H:H)+SUMIF(Mapping!$C:$C,'Data BG'!$E94,Mapping!H:H)+SUMIF(Mapping!$D:$D,'Data BG'!$E94,Mapping!H:H)+SUMIF(Mapping!$B:$B,'Data BG'!$F94,Mapping!H:H)+SUMIF(Mapping!$C:$C,'Data BG'!$F94,Mapping!H:H)+SUMIF(Mapping!$D:$D,'Data BG'!$F94,Mapping!H:H)+SUMIF(Mapping!$B:$B,'Data BG'!$G94,Mapping!H:H)+SUMIF(Mapping!$C:$C,'Data BG'!$G94,Mapping!H:H)+SUMIF(Mapping!$D:$D,'Data BG'!$G94,Mapping!H:H)+SUMIF(Mapping!$B:$B,'Data BG'!$H94,Mapping!H:H)+SUMIF(Mapping!$C:$C,'Data BG'!$H94,Mapping!H:H)+SUMIF(Mapping!$D:$D,'Data BG'!$H94,Mapping!H:H)+SUMIF(Mapping!$B:$B,'Data BG'!$I94,Mapping!H:H)+SUMIF(Mapping!$C:$C,'Data BG'!$I94,Mapping!H:H)+SUMIF(Mapping!$D:$D,'Data BG'!$I94,Mapping!H:H)+SUMIF(Mapping!$B:$B,'Data BG'!$J94,Mapping!H:H)+SUMIF(Mapping!$C:$C,'Data BG'!$J94,Mapping!H:H)+SUMIF(Mapping!$D:$D,'Data BG'!$J94,Mapping!H:H)+SUMIF(Mapping!$B:$B,'Data BG'!$M94,Mapping!H:H)+SUMIF(Mapping!$C:$C,'Data BG'!$M94,Mapping!H:H)+SUMIF(Mapping!$D:$D,'Data BG'!$M94,Mapping!H:H)+SUMIF(Mapping!$B:$B,$N94,Mapping!H:H)+SUMIF(Mapping!$C:$C,$N94,Mapping!H:H)+SUMIF(Mapping!$D:$D,$N94,Mapping!H:H)+SUMIF(Mapping!$B:$B,'Data BG'!$K94,Mapping!H:H)+SUMIF(Mapping!$C:$C,'Data BG'!$K94,Mapping!H:H)+SUMIF(Mapping!$D:$D,'Data BG'!$K94,Mapping!H:H)+SUMIF(Mapping!$B:$B,'Data BG'!$L94,Mapping!H:H)+SUMIF(Mapping!$C:$C,'Data BG'!$L94,Mapping!H:H)+SUMIF(Mapping!$D:$D,'Data BG'!$L94,Mapping!H:H)","v":0}]
[6533,null,null,null,null,null,null,null,null,null,null,null,null,null,null,null,null,"Prises en charge de dépenses électorales ",{"$f":"SUMIF(Mapping!$B:$B,'Data BG'!$A95,Mapping!G:G)+SUMIF(Mapping!$C:$C,'Data BG'!$A95,Mapping!G:G)+SUMIF(Mapping!$D:$D,'Data BG'!$A95,Mapping!G:G)+SUMIF(Mapping!$B:$B,'Data BG'!$B95,Mapping!G:G)+SUMIF(Mapping!$C:$C,'Data BG'!$B95,Mapping!G:G)+SUMIF(Mapping!$D:$D,'Data BG'!$B95,Mapping!G:G)+SUMIF(Mapping!$B:$B,'Data BG'!$C95,Mapping!G:G)+SUMIF(Mapping!$C:$C,'Data BG'!$C95,Mapping!G:G)+SUMIF(Mapping!$D:$D,'Data BG'!$C95,Mapping!G:G)+SUMIF(Mapping!$B:$B,'Data BG'!$D95,Mapping!G:G)+SUMIF(Mapping!$C:$C,'Data BG'!$D95,Mapping!G:G)+SUMIF(Mapping!$D:$D,'Data BG'!$D95,Mapping!G:G)+SUMIF(Mapping!$B:$B,'Data BG'!$E95,Mapping!G:G)+SUMIF(Mapping!$C:$C,'Data BG'!$E95,Mapping!G:G)+SUMIF(Mapping!$D:$D,'Data BG'!$E95,Mapping!G:G)+SUMIF(Mapping!$B:$B,'Data BG'!$F95,Mapping!G:G)+SUMIF(Mapping!$C:$C,'Data BG'!$F95,Mapping!G:G)+SUMIF(Mapping!$D:$D,'Data BG'!$F95,Mapping!G:G)+SUMIF(Mapping!$B:$B,'Data BG'!$G95,Mapping!G:G)+SUMIF(Mapping!$C:$C,'Data BG'!$G95,Mapping!G:G)+SUMIF(Mapping!$D:$D,'Data BG'!$G95,Mapping!G:G)+SUMIF(Mapping!$B:$B,'Data BG'!$H95,Mapping!G:G)+SUMIF(Mapping!$C:$C,'Data BG'!$H95,Mapping!G:G)+SUMIF(Mapping!$D:$D,'Data BG'!$H95,Mapping!G:G)+SUMIF(Mapping!$B:$B,'Data BG'!$I95,Mapping!G:G)+SUMIF(Mapping!$C:$C,'Data BG'!$I95,Mapping!G:G)+SUMIF(Mapping!$D:$D,'Data BG'!$I95,Mapping!G:G)+SUMIF(Mapping!$B:$B,'Data BG'!$J95,Mapping!G:G)+SUMIF(Mapping!$C:$C,'Data BG'!$J95,Mapping!G:G)+SUMIF(Mapping!$D:$D,'Data BG'!$J95,Mapping!G:G)+SUMIF(Mapping!$B:$B,'Data BG'!$M95,Mapping!G:G)+SUMIF(Mapping!$C:$C,'Data BG'!$M95,Mapping!G:G)+SUMIF(Mapping!$D:$D,'Data BG'!$M95,Mapping!G:G)+SUMIF(Mapping!$B:$B,$N95,Mapping!G:G)+SUMIF(Mapping!$C:$C,$N95,Mapping!G:G)+SUMIF(Mapping!$D:$D,$N95,Mapping!G:G)+SUMIF(Mapping!$B:$B,'Data BG'!$K95,Mapping!G:G)+SUMIF(Mapping!$C:$C,'Data BG'!$K95,Mapping!G:G)+SUMIF(Mapping!$D:$D,'Data BG'!$K95,Mapping!G:G)+SUMIF(Mapping!$B:$B,'Data BG'!$L95,Mapping!G:G)+SUMIF(Mapping!$C:$C,'Data BG'!$L95,Mapping!G:G)+SUMIF(Mapping!$D:$D,'Data BG'!$L95,Mapping!G:G)","v":0},{"$f":"SUMIF(Mapping!$B:$B,'Data BG'!$A95,Mapping!H:H)+SUMIF(Mapping!$C:$C,'Data BG'!$A95,Mapping!H:H)+SUMIF(Mapping!$D:$D,'Data BG'!$A95,Mapping!H:H)+SUMIF(Mapping!$B:$B,'Data BG'!$B95,Mapping!H:H)+SUMIF(Mapping!$C:$C,'Data BG'!$B95,Mapping!H:H)+SUMIF(Mapping!$D:$D,'Data BG'!$B95,Mapping!H:H)+SUMIF(Mapping!$B:$B,'Data BG'!$C95,Mapping!H:H)+SUMIF(Mapping!$C:$C,'Data BG'!$C95,Mapping!H:H)+SUMIF(Mapping!$D:$D,'Data BG'!$C95,Mapping!H:H)+SUMIF(Mapping!$B:$B,'Data BG'!$D95,Mapping!H:H)+SUMIF(Mapping!$C:$C,'Data BG'!$D95,Mapping!H:H)+SUMIF(Mapping!$D:$D,'Data BG'!$D95,Mapping!H:H)+SUMIF(Mapping!$B:$B,'Data BG'!$E95,Mapping!H:H)+SUMIF(Mapping!$C:$C,'Data BG'!$E95,Mapping!H:H)+SUMIF(Mapping!$D:$D,'Data BG'!$E95,Mapping!H:H)+SUMIF(Mapping!$B:$B,'Data BG'!$F95,Mapping!H:H)+SUMIF(Mapping!$C:$C,'Data BG'!$F95,Mapping!H:H)+SUMIF(Mapping!$D:$D,'Data BG'!$F95,Mapping!H:H)+SUMIF(Mapping!$B:$B,'Data BG'!$G95,Mapping!H:H)+SUMIF(Mapping!$C:$C,'Data BG'!$G95,Mapping!H:H)+SUMIF(Mapping!$D:$D,'Data BG'!$G95,Mapping!H:H)+SUMIF(Mapping!$B:$B,'Data BG'!$H95,Mapping!H:H)+SUMIF(Mapping!$C:$C,'Data BG'!$H95,Mapping!H:H)+SUMIF(Mapping!$D:$D,'Data BG'!$H95,Mapping!H:H)+SUMIF(Mapping!$B:$B,'Data BG'!$I95,Mapping!H:H)+SUMIF(Mapping!$C:$C,'Data BG'!$I95,Mapping!H:H)+SUMIF(Mapping!$D:$D,'Data BG'!$I95,Mapping!H:H)+SUMIF(Mapping!$B:$B,'Data BG'!$J95,Mapping!H:H)+SUMIF(Mapping!$C:$C,'Data BG'!$J95,Mapping!H:H)+SUMIF(Mapping!$D:$D,'Data BG'!$J95,Mapping!H:H)+SUMIF(Mapping!$B:$B,'Data BG'!$M95,Mapping!H:H)+SUMIF(Mapping!$C:$C,'Data BG'!$M95,Mapping!H:H)+SUMIF(Mapping!$D:$D,'Data BG'!$M95,Mapping!H:H)+SUMIF(Mapping!$B:$B,$N95,Mapping!H:H)+SUMIF(Mapping!$C:$C,$N95,Mapping!H:H)+SUMIF(Mapping!$D:$D,$N95,Mapping!H:H)+SUMIF(Mapping!$B:$B,'Data BG'!$K95,Mapping!H:H)+SUMIF(Mapping!$C:$C,'Data BG'!$K95,Mapping!H:H)+SUMIF(Mapping!$D:$D,'Data BG'!$K95,Mapping!H:H)+SUMIF(Mapping!$B:$B,'Data BG'!$L95,Mapping!H:H)+SUMIF(Mapping!$C:$C,'Data BG'!$L95,Mapping!H:H)+SUMIF(Mapping!$D:$D,'Data BG'!$L95,Mapping!H:H)","v":0}]
[null,null,null,null,null,null,null,null,null,null,null,null,null,null,null,null,null,"Autres contributions à des entités hors périmètre "]
[6535,null,null,null,null,null,null,null,null,null,null,null,null,null,null,null,null,"Contributions à des partis ou groupement politiques ",{"$f":"SUMIF(Mapping!$B:$B,'Data BG'!$A97,Mapping!G:G)+SUMIF(Mapping!$C:$C,'Data BG'!$A97,Mapping!G:G)+SUMIF(Mapping!$D:$D,'Data BG'!$A97,Mapping!G:G)+SUMIF(Mapping!$B:$B,'Data BG'!$B97,Mapping!G:G)+SUMIF(Mapping!$C:$C,'Data BG'!$B97,Mapping!G:G)+SUMIF(Mapping!$D:$D,'Data BG'!$B97,Mapping!G:G)+SUMIF(Mapping!$B:$B,'Data BG'!$C97,Mapping!G:G)+SUMIF(Mapping!$C:$C,'Data BG'!$C97,Mapping!G:G)+SUMIF(Mapping!$D:$D,'Data BG'!$C97,Mapping!G:G)+SUMIF(Mapping!$B:$B,'Data BG'!$D97,Mapping!G:G)+SUMIF(Mapping!$C:$C,'Data BG'!$D97,Mapping!G:G)+SUMIF(Mapping!$D:$D,'Data BG'!$D97,Mapping!G:G)+SUMIF(Mapping!$B:$B,'Data BG'!$E97,Mapping!G:G)+SUMIF(Mapping!$C:$C,'Data BG'!$E97,Mapping!G:G)+SUMIF(Mapping!$D:$D,'Data BG'!$E97,Mapping!G:G)+SUMIF(Mapping!$B:$B,'Data BG'!$F97,Mapping!G:G)+SUMIF(Mapping!$C:$C,'Data BG'!$F97,Mapping!G:G)+SUMIF(Mapping!$D:$D,'Data BG'!$F97,Mapping!G:G)+SUMIF(Mapping!$B:$B,'Data BG'!$G97,Mapping!G:G)+SUMIF(Mapping!$C:$C,'Data BG'!$G97,Mapping!G:G)+SUMIF(Mapping!$D:$D,'Data BG'!$G97,Mapping!G:G)+SUMIF(Mapping!$B:$B,'Data BG'!$H97,Mapping!G:G)+SUMIF(Mapping!$C:$C,'Data BG'!$H97,Mapping!G:G)+SUMIF(Mapping!$D:$D,'Data BG'!$H97,Mapping!G:G)+SUMIF(Mapping!$B:$B,'Data BG'!$I97,Mapping!G:G)+SUMIF(Mapping!$C:$C,'Data BG'!$I97,Mapping!G:G)+SUMIF(Mapping!$D:$D,'Data BG'!$I97,Mapping!G:G)+SUMIF(Mapping!$B:$B,'Data BG'!$J97,Mapping!G:G)+SUMIF(Mapping!$C:$C,'Data BG'!$J97,Mapping!G:G)+SUMIF(Mapping!$D:$D,'Data BG'!$J97,Mapping!G:G)+SUMIF(Mapping!$B:$B,'Data BG'!$M97,Mapping!G:G)+SUMIF(Mapping!$C:$C,'Data BG'!$M97,Mapping!G:G)+SUMIF(Mapping!$D:$D,'Data BG'!$M97,Mapping!G:G)+SUMIF(Mapping!$B:$B,$N97,Mapping!G:G)+SUMIF(Mapping!$C:$C,$N97,Mapping!G:G)+SUMIF(Mapping!$D:$D,$N97,Mapping!G:G)+SUMIF(Mapping!$B:$B,'Data BG'!$K97,Mapping!G:G)+SUMIF(Mapping!$C:$C,'Data BG'!$K97,Mapping!G:G)+SUMIF(Mapping!$D:$D,'Data BG'!$K97,Mapping!G:G)+SUMIF(Mapping!$B:$B,'Data BG'!$L97,Mapping!G:G)+SUMIF(Mapping!$C:$C,'Data BG'!$L97,Mapping!G:G)+SUMIF(Mapping!$D:$D,'Data BG'!$L97,Mapping!G:G)","v":0},{"$f":"SUMIF(Mapping!$B:$B,'Data BG'!$A97,Mapping!H:H)+SUMIF(Mapping!$C:$C,'Data BG'!$A97,Mapping!H:H)+SUMIF(Mapping!$D:$D,'Data BG'!$A97,Mapping!H:H)+SUMIF(Mapping!$B:$B,'Data BG'!$B97,Mapping!H:H)+SUMIF(Mapping!$C:$C,'Data BG'!$B97,Mapping!H:H)+SUMIF(Mapping!$D:$D,'Data BG'!$B97,Mapping!H:H)+SUMIF(Mapping!$B:$B,'Data BG'!$C97,Mapping!H:H)+SUMIF(Mapping!$C:$C,'Data BG'!$C97,Mapping!H:H)+SUMIF(Mapping!$D:$D,'Data BG'!$C97,Mapping!H:H)+SUMIF(Mapping!$B:$B,'Data BG'!$D97,Mapping!H:H)+SUMIF(Mapping!$C:$C,'Data BG'!$D97,Mapping!H:H)+SUMIF(Mapping!$D:$D,'Data BG'!$D97,Mapping!H:H)+SUMIF(Mapping!$B:$B,'Data BG'!$E97,Mapping!H:H)+SUMIF(Mapping!$C:$C,'Data BG'!$E97,Mapping!H:H)+SUMIF(Mapping!$D:$D,'Data BG'!$E97,Mapping!H:H)+SUMIF(Mapping!$B:$B,'Data BG'!$F97,Mapping!H:H)+SUMIF(Mapping!$C:$C,'Data BG'!$F97,Mapping!H:H)+SUMIF(Mapping!$D:$D,'Data BG'!$F97,Mapping!H:H)+SUMIF(Mapping!$B:$B,'Data BG'!$G97,Mapping!H:H)+SUMIF(Mapping!$C:$C,'Data BG'!$G97,Mapping!H:H)+SUMIF(Mapping!$D:$D,'Data BG'!$G97,Mapping!H:H)+SUMIF(Mapping!$B:$B,'Data BG'!$H97,Mapping!H:H)+SUMIF(Mapping!$C:$C,'Data BG'!$H97,Mapping!H:H)+SUMIF(Mapping!$D:$D,'Data BG'!$H97,Mapping!H:H)+SUMIF(Mapping!$B:$B,'Data BG'!$I97,Mapping!H:H)+SUMIF(Mapping!$C:$C,'Data BG'!$I97,Mapping!H:H)+SUMIF(Mapping!$D:$D,'Data BG'!$I97,Mapping!H:H)+SUMIF(Mapping!$B:$B,'Data BG'!$J97,Mapping!H:H)+SUMIF(Mapping!$C:$C,'Data BG'!$J97,Mapping!H:H)+SUMIF(Mapping!$D:$D,'Data BG'!$J97,Mapping!H:H)+SUMIF(Mapping!$B:$B,'Data BG'!$M97,Mapping!H:H)+SUMIF(Mapping!$C:$C,'Data BG'!$M97,Mapping!H:H)+SUMIF(Mapping!$D:$D,'Data BG'!$M97,Mapping!H:H)+SUMIF(Mapping!$B:$B,$N97,Mapping!H:H)+SUMIF(Mapping!$C:$C,$N97,Mapping!H:H)+SUMIF(Mapping!$D:$D,$N97,Mapping!H:H)+SUMIF(Mapping!$B:$B,'Data BG'!$K97,Mapping!H:H)+SUMIF(Mapping!$C:$C,'Data BG'!$K97,Mapping!H:H)+SUMIF(Mapping!$D:$D,'Data BG'!$K97,Mapping!H:H)+SUMIF(Mapping!$B:$B,'Data BG'!$L97,Mapping!H:H)+SUMIF(Mapping!$C:$C,'Data BG'!$L97,Mapping!H:H)+SUMIF(Mapping!$D:$D,'Data BG'!$L97,Mapping!H:H)","v":0}]
[6534,null,null,null,null,null,null,null,null,null,null,null,null,null,null,null,null,"Contributions à des organisations territoriales ou spécialisées du parti ",{"$f":"SUMIF(Mapping!$B:$B,'Data BG'!$A98,Mapping!G:G)+SUMIF(Mapping!$C:$C,'Data BG'!$A98,Mapping!G:G)+SUMIF(Mapping!$D:$D,'Data BG'!$A98,Mapping!G:G)+SUMIF(Mapping!$B:$B,'Data BG'!$B98,Mapping!G:G)+SUMIF(Mapping!$C:$C,'Data BG'!$B98,Mapping!G:G)+SUMIF(Mapping!$D:$D,'Data BG'!$B98,Mapping!G:G)+SUMIF(Mapping!$B:$B,'Data BG'!$C98,Mapping!G:G)+SUMIF(Mapping!$C:$C,'Data BG'!$C98,Mapping!G:G)+SUMIF(Mapping!$D:$D,'Data BG'!$C98,Mapping!G:G)+SUMIF(Mapping!$B:$B,'Data BG'!$D98,Mapping!G:G)+SUMIF(Mapping!$C:$C,'Data BG'!$D98,Mapping!G:G)+SUMIF(Mapping!$D:$D,'Data BG'!$D98,Mapping!G:G)+SUMIF(Mapping!$B:$B,'Data BG'!$E98,Mapping!G:G)+SUMIF(Mapping!$C:$C,'Data BG'!$E98,Mapping!G:G)+SUMIF(Mapping!$D:$D,'Data BG'!$E98,Mapping!G:G)+SUMIF(Mapping!$B:$B,'Data BG'!$F98,Mapping!G:G)+SUMIF(Mapping!$C:$C,'Data BG'!$F98,Mapping!G:G)+SUMIF(Mapping!$D:$D,'Data BG'!$F98,Mapping!G:G)+SUMIF(Mapping!$B:$B,'Data BG'!$G98,Mapping!G:G)+SUMIF(Mapping!$C:$C,'Data BG'!$G98,Mapping!G:G)+SUMIF(Mapping!$D:$D,'Data BG'!$G98,Mapping!G:G)+SUMIF(Mapping!$B:$B,'Data BG'!$H98,Mapping!G:G)+SUMIF(Mapping!$C:$C,'Data BG'!$H98,Mapping!G:G)+SUMIF(Mapping!$D:$D,'Data BG'!$H98,Mapping!G:G)+SUMIF(Mapping!$B:$B,'Data BG'!$I98,Mapping!G:G)+SUMIF(Mapping!$C:$C,'Data BG'!$I98,Mapping!G:G)+SUMIF(Mapping!$D:$D,'Data BG'!$I98,Mapping!G:G)+SUMIF(Mapping!$B:$B,'Data BG'!$J98,Mapping!G:G)+SUMIF(Mapping!$C:$C,'Data BG'!$J98,Mapping!G:G)+SUMIF(Mapping!$D:$D,'Data BG'!$J98,Mapping!G:G)+SUMIF(Mapping!$B:$B,'Data BG'!$M98,Mapping!G:G)+SUMIF(Mapping!$C:$C,'Data BG'!$M98,Mapping!G:G)+SUMIF(Mapping!$D:$D,'Data BG'!$M98,Mapping!G:G)+SUMIF(Mapping!$B:$B,$N98,Mapping!G:G)+SUMIF(Mapping!$C:$C,$N98,Mapping!G:G)+SUMIF(Mapping!$D:$D,$N98,Mapping!G:G)+SUMIF(Mapping!$B:$B,'Data BG'!$K98,Mapping!G:G)+SUMIF(Mapping!$C:$C,'Data BG'!$K98,Mapping!G:G)+SUMIF(Mapping!$D:$D,'Data BG'!$K98,Mapping!G:G)+SUMIF(Mapping!$B:$B,'Data BG'!$L98,Mapping!G:G)+SUMIF(Mapping!$C:$C,'Data BG'!$L98,Mapping!G:G)+SUMIF(Mapping!$D:$D,'Data BG'!$L98,Mapping!G:G)","v":0},{"$f":"SUMIF(Mapping!$B:$B,'Data BG'!$A98,Mapping!H:H)+SUMIF(Mapping!$C:$C,'Data BG'!$A98,Mapping!H:H)+SUMIF(Mapping!$D:$D,'Data BG'!$A98,Mapping!H:H)+SUMIF(Mapping!$B:$B,'Data BG'!$B98,Mapping!H:H)+SUMIF(Mapping!$C:$C,'Data BG'!$B98,Mapping!H:H)+SUMIF(Mapping!$D:$D,'Data BG'!$B98,Mapping!H:H)+SUMIF(Mapping!$B:$B,'Data BG'!$C98,Mapping!H:H)+SUMIF(Mapping!$C:$C,'Data BG'!$C98,Mapping!H:H)+SUMIF(Mapping!$D:$D,'Data BG'!$C98,Mapping!H:H)+SUMIF(Mapping!$B:$B,'Data BG'!$D98,Mapping!H:H)+SUMIF(Mapping!$C:$C,'Data BG'!$D98,Mapping!H:H)+SUMIF(Mapping!$D:$D,'Data BG'!$D98,Mapping!H:H)+SUMIF(Mapping!$B:$B,'Data BG'!$E98,Mapping!H:H)+SUMIF(Mapping!$C:$C,'Data BG'!$E98,Mapping!H:H)+SUMIF(Mapping!$D:$D,'Data BG'!$E98,Mapping!H:H)+SUMIF(Mapping!$B:$B,'Data BG'!$F98,Mapping!H:H)+SUMIF(Mapping!$C:$C,'Data BG'!$F98,Mapping!H:H)+SUMIF(Mapping!$D:$D,'Data BG'!$F98,Mapping!H:H)+SUMIF(Mapping!$B:$B,'Data BG'!$G98,Mapping!H:H)+SUMIF(Mapping!$C:$C,'Data BG'!$G98,Mapping!H:H)+SUMIF(Mapping!$D:$D,'Data BG'!$G98,Mapping!H:H)+SUMIF(Mapping!$B:$B,'Data BG'!$H98,Mapping!H:H)+SUMIF(Mapping!$C:$C,'Data BG'!$H98,Mapping!H:H)+SUMIF(Mapping!$D:$D,'Data BG'!$H98,Mapping!H:H)+SUMIF(Mapping!$B:$B,'Data BG'!$I98,Mapping!H:H)+SUMIF(Mapping!$C:$C,'Data BG'!$I98,Mapping!H:H)+SUMIF(Mapping!$D:$D,'Data BG'!$I98,Mapping!H:H)+SUMIF(Mapping!$B:$B,'Data BG'!$J98,Mapping!H:H)+SUMIF(Mapping!$C:$C,'Data BG'!$J98,Mapping!H:H)+SUMIF(Mapping!$D:$D,'Data BG'!$J98,Mapping!H:H)+SUMIF(Mapping!$B:$B,'Data BG'!$M98,Mapping!H:H)+SUMIF(Mapping!$C:$C,'Data BG'!$M98,Mapping!H:H)+SUMIF(Mapping!$D:$D,'Data BG'!$M98,Mapping!H:H)+SUMIF(Mapping!$B:$B,$N98,Mapping!H:H)+SUMIF(Mapping!$C:$C,$N98,Mapping!H:H)+SUMIF(Mapping!$D:$D,$N98,Mapping!H:H)+SUMIF(Mapping!$B:$B,'Data BG'!$K98,Mapping!H:H)+SUMIF(Mapping!$C:$C,'Data BG'!$K98,Mapping!H:H)+SUMIF(Mapping!$D:$D,'Data BG'!$K98,Mapping!H:H)+SUMIF(Mapping!$B:$B,'Data BG'!$L98,Mapping!H:H)+SUMIF(Mapping!$C:$C,'Data BG'!$L98,Mapping!H:H)+SUMIF(Mapping!$D:$D,'Data BG'!$L98,Mapping!H:H)","v":0}]
[6536,null,null,null,null,null,null,null,null,null,null,null,null,null,null,null,null,"Contributions à d'autres organismes ",{"$f":"SUMIF(Mapping!$B:$B,'Data BG'!$A99,Mapping!G:G)+SUMIF(Mapping!$C:$C,'Data BG'!$A99,Mapping!G:G)+SUMIF(Mapping!$D:$D,'Data BG'!$A99,Mapping!G:G)+SUMIF(Mapping!$B:$B,'Data BG'!$B99,Mapping!G:G)+SUMIF(Mapping!$C:$C,'Data BG'!$B99,Mapping!G:G)+SUMIF(Mapping!$D:$D,'Data BG'!$B99,Mapping!G:G)+SUMIF(Mapping!$B:$B,'Data BG'!$C99,Mapping!G:G)+SUMIF(Mapping!$C:$C,'Data BG'!$C99,Mapping!G:G)+SUMIF(Mapping!$D:$D,'Data BG'!$C99,Mapping!G:G)+SUMIF(Mapping!$B:$B,'Data BG'!$D99,Mapping!G:G)+SUMIF(Mapping!$C:$C,'Data BG'!$D99,Mapping!G:G)+SUMIF(Mapping!$D:$D,'Data BG'!$D99,Mapping!G:G)+SUMIF(Mapping!$B:$B,'Data BG'!$E99,Mapping!G:G)+SUMIF(Mapping!$C:$C,'Data BG'!$E99,Mapping!G:G)+SUMIF(Mapping!$D:$D,'Data BG'!$E99,Mapping!G:G)+SUMIF(Mapping!$B:$B,'Data BG'!$F99,Mapping!G:G)+SUMIF(Mapping!$C:$C,'Data BG'!$F99,Mapping!G:G)+SUMIF(Mapping!$D:$D,'Data BG'!$F99,Mapping!G:G)+SUMIF(Mapping!$B:$B,'Data BG'!$G99,Mapping!G:G)+SUMIF(Mapping!$C:$C,'Data BG'!$G99,Mapping!G:G)+SUMIF(Mapping!$D:$D,'Data BG'!$G99,Mapping!G:G)+SUMIF(Mapping!$B:$B,'Data BG'!$H99,Mapping!G:G)+SUMIF(Mapping!$C:$C,'Data BG'!$H99,Mapping!G:G)+SUMIF(Mapping!$D:$D,'Data BG'!$H99,Mapping!G:G)+SUMIF(Mapping!$B:$B,'Data BG'!$I99,Mapping!G:G)+SUMIF(Mapping!$C:$C,'Data BG'!$I99,Mapping!G:G)+SUMIF(Mapping!$D:$D,'Data BG'!$I99,Mapping!G:G)+SUMIF(Mapping!$B:$B,'Data BG'!$J99,Mapping!G:G)+SUMIF(Mapping!$C:$C,'Data BG'!$J99,Mapping!G:G)+SUMIF(Mapping!$D:$D,'Data BG'!$J99,Mapping!G:G)+SUMIF(Mapping!$B:$B,'Data BG'!$M99,Mapping!G:G)+SUMIF(Mapping!$C:$C,'Data BG'!$M99,Mapping!G:G)+SUMIF(Mapping!$D:$D,'Data BG'!$M99,Mapping!G:G)+SUMIF(Mapping!$B:$B,$N99,Mapping!G:G)+SUMIF(Mapping!$C:$C,$N99,Mapping!G:G)+SUMIF(Mapping!$D:$D,$N99,Mapping!G:G)+SUMIF(Mapping!$B:$B,'Data BG'!$K99,Mapping!G:G)+SUMIF(Mapping!$C:$C,'Data BG'!$K99,Mapping!G:G)+SUMIF(Mapping!$D:$D,'Data BG'!$K99,Mapping!G:G)+SUMIF(Mapping!$B:$B,'Data BG'!$L99,Mapping!G:G)+SUMIF(Mapping!$C:$C,'Data BG'!$L99,Mapping!G:G)+SUMIF(Mapping!$D:$D,'Data BG'!$L99,Mapping!G:G)","v":0},{"$f":"SUMIF(Mapping!$B:$B,'Data BG'!$A99,Mapping!H:H)+SUMIF(Mapping!$C:$C,'Data BG'!$A99,Mapping!H:H)+SUMIF(Mapping!$D:$D,'Data BG'!$A99,Mapping!H:H)+SUMIF(Mapping!$B:$B,'Data BG'!$B99,Mapping!H:H)+SUMIF(Mapping!$C:$C,'Data BG'!$B99,Mapping!H:H)+SUMIF(Mapping!$D:$D,'Data BG'!$B99,Mapping!H:H)+SUMIF(Mapping!$B:$B,'Data BG'!$C99,Mapping!H:H)+SUMIF(Mapping!$C:$C,'Data BG'!$C99,Mapping!H:H)+SUMIF(Mapping!$D:$D,'Data BG'!$C99,Mapping!H:H)+SUMIF(Mapping!$B:$B,'Data BG'!$D99,Mapping!H:H)+SUMIF(Mapping!$C:$C,'Data BG'!$D99,Mapping!H:H)+SUMIF(Mapping!$D:$D,'Data BG'!$D99,Mapping!H:H)+SUMIF(Mapping!$B:$B,'Data BG'!$E99,Mapping!H:H)+SUMIF(Mapping!$C:$C,'Data BG'!$E99,Mapping!H:H)+SUMIF(Mapping!$D:$D,'Data BG'!$E99,Mapping!H:H)+SUMIF(Mapping!$B:$B,'Data BG'!$F99,Mapping!H:H)+SUMIF(Mapping!$C:$C,'Data BG'!$F99,Mapping!H:H)+SUMIF(Mapping!$D:$D,'Data BG'!$F99,Mapping!H:H)+SUMIF(Mapping!$B:$B,'Data BG'!$G99,Mapping!H:H)+SUMIF(Mapping!$C:$C,'Data BG'!$G99,Mapping!H:H)+SUMIF(Mapping!$D:$D,'Data BG'!$G99,Mapping!H:H)+SUMIF(Mapping!$B:$B,'Data BG'!$H99,Mapping!H:H)+SUMIF(Mapping!$C:$C,'Data BG'!$H99,Mapping!H:H)+SUMIF(Mapping!$D:$D,'Data BG'!$H99,Mapping!H:H)+SUMIF(Mapping!$B:$B,'Data BG'!$I99,Mapping!H:H)+SUMIF(Mapping!$C:$C,'Data BG'!$I99,Mapping!H:H)+SUMIF(Mapping!$D:$D,'Data BG'!$I99,Mapping!H:H)+SUMIF(Mapping!$B:$B,'Data BG'!$J99,Mapping!H:H)+SUMIF(Mapping!$C:$C,'Data BG'!$J99,Mapping!H:H)+SUMIF(Mapping!$D:$D,'Data BG'!$J99,Mapping!H:H)+SUMIF(Mapping!$B:$B,'Data BG'!$M99,Mapping!H:H)+SUMIF(Mapping!$C:$C,'Data BG'!$M99,Mapping!H:H)+SUMIF(Mapping!$D:$D,'Data BG'!$M99,Mapping!H:H)+SUMIF(Mapping!$B:$B,$N99,Mapping!H:H)+SUMIF(Mapping!$C:$C,$N99,Mapping!H:H)+SUMIF(Mapping!$D:$D,$N99,Mapping!H:H)+SUMIF(Mapping!$B:$B,'Data BG'!$K99,Mapping!H:H)+SUMIF(Mapping!$C:$C,'Data BG'!$K99,Mapping!H:H)+SUMIF(Mapping!$D:$D,'Data BG'!$K99,Mapping!H:H)+SUMIF(Mapping!$B:$B,'Data BG'!$L99,Mapping!H:H)+SUMIF(Mapping!$C:$C,'Data BG'!$L99,Mapping!H:H)+SUMIF(Mapping!$D:$D,'Data BG'!$L99,Mapping!H:H)","v":0}]
[601,602,603,607,609,null,null,null,null,null,null,null,null,null,null,null,null,"Achats de marchandises et variation de stocks ",{"$f":"SUMIF(Mapping!$B:$B,'Data BG'!$A100,Mapping!G:G)+SUMIF(Mapping!$C:$C,'Data BG'!$A100,Mapping!G:G)+SUMIF(Mapping!$D:$D,'Data BG'!$A100,Mapping!G:G)+SUMIF(Mapping!$B:$B,'Data BG'!$B100,Mapping!G:G)+SUMIF(Mapping!$C:$C,'Data BG'!$B100,Mapping!G:G)+SUMIF(Mapping!$D:$D,'Data BG'!$B100,Mapping!G:G)+SUMIF(Mapping!$B:$B,'Data BG'!$C100,Mapping!G:G)+SUMIF(Mapping!$C:$C,'Data BG'!$C100,Mapping!G:G)+SUMIF(Mapping!$D:$D,'Data BG'!$C100,Mapping!G:G)+SUMIF(Mapping!$B:$B,'Data BG'!$D100,Mapping!G:G)+SUMIF(Mapping!$C:$C,'Data BG'!$D100,Mapping!G:G)+SUMIF(Mapping!$D:$D,'Data BG'!$D100,Mapping!G:G)+SUMIF(Mapping!$B:$B,'Data BG'!$E100,Mapping!G:G)+SUMIF(Mapping!$C:$C,'Data BG'!$E100,Mapping!G:G)+SUMIF(Mapping!$D:$D,'Data BG'!$E100,Mapping!G:G)+SUMIF(Mapping!$B:$B,'Data BG'!$F100,Mapping!G:G)+SUMIF(Mapping!$C:$C,'Data BG'!$F100,Mapping!G:G)+SUMIF(Mapping!$D:$D,'Data BG'!$F100,Mapping!G:G)+SUMIF(Mapping!$B:$B,'Data BG'!$G100,Mapping!G:G)+SUMIF(Mapping!$C:$C,'Data BG'!$G100,Mapping!G:G)+SUMIF(Mapping!$D:$D,'Data BG'!$G100,Mapping!G:G)+SUMIF(Mapping!$B:$B,'Data BG'!$H100,Mapping!G:G)+SUMIF(Mapping!$C:$C,'Data BG'!$H100,Mapping!G:G)+SUMIF(Mapping!$D:$D,'Data BG'!$H100,Mapping!G:G)+SUMIF(Mapping!$B:$B,'Data BG'!$I100,Mapping!G:G)+SUMIF(Mapping!$C:$C,'Data BG'!$I100,Mapping!G:G)+SUMIF(Mapping!$D:$D,'Data BG'!$I100,Mapping!G:G)+SUMIF(Mapping!$B:$B,'Data BG'!$J100,Mapping!G:G)+SUMIF(Mapping!$C:$C,'Data BG'!$J100,Mapping!G:G)+SUMIF(Mapping!$D:$D,'Data BG'!$J100,Mapping!G:G)+SUMIF(Mapping!$B:$B,'Data BG'!$M100,Mapping!G:G)+SUMIF(Mapping!$C:$C,'Data BG'!$M100,Mapping!G:G)+SUMIF(Mapping!$D:$D,'Data BG'!$M100,Mapping!G:G)+SUMIF(Mapping!$B:$B,$N100,Mapping!G:G)+SUMIF(Mapping!$C:$C,$N100,Mapping!G:G)+SUMIF(Mapping!$D:$D,$N100,Mapping!G:G)+SUMIF(Mapping!$B:$B,'Data BG'!$K100,Mapping!G:G)+SUMIF(Mapping!$C:$C,'Data BG'!$K100,Mapping!G:G)+SUMIF(Mapping!$D:$D,'Data BG'!$K100,Mapping!G:G)+SUMIF(Mapping!$B:$B,'Data BG'!$L100,Mapping!G:G)+SUMIF(Mapping!$C:$C,'Data BG'!$L100,Mapping!G:G)+SUMIF(Mapping!$D:$D,'Data BG'!$L100,Mapping!G:G)","v":0},{"$f":"SUMIF(Mapping!$B:$B,'Data BG'!$A100,Mapping!H:H)+SUMIF(Mapping!$C:$C,'Data BG'!$A100,Mapping!H:H)+SUMIF(Mapping!$D:$D,'Data BG'!$A100,Mapping!H:H)+SUMIF(Mapping!$B:$B,'Data BG'!$B100,Mapping!H:H)+SUMIF(Mapping!$C:$C,'Data BG'!$B100,Mapping!H:H)+SUMIF(Mapping!$D:$D,'Data BG'!$B100,Mapping!H:H)+SUMIF(Mapping!$B:$B,'Data BG'!$C100,Mapping!H:H)+SUMIF(Mapping!$C:$C,'Data BG'!$C100,Mapping!H:H)+SUMIF(Mapping!$D:$D,'Data BG'!$C100,Mapping!H:H)+SUMIF(Mapping!$B:$B,'Data BG'!$D100,Mapping!H:H)+SUMIF(Mapping!$C:$C,'Data BG'!$D100,Mapping!H:H)+SUMIF(Mapping!$D:$D,'Data BG'!$D100,Mapping!H:H)+SUMIF(Mapping!$B:$B,'Data BG'!$E100,Mapping!H:H)+SUMIF(Mapping!$C:$C,'Data BG'!$E100,Mapping!H:H)+SUMIF(Mapping!$D:$D,'Data BG'!$E100,Mapping!H:H)+SUMIF(Mapping!$B:$B,'Data BG'!$F100,Mapping!H:H)+SUMIF(Mapping!$C:$C,'Data BG'!$F100,Mapping!H:H)+SUMIF(Mapping!$D:$D,'Data BG'!$F100,Mapping!H:H)+SUMIF(Mapping!$B:$B,'Data BG'!$G100,Mapping!H:H)+SUMIF(Mapping!$C:$C,'Data BG'!$G100,Mapping!H:H)+SUMIF(Mapping!$D:$D,'Data BG'!$G100,Mapping!H:H)+SUMIF(Mapping!$B:$B,'Data BG'!$H100,Mapping!H:H)+SUMIF(Mapping!$C:$C,'Data BG'!$H100,Mapping!H:H)+SUMIF(Mapping!$D:$D,'Data BG'!$H100,Mapping!H:H)+SUMIF(Mapping!$B:$B,'Data BG'!$I100,Mapping!H:H)+SUMIF(Mapping!$C:$C,'Data BG'!$I100,Mapping!H:H)+SUMIF(Mapping!$D:$D,'Data BG'!$I100,Mapping!H:H)+SUMIF(Mapping!$B:$B,'Data BG'!$J100,Mapping!H:H)+SUMIF(Mapping!$C:$C,'Data BG'!$J100,Mapping!H:H)+SUMIF(Mapping!$D:$D,'Data BG'!$J100,Mapping!H:H)+SUMIF(Mapping!$B:$B,'Data BG'!$M100,Mapping!H:H)+SUMIF(Mapping!$C:$C,'Data BG'!$M100,Mapping!H:H)+SUMIF(Mapping!$D:$D,'Data BG'!$M100,Mapping!H:H)+SUMIF(Mapping!$B:$B,$N100,Mapping!H:H)+SUMIF(Mapping!$C:$C,$N100,Mapping!H:H)+SUMIF(Mapping!$D:$D,$N100,Mapping!H:H)+SUMIF(Mapping!$B:$B,'Data BG'!$K100,Mapping!H:H)+SUMIF(Mapping!$C:$C,'Data BG'!$K100,Mapping!H:H)+SUMIF(Mapping!$D:$D,'Data BG'!$K100,Mapping!H:H)+SUMIF(Mapping!$B:$B,'Data BG'!$L100,Mapping!H:H)+SUMIF(Mapping!$C:$C,'Data BG'!$L100,Mapping!H:H)+SUMIF(Mapping!$D:$D,'Data BG'!$L100,Mapping!H:H)","v":0}]
[null,null,null,null,null,null,null,null,null,null,null,null,null,null,null,null,null,"Propagande et communication "]
[6233,null,null,null,null,null,null,null,null,null,null,null,null,null,null,null,null,"Congrès, manifestations et universités ",{"$f":"SUMIF(Mapping!$B:$B,'Data BG'!$A102,Mapping!G:G)+SUMIF(Mapping!$C:$C,'Data BG'!$A102,Mapping!G:G)+SUMIF(Mapping!$D:$D,'Data BG'!$A102,Mapping!G:G)+SUMIF(Mapping!$B:$B,'Data BG'!$B102,Mapping!G:G)+SUMIF(Mapping!$C:$C,'Data BG'!$B102,Mapping!G:G)+SUMIF(Mapping!$D:$D,'Data BG'!$B102,Mapping!G:G)+SUMIF(Mapping!$B:$B,'Data BG'!$C102,Mapping!G:G)+SUMIF(Mapping!$C:$C,'Data BG'!$C102,Mapping!G:G)+SUMIF(Mapping!$D:$D,'Data BG'!$C102,Mapping!G:G)+SUMIF(Mapping!$B:$B,'Data BG'!$D102,Mapping!G:G)+SUMIF(Mapping!$C:$C,'Data BG'!$D102,Mapping!G:G)+SUMIF(Mapping!$D:$D,'Data BG'!$D102,Mapping!G:G)+SUMIF(Mapping!$B:$B,'Data BG'!$E102,Mapping!G:G)+SUMIF(Mapping!$C:$C,'Data BG'!$E102,Mapping!G:G)+SUMIF(Mapping!$D:$D,'Data BG'!$E102,Mapping!G:G)+SUMIF(Mapping!$B:$B,'Data BG'!$F102,Mapping!G:G)+SUMIF(Mapping!$C:$C,'Data BG'!$F102,Mapping!G:G)+SUMIF(Mapping!$D:$D,'Data BG'!$F102,Mapping!G:G)+SUMIF(Mapping!$B:$B,'Data BG'!$G102,Mapping!G:G)+SUMIF(Mapping!$C:$C,'Data BG'!$G102,Mapping!G:G)+SUMIF(Mapping!$D:$D,'Data BG'!$G102,Mapping!G:G)+SUMIF(Mapping!$B:$B,'Data BG'!$H102,Mapping!G:G)+SUMIF(Mapping!$C:$C,'Data BG'!$H102,Mapping!G:G)+SUMIF(Mapping!$D:$D,'Data BG'!$H102,Mapping!G:G)+SUMIF(Mapping!$B:$B,'Data BG'!$I102,Mapping!G:G)+SUMIF(Mapping!$C:$C,'Data BG'!$I102,Mapping!G:G)+SUMIF(Mapping!$D:$D,'Data BG'!$I102,Mapping!G:G)+SUMIF(Mapping!$B:$B,'Data BG'!$J102,Mapping!G:G)+SUMIF(Mapping!$C:$C,'Data BG'!$J102,Mapping!G:G)+SUMIF(Mapping!$D:$D,'Data BG'!$J102,Mapping!G:G)+SUMIF(Mapping!$B:$B,'Data BG'!$M102,Mapping!G:G)+SUMIF(Mapping!$C:$C,'Data BG'!$M102,Mapping!G:G)+SUMIF(Mapping!$D:$D,'Data BG'!$M102,Mapping!G:G)+SUMIF(Mapping!$B:$B,$N102,Mapping!G:G)+SUMIF(Mapping!$C:$C,$N102,Mapping!G:G)+SUMIF(Mapping!$D:$D,$N102,Mapping!G:G)+SUMIF(Mapping!$B:$B,'Data BG'!$K102,Mapping!G:G)+SUMIF(Mapping!$C:$C,'Data BG'!$K102,Mapping!G:G)+SUMIF(Mapping!$D:$D,'Data BG'!$K102,Mapping!G:G)+SUMIF(Mapping!$B:$B,'Data BG'!$L102,Mapping!G:G)+SUMIF(Mapping!$C:$C,'Data BG'!$L102,Mapping!G:G)+SUMIF(Mapping!$D:$D,'Data BG'!$L102,Mapping!G:G)","v":0},{"$f":"SUMIF(Mapping!$B:$B,'Data BG'!$A102,Mapping!H:H)+SUMIF(Mapping!$C:$C,'Data BG'!$A102,Mapping!H:H)+SUMIF(Mapping!$D:$D,'Data BG'!$A102,Mapping!H:H)+SUMIF(Mapping!$B:$B,'Data BG'!$B102,Mapping!H:H)+SUMIF(Mapping!$C:$C,'Data BG'!$B102,Mapping!H:H)+SUMIF(Mapping!$D:$D,'Data BG'!$B102,Mapping!H:H)+SUMIF(Mapping!$B:$B,'Data BG'!$C102,Mapping!H:H)+SUMIF(Mapping!$C:$C,'Data BG'!$C102,Mapping!H:H)+SUMIF(Mapping!$D:$D,'Data BG'!$C102,Mapping!H:H)+SUMIF(Mapping!$B:$B,'Data BG'!$D102,Mapping!H:H)+SUMIF(Mapping!$C:$C,'Data BG'!$D102,Mapping!H:H)+SUMIF(Mapping!$D:$D,'Data BG'!$D102,Mapping!H:H)+SUMIF(Mapping!$B:$B,'Data BG'!$E102,Mapping!H:H)+SUMIF(Mapping!$C:$C,'Data BG'!$E102,Mapping!H:H)+SUMIF(Mapping!$D:$D,'Data BG'!$E102,Mapping!H:H)+SUMIF(Mapping!$B:$B,'Data BG'!$F102,Mapping!H:H)+SUMIF(Mapping!$C:$C,'Data BG'!$F102,Mapping!H:H)+SUMIF(Mapping!$D:$D,'Data BG'!$F102,Mapping!H:H)+SUMIF(Mapping!$B:$B,'Data BG'!$G102,Mapping!H:H)+SUMIF(Mapping!$C:$C,'Data BG'!$G102,Mapping!H:H)+SUMIF(Mapping!$D:$D,'Data BG'!$G102,Mapping!H:H)+SUMIF(Mapping!$B:$B,'Data BG'!$H102,Mapping!H:H)+SUMIF(Mapping!$C:$C,'Data BG'!$H102,Mapping!H:H)+SUMIF(Mapping!$D:$D,'Data BG'!$H102,Mapping!H:H)+SUMIF(Mapping!$B:$B,'Data BG'!$I102,Mapping!H:H)+SUMIF(Mapping!$C:$C,'Data BG'!$I102,Mapping!H:H)+SUMIF(Mapping!$D:$D,'Data BG'!$I102,Mapping!H:H)+SUMIF(Mapping!$B:$B,'Data BG'!$J102,Mapping!H:H)+SUMIF(Mapping!$C:$C,'Data BG'!$J102,Mapping!H:H)+SUMIF(Mapping!$D:$D,'Data BG'!$J102,Mapping!H:H)+SUMIF(Mapping!$B:$B,'Data BG'!$M102,Mapping!H:H)+SUMIF(Mapping!$C:$C,'Data BG'!$M102,Mapping!H:H)+SUMIF(Mapping!$D:$D,'Data BG'!$M102,Mapping!H:H)+SUMIF(Mapping!$B:$B,$N102,Mapping!H:H)+SUMIF(Mapping!$C:$C,$N102,Mapping!H:H)+SUMIF(Mapping!$D:$D,$N102,Mapping!H:H)+SUMIF(Mapping!$B:$B,'Data BG'!$K102,Mapping!H:H)+SUMIF(Mapping!$C:$C,'Data BG'!$K102,Mapping!H:H)+SUMIF(Mapping!$D:$D,'Data BG'!$K102,Mapping!H:H)+SUMIF(Mapping!$B:$B,'Data BG'!$L102,Mapping!H:H)+SUMIF(Mapping!$C:$C,'Data BG'!$L102,Mapping!H:H)+SUMIF(Mapping!$D:$D,'Data BG'!$L102,Mapping!H:H)","v":0}]
[6231,null,null,null,null,null,null,null,null,null,null,null,null,null,null,null,null,"Communication (presse, publications, télévisions, publicité, sites internet, réseaux sociaux) ",{"$f":"SUMIF(Mapping!$B:$B,'Data BG'!$A103,Mapping!G:G)+SUMIF(Mapping!$C:$C,'Data BG'!$A103,Mapping!G:G)+SUMIF(Mapping!$D:$D,'Data BG'!$A103,Mapping!G:G)+SUMIF(Mapping!$B:$B,'Data BG'!$B103,Mapping!G:G)+SUMIF(Mapping!$C:$C,'Data BG'!$B103,Mapping!G:G)+SUMIF(Mapping!$D:$D,'Data BG'!$B103,Mapping!G:G)+SUMIF(Mapping!$B:$B,'Data BG'!$C103,Mapping!G:G)+SUMIF(Mapping!$C:$C,'Data BG'!$C103,Mapping!G:G)+SUMIF(Mapping!$D:$D,'Data BG'!$C103,Mapping!G:G)+SUMIF(Mapping!$B:$B,'Data BG'!$D103,Mapping!G:G)+SUMIF(Mapping!$C:$C,'Data BG'!$D103,Mapping!G:G)+SUMIF(Mapping!$D:$D,'Data BG'!$D103,Mapping!G:G)+SUMIF(Mapping!$B:$B,'Data BG'!$E103,Mapping!G:G)+SUMIF(Mapping!$C:$C,'Data BG'!$E103,Mapping!G:G)+SUMIF(Mapping!$D:$D,'Data BG'!$E103,Mapping!G:G)+SUMIF(Mapping!$B:$B,'Data BG'!$F103,Mapping!G:G)+SUMIF(Mapping!$C:$C,'Data BG'!$F103,Mapping!G:G)+SUMIF(Mapping!$D:$D,'Data BG'!$F103,Mapping!G:G)+SUMIF(Mapping!$B:$B,'Data BG'!$G103,Mapping!G:G)+SUMIF(Mapping!$C:$C,'Data BG'!$G103,Mapping!G:G)+SUMIF(Mapping!$D:$D,'Data BG'!$G103,Mapping!G:G)+SUMIF(Mapping!$B:$B,'Data BG'!$H103,Mapping!G:G)+SUMIF(Mapping!$C:$C,'Data BG'!$H103,Mapping!G:G)+SUMIF(Mapping!$D:$D,'Data BG'!$H103,Mapping!G:G)+SUMIF(Mapping!$B:$B,'Data BG'!$I103,Mapping!G:G)+SUMIF(Mapping!$C:$C,'Data BG'!$I103,Mapping!G:G)+SUMIF(Mapping!$D:$D,'Data BG'!$I103,Mapping!G:G)+SUMIF(Mapping!$B:$B,'Data BG'!$J103,Mapping!G:G)+SUMIF(Mapping!$C:$C,'Data BG'!$J103,Mapping!G:G)+SUMIF(Mapping!$D:$D,'Data BG'!$J103,Mapping!G:G)+SUMIF(Mapping!$B:$B,'Data BG'!$M103,Mapping!G:G)+SUMIF(Mapping!$C:$C,'Data BG'!$M103,Mapping!G:G)+SUMIF(Mapping!$D:$D,'Data BG'!$M103,Mapping!G:G)+SUMIF(Mapping!$B:$B,$N103,Mapping!G:G)+SUMIF(Mapping!$C:$C,$N103,Mapping!G:G)+SUMIF(Mapping!$D:$D,$N103,Mapping!G:G)+SUMIF(Mapping!$B:$B,'Data BG'!$K103,Mapping!G:G)+SUMIF(Mapping!$C:$C,'Data BG'!$K103,Mapping!G:G)+SUMIF(Mapping!$D:$D,'Data BG'!$K103,Mapping!G:G)+SUMIF(Mapping!$B:$B,'Data BG'!$L103,Mapping!G:G)+SUMIF(Mapping!$C:$C,'Data BG'!$L103,Mapping!G:G)+SUMIF(Mapping!$D:$D,'Data BG'!$L103,Mapping!G:G)","v":0},{"$f":"SUMIF(Mapping!$B:$B,'Data BG'!$A103,Mapping!H:H)+SUMIF(Mapping!$C:$C,'Data BG'!$A103,Mapping!H:H)+SUMIF(Mapping!$D:$D,'Data BG'!$A103,Mapping!H:H)+SUMIF(Mapping!$B:$B,'Data BG'!$B103,Mapping!H:H)+SUMIF(Mapping!$C:$C,'Data BG'!$B103,Mapping!H:H)+SUMIF(Mapping!$D:$D,'Data BG'!$B103,Mapping!H:H)+SUMIF(Mapping!$B:$B,'Data BG'!$C103,Mapping!H:H)+SUMIF(Mapping!$C:$C,'Data BG'!$C103,Mapping!H:H)+SUMIF(Mapping!$D:$D,'Data BG'!$C103,Mapping!H:H)+SUMIF(Mapping!$B:$B,'Data BG'!$D103,Mapping!H:H)+SUMIF(Mapping!$C:$C,'Data BG'!$D103,Mapping!H:H)+SUMIF(Mapping!$D:$D,'Data BG'!$D103,Mapping!H:H)+SUMIF(Mapping!$B:$B,'Data BG'!$E103,Mapping!H:H)+SUMIF(Mapping!$C:$C,'Data BG'!$E103,Mapping!H:H)+SUMIF(Mapping!$D:$D,'Data BG'!$E103,Mapping!H:H)+SUMIF(Mapping!$B:$B,'Data BG'!$F103,Mapping!H:H)+SUMIF(Mapping!$C:$C,'Data BG'!$F103,Mapping!H:H)+SUMIF(Mapping!$D:$D,'Data BG'!$F103,Mapping!H:H)+SUMIF(Mapping!$B:$B,'Data BG'!$G103,Mapping!H:H)+SUMIF(Mapping!$C:$C,'Data BG'!$G103,Mapping!H:H)+SUMIF(Mapping!$D:$D,'Data BG'!$G103,Mapping!H:H)+SUMIF(Mapping!$B:$B,'Data BG'!$H103,Mapping!H:H)+SUMIF(Mapping!$C:$C,'Data BG'!$H103,Mapping!H:H)+SUMIF(Mapping!$D:$D,'Data BG'!$H103,Mapping!H:H)+SUMIF(Mapping!$B:$B,'Data BG'!$I103,Mapping!H:H)+SUMIF(Mapping!$C:$C,'Data BG'!$I103,Mapping!H:H)+SUMIF(Mapping!$D:$D,'Data BG'!$I103,Mapping!H:H)+SUMIF(Mapping!$B:$B,'Data BG'!$J103,Mapping!H:H)+SUMIF(Mapping!$C:$C,'Data BG'!$J103,Mapping!H:H)+SUMIF(Mapping!$D:$D,'Data BG'!$J103,Mapping!H:H)+SUMIF(Mapping!$B:$B,'Data BG'!$M103,Mapping!H:H)+SUMIF(Mapping!$C:$C,'Data BG'!$M103,Mapping!H:H)+SUMIF(Mapping!$D:$D,'Data BG'!$M103,Mapping!H:H)+SUMIF(Mapping!$B:$B,$N103,Mapping!H:H)+SUMIF(Mapping!$C:$C,$N103,Mapping!H:H)+SUMIF(Mapping!$D:$D,$N103,Mapping!H:H)+SUMIF(Mapping!$B:$B,'Data BG'!$K103,Mapping!H:H)+SUMIF(Mapping!$C:$C,'Data BG'!$K103,Mapping!H:H)+SUMIF(Mapping!$D:$D,'Data BG'!$K103,Mapping!H:H)+SUMIF(Mapping!$B:$B,'Data BG'!$L103,Mapping!H:H)+SUMIF(Mapping!$C:$C,'Data BG'!$L103,Mapping!H:H)+SUMIF(Mapping!$D:$D,'Data BG'!$L103,Mapping!H:H)","v":0}]
[null,null,null,null,null,null,null,null,null,null,null,null,null,null,null,null,null,"Autres achats et charges externes "]
[612,613,614,null,null,null,null,null,null,null,null,null,null,null,null,null,null,"Locations, redevances de crédit-bail et charges locatives ",{"$f":"SUMIF(Mapping!$B:$B,'Data BG'!$A105,Mapping!G:G)+SUMIF(Mapping!$C:$C,'Data BG'!$A105,Mapping!G:G)+SUMIF(Mapping!$D:$D,'Data BG'!$A105,Mapping!G:G)+SUMIF(Mapping!$B:$B,'Data BG'!$B105,Mapping!G:G)+SUMIF(Mapping!$C:$C,'Data BG'!$B105,Mapping!G:G)+SUMIF(Mapping!$D:$D,'Data BG'!$B105,Mapping!G:G)+SUMIF(Mapping!$B:$B,'Data BG'!$C105,Mapping!G:G)+SUMIF(Mapping!$C:$C,'Data BG'!$C105,Mapping!G:G)+SUMIF(Mapping!$D:$D,'Data BG'!$C105,Mapping!G:G)+SUMIF(Mapping!$B:$B,'Data BG'!$D105,Mapping!G:G)+SUMIF(Mapping!$C:$C,'Data BG'!$D105,Mapping!G:G)+SUMIF(Mapping!$D:$D,'Data BG'!$D105,Mapping!G:G)+SUMIF(Mapping!$B:$B,'Data BG'!$E105,Mapping!G:G)+SUMIF(Mapping!$C:$C,'Data BG'!$E105,Mapping!G:G)+SUMIF(Mapping!$D:$D,'Data BG'!$E105,Mapping!G:G)+SUMIF(Mapping!$B:$B,'Data BG'!$F105,Mapping!G:G)+SUMIF(Mapping!$C:$C,'Data BG'!$F105,Mapping!G:G)+SUMIF(Mapping!$D:$D,'Data BG'!$F105,Mapping!G:G)+SUMIF(Mapping!$B:$B,'Data BG'!$G105,Mapping!G:G)+SUMIF(Mapping!$C:$C,'Data BG'!$G105,Mapping!G:G)+SUMIF(Mapping!$D:$D,'Data BG'!$G105,Mapping!G:G)+SUMIF(Mapping!$B:$B,'Data BG'!$H105,Mapping!G:G)+SUMIF(Mapping!$C:$C,'Data BG'!$H105,Mapping!G:G)+SUMIF(Mapping!$D:$D,'Data BG'!$H105,Mapping!G:G)+SUMIF(Mapping!$B:$B,'Data BG'!$I105,Mapping!G:G)+SUMIF(Mapping!$C:$C,'Data BG'!$I105,Mapping!G:G)+SUMIF(Mapping!$D:$D,'Data BG'!$I105,Mapping!G:G)+SUMIF(Mapping!$B:$B,'Data BG'!$J105,Mapping!G:G)+SUMIF(Mapping!$C:$C,'Data BG'!$J105,Mapping!G:G)+SUMIF(Mapping!$D:$D,'Data BG'!$J105,Mapping!G:G)+SUMIF(Mapping!$B:$B,'Data BG'!$M105,Mapping!G:G)+SUMIF(Mapping!$C:$C,'Data BG'!$M105,Mapping!G:G)+SUMIF(Mapping!$D:$D,'Data BG'!$M105,Mapping!G:G)+SUMIF(Mapping!$B:$B,$N105,Mapping!G:G)+SUMIF(Mapping!$C:$C,$N105,Mapping!G:G)+SUMIF(Mapping!$D:$D,$N105,Mapping!G:G)+SUMIF(Mapping!$B:$B,'Data BG'!$K105,Mapping!G:G)+SUMIF(Mapping!$C:$C,'Data BG'!$K105,Mapping!G:G)+SUMIF(Mapping!$D:$D,'Data BG'!$K105,Mapping!G:G)+SUMIF(Mapping!$B:$B,'Data BG'!$L105,Mapping!G:G)+SUMIF(Mapping!$C:$C,'Data BG'!$L105,Mapping!G:G)+SUMIF(Mapping!$D:$D,'Data BG'!$L105,Mapping!G:G)","v":0},{"$f":"SUMIF(Mapping!$B:$B,'Data BG'!$A105,Mapping!H:H)+SUMIF(Mapping!$C:$C,'Data BG'!$A105,Mapping!H:H)+SUMIF(Mapping!$D:$D,'Data BG'!$A105,Mapping!H:H)+SUMIF(Mapping!$B:$B,'Data BG'!$B105,Mapping!H:H)+SUMIF(Mapping!$C:$C,'Data BG'!$B105,Mapping!H:H)+SUMIF(Mapping!$D:$D,'Data BG'!$B105,Mapping!H:H)+SUMIF(Mapping!$B:$B,'Data BG'!$C105,Mapping!H:H)+SUMIF(Mapping!$C:$C,'Data BG'!$C105,Mapping!H:H)+SUMIF(Mapping!$D:$D,'Data BG'!$C105,Mapping!H:H)+SUMIF(Mapping!$B:$B,'Data BG'!$D105,Mapping!H:H)+SUMIF(Mapping!$C:$C,'Data BG'!$D105,Mapping!H:H)+SUMIF(Mapping!$D:$D,'Data BG'!$D105,Mapping!H:H)+SUMIF(Mapping!$B:$B,'Data BG'!$E105,Mapping!H:H)+SUMIF(Mapping!$C:$C,'Data BG'!$E105,Mapping!H:H)+SUMIF(Mapping!$D:$D,'Data BG'!$E105,Mapping!H:H)+SUMIF(Mapping!$B:$B,'Data BG'!$F105,Mapping!H:H)+SUMIF(Mapping!$C:$C,'Data BG'!$F105,Mapping!H:H)+SUMIF(Mapping!$D:$D,'Data BG'!$F105,Mapping!H:H)+SUMIF(Mapping!$B:$B,'Data BG'!$G105,Mapping!H:H)+SUMIF(Mapping!$C:$C,'Data BG'!$G105,Mapping!H:H)+SUMIF(Mapping!$D:$D,'Data BG'!$G105,Mapping!H:H)+SUMIF(Mapping!$B:$B,'Data BG'!$H105,Mapping!H:H)+SUMIF(Mapping!$C:$C,'Data BG'!$H105,Mapping!H:H)+SUMIF(Mapping!$D:$D,'Data BG'!$H105,Mapping!H:H)+SUMIF(Mapping!$B:$B,'Data BG'!$I105,Mapping!H:H)+SUMIF(Mapping!$C:$C,'Data BG'!$I105,Mapping!H:H)+SUMIF(Mapping!$D:$D,'Data BG'!$I105,Mapping!H:H)+SUMIF(Mapping!$B:$B,'Data BG'!$J105,Mapping!H:H)+SUMIF(Mapping!$C:$C,'Data BG'!$J105,Mapping!H:H)+SUMIF(Mapping!$D:$D,'Data BG'!$J105,Mapping!H:H)+SUMIF(Mapping!$B:$B,'Data BG'!$M105,Mapping!H:H)+SUMIF(Mapping!$C:$C,'Data BG'!$M105,Mapping!H:H)+SUMIF(Mapping!$D:$D,'Data BG'!$M105,Mapping!H:H)+SUMIF(Mapping!$B:$B,$N105,Mapping!H:H)+SUMIF(Mapping!$C:$C,$N105,Mapping!H:H)+SUMIF(Mapping!$D:$D,$N105,Mapping!H:H)+SUMIF(Mapping!$B:$B,'Data BG'!$K105,Mapping!H:H)+SUMIF(Mapping!$C:$C,'Data BG'!$K105,Mapping!H:H)+SUMIF(Mapping!$D:$D,'Data BG'!$K105,Mapping!H:H)+SUMIF(Mapping!$B:$B,'Data BG'!$L105,Mapping!H:H)+SUMIF(Mapping!$C:$C,'Data BG'!$L105,Mapping!H:H)+SUMIF(Mapping!$D:$D,'Data BG'!$L105,Mapping!H:H)","v":0}]
[625,null,null,null,null,null,null,null,null,null,null,null,null,null,null,null,null,"Déplacements, missions et réceptions ",{"$f":"SUMIF(Mapping!$B:$B,'Data BG'!$A106,Mapping!G:G)+SUMIF(Mapping!$C:$C,'Data BG'!$A106,Mapping!G:G)+SUMIF(Mapping!$D:$D,'Data BG'!$A106,Mapping!G:G)+SUMIF(Mapping!$B:$B,'Data BG'!$B106,Mapping!G:G)+SUMIF(Mapping!$C:$C,'Data BG'!$B106,Mapping!G:G)+SUMIF(Mapping!$D:$D,'Data BG'!$B106,Mapping!G:G)+SUMIF(Mapping!$B:$B,'Data BG'!$C106,Mapping!G:G)+SUMIF(Mapping!$C:$C,'Data BG'!$C106,Mapping!G:G)+SUMIF(Mapping!$D:$D,'Data BG'!$C106,Mapping!G:G)+SUMIF(Mapping!$B:$B,'Data BG'!$D106,Mapping!G:G)+SUMIF(Mapping!$C:$C,'Data BG'!$D106,Mapping!G:G)+SUMIF(Mapping!$D:$D,'Data BG'!$D106,Mapping!G:G)+SUMIF(Mapping!$B:$B,'Data BG'!$E106,Mapping!G:G)+SUMIF(Mapping!$C:$C,'Data BG'!$E106,Mapping!G:G)+SUMIF(Mapping!$D:$D,'Data BG'!$E106,Mapping!G:G)+SUMIF(Mapping!$B:$B,'Data BG'!$F106,Mapping!G:G)+SUMIF(Mapping!$C:$C,'Data BG'!$F106,Mapping!G:G)+SUMIF(Mapping!$D:$D,'Data BG'!$F106,Mapping!G:G)+SUMIF(Mapping!$B:$B,'Data BG'!$G106,Mapping!G:G)+SUMIF(Mapping!$C:$C,'Data BG'!$G106,Mapping!G:G)+SUMIF(Mapping!$D:$D,'Data BG'!$G106,Mapping!G:G)+SUMIF(Mapping!$B:$B,'Data BG'!$H106,Mapping!G:G)+SUMIF(Mapping!$C:$C,'Data BG'!$H106,Mapping!G:G)+SUMIF(Mapping!$D:$D,'Data BG'!$H106,Mapping!G:G)+SUMIF(Mapping!$B:$B,'Data BG'!$I106,Mapping!G:G)+SUMIF(Mapping!$C:$C,'Data BG'!$I106,Mapping!G:G)+SUMIF(Mapping!$D:$D,'Data BG'!$I106,Mapping!G:G)+SUMIF(Mapping!$B:$B,'Data BG'!$J106,Mapping!G:G)+SUMIF(Mapping!$C:$C,'Data BG'!$J106,Mapping!G:G)+SUMIF(Mapping!$D:$D,'Data BG'!$J106,Mapping!G:G)+SUMIF(Mapping!$B:$B,'Data BG'!$M106,Mapping!G:G)+SUMIF(Mapping!$C:$C,'Data BG'!$M106,Mapping!G:G)+SUMIF(Mapping!$D:$D,'Data BG'!$M106,Mapping!G:G)+SUMIF(Mapping!$B:$B,$N106,Mapping!G:G)+SUMIF(Mapping!$C:$C,$N106,Mapping!G:G)+SUMIF(Mapping!$D:$D,$N106,Mapping!G:G)+SUMIF(Mapping!$B:$B,'Data BG'!$K106,Mapping!G:G)+SUMIF(Mapping!$C:$C,'Data BG'!$K106,Mapping!G:G)+SUMIF(Mapping!$D:$D,'Data BG'!$K106,Mapping!G:G)+SUMIF(Mapping!$B:$B,'Data BG'!$L106,Mapping!G:G)+SUMIF(Mapping!$C:$C,'Data BG'!$L106,Mapping!G:G)+SUMIF(Mapping!$D:$D,'Data BG'!$L106,Mapping!G:G)","v":0},{"$f":"SUMIF(Mapping!$B:$B,'Data BG'!$A106,Mapping!H:H)+SUMIF(Mapping!$C:$C,'Data BG'!$A106,Mapping!H:H)+SUMIF(Mapping!$D:$D,'Data BG'!$A106,Mapping!H:H)+SUMIF(Mapping!$B:$B,'Data BG'!$B106,Mapping!H:H)+SUMIF(Mapping!$C:$C,'Data BG'!$B106,Mapping!H:H)+SUMIF(Mapping!$D:$D,'Data BG'!$B106,Mapping!H:H)+SUMIF(Mapping!$B:$B,'Data BG'!$C106,Mapping!H:H)+SUMIF(Mapping!$C:$C,'Data BG'!$C106,Mapping!H:H)+SUMIF(Mapping!$D:$D,'Data BG'!$C106,Mapping!H:H)+SUMIF(Mapping!$B:$B,'Data BG'!$D106,Mapping!H:H)+SUMIF(Mapping!$C:$C,'Data BG'!$D106,Mapping!H:H)+SUMIF(Mapping!$D:$D,'Data BG'!$D106,Mapping!H:H)+SUMIF(Mapping!$B:$B,'Data BG'!$E106,Mapping!H:H)+SUMIF(Mapping!$C:$C,'Data BG'!$E106,Mapping!H:H)+SUMIF(Mapping!$D:$D,'Data BG'!$E106,Mapping!H:H)+SUMIF(Mapping!$B:$B,'Data BG'!$F106,Mapping!H:H)+SUMIF(Mapping!$C:$C,'Data BG'!$F106,Mapping!H:H)+SUMIF(Mapping!$D:$D,'Data BG'!$F106,Mapping!H:H)+SUMIF(Mapping!$B:$B,'Data BG'!$G106,Mapping!H:H)+SUMIF(Mapping!$C:$C,'Data BG'!$G106,Mapping!H:H)+SUMIF(Mapping!$D:$D,'Data BG'!$G106,Mapping!H:H)+SUMIF(Mapping!$B:$B,'Data BG'!$H106,Mapping!H:H)+SUMIF(Mapping!$C:$C,'Data BG'!$H106,Mapping!H:H)+SUMIF(Mapping!$D:$D,'Data BG'!$H106,Mapping!H:H)+SUMIF(Mapping!$B:$B,'Data BG'!$I106,Mapping!H:H)+SUMIF(Mapping!$C:$C,'Data BG'!$I106,Mapping!H:H)+SUMIF(Mapping!$D:$D,'Data BG'!$I106,Mapping!H:H)+SUMIF(Mapping!$B:$B,'Data BG'!$J106,Mapping!H:H)+SUMIF(Mapping!$C:$C,'Data BG'!$J106,Mapping!H:H)+SUMIF(Mapping!$D:$D,'Data BG'!$J106,Mapping!H:H)+SUMIF(Mapping!$B:$B,'Data BG'!$M106,Mapping!H:H)+SUMIF(Mapping!$C:$C,'Data BG'!$M106,Mapping!H:H)+SUMIF(Mapping!$D:$D,'Data BG'!$M106,Mapping!H:H)+SUMIF(Mapping!$B:$B,$N106,Mapping!H:H)+SUMIF(Mapping!$C:$C,$N106,Mapping!H:H)+SUMIF(Mapping!$D:$D,$N106,Mapping!H:H)+SUMIF(Mapping!$B:$B,'Data BG'!$K106,Mapping!H:H)+SUMIF(Mapping!$C:$C,'Data BG'!$K106,Mapping!H:H)+SUMIF(Mapping!$D:$D,'Data BG'!$K106,Mapping!H:H)+SUMIF(Mapping!$B:$B,'Data BG'!$L106,Mapping!H:H)+SUMIF(Mapping!$C:$C,'Data BG'!$L106,Mapping!H:H)+SUMIF(Mapping!$D:$D,'Data BG'!$L106,Mapping!H:H)","v":0}]
[6220,6221,6222,6224,6225,6226,null,null,null,null,null,null,null,null,null,null,null,"Honoraires ",{"$f":"SUMIF(Mapping!$B:$B,'Data BG'!$A107,Mapping!G:G)+SUMIF(Mapping!$C:$C,'Data BG'!$A107,Mapping!G:G)+SUMIF(Mapping!$D:$D,'Data BG'!$A107,Mapping!G:G)+SUMIF(Mapping!$B:$B,'Data BG'!$B107,Mapping!G:G)+SUMIF(Mapping!$C:$C,'Data BG'!$B107,Mapping!G:G)+SUMIF(Mapping!$D:$D,'Data BG'!$B107,Mapping!G:G)+SUMIF(Mapping!$B:$B,'Data BG'!$C107,Mapping!G:G)+SUMIF(Mapping!$C:$C,'Data BG'!$C107,Mapping!G:G)+SUMIF(Mapping!$D:$D,'Data BG'!$C107,Mapping!G:G)+SUMIF(Mapping!$B:$B,'Data BG'!$D107,Mapping!G:G)+SUMIF(Mapping!$C:$C,'Data BG'!$D107,Mapping!G:G)+SUMIF(Mapping!$D:$D,'Data BG'!$D107,Mapping!G:G)+SUMIF(Mapping!$B:$B,'Data BG'!$E107,Mapping!G:G)+SUMIF(Mapping!$C:$C,'Data BG'!$E107,Mapping!G:G)+SUMIF(Mapping!$D:$D,'Data BG'!$E107,Mapping!G:G)+SUMIF(Mapping!$B:$B,'Data BG'!$F107,Mapping!G:G)+SUMIF(Mapping!$C:$C,'Data BG'!$F107,Mapping!G:G)+SUMIF(Mapping!$D:$D,'Data BG'!$F107,Mapping!G:G)+SUMIF(Mapping!$B:$B,'Data BG'!$G107,Mapping!G:G)+SUMIF(Mapping!$C:$C,'Data BG'!$G107,Mapping!G:G)+SUMIF(Mapping!$D:$D,'Data BG'!$G107,Mapping!G:G)+SUMIF(Mapping!$B:$B,'Data BG'!$H107,Mapping!G:G)+SUMIF(Mapping!$C:$C,'Data BG'!$H107,Mapping!G:G)+SUMIF(Mapping!$D:$D,'Data BG'!$H107,Mapping!G:G)+SUMIF(Mapping!$B:$B,'Data BG'!$I107,Mapping!G:G)+SUMIF(Mapping!$C:$C,'Data BG'!$I107,Mapping!G:G)+SUMIF(Mapping!$D:$D,'Data BG'!$I107,Mapping!G:G)+SUMIF(Mapping!$B:$B,'Data BG'!$J107,Mapping!G:G)+SUMIF(Mapping!$C:$C,'Data BG'!$J107,Mapping!G:G)+SUMIF(Mapping!$D:$D,'Data BG'!$J107,Mapping!G:G)+SUMIF(Mapping!$B:$B,'Data BG'!$M107,Mapping!G:G)+SUMIF(Mapping!$C:$C,'Data BG'!$M107,Mapping!G:G)+SUMIF(Mapping!$D:$D,'Data BG'!$M107,Mapping!G:G)+SUMIF(Mapping!$B:$B,$N107,Mapping!G:G)+SUMIF(Mapping!$C:$C,$N107,Mapping!G:G)+SUMIF(Mapping!$D:$D,$N107,Mapping!G:G)+SUMIF(Mapping!$B:$B,'Data BG'!$K107,Mapping!G:G)+SUMIF(Mapping!$C:$C,'Data BG'!$K107,Mapping!G:G)+SUMIF(Mapping!$D:$D,'Data BG'!$K107,Mapping!G:G)+SUMIF(Mapping!$B:$B,'Data BG'!$L107,Mapping!G:G)+SUMIF(Mapping!$C:$C,'Data BG'!$L107,Mapping!G:G)+SUMIF(Mapping!$D:$D,'Data BG'!$L107,Mapping!G:G)","v":0},{"$f":"SUMIF(Mapping!$B:$B,'Data BG'!$A107,Mapping!H:H)+SUMIF(Mapping!$C:$C,'Data BG'!$A107,Mapping!H:H)+SUMIF(Mapping!$D:$D,'Data BG'!$A107,Mapping!H:H)+SUMIF(Mapping!$B:$B,'Data BG'!$B107,Mapping!H:H)+SUMIF(Mapping!$C:$C,'Data BG'!$B107,Mapping!H:H)+SUMIF(Mapping!$D:$D,'Data BG'!$B107,Mapping!H:H)+SUMIF(Mapping!$B:$B,'Data BG'!$C107,Mapping!H:H)+SUMIF(Mapping!$C:$C,'Data BG'!$C107,Mapping!H:H)+SUMIF(Mapping!$D:$D,'Data BG'!$C107,Mapping!H:H)+SUMIF(Mapping!$B:$B,'Data BG'!$D107,Mapping!H:H)+SUMIF(Mapping!$C:$C,'Data BG'!$D107,Mapping!H:H)+SUMIF(Mapping!$D:$D,'Data BG'!$D107,Mapping!H:H)+SUMIF(Mapping!$B:$B,'Data BG'!$E107,Mapping!H:H)+SUMIF(Mapping!$C:$C,'Data BG'!$E107,Mapping!H:H)+SUMIF(Mapping!$D:$D,'Data BG'!$E107,Mapping!H:H)+SUMIF(Mapping!$B:$B,'Data BG'!$F107,Mapping!H:H)+SUMIF(Mapping!$C:$C,'Data BG'!$F107,Mapping!H:H)+SUMIF(Mapping!$D:$D,'Data BG'!$F107,Mapping!H:H)+SUMIF(Mapping!$B:$B,'Data BG'!$G107,Mapping!H:H)+SUMIF(Mapping!$C:$C,'Data BG'!$G107,Mapping!H:H)+SUMIF(Mapping!$D:$D,'Data BG'!$G107,Mapping!H:H)+SUMIF(Mapping!$B:$B,'Data BG'!$H107,Mapping!H:H)+SUMIF(Mapping!$C:$C,'Data BG'!$H107,Mapping!H:H)+SUMIF(Mapping!$D:$D,'Data BG'!$H107,Mapping!H:H)+SUMIF(Mapping!$B:$B,'Data BG'!$I107,Mapping!H:H)+SUMIF(Mapping!$C:$C,'Data BG'!$I107,Mapping!H:H)+SUMIF(Mapping!$D:$D,'Data BG'!$I107,Mapping!H:H)+SUMIF(Mapping!$B:$B,'Data BG'!$J107,Mapping!H:H)+SUMIF(Mapping!$C:$C,'Data BG'!$J107,Mapping!H:H)+SUMIF(Mapping!$D:$D,'Data BG'!$J107,Mapping!H:H)+SUMIF(Mapping!$B:$B,'Data BG'!$M107,Mapping!H:H)+SUMIF(Mapping!$C:$C,'Data BG'!$M107,Mapping!H:H)+SUMIF(Mapping!$D:$D,'Data BG'!$M107,Mapping!H:H)+SUMIF(Mapping!$B:$B,$N107,Mapping!H:H)+SUMIF(Mapping!$C:$C,$N107,Mapping!H:H)+SUMIF(Mapping!$D:$D,$N107,Mapping!H:H)+SUMIF(Mapping!$B:$B,'Data BG'!$K107,Mapping!H:H)+SUMIF(Mapping!$C:$C,'Data BG'!$K107,Mapping!H:H)+SUMIF(Mapping!$D:$D,'Data BG'!$K107,Mapping!H:H)+SUMIF(Mapping!$B:$B,'Data BG'!$L107,Mapping!H:H)+SUMIF(Mapping!$C:$C,'Data BG'!$L107,Mapping!H:H)+SUMIF(Mapping!$D:$D,'Data BG'!$L107,Mapping!H:H)","v":0}]
[621,null,null,null,null,null,null,null,null,null,null,null,null,null,null,null,null,"Personnels extérieurs ",{"$f":"SUMIF(Mapping!$B:$B,'Data BG'!$A108,Mapping!G:G)+SUMIF(Mapping!$C:$C,'Data BG'!$A108,Mapping!G:G)+SUMIF(Mapping!$D:$D,'Data BG'!$A108,Mapping!G:G)+SUMIF(Mapping!$B:$B,'Data BG'!$B108,Mapping!G:G)+SUMIF(Mapping!$C:$C,'Data BG'!$B108,Mapping!G:G)+SUMIF(Mapping!$D:$D,'Data BG'!$B108,Mapping!G:G)+SUMIF(Mapping!$B:$B,'Data BG'!$C108,Mapping!G:G)+SUMIF(Mapping!$C:$C,'Data BG'!$C108,Mapping!G:G)+SUMIF(Mapping!$D:$D,'Data BG'!$C108,Mapping!G:G)+SUMIF(Mapping!$B:$B,'Data BG'!$D108,Mapping!G:G)+SUMIF(Mapping!$C:$C,'Data BG'!$D108,Mapping!G:G)+SUMIF(Mapping!$D:$D,'Data BG'!$D108,Mapping!G:G)+SUMIF(Mapping!$B:$B,'Data BG'!$E108,Mapping!G:G)+SUMIF(Mapping!$C:$C,'Data BG'!$E108,Mapping!G:G)+SUMIF(Mapping!$D:$D,'Data BG'!$E108,Mapping!G:G)+SUMIF(Mapping!$B:$B,'Data BG'!$F108,Mapping!G:G)+SUMIF(Mapping!$C:$C,'Data BG'!$F108,Mapping!G:G)+SUMIF(Mapping!$D:$D,'Data BG'!$F108,Mapping!G:G)+SUMIF(Mapping!$B:$B,'Data BG'!$G108,Mapping!G:G)+SUMIF(Mapping!$C:$C,'Data BG'!$G108,Mapping!G:G)+SUMIF(Mapping!$D:$D,'Data BG'!$G108,Mapping!G:G)+SUMIF(Mapping!$B:$B,'Data BG'!$H108,Mapping!G:G)+SUMIF(Mapping!$C:$C,'Data BG'!$H108,Mapping!G:G)+SUMIF(Mapping!$D:$D,'Data BG'!$H108,Mapping!G:G)+SUMIF(Mapping!$B:$B,'Data BG'!$I108,Mapping!G:G)+SUMIF(Mapping!$C:$C,'Data BG'!$I108,Mapping!G:G)+SUMIF(Mapping!$D:$D,'Data BG'!$I108,Mapping!G:G)+SUMIF(Mapping!$B:$B,'Data BG'!$J108,Mapping!G:G)+SUMIF(Mapping!$C:$C,'Data BG'!$J108,Mapping!G:G)+SUMIF(Mapping!$D:$D,'Data BG'!$J108,Mapping!G:G)+SUMIF(Mapping!$B:$B,'Data BG'!$M108,Mapping!G:G)+SUMIF(Mapping!$C:$C,'Data BG'!$M108,Mapping!G:G)+SUMIF(Mapping!$D:$D,'Data BG'!$M108,Mapping!G:G)+SUMIF(Mapping!$B:$B,$N108,Mapping!G:G)+SUMIF(Mapping!$C:$C,$N108,Mapping!G:G)+SUMIF(Mapping!$D:$D,$N108,Mapping!G:G)+SUMIF(Mapping!$B:$B,'Data BG'!$K108,Mapping!G:G)+SUMIF(Mapping!$C:$C,'Data BG'!$K108,Mapping!G:G)+SUMIF(Mapping!$D:$D,'Data BG'!$K108,Mapping!G:G)+SUMIF(Mapping!$B:$B,'Data BG'!$L108,Mapping!G:G)+SUMIF(Mapping!$C:$C,'Data BG'!$L108,Mapping!G:G)+SUMIF(Mapping!$D:$D,'Data BG'!$L108,Mapping!G:G)","v":0},{"$f":"SUMIF(Mapping!$B:$B,'Data BG'!$A108,Mapping!H:H)+SUMIF(Mapping!$C:$C,'Data BG'!$A108,Mapping!H:H)+SUMIF(Mapping!$D:$D,'Data BG'!$A108,Mapping!H:H)+SUMIF(Mapping!$B:$B,'Data BG'!$B108,Mapping!H:H)+SUMIF(Mapping!$C:$C,'Data BG'!$B108,Mapping!H:H)+SUMIF(Mapping!$D:$D,'Data BG'!$B108,Mapping!H:H)+SUMIF(Mapping!$B:$B,'Data BG'!$C108,Mapping!H:H)+SUMIF(Mapping!$C:$C,'Data BG'!$C108,Mapping!H:H)+SUMIF(Mapping!$D:$D,'Data BG'!$C108,Mapping!H:H)+SUMIF(Mapping!$B:$B,'Data BG'!$D108,Mapping!H:H)+SUMIF(Mapping!$C:$C,'Data BG'!$D108,Mapping!H:H)+SUMIF(Mapping!$D:$D,'Data BG'!$D108,Mapping!H:H)+SUMIF(Mapping!$B:$B,'Data BG'!$E108,Mapping!H:H)+SUMIF(Mapping!$C:$C,'Data BG'!$E108,Mapping!H:H)+SUMIF(Mapping!$D:$D,'Data BG'!$E108,Mapping!H:H)+SUMIF(Mapping!$B:$B,'Data BG'!$F108,Mapping!H:H)+SUMIF(Mapping!$C:$C,'Data BG'!$F108,Mapping!H:H)+SUMIF(Mapping!$D:$D,'Data BG'!$F108,Mapping!H:H)+SUMIF(Mapping!$B:$B,'Data BG'!$G108,Mapping!H:H)+SUMIF(Mapping!$C:$C,'Data BG'!$G108,Mapping!H:H)+SUMIF(Mapping!$D:$D,'Data BG'!$G108,Mapping!H:H)+SUMIF(Mapping!$B:$B,'Data BG'!$H108,Mapping!H:H)+SUMIF(Mapping!$C:$C,'Data BG'!$H108,Mapping!H:H)+SUMIF(Mapping!$D:$D,'Data BG'!$H108,Mapping!H:H)+SUMIF(Mapping!$B:$B,'Data BG'!$I108,Mapping!H:H)+SUMIF(Mapping!$C:$C,'Data BG'!$I108,Mapping!H:H)+SUMIF(Mapping!$D:$D,'Data BG'!$I108,Mapping!H:H)+SUMIF(Mapping!$B:$B,'Data BG'!$J108,Mapping!H:H)+SUMIF(Mapping!$C:$C,'Data BG'!$J108,Mapping!H:H)+SUMIF(Mapping!$D:$D,'Data BG'!$J108,Mapping!H:H)+SUMIF(Mapping!$B:$B,'Data BG'!$M108,Mapping!H:H)+SUMIF(Mapping!$C:$C,'Data BG'!$M108,Mapping!H:H)+SUMIF(Mapping!$D:$D,'Data BG'!$M108,Mapping!H:H)+SUMIF(Mapping!$B:$B,$N108,Mapping!H:H)+SUMIF(Mapping!$C:$C,$N108,Mapping!H:H)+SUMIF(Mapping!$D:$D,$N108,Mapping!H:H)+SUMIF(Mapping!$B:$B,'Data BG'!$K108,Mapping!H:H)+SUMIF(Mapping!$C:$C,'Data BG'!$K108,Mapping!H:H)+SUMIF(Mapping!$D:$D,'Data BG'!$K108,Mapping!H:H)+SUMIF(Mapping!$B:$B,'Data BG'!$L108,Mapping!H:H)+SUMIF(Mapping!$C:$C,'Data BG'!$L108,Mapping!H:H)+SUMIF(Mapping!$D:$D,'Data BG'!$L108,Mapping!H:H)","v":0}]
[604,605,606,608,61,62,null,null,null,null,null,null,null,null,null,null,null,"Autres achats et autres charges externes ",{"$f":"SUMIF(Mapping!$B:$B,'Data BG'!$A109,Mapping!G:G)+SUMIF(Mapping!$C:$C,'Data BG'!$A109,Mapping!G:G)+SUMIF(Mapping!$D:$D,'Data BG'!$A109,Mapping!G:G)+SUMIF(Mapping!$B:$B,'Data BG'!$B109,Mapping!G:G)+SUMIF(Mapping!$C:$C,'Data BG'!$B109,Mapping!G:G)+SUMIF(Mapping!$D:$D,'Data BG'!$B109,Mapping!G:G)+SUMIF(Mapping!$B:$B,'Data BG'!$C109,Mapping!G:G)+SUMIF(Mapping!$C:$C,'Data BG'!$C109,Mapping!G:G)+SUMIF(Mapping!$D:$D,'Data BG'!$C109,Mapping!G:G)+SUMIF(Mapping!$B:$B,'Data BG'!$D109,Mapping!G:G)+SUMIF(Mapping!$C:$C,'Data BG'!$D109,Mapping!G:G)+SUMIF(Mapping!$D:$D,'Data BG'!$D109,Mapping!G:G)+SUMIF(Mapping!$B:$B,'Data BG'!$E109,Mapping!G:G)+SUMIF(Mapping!$C:$C,'Data BG'!$E109,Mapping!G:G)+SUMIF(Mapping!$D:$D,'Data BG'!$E109,Mapping!G:G)+SUMIF(Mapping!$B:$B,'Data BG'!$F109,Mapping!G:G)+SUMIF(Mapping!$C:$C,'Data BG'!$F109,Mapping!G:G)+SUMIF(Mapping!$D:$D,'Data BG'!$F109,Mapping!G:G)+SUMIF(Mapping!$B:$B,'Data BG'!$G109,Mapping!G:G)+SUMIF(Mapping!$C:$C,'Data BG'!$G109,Mapping!G:G)+SUMIF(Mapping!$D:$D,'Data BG'!$G109,Mapping!G:G)+SUMIF(Mapping!$B:$B,'Data BG'!$H109,Mapping!G:G)+SUMIF(Mapping!$C:$C,'Data BG'!$H109,Mapping!G:G)+SUMIF(Mapping!$D:$D,'Data BG'!$H109,Mapping!G:G)+SUMIF(Mapping!$B:$B,'Data BG'!$I109,Mapping!G:G)+SUMIF(Mapping!$C:$C,'Data BG'!$I109,Mapping!G:G)+SUMIF(Mapping!$D:$D,'Data BG'!$I109,Mapping!G:G)+SUMIF(Mapping!$B:$B,'Data BG'!$J109,Mapping!G:G)+SUMIF(Mapping!$C:$C,'Data BG'!$J109,Mapping!G:G)+SUMIF(Mapping!$D:$D,'Data BG'!$J109,Mapping!G:G)+SUMIF(Mapping!$B:$B,'Data BG'!$M109,Mapping!G:G)+SUMIF(Mapping!$C:$C,'Data BG'!$M109,Mapping!G:G)+SUMIF(Mapping!$D:$D,'Data BG'!$M109,Mapping!G:G)+SUMIF(Mapping!$B:$B,$N109,Mapping!G:G)+SUMIF(Mapping!$C:$C,$N109,Mapping!G:G)+SUMIF(Mapping!$D:$D,$N109,Mapping!G:G)+SUMIF(Mapping!$B:$B,'Data BG'!$K109,Mapping!G:G)+SUMIF(Mapping!$C:$C,'Data BG'!$K109,Mapping!G:G)+SUMIF(Mapping!$D:$D,'Data BG'!$K109,Mapping!G:G)+SUMIF(Mapping!$B:$B,'Data BG'!$L109,Mapping!G:G)+SUMIF(Mapping!$C:$C,'Data BG'!$L109,Mapping!G:G)+SUMIF(Mapping!$D:$D,'Data BG'!$L109,Mapping!G:G)-S102-S103-S104-S105-S106-S107-S108","v":0},{"$f":"SUMIF(Mapping!$B:$B,'Data BG'!$A109,Mapping!H:H)+SUMIF(Mapping!$C:$C,'Data BG'!$A109,Mapping!H:H)+SUMIF(Mapping!$D:$D,'Data BG'!$A109,Mapping!H:H)+SUMIF(Mapping!$B:$B,'Data BG'!$B109,Mapping!H:H)+SUMIF(Mapping!$C:$C,'Data BG'!$B109,Mapping!H:H)+SUMIF(Mapping!$D:$D,'Data BG'!$B109,Mapping!H:H)+SUMIF(Mapping!$B:$B,'Data BG'!$C109,Mapping!H:H)+SUMIF(Mapping!$C:$C,'Data BG'!$C109,Mapping!H:H)+SUMIF(Mapping!$D:$D,'Data BG'!$C109,Mapping!H:H)+SUMIF(Mapping!$B:$B,'Data BG'!$D109,Mapping!H:H)+SUMIF(Mapping!$C:$C,'Data BG'!$D109,Mapping!H:H)+SUMIF(Mapping!$D:$D,'Data BG'!$D109,Mapping!H:H)+SUMIF(Mapping!$B:$B,'Data BG'!$E109,Mapping!H:H)+SUMIF(Mapping!$C:$C,'Data BG'!$E109,Mapping!H:H)+SUMIF(Mapping!$D:$D,'Data BG'!$E109,Mapping!H:H)+SUMIF(Mapping!$B:$B,'Data BG'!$F109,Mapping!H:H)+SUMIF(Mapping!$C:$C,'Data BG'!$F109,Mapping!H:H)+SUMIF(Mapping!$D:$D,'Data BG'!$F109,Mapping!H:H)+SUMIF(Mapping!$B:$B,'Data BG'!$G109,Mapping!H:H)+SUMIF(Mapping!$C:$C,'Data BG'!$G109,Mapping!H:H)+SUMIF(Mapping!$D:$D,'Data BG'!$G109,Mapping!H:H)+SUMIF(Mapping!$B:$B,'Data BG'!$H109,Mapping!H:H)+SUMIF(Mapping!$C:$C,'Data BG'!$H109,Mapping!H:H)+SUMIF(Mapping!$D:$D,'Data BG'!$H109,Mapping!H:H)+SUMIF(Mapping!$B:$B,'Data BG'!$I109,Mapping!H:H)+SUMIF(Mapping!$C:$C,'Data BG'!$I109,Mapping!H:H)+SUMIF(Mapping!$D:$D,'Data BG'!$I109,Mapping!H:H)+SUMIF(Mapping!$B:$B,'Data BG'!$J109,Mapping!H:H)+SUMIF(Mapping!$C:$C,'Data BG'!$J109,Mapping!H:H)+SUMIF(Mapping!$D:$D,'Data BG'!$J109,Mapping!H:H)+SUMIF(Mapping!$B:$B,'Data BG'!$M109,Mapping!H:H)+SUMIF(Mapping!$C:$C,'Data BG'!$M109,Mapping!H:H)+SUMIF(Mapping!$D:$D,'Data BG'!$M109,Mapping!H:H)+SUMIF(Mapping!$B:$B,$N109,Mapping!H:H)+SUMIF(Mapping!$C:$C,$N109,Mapping!H:H)+SUMIF(Mapping!$D:$D,$N109,Mapping!H:H)+SUMIF(Mapping!$B:$B,'Data BG'!$K109,Mapping!H:H)+SUMIF(Mapping!$C:$C,'Data BG'!$K109,Mapping!H:H)+SUMIF(Mapping!$D:$D,'Data BG'!$K109,Mapping!H:H)+SUMIF(Mapping!$B:$B,'Data BG'!$L109,Mapping!H:H)+SUMIF(Mapping!$C:$C,'Data BG'!$L109,Mapping!H:H)+SUMIF(Mapping!$D:$D,'Data BG'!$L109,Mapping!H:H)-T102-T103-T104-T105-T106-T107-T108","v":0}]
[63,null,null,null,null,null,null,null,null,null,null,null,null,null,null,null,null,"Impôts et taxes ",{"$f":"SUMIF(Mapping!$B:$B,'Data BG'!$A110,Mapping!G:G)+SUMIF(Mapping!$C:$C,'Data BG'!$A110,Mapping!G:G)+SUMIF(Mapping!$D:$D,'Data BG'!$A110,Mapping!G:G)+SUMIF(Mapping!$B:$B,'Data BG'!$B110,Mapping!G:G)+SUMIF(Mapping!$C:$C,'Data BG'!$B110,Mapping!G:G)+SUMIF(Mapping!$D:$D,'Data BG'!$B110,Mapping!G:G)+SUMIF(Mapping!$B:$B,'Data BG'!$C110,Mapping!G:G)+SUMIF(Mapping!$C:$C,'Data BG'!$C110,Mapping!G:G)+SUMIF(Mapping!$D:$D,'Data BG'!$C110,Mapping!G:G)+SUMIF(Mapping!$B:$B,'Data BG'!$D110,Mapping!G:G)+SUMIF(Mapping!$C:$C,'Data BG'!$D110,Mapping!G:G)+SUMIF(Mapping!$D:$D,'Data BG'!$D110,Mapping!G:G)+SUMIF(Mapping!$B:$B,'Data BG'!$E110,Mapping!G:G)+SUMIF(Mapping!$C:$C,'Data BG'!$E110,Mapping!G:G)+SUMIF(Mapping!$D:$D,'Data BG'!$E110,Mapping!G:G)+SUMIF(Mapping!$B:$B,'Data BG'!$F110,Mapping!G:G)+SUMIF(Mapping!$C:$C,'Data BG'!$F110,Mapping!G:G)+SUMIF(Mapping!$D:$D,'Data BG'!$F110,Mapping!G:G)+SUMIF(Mapping!$B:$B,'Data BG'!$G110,Mapping!G:G)+SUMIF(Mapping!$C:$C,'Data BG'!$G110,Mapping!G:G)+SUMIF(Mapping!$D:$D,'Data BG'!$G110,Mapping!G:G)+SUMIF(Mapping!$B:$B,'Data BG'!$H110,Mapping!G:G)+SUMIF(Mapping!$C:$C,'Data BG'!$H110,Mapping!G:G)+SUMIF(Mapping!$D:$D,'Data BG'!$H110,Mapping!G:G)+SUMIF(Mapping!$B:$B,'Data BG'!$I110,Mapping!G:G)+SUMIF(Mapping!$C:$C,'Data BG'!$I110,Mapping!G:G)+SUMIF(Mapping!$D:$D,'Data BG'!$I110,Mapping!G:G)+SUMIF(Mapping!$B:$B,'Data BG'!$J110,Mapping!G:G)+SUMIF(Mapping!$C:$C,'Data BG'!$J110,Mapping!G:G)+SUMIF(Mapping!$D:$D,'Data BG'!$J110,Mapping!G:G)+SUMIF(Mapping!$B:$B,'Data BG'!$M110,Mapping!G:G)+SUMIF(Mapping!$C:$C,'Data BG'!$M110,Mapping!G:G)+SUMIF(Mapping!$D:$D,'Data BG'!$M110,Mapping!G:G)+SUMIF(Mapping!$B:$B,$N110,Mapping!G:G)+SUMIF(Mapping!$C:$C,$N110,Mapping!G:G)+SUMIF(Mapping!$D:$D,$N110,Mapping!G:G)+SUMIF(Mapping!$B:$B,'Data BG'!$K110,Mapping!G:G)+SUMIF(Mapping!$C:$C,'Data BG'!$K110,Mapping!G:G)+SUMIF(Mapping!$D:$D,'Data BG'!$K110,Mapping!G:G)+SUMIF(Mapping!$B:$B,'Data BG'!$L110,Mapping!G:G)+SUMIF(Mapping!$C:$C,'Data BG'!$L110,Mapping!G:G)+SUMIF(Mapping!$D:$D,'Data BG'!$L110,Mapping!G:G)","v":0},{"$f":"SUMIF(Mapping!$B:$B,'Data BG'!$A110,Mapping!H:H)+SUMIF(Mapping!$C:$C,'Data BG'!$A110,Mapping!H:H)+SUMIF(Mapping!$D:$D,'Data BG'!$A110,Mapping!H:H)+SUMIF(Mapping!$B:$B,'Data BG'!$B110,Mapping!H:H)+SUMIF(Mapping!$C:$C,'Data BG'!$B110,Mapping!H:H)+SUMIF(Mapping!$D:$D,'Data BG'!$B110,Mapping!H:H)+SUMIF(Mapping!$B:$B,'Data BG'!$C110,Mapping!H:H)+SUMIF(Mapping!$C:$C,'Data BG'!$C110,Mapping!H:H)+SUMIF(Mapping!$D:$D,'Data BG'!$C110,Mapping!H:H)+SUMIF(Mapping!$B:$B,'Data BG'!$D110,Mapping!H:H)+SUMIF(Mapping!$C:$C,'Data BG'!$D110,Mapping!H:H)+SUMIF(Mapping!$D:$D,'Data BG'!$D110,Mapping!H:H)+SUMIF(Mapping!$B:$B,'Data BG'!$E110,Mapping!H:H)+SUMIF(Mapping!$C:$C,'Data BG'!$E110,Mapping!H:H)+SUMIF(Mapping!$D:$D,'Data BG'!$E110,Mapping!H:H)+SUMIF(Mapping!$B:$B,'Data BG'!$F110,Mapping!H:H)+SUMIF(Mapping!$C:$C,'Data BG'!$F110,Mapping!H:H)+SUMIF(Mapping!$D:$D,'Data BG'!$F110,Mapping!H:H)+SUMIF(Mapping!$B:$B,'Data BG'!$G110,Mapping!H:H)+SUMIF(Mapping!$C:$C,'Data BG'!$G110,Mapping!H:H)+SUMIF(Mapping!$D:$D,'Data BG'!$G110,Mapping!H:H)+SUMIF(Mapping!$B:$B,'Data BG'!$H110,Mapping!H:H)+SUMIF(Mapping!$C:$C,'Data BG'!$H110,Mapping!H:H)+SUMIF(Mapping!$D:$D,'Data BG'!$H110,Mapping!H:H)+SUMIF(Mapping!$B:$B,'Data BG'!$I110,Mapping!H:H)+SUMIF(Mapping!$C:$C,'Data BG'!$I110,Mapping!H:H)+SUMIF(Mapping!$D:$D,'Data BG'!$I110,Mapping!H:H)+SUMIF(Mapping!$B:$B,'Data BG'!$J110,Mapping!H:H)+SUMIF(Mapping!$C:$C,'Data BG'!$J110,Mapping!H:H)+SUMIF(Mapping!$D:$D,'Data BG'!$J110,Mapping!H:H)+SUMIF(Mapping!$B:$B,'Data BG'!$M110,Mapping!H:H)+SUMIF(Mapping!$C:$C,'Data BG'!$M110,Mapping!H:H)+SUMIF(Mapping!$D:$D,'Data BG'!$M110,Mapping!H:H)+SUMIF(Mapping!$B:$B,$N110,Mapping!H:H)+SUMIF(Mapping!$C:$C,$N110,Mapping!H:H)+SUMIF(Mapping!$D:$D,$N110,Mapping!H:H)+SUMIF(Mapping!$B:$B,'Data BG'!$K110,Mapping!H:H)+SUMIF(Mapping!$C:$C,'Data BG'!$K110,Mapping!H:H)+SUMIF(Mapping!$D:$D,'Data BG'!$K110,Mapping!H:H)+SUMIF(Mapping!$B:$B,'Data BG'!$L110,Mapping!H:H)+SUMIF(Mapping!$C:$C,'Data BG'!$L110,Mapping!H:H)+SUMIF(Mapping!$D:$D,'Data BG'!$L110,Mapping!H:H)","v":0}]
[641,644,6491,null,null,null,null,null,null,null,null,null,null,null,null,null,null,"Salaires et traitements ",{"$f":"SUMIF(Mapping!$B:$B,'Data BG'!$A111,Mapping!G:G)+SUMIF(Mapping!$C:$C,'Data BG'!$A111,Mapping!G:G)+SUMIF(Mapping!$D:$D,'Data BG'!$A111,Mapping!G:G)+SUMIF(Mapping!$B:$B,'Data BG'!$B111,Mapping!G:G)+SUMIF(Mapping!$C:$C,'Data BG'!$B111,Mapping!G:G)+SUMIF(Mapping!$D:$D,'Data BG'!$B111,Mapping!G:G)+SUMIF(Mapping!$B:$B,'Data BG'!$C111,Mapping!G:G)+SUMIF(Mapping!$C:$C,'Data BG'!$C111,Mapping!G:G)+SUMIF(Mapping!$D:$D,'Data BG'!$C111,Mapping!G:G)+SUMIF(Mapping!$B:$B,'Data BG'!$D111,Mapping!G:G)+SUMIF(Mapping!$C:$C,'Data BG'!$D111,Mapping!G:G)+SUMIF(Mapping!$D:$D,'Data BG'!$D111,Mapping!G:G)+SUMIF(Mapping!$B:$B,'Data BG'!$E111,Mapping!G:G)+SUMIF(Mapping!$C:$C,'Data BG'!$E111,Mapping!G:G)+SUMIF(Mapping!$D:$D,'Data BG'!$E111,Mapping!G:G)+SUMIF(Mapping!$B:$B,'Data BG'!$F111,Mapping!G:G)+SUMIF(Mapping!$C:$C,'Data BG'!$F111,Mapping!G:G)+SUMIF(Mapping!$D:$D,'Data BG'!$F111,Mapping!G:G)+SUMIF(Mapping!$B:$B,'Data BG'!$G111,Mapping!G:G)+SUMIF(Mapping!$C:$C,'Data BG'!$G111,Mapping!G:G)+SUMIF(Mapping!$D:$D,'Data BG'!$G111,Mapping!G:G)+SUMIF(Mapping!$B:$B,'Data BG'!$H111,Mapping!G:G)+SUMIF(Mapping!$C:$C,'Data BG'!$H111,Mapping!G:G)+SUMIF(Mapping!$D:$D,'Data BG'!$H111,Mapping!G:G)+SUMIF(Mapping!$B:$B,'Data BG'!$I111,Mapping!G:G)+SUMIF(Mapping!$C:$C,'Data BG'!$I111,Mapping!G:G)+SUMIF(Mapping!$D:$D,'Data BG'!$I111,Mapping!G:G)+SUMIF(Mapping!$B:$B,'Data BG'!$J111,Mapping!G:G)+SUMIF(Mapping!$C:$C,'Data BG'!$J111,Mapping!G:G)+SUMIF(Mapping!$D:$D,'Data BG'!$J111,Mapping!G:G)+SUMIF(Mapping!$B:$B,'Data BG'!$M111,Mapping!G:G)+SUMIF(Mapping!$C:$C,'Data BG'!$M111,Mapping!G:G)+SUMIF(Mapping!$D:$D,'Data BG'!$M111,Mapping!G:G)+SUMIF(Mapping!$B:$B,$N111,Mapping!G:G)+SUMIF(Mapping!$C:$C,$N111,Mapping!G:G)+SUMIF(Mapping!$D:$D,$N111,Mapping!G:G)+SUMIF(Mapping!$B:$B,'Data BG'!$K111,Mapping!G:G)+SUMIF(Mapping!$C:$C,'Data BG'!$K111,Mapping!G:G)+SUMIF(Mapping!$D:$D,'Data BG'!$K111,Mapping!G:G)+SUMIF(Mapping!$B:$B,'Data BG'!$L111,Mapping!G:G)+SUMIF(Mapping!$C:$C,'Data BG'!$L111,Mapping!G:G)+SUMIF(Mapping!$D:$D,'Data BG'!$L111,Mapping!G:G)","v":0},{"$f":"SUMIF(Mapping!$B:$B,'Data BG'!$A111,Mapping!H:H)+SUMIF(Mapping!$C:$C,'Data BG'!$A111,Mapping!H:H)+SUMIF(Mapping!$D:$D,'Data BG'!$A111,Mapping!H:H)+SUMIF(Mapping!$B:$B,'Data BG'!$B111,Mapping!H:H)+SUMIF(Mapping!$C:$C,'Data BG'!$B111,Mapping!H:H)+SUMIF(Mapping!$D:$D,'Data BG'!$B111,Mapping!H:H)+SUMIF(Mapping!$B:$B,'Data BG'!$C111,Mapping!H:H)+SUMIF(Mapping!$C:$C,'Data BG'!$C111,Mapping!H:H)+SUMIF(Mapping!$D:$D,'Data BG'!$C111,Mapping!H:H)+SUMIF(Mapping!$B:$B,'Data BG'!$D111,Mapping!H:H)+SUMIF(Mapping!$C:$C,'Data BG'!$D111,Mapping!H:H)+SUMIF(Mapping!$D:$D,'Data BG'!$D111,Mapping!H:H)+SUMIF(Mapping!$B:$B,'Data BG'!$E111,Mapping!H:H)+SUMIF(Mapping!$C:$C,'Data BG'!$E111,Mapping!H:H)+SUMIF(Mapping!$D:$D,'Data BG'!$E111,Mapping!H:H)+SUMIF(Mapping!$B:$B,'Data BG'!$F111,Mapping!H:H)+SUMIF(Mapping!$C:$C,'Data BG'!$F111,Mapping!H:H)+SUMIF(Mapping!$D:$D,'Data BG'!$F111,Mapping!H:H)+SUMIF(Mapping!$B:$B,'Data BG'!$G111,Mapping!H:H)+SUMIF(Mapping!$C:$C,'Data BG'!$G111,Mapping!H:H)+SUMIF(Mapping!$D:$D,'Data BG'!$G111,Mapping!H:H)+SUMIF(Mapping!$B:$B,'Data BG'!$H111,Mapping!H:H)+SUMIF(Mapping!$C:$C,'Data BG'!$H111,Mapping!H:H)+SUMIF(Mapping!$D:$D,'Data BG'!$H111,Mapping!H:H)+SUMIF(Mapping!$B:$B,'Data BG'!$I111,Mapping!H:H)+SUMIF(Mapping!$C:$C,'Data BG'!$I111,Mapping!H:H)+SUMIF(Mapping!$D:$D,'Data BG'!$I111,Mapping!H:H)+SUMIF(Mapping!$B:$B,'Data BG'!$J111,Mapping!H:H)+SUMIF(Mapping!$C:$C,'Data BG'!$J111,Mapping!H:H)+SUMIF(Mapping!$D:$D,'Data BG'!$J111,Mapping!H:H)+SUMIF(Mapping!$B:$B,'Data BG'!$M111,Mapping!H:H)+SUMIF(Mapping!$C:$C,'Data BG'!$M111,Mapping!H:H)+SUMIF(Mapping!$D:$D,'Data BG'!$M111,Mapping!H:H)+SUMIF(Mapping!$B:$B,$N111,Mapping!H:H)+SUMIF(Mapping!$C:$C,$N111,Mapping!H:H)+SUMIF(Mapping!$D:$D,$N111,Mapping!H:H)+SUMIF(Mapping!$B:$B,'Data BG'!$K111,Mapping!H:H)+SUMIF(Mapping!$C:$C,'Data BG'!$K111,Mapping!H:H)+SUMIF(Mapping!$D:$D,'Data BG'!$K111,Mapping!H:H)+SUMIF(Mapping!$B:$B,'Data BG'!$L111,Mapping!H:H)+SUMIF(Mapping!$C:$C,'Data BG'!$L111,Mapping!H:H)+SUMIF(Mapping!$D:$D,'Data BG'!$L111,Mapping!H:H)","v":0}]
[645,647,648,null,6492,646,null,null,null,null,null,null,null,null,null,null,null,"Charges sociales ",{"$f":"SUMIF(Mapping!$B:$B,'Data BG'!$A112,Mapping!G:G)+SUMIF(Mapping!$C:$C,'Data BG'!$A112,Mapping!G:G)+SUMIF(Mapping!$D:$D,'Data BG'!$A112,Mapping!G:G)+SUMIF(Mapping!$B:$B,'Data BG'!$B112,Mapping!G:G)+SUMIF(Mapping!$C:$C,'Data BG'!$B112,Mapping!G:G)+SUMIF(Mapping!$D:$D,'Data BG'!$B112,Mapping!G:G)+SUMIF(Mapping!$B:$B,'Data BG'!$C112,Mapping!G:G)+SUMIF(Mapping!$C:$C,'Data BG'!$C112,Mapping!G:G)+SUMIF(Mapping!$D:$D,'Data BG'!$C112,Mapping!G:G)+SUMIF(Mapping!$B:$B,'Data BG'!$D112,Mapping!G:G)+SUMIF(Mapping!$C:$C,'Data BG'!$D112,Mapping!G:G)+SUMIF(Mapping!$D:$D,'Data BG'!$D112,Mapping!G:G)+SUMIF(Mapping!$B:$B,'Data BG'!$E112,Mapping!G:G)+SUMIF(Mapping!$C:$C,'Data BG'!$E112,Mapping!G:G)+SUMIF(Mapping!$D:$D,'Data BG'!$E112,Mapping!G:G)+SUMIF(Mapping!$B:$B,'Data BG'!$F112,Mapping!G:G)+SUMIF(Mapping!$C:$C,'Data BG'!$F112,Mapping!G:G)+SUMIF(Mapping!$D:$D,'Data BG'!$F112,Mapping!G:G)+SUMIF(Mapping!$B:$B,'Data BG'!$G112,Mapping!G:G)+SUMIF(Mapping!$C:$C,'Data BG'!$G112,Mapping!G:G)+SUMIF(Mapping!$D:$D,'Data BG'!$G112,Mapping!G:G)+SUMIF(Mapping!$B:$B,'Data BG'!$H112,Mapping!G:G)+SUMIF(Mapping!$C:$C,'Data BG'!$H112,Mapping!G:G)+SUMIF(Mapping!$D:$D,'Data BG'!$H112,Mapping!G:G)+SUMIF(Mapping!$B:$B,'Data BG'!$I112,Mapping!G:G)+SUMIF(Mapping!$C:$C,'Data BG'!$I112,Mapping!G:G)+SUMIF(Mapping!$D:$D,'Data BG'!$I112,Mapping!G:G)+SUMIF(Mapping!$B:$B,'Data BG'!$J112,Mapping!G:G)+SUMIF(Mapping!$C:$C,'Data BG'!$J112,Mapping!G:G)+SUMIF(Mapping!$D:$D,'Data BG'!$J112,Mapping!G:G)+SUMIF(Mapping!$B:$B,'Data BG'!$M112,Mapping!G:G)+SUMIF(Mapping!$C:$C,'Data BG'!$M112,Mapping!G:G)+SUMIF(Mapping!$D:$D,'Data BG'!$M112,Mapping!G:G)+SUMIF(Mapping!$B:$B,$N112,Mapping!G:G)+SUMIF(Mapping!$C:$C,$N112,Mapping!G:G)+SUMIF(Mapping!$D:$D,$N112,Mapping!G:G)+SUMIF(Mapping!$B:$B,'Data BG'!$K112,Mapping!G:G)+SUMIF(Mapping!$C:$C,'Data BG'!$K112,Mapping!G:G)+SUMIF(Mapping!$D:$D,'Data BG'!$K112,Mapping!G:G)+SUMIF(Mapping!$B:$B,'Data BG'!$L112,Mapping!G:G)+SUMIF(Mapping!$C:$C,'Data BG'!$L112,Mapping!G:G)+SUMIF(Mapping!$D:$D,'Data BG'!$L112,Mapping!G:G)","v":0},{"$f":"SUMIF(Mapping!$B:$B,'Data BG'!$A112,Mapping!H:H)+SUMIF(Mapping!$C:$C,'Data BG'!$A112,Mapping!H:H)+SUMIF(Mapping!$D:$D,'Data BG'!$A112,Mapping!H:H)+SUMIF(Mapping!$B:$B,'Data BG'!$B112,Mapping!H:H)+SUMIF(Mapping!$C:$C,'Data BG'!$B112,Mapping!H:H)+SUMIF(Mapping!$D:$D,'Data BG'!$B112,Mapping!H:H)+SUMIF(Mapping!$B:$B,'Data BG'!$C112,Mapping!H:H)+SUMIF(Mapping!$C:$C,'Data BG'!$C112,Mapping!H:H)+SUMIF(Mapping!$D:$D,'Data BG'!$C112,Mapping!H:H)+SUMIF(Mapping!$B:$B,'Data BG'!$D112,Mapping!H:H)+SUMIF(Mapping!$C:$C,'Data BG'!$D112,Mapping!H:H)+SUMIF(Mapping!$D:$D,'Data BG'!$D112,Mapping!H:H)+SUMIF(Mapping!$B:$B,'Data BG'!$E112,Mapping!H:H)+SUMIF(Mapping!$C:$C,'Data BG'!$E112,Mapping!H:H)+SUMIF(Mapping!$D:$D,'Data BG'!$E112,Mapping!H:H)+SUMIF(Mapping!$B:$B,'Data BG'!$F112,Mapping!H:H)+SUMIF(Mapping!$C:$C,'Data BG'!$F112,Mapping!H:H)+SUMIF(Mapping!$D:$D,'Data BG'!$F112,Mapping!H:H)+SUMIF(Mapping!$B:$B,'Data BG'!$G112,Mapping!H:H)+SUMIF(Mapping!$C:$C,'Data BG'!$G112,Mapping!H:H)+SUMIF(Mapping!$D:$D,'Data BG'!$G112,Mapping!H:H)+SUMIF(Mapping!$B:$B,'Data BG'!$H112,Mapping!H:H)+SUMIF(Mapping!$C:$C,'Data BG'!$H112,Mapping!H:H)+SUMIF(Mapping!$D:$D,'Data BG'!$H112,Mapping!H:H)+SUMIF(Mapping!$B:$B,'Data BG'!$I112,Mapping!H:H)+SUMIF(Mapping!$C:$C,'Data BG'!$I112,Mapping!H:H)+SUMIF(Mapping!$D:$D,'Data BG'!$I112,Mapping!H:H)+SUMIF(Mapping!$B:$B,'Data BG'!$J112,Mapping!H:H)+SUMIF(Mapping!$C:$C,'Data BG'!$J112,Mapping!H:H)+SUMIF(Mapping!$D:$D,'Data BG'!$J112,Mapping!H:H)+SUMIF(Mapping!$B:$B,'Data BG'!$M112,Mapping!H:H)+SUMIF(Mapping!$C:$C,'Data BG'!$M112,Mapping!H:H)+SUMIF(Mapping!$D:$D,'Data BG'!$M112,Mapping!H:H)+SUMIF(Mapping!$B:$B,$N112,Mapping!H:H)+SUMIF(Mapping!$C:$C,$N112,Mapping!H:H)+SUMIF(Mapping!$D:$D,$N112,Mapping!H:H)+SUMIF(Mapping!$B:$B,'Data BG'!$K112,Mapping!H:H)+SUMIF(Mapping!$C:$C,'Data BG'!$K112,Mapping!H:H)+SUMIF(Mapping!$D:$D,'Data BG'!$K112,Mapping!H:H)+SUMIF(Mapping!$B:$B,'Data BG'!$L112,Mapping!H:H)+SUMIF(Mapping!$C:$C,'Data BG'!$L112,Mapping!H:H)+SUMIF(Mapping!$D:$D,'Data BG'!$L112,Mapping!H:H)","v":0}]
[6810,6811,6812,6816,null,null,null,null,null,null,null,null,null,null,null,null,null,"Dotations aux amortissements et dépréciations sur immobilisations ",{"$f":"SUMIF(Mapping!$B:$B,'Data BG'!$A113,Mapping!G:G)+SUMIF(Mapping!$C:$C,'Data BG'!$A113,Mapping!G:G)+SUMIF(Mapping!$D:$D,'Data BG'!$A113,Mapping!G:G)+SUMIF(Mapping!$B:$B,'Data BG'!$B113,Mapping!G:G)+SUMIF(Mapping!$C:$C,'Data BG'!$B113,Mapping!G:G)+SUMIF(Mapping!$D:$D,'Data BG'!$B113,Mapping!G:G)+SUMIF(Mapping!$B:$B,'Data BG'!$C113,Mapping!G:G)+SUMIF(Mapping!$C:$C,'Data BG'!$C113,Mapping!G:G)+SUMIF(Mapping!$D:$D,'Data BG'!$C113,Mapping!G:G)+SUMIF(Mapping!$B:$B,'Data BG'!$D113,Mapping!G:G)+SUMIF(Mapping!$C:$C,'Data BG'!$D113,Mapping!G:G)+SUMIF(Mapping!$D:$D,'Data BG'!$D113,Mapping!G:G)+SUMIF(Mapping!$B:$B,'Data BG'!$E113,Mapping!G:G)+SUMIF(Mapping!$C:$C,'Data BG'!$E113,Mapping!G:G)+SUMIF(Mapping!$D:$D,'Data BG'!$E113,Mapping!G:G)+SUMIF(Mapping!$B:$B,'Data BG'!$F113,Mapping!G:G)+SUMIF(Mapping!$C:$C,'Data BG'!$F113,Mapping!G:G)+SUMIF(Mapping!$D:$D,'Data BG'!$F113,Mapping!G:G)+SUMIF(Mapping!$B:$B,'Data BG'!$G113,Mapping!G:G)+SUMIF(Mapping!$C:$C,'Data BG'!$G113,Mapping!G:G)+SUMIF(Mapping!$D:$D,'Data BG'!$G113,Mapping!G:G)+SUMIF(Mapping!$B:$B,'Data BG'!$H113,Mapping!G:G)+SUMIF(Mapping!$C:$C,'Data BG'!$H113,Mapping!G:G)+SUMIF(Mapping!$D:$D,'Data BG'!$H113,Mapping!G:G)+SUMIF(Mapping!$B:$B,'Data BG'!$I113,Mapping!G:G)+SUMIF(Mapping!$C:$C,'Data BG'!$I113,Mapping!G:G)+SUMIF(Mapping!$D:$D,'Data BG'!$I113,Mapping!G:G)+SUMIF(Mapping!$B:$B,'Data BG'!$J113,Mapping!G:G)+SUMIF(Mapping!$C:$C,'Data BG'!$J113,Mapping!G:G)+SUMIF(Mapping!$D:$D,'Data BG'!$J113,Mapping!G:G)+SUMIF(Mapping!$B:$B,'Data BG'!$M113,Mapping!G:G)+SUMIF(Mapping!$C:$C,'Data BG'!$M113,Mapping!G:G)+SUMIF(Mapping!$D:$D,'Data BG'!$M113,Mapping!G:G)+SUMIF(Mapping!$B:$B,$N113,Mapping!G:G)+SUMIF(Mapping!$C:$C,$N113,Mapping!G:G)+SUMIF(Mapping!$D:$D,$N113,Mapping!G:G)+SUMIF(Mapping!$B:$B,'Data BG'!$K113,Mapping!G:G)+SUMIF(Mapping!$C:$C,'Data BG'!$K113,Mapping!G:G)+SUMIF(Mapping!$D:$D,'Data BG'!$K113,Mapping!G:G)+SUMIF(Mapping!$B:$B,'Data BG'!$L113,Mapping!G:G)+SUMIF(Mapping!$C:$C,'Data BG'!$L113,Mapping!G:G)+SUMIF(Mapping!$D:$D,'Data BG'!$L113,Mapping!G:G)","v":0},{"$f":"SUMIF(Mapping!$B:$B,'Data BG'!$A113,Mapping!H:H)+SUMIF(Mapping!$C:$C,'Data BG'!$A113,Mapping!H:H)+SUMIF(Mapping!$D:$D,'Data BG'!$A113,Mapping!H:H)+SUMIF(Mapping!$B:$B,'Data BG'!$B113,Mapping!H:H)+SUMIF(Mapping!$C:$C,'Data BG'!$B113,Mapping!H:H)+SUMIF(Mapping!$D:$D,'Data BG'!$B113,Mapping!H:H)+SUMIF(Mapping!$B:$B,'Data BG'!$C113,Mapping!H:H)+SUMIF(Mapping!$C:$C,'Data BG'!$C113,Mapping!H:H)+SUMIF(Mapping!$D:$D,'Data BG'!$C113,Mapping!H:H)+SUMIF(Mapping!$B:$B,'Data BG'!$D113,Mapping!H:H)+SUMIF(Mapping!$C:$C,'Data BG'!$D113,Mapping!H:H)+SUMIF(Mapping!$D:$D,'Data BG'!$D113,Mapping!H:H)+SUMIF(Mapping!$B:$B,'Data BG'!$E113,Mapping!H:H)+SUMIF(Mapping!$C:$C,'Data BG'!$E113,Mapping!H:H)+SUMIF(Mapping!$D:$D,'Data BG'!$E113,Mapping!H:H)+SUMIF(Mapping!$B:$B,'Data BG'!$F113,Mapping!H:H)+SUMIF(Mapping!$C:$C,'Data BG'!$F113,Mapping!H:H)+SUMIF(Mapping!$D:$D,'Data BG'!$F113,Mapping!H:H)+SUMIF(Mapping!$B:$B,'Data BG'!$G113,Mapping!H:H)+SUMIF(Mapping!$C:$C,'Data BG'!$G113,Mapping!H:H)+SUMIF(Mapping!$D:$D,'Data BG'!$G113,Mapping!H:H)+SUMIF(Mapping!$B:$B,'Data BG'!$H113,Mapping!H:H)+SUMIF(Mapping!$C:$C,'Data BG'!$H113,Mapping!H:H)+SUMIF(Mapping!$D:$D,'Data BG'!$H113,Mapping!H:H)+SUMIF(Mapping!$B:$B,'Data BG'!$I113,Mapping!H:H)+SUMIF(Mapping!$C:$C,'Data BG'!$I113,Mapping!H:H)+SUMIF(Mapping!$D:$D,'Data BG'!$I113,Mapping!H:H)+SUMIF(Mapping!$B:$B,'Data BG'!$J113,Mapping!H:H)+SUMIF(Mapping!$C:$C,'Data BG'!$J113,Mapping!H:H)+SUMIF(Mapping!$D:$D,'Data BG'!$J113,Mapping!H:H)+SUMIF(Mapping!$B:$B,'Data BG'!$M113,Mapping!H:H)+SUMIF(Mapping!$C:$C,'Data BG'!$M113,Mapping!H:H)+SUMIF(Mapping!$D:$D,'Data BG'!$M113,Mapping!H:H)+SUMIF(Mapping!$B:$B,$N113,Mapping!H:H)+SUMIF(Mapping!$C:$C,$N113,Mapping!H:H)+SUMIF(Mapping!$D:$D,$N113,Mapping!H:H)+SUMIF(Mapping!$B:$B,'Data BG'!$K113,Mapping!H:H)+SUMIF(Mapping!$C:$C,'Data BG'!$K113,Mapping!H:H)+SUMIF(Mapping!$D:$D,'Data BG'!$K113,Mapping!H:H)+SUMIF(Mapping!$B:$B,'Data BG'!$L113,Mapping!H:H)+SUMIF(Mapping!$C:$C,'Data BG'!$L113,Mapping!H:H)+SUMIF(Mapping!$D:$D,'Data BG'!$L113,Mapping!H:H)","v":0}]
[6817,null,null,null,null,null,null,null,null,null,null,null,null,null,null,null,null,"Dotations aux dépréciations sur actif circulant ",{"$f":"SUMIF(Mapping!$B:$B,'Data BG'!$A114,Mapping!G:G)+SUMIF(Mapping!$C:$C,'Data BG'!$A114,Mapping!G:G)+SUMIF(Mapping!$D:$D,'Data BG'!$A114,Mapping!G:G)+SUMIF(Mapping!$B:$B,'Data BG'!$B114,Mapping!G:G)+SUMIF(Mapping!$C:$C,'Data BG'!$B114,Mapping!G:G)+SUMIF(Mapping!$D:$D,'Data BG'!$B114,Mapping!G:G)+SUMIF(Mapping!$B:$B,'Data BG'!$C114,Mapping!G:G)+SUMIF(Mapping!$C:$C,'Data BG'!$C114,Mapping!G:G)+SUMIF(Mapping!$D:$D,'Data BG'!$C114,Mapping!G:G)+SUMIF(Mapping!$B:$B,'Data BG'!$D114,Mapping!G:G)+SUMIF(Mapping!$C:$C,'Data BG'!$D114,Mapping!G:G)+SUMIF(Mapping!$D:$D,'Data BG'!$D114,Mapping!G:G)+SUMIF(Mapping!$B:$B,'Data BG'!$E114,Mapping!G:G)+SUMIF(Mapping!$C:$C,'Data BG'!$E114,Mapping!G:G)+SUMIF(Mapping!$D:$D,'Data BG'!$E114,Mapping!G:G)+SUMIF(Mapping!$B:$B,'Data BG'!$F114,Mapping!G:G)+SUMIF(Mapping!$C:$C,'Data BG'!$F114,Mapping!G:G)+SUMIF(Mapping!$D:$D,'Data BG'!$F114,Mapping!G:G)+SUMIF(Mapping!$B:$B,'Data BG'!$G114,Mapping!G:G)+SUMIF(Mapping!$C:$C,'Data BG'!$G114,Mapping!G:G)+SUMIF(Mapping!$D:$D,'Data BG'!$G114,Mapping!G:G)+SUMIF(Mapping!$B:$B,'Data BG'!$H114,Mapping!G:G)+SUMIF(Mapping!$C:$C,'Data BG'!$H114,Mapping!G:G)+SUMIF(Mapping!$D:$D,'Data BG'!$H114,Mapping!G:G)+SUMIF(Mapping!$B:$B,'Data BG'!$I114,Mapping!G:G)+SUMIF(Mapping!$C:$C,'Data BG'!$I114,Mapping!G:G)+SUMIF(Mapping!$D:$D,'Data BG'!$I114,Mapping!G:G)+SUMIF(Mapping!$B:$B,'Data BG'!$J114,Mapping!G:G)+SUMIF(Mapping!$C:$C,'Data BG'!$J114,Mapping!G:G)+SUMIF(Mapping!$D:$D,'Data BG'!$J114,Mapping!G:G)+SUMIF(Mapping!$B:$B,'Data BG'!$M114,Mapping!G:G)+SUMIF(Mapping!$C:$C,'Data BG'!$M114,Mapping!G:G)+SUMIF(Mapping!$D:$D,'Data BG'!$M114,Mapping!G:G)+SUMIF(Mapping!$B:$B,$N114,Mapping!G:G)+SUMIF(Mapping!$C:$C,$N114,Mapping!G:G)+SUMIF(Mapping!$D:$D,$N114,Mapping!G:G)+SUMIF(Mapping!$B:$B,'Data BG'!$K114,Mapping!G:G)+SUMIF(Mapping!$C:$C,'Data BG'!$K114,Mapping!G:G)+SUMIF(Mapping!$D:$D,'Data BG'!$K114,Mapping!G:G)+SUMIF(Mapping!$B:$B,'Data BG'!$L114,Mapping!G:G)+SUMIF(Mapping!$C:$C,'Data BG'!$L114,Mapping!G:G)+SUMIF(Mapping!$D:$D,'Data BG'!$L114,Mapping!G:G)","v":0},{"$f":"SUMIF(Mapping!$B:$B,'Data BG'!$A114,Mapping!H:H)+SUMIF(Mapping!$C:$C,'Data BG'!$A114,Mapping!H:H)+SUMIF(Mapping!$D:$D,'Data BG'!$A114,Mapping!H:H)+SUMIF(Mapping!$B:$B,'Data BG'!$B114,Mapping!H:H)+SUMIF(Mapping!$C:$C,'Data BG'!$B114,Mapping!H:H)+SUMIF(Mapping!$D:$D,'Data BG'!$B114,Mapping!H:H)+SUMIF(Mapping!$B:$B,'Data BG'!$C114,Mapping!H:H)+SUMIF(Mapping!$C:$C,'Data BG'!$C114,Mapping!H:H)+SUMIF(Mapping!$D:$D,'Data BG'!$C114,Mapping!H:H)+SUMIF(Mapping!$B:$B,'Data BG'!$D114,Mapping!H:H)+SUMIF(Mapping!$C:$C,'Data BG'!$D114,Mapping!H:H)+SUMIF(Mapping!$D:$D,'Data BG'!$D114,Mapping!H:H)+SUMIF(Mapping!$B:$B,'Data BG'!$E114,Mapping!H:H)+SUMIF(Mapping!$C:$C,'Data BG'!$E114,Mapping!H:H)+SUMIF(Mapping!$D:$D,'Data BG'!$E114,Mapping!H:H)+SUMIF(Mapping!$B:$B,'Data BG'!$F114,Mapping!H:H)+SUMIF(Mapping!$C:$C,'Data BG'!$F114,Mapping!H:H)+SUMIF(Mapping!$D:$D,'Data BG'!$F114,Mapping!H:H)+SUMIF(Mapping!$B:$B,'Data BG'!$G114,Mapping!H:H)+SUMIF(Mapping!$C:$C,'Data BG'!$G114,Mapping!H:H)+SUMIF(Mapping!$D:$D,'Data BG'!$G114,Mapping!H:H)+SUMIF(Mapping!$B:$B,'Data BG'!$H114,Mapping!H:H)+SUMIF(Mapping!$C:$C,'Data BG'!$H114,Mapping!H:H)+SUMIF(Mapping!$D:$D,'Data BG'!$H114,Mapping!H:H)+SUMIF(Mapping!$B:$B,'Data BG'!$I114,Mapping!H:H)+SUMIF(Mapping!$C:$C,'Data BG'!$I114,Mapping!H:H)+SUMIF(Mapping!$D:$D,'Data BG'!$I114,Mapping!H:H)+SUMIF(Mapping!$B:$B,'Data BG'!$J114,Mapping!H:H)+SUMIF(Mapping!$C:$C,'Data BG'!$J114,Mapping!H:H)+SUMIF(Mapping!$D:$D,'Data BG'!$J114,Mapping!H:H)+SUMIF(Mapping!$B:$B,'Data BG'!$M114,Mapping!H:H)+SUMIF(Mapping!$C:$C,'Data BG'!$M114,Mapping!H:H)+SUMIF(Mapping!$D:$D,'Data BG'!$M114,Mapping!H:H)+SUMIF(Mapping!$B:$B,$N114,Mapping!H:H)+SUMIF(Mapping!$C:$C,$N114,Mapping!H:H)+SUMIF(Mapping!$D:$D,$N114,Mapping!H:H)+SUMIF(Mapping!$B:$B,'Data BG'!$K114,Mapping!H:H)+SUMIF(Mapping!$C:$C,'Data BG'!$K114,Mapping!H:H)+SUMIF(Mapping!$D:$D,'Data BG'!$K114,Mapping!H:H)+SUMIF(Mapping!$B:$B,'Data BG'!$L114,Mapping!H:H)+SUMIF(Mapping!$C:$C,'Data BG'!$L114,Mapping!H:H)+SUMIF(Mapping!$D:$D,'Data BG'!$L114,Mapping!H:H)","v":0}]
[6815,null,null,null,null,null,null,null,null,null,null,null,null,null,null,null,null,"Dotations aux provisions ",{"$f":"SUMIF(Mapping!$B:$B,'Data BG'!$A115,Mapping!G:G)+SUMIF(Mapping!$C:$C,'Data BG'!$A115,Mapping!G:G)+SUMIF(Mapping!$D:$D,'Data BG'!$A115,Mapping!G:G)+SUMIF(Mapping!$B:$B,'Data BG'!$B115,Mapping!G:G)+SUMIF(Mapping!$C:$C,'Data BG'!$B115,Mapping!G:G)+SUMIF(Mapping!$D:$D,'Data BG'!$B115,Mapping!G:G)+SUMIF(Mapping!$B:$B,'Data BG'!$C115,Mapping!G:G)+SUMIF(Mapping!$C:$C,'Data BG'!$C115,Mapping!G:G)+SUMIF(Mapping!$D:$D,'Data BG'!$C115,Mapping!G:G)+SUMIF(Mapping!$B:$B,'Data BG'!$D115,Mapping!G:G)+SUMIF(Mapping!$C:$C,'Data BG'!$D115,Mapping!G:G)+SUMIF(Mapping!$D:$D,'Data BG'!$D115,Mapping!G:G)+SUMIF(Mapping!$B:$B,'Data BG'!$E115,Mapping!G:G)+SUMIF(Mapping!$C:$C,'Data BG'!$E115,Mapping!G:G)+SUMIF(Mapping!$D:$D,'Data BG'!$E115,Mapping!G:G)+SUMIF(Mapping!$B:$B,'Data BG'!$F115,Mapping!G:G)+SUMIF(Mapping!$C:$C,'Data BG'!$F115,Mapping!G:G)+SUMIF(Mapping!$D:$D,'Data BG'!$F115,Mapping!G:G)+SUMIF(Mapping!$B:$B,'Data BG'!$G115,Mapping!G:G)+SUMIF(Mapping!$C:$C,'Data BG'!$G115,Mapping!G:G)+SUMIF(Mapping!$D:$D,'Data BG'!$G115,Mapping!G:G)+SUMIF(Mapping!$B:$B,'Data BG'!$H115,Mapping!G:G)+SUMIF(Mapping!$C:$C,'Data BG'!$H115,Mapping!G:G)+SUMIF(Mapping!$D:$D,'Data BG'!$H115,Mapping!G:G)+SUMIF(Mapping!$B:$B,'Data BG'!$I115,Mapping!G:G)+SUMIF(Mapping!$C:$C,'Data BG'!$I115,Mapping!G:G)+SUMIF(Mapping!$D:$D,'Data BG'!$I115,Mapping!G:G)+SUMIF(Mapping!$B:$B,'Data BG'!$J115,Mapping!G:G)+SUMIF(Mapping!$C:$C,'Data BG'!$J115,Mapping!G:G)+SUMIF(Mapping!$D:$D,'Data BG'!$J115,Mapping!G:G)+SUMIF(Mapping!$B:$B,'Data BG'!$M115,Mapping!G:G)+SUMIF(Mapping!$C:$C,'Data BG'!$M115,Mapping!G:G)+SUMIF(Mapping!$D:$D,'Data BG'!$M115,Mapping!G:G)+SUMIF(Mapping!$B:$B,$N115,Mapping!G:G)+SUMIF(Mapping!$C:$C,$N115,Mapping!G:G)+SUMIF(Mapping!$D:$D,$N115,Mapping!G:G)+SUMIF(Mapping!$B:$B,'Data BG'!$K115,Mapping!G:G)+SUMIF(Mapping!$C:$C,'Data BG'!$K115,Mapping!G:G)+SUMIF(Mapping!$D:$D,'Data BG'!$K115,Mapping!G:G)+SUMIF(Mapping!$B:$B,'Data BG'!$L115,Mapping!G:G)+SUMIF(Mapping!$C:$C,'Data BG'!$L115,Mapping!G:G)+SUMIF(Mapping!$D:$D,'Data BG'!$L115,Mapping!G:G)","v":0},{"$f":"SUMIF(Mapping!$B:$B,'Data BG'!$A115,Mapping!H:H)+SUMIF(Mapping!$C:$C,'Data BG'!$A115,Mapping!H:H)+SUMIF(Mapping!$D:$D,'Data BG'!$A115,Mapping!H:H)+SUMIF(Mapping!$B:$B,'Data BG'!$B115,Mapping!H:H)+SUMIF(Mapping!$C:$C,'Data BG'!$B115,Mapping!H:H)+SUMIF(Mapping!$D:$D,'Data BG'!$B115,Mapping!H:H)+SUMIF(Mapping!$B:$B,'Data BG'!$C115,Mapping!H:H)+SUMIF(Mapping!$C:$C,'Data BG'!$C115,Mapping!H:H)+SUMIF(Mapping!$D:$D,'Data BG'!$C115,Mapping!H:H)+SUMIF(Mapping!$B:$B,'Data BG'!$D115,Mapping!H:H)+SUMIF(Mapping!$C:$C,'Data BG'!$D115,Mapping!H:H)+SUMIF(Mapping!$D:$D,'Data BG'!$D115,Mapping!H:H)+SUMIF(Mapping!$B:$B,'Data BG'!$E115,Mapping!H:H)+SUMIF(Mapping!$C:$C,'Data BG'!$E115,Mapping!H:H)+SUMIF(Mapping!$D:$D,'Data BG'!$E115,Mapping!H:H)+SUMIF(Mapping!$B:$B,'Data BG'!$F115,Mapping!H:H)+SUMIF(Mapping!$C:$C,'Data BG'!$F115,Mapping!H:H)+SUMIF(Mapping!$D:$D,'Data BG'!$F115,Mapping!H:H)+SUMIF(Mapping!$B:$B,'Data BG'!$G115,Mapping!H:H)+SUMIF(Mapping!$C:$C,'Data BG'!$G115,Mapping!H:H)+SUMIF(Mapping!$D:$D,'Data BG'!$G115,Mapping!H:H)+SUMIF(Mapping!$B:$B,'Data BG'!$H115,Mapping!H:H)+SUMIF(Mapping!$C:$C,'Data BG'!$H115,Mapping!H:H)+SUMIF(Mapping!$D:$D,'Data BG'!$H115,Mapping!H:H)+SUMIF(Mapping!$B:$B,'Data BG'!$I115,Mapping!H:H)+SUMIF(Mapping!$C:$C,'Data BG'!$I115,Mapping!H:H)+SUMIF(Mapping!$D:$D,'Data BG'!$I115,Mapping!H:H)+SUMIF(Mapping!$B:$B,'Data BG'!$J115,Mapping!H:H)+SUMIF(Mapping!$C:$C,'Data BG'!$J115,Mapping!H:H)+SUMIF(Mapping!$D:$D,'Data BG'!$J115,Mapping!H:H)+SUMIF(Mapping!$B:$B,'Data BG'!$M115,Mapping!H:H)+SUMIF(Mapping!$C:$C,'Data BG'!$M115,Mapping!H:H)+SUMIF(Mapping!$D:$D,'Data BG'!$M115,Mapping!H:H)+SUMIF(Mapping!$B:$B,$N115,Mapping!H:H)+SUMIF(Mapping!$C:$C,$N115,Mapping!H:H)+SUMIF(Mapping!$D:$D,$N115,Mapping!H:H)+SUMIF(Mapping!$B:$B,'Data BG'!$K115,Mapping!H:H)+SUMIF(Mapping!$C:$C,'Data BG'!$K115,Mapping!H:H)+SUMIF(Mapping!$D:$D,'Data BG'!$K115,Mapping!H:H)+SUMIF(Mapping!$B:$B,'Data BG'!$L115,Mapping!H:H)+SUMIF(Mapping!$C:$C,'Data BG'!$L115,Mapping!H:H)+SUMIF(Mapping!$D:$D,'Data BG'!$L115,Mapping!H:H)","v":0}]
[6581,null,null,null,null,null,null,null,null,null,null,null,null,null,null,null,null,"Charges des entités non significatives ",{"$f":"SUMIF(Mapping!$B:$B,'Data BG'!$A116,Mapping!G:G)+SUMIF(Mapping!$C:$C,'Data BG'!$A116,Mapping!G:G)+SUMIF(Mapping!$D:$D,'Data BG'!$A116,Mapping!G:G)+SUMIF(Mapping!$B:$B,'Data BG'!$B116,Mapping!G:G)+SUMIF(Mapping!$C:$C,'Data BG'!$B116,Mapping!G:G)+SUMIF(Mapping!$D:$D,'Data BG'!$B116,Mapping!G:G)+SUMIF(Mapping!$B:$B,'Data BG'!$C116,Mapping!G:G)+SUMIF(Mapping!$C:$C,'Data BG'!$C116,Mapping!G:G)+SUMIF(Mapping!$D:$D,'Data BG'!$C116,Mapping!G:G)+SUMIF(Mapping!$B:$B,'Data BG'!$D116,Mapping!G:G)+SUMIF(Mapping!$C:$C,'Data BG'!$D116,Mapping!G:G)+SUMIF(Mapping!$D:$D,'Data BG'!$D116,Mapping!G:G)+SUMIF(Mapping!$B:$B,'Data BG'!$E116,Mapping!G:G)+SUMIF(Mapping!$C:$C,'Data BG'!$E116,Mapping!G:G)+SUMIF(Mapping!$D:$D,'Data BG'!$E116,Mapping!G:G)+SUMIF(Mapping!$B:$B,'Data BG'!$F116,Mapping!G:G)+SUMIF(Mapping!$C:$C,'Data BG'!$F116,Mapping!G:G)+SUMIF(Mapping!$D:$D,'Data BG'!$F116,Mapping!G:G)+SUMIF(Mapping!$B:$B,'Data BG'!$G116,Mapping!G:G)+SUMIF(Mapping!$C:$C,'Data BG'!$G116,Mapping!G:G)+SUMIF(Mapping!$D:$D,'Data BG'!$G116,Mapping!G:G)+SUMIF(Mapping!$B:$B,'Data BG'!$H116,Mapping!G:G)+SUMIF(Mapping!$C:$C,'Data BG'!$H116,Mapping!G:G)+SUMIF(Mapping!$D:$D,'Data BG'!$H116,Mapping!G:G)+SUMIF(Mapping!$B:$B,'Data BG'!$I116,Mapping!G:G)+SUMIF(Mapping!$C:$C,'Data BG'!$I116,Mapping!G:G)+SUMIF(Mapping!$D:$D,'Data BG'!$I116,Mapping!G:G)+SUMIF(Mapping!$B:$B,'Data BG'!$J116,Mapping!G:G)+SUMIF(Mapping!$C:$C,'Data BG'!$J116,Mapping!G:G)+SUMIF(Mapping!$D:$D,'Data BG'!$J116,Mapping!G:G)+SUMIF(Mapping!$B:$B,'Data BG'!$M116,Mapping!G:G)+SUMIF(Mapping!$C:$C,'Data BG'!$M116,Mapping!G:G)+SUMIF(Mapping!$D:$D,'Data BG'!$M116,Mapping!G:G)+SUMIF(Mapping!$B:$B,$N116,Mapping!G:G)+SUMIF(Mapping!$C:$C,$N116,Mapping!G:G)+SUMIF(Mapping!$D:$D,$N116,Mapping!G:G)+SUMIF(Mapping!$B:$B,'Data BG'!$K116,Mapping!G:G)+SUMIF(Mapping!$C:$C,'Data BG'!$K116,Mapping!G:G)+SUMIF(Mapping!$D:$D,'Data BG'!$K116,Mapping!G:G)+SUMIF(Mapping!$B:$B,'Data BG'!$L116,Mapping!G:G)+SUMIF(Mapping!$C:$C,'Data BG'!$L116,Mapping!G:G)+SUMIF(Mapping!$D:$D,'Data BG'!$L116,Mapping!G:G)","v":0},{"$f":"SUMIF(Mapping!$B:$B,'Data BG'!$A116,Mapping!H:H)+SUMIF(Mapping!$C:$C,'Data BG'!$A116,Mapping!H:H)+SUMIF(Mapping!$D:$D,'Data BG'!$A116,Mapping!H:H)+SUMIF(Mapping!$B:$B,'Data BG'!$B116,Mapping!H:H)+SUMIF(Mapping!$C:$C,'Data BG'!$B116,Mapping!H:H)+SUMIF(Mapping!$D:$D,'Data BG'!$B116,Mapping!H:H)+SUMIF(Mapping!$B:$B,'Data BG'!$C116,Mapping!H:H)+SUMIF(Mapping!$C:$C,'Data BG'!$C116,Mapping!H:H)+SUMIF(Mapping!$D:$D,'Data BG'!$C116,Mapping!H:H)+SUMIF(Mapping!$B:$B,'Data BG'!$D116,Mapping!H:H)+SUMIF(Mapping!$C:$C,'Data BG'!$D116,Mapping!H:H)+SUMIF(Mapping!$D:$D,'Data BG'!$D116,Mapping!H:H)+SUMIF(Mapping!$B:$B,'Data BG'!$E116,Mapping!H:H)+SUMIF(Mapping!$C:$C,'Data BG'!$E116,Mapping!H:H)+SUMIF(Mapping!$D:$D,'Data BG'!$E116,Mapping!H:H)+SUMIF(Mapping!$B:$B,'Data BG'!$F116,Mapping!H:H)+SUMIF(Mapping!$C:$C,'Data BG'!$F116,Mapping!H:H)+SUMIF(Mapping!$D:$D,'Data BG'!$F116,Mapping!H:H)+SUMIF(Mapping!$B:$B,'Data BG'!$G116,Mapping!H:H)+SUMIF(Mapping!$C:$C,'Data BG'!$G116,Mapping!H:H)+SUMIF(Mapping!$D:$D,'Data BG'!$G116,Mapping!H:H)+SUMIF(Mapping!$B:$B,'Data BG'!$H116,Mapping!H:H)+SUMIF(Mapping!$C:$C,'Data BG'!$H116,Mapping!H:H)+SUMIF(Mapping!$D:$D,'Data BG'!$H116,Mapping!H:H)+SUMIF(Mapping!$B:$B,'Data BG'!$I116,Mapping!H:H)+SUMIF(Mapping!$C:$C,'Data BG'!$I116,Mapping!H:H)+SUMIF(Mapping!$D:$D,'Data BG'!$I116,Mapping!H:H)+SUMIF(Mapping!$B:$B,'Data BG'!$J116,Mapping!H:H)+SUMIF(Mapping!$C:$C,'Data BG'!$J116,Mapping!H:H)+SUMIF(Mapping!$D:$D,'Data BG'!$J116,Mapping!H:H)+SUMIF(Mapping!$B:$B,'Data BG'!$M116,Mapping!H:H)+SUMIF(Mapping!$C:$C,'Data BG'!$M116,Mapping!H:H)+SUMIF(Mapping!$D:$D,'Data BG'!$M116,Mapping!H:H)+SUMIF(Mapping!$B:$B,$N116,Mapping!H:H)+SUMIF(Mapping!$C:$C,$N116,Mapping!H:H)+SUMIF(Mapping!$D:$D,$N116,Mapping!H:H)+SUMIF(Mapping!$B:$B,'Data BG'!$K116,Mapping!H:H)+SUMIF(Mapping!$C:$C,'Data BG'!$K116,Mapping!H:H)+SUMIF(Mapping!$D:$D,'Data BG'!$K116,Mapping!H:H)+SUMIF(Mapping!$B:$B,'Data BG'!$L116,Mapping!H:H)+SUMIF(Mapping!$C:$C,'Data BG'!$L116,Mapping!H:H)+SUMIF(Mapping!$D:$D,'Data BG'!$L116,Mapping!H:H)","v":0}]
[657,null,null,null,null,null,null,null,null,null,null,null,null,null,null,null,null,"Valeurs comptables des immobilisations incorporelles et corporelles cédées ",{"$f":"SUMIF(Mapping!$B:$B,'Data BG'!$A117,Mapping!G:G)+SUMIF(Mapping!$C:$C,'Data BG'!$A117,Mapping!G:G)+SUMIF(Mapping!$D:$D,'Data BG'!$A117,Mapping!G:G)+SUMIF(Mapping!$B:$B,'Data BG'!$B117,Mapping!G:G)+SUMIF(Mapping!$C:$C,'Data BG'!$B117,Mapping!G:G)+SUMIF(Mapping!$D:$D,'Data BG'!$B117,Mapping!G:G)+SUMIF(Mapping!$B:$B,'Data BG'!$C117,Mapping!G:G)+SUMIF(Mapping!$C:$C,'Data BG'!$C117,Mapping!G:G)+SUMIF(Mapping!$D:$D,'Data BG'!$C117,Mapping!G:G)+SUMIF(Mapping!$B:$B,'Data BG'!$D117,Mapping!G:G)+SUMIF(Mapping!$C:$C,'Data BG'!$D117,Mapping!G:G)+SUMIF(Mapping!$D:$D,'Data BG'!$D117,Mapping!G:G)+SUMIF(Mapping!$B:$B,'Data BG'!$E117,Mapping!G:G)+SUMIF(Mapping!$C:$C,'Data BG'!$E117,Mapping!G:G)+SUMIF(Mapping!$D:$D,'Data BG'!$E117,Mapping!G:G)+SUMIF(Mapping!$B:$B,'Data BG'!$F117,Mapping!G:G)+SUMIF(Mapping!$C:$C,'Data BG'!$F117,Mapping!G:G)+SUMIF(Mapping!$D:$D,'Data BG'!$F117,Mapping!G:G)+SUMIF(Mapping!$B:$B,'Data BG'!$G117,Mapping!G:G)+SUMIF(Mapping!$C:$C,'Data BG'!$G117,Mapping!G:G)+SUMIF(Mapping!$D:$D,'Data BG'!$G117,Mapping!G:G)+SUMIF(Mapping!$B:$B,'Data BG'!$H117,Mapping!G:G)+SUMIF(Mapping!$C:$C,'Data BG'!$H117,Mapping!G:G)+SUMIF(Mapping!$D:$D,'Data BG'!$H117,Mapping!G:G)+SUMIF(Mapping!$B:$B,'Data BG'!$I117,Mapping!G:G)+SUMIF(Mapping!$C:$C,'Data BG'!$I117,Mapping!G:G)+SUMIF(Mapping!$D:$D,'Data BG'!$I117,Mapping!G:G)+SUMIF(Mapping!$B:$B,'Data BG'!$J117,Mapping!G:G)+SUMIF(Mapping!$C:$C,'Data BG'!$J117,Mapping!G:G)+SUMIF(Mapping!$D:$D,'Data BG'!$J117,Mapping!G:G)+SUMIF(Mapping!$B:$B,'Data BG'!$M117,Mapping!G:G)+SUMIF(Mapping!$C:$C,'Data BG'!$M117,Mapping!G:G)+SUMIF(Mapping!$D:$D,'Data BG'!$M117,Mapping!G:G)+SUMIF(Mapping!$B:$B,$N117,Mapping!G:G)+SUMIF(Mapping!$C:$C,$N117,Mapping!G:G)+SUMIF(Mapping!$D:$D,$N117,Mapping!G:G)+SUMIF(Mapping!$B:$B,'Data BG'!$K117,Mapping!G:G)+SUMIF(Mapping!$C:$C,'Data BG'!$K117,Mapping!G:G)+SUMIF(Mapping!$D:$D,'Data BG'!$K117,Mapping!G:G)+SUMIF(Mapping!$B:$B,'Data BG'!$L117,Mapping!G:G)+SUMIF(Mapping!$C:$C,'Data BG'!$L117,Mapping!G:G)+SUMIF(Mapping!$D:$D,'Data BG'!$L117,Mapping!G:G)","v":0},{"$f":"SUMIF(Mapping!$B:$B,'Data BG'!$A117,Mapping!H:H)+SUMIF(Mapping!$C:$C,'Data BG'!$A117,Mapping!H:H)+SUMIF(Mapping!$D:$D,'Data BG'!$A117,Mapping!H:H)+SUMIF(Mapping!$B:$B,'Data BG'!$B117,Mapping!H:H)+SUMIF(Mapping!$C:$C,'Data BG'!$B117,Mapping!H:H)+SUMIF(Mapping!$D:$D,'Data BG'!$B117,Mapping!H:H)+SUMIF(Mapping!$B:$B,'Data BG'!$C117,Mapping!H:H)+SUMIF(Mapping!$C:$C,'Data BG'!$C117,Mapping!H:H)+SUMIF(Mapping!$D:$D,'Data BG'!$C117,Mapping!H:H)+SUMIF(Mapping!$B:$B,'Data BG'!$D117,Mapping!H:H)+SUMIF(Mapping!$C:$C,'Data BG'!$D117,Mapping!H:H)+SUMIF(Mapping!$D:$D,'Data BG'!$D117,Mapping!H:H)+SUMIF(Mapping!$B:$B,'Data BG'!$E117,Mapping!H:H)+SUMIF(Mapping!$C:$C,'Data BG'!$E117,Mapping!H:H)+SUMIF(Mapping!$D:$D,'Data BG'!$E117,Mapping!H:H)+SUMIF(Mapping!$B:$B,'Data BG'!$F117,Mapping!H:H)+SUMIF(Mapping!$C:$C,'Data BG'!$F117,Mapping!H:H)+SUMIF(Mapping!$D:$D,'Data BG'!$F117,Mapping!H:H)+SUMIF(Mapping!$B:$B,'Data BG'!$G117,Mapping!H:H)+SUMIF(Mapping!$C:$C,'Data BG'!$G117,Mapping!H:H)+SUMIF(Mapping!$D:$D,'Data BG'!$G117,Mapping!H:H)+SUMIF(Mapping!$B:$B,'Data BG'!$H117,Mapping!H:H)+SUMIF(Mapping!$C:$C,'Data BG'!$H117,Mapping!H:H)+SUMIF(Mapping!$D:$D,'Data BG'!$H117,Mapping!H:H)+SUMIF(Mapping!$B:$B,'Data BG'!$I117,Mapping!H:H)+SUMIF(Mapping!$C:$C,'Data BG'!$I117,Mapping!H:H)+SUMIF(Mapping!$D:$D,'Data BG'!$I117,Mapping!H:H)+SUMIF(Mapping!$B:$B,'Data BG'!$J117,Mapping!H:H)+SUMIF(Mapping!$C:$C,'Data BG'!$J117,Mapping!H:H)+SUMIF(Mapping!$D:$D,'Data BG'!$J117,Mapping!H:H)+SUMIF(Mapping!$B:$B,'Data BG'!$M117,Mapping!H:H)+SUMIF(Mapping!$C:$C,'Data BG'!$M117,Mapping!H:H)+SUMIF(Mapping!$D:$D,'Data BG'!$M117,Mapping!H:H)+SUMIF(Mapping!$B:$B,$N117,Mapping!H:H)+SUMIF(Mapping!$C:$C,$N117,Mapping!H:H)+SUMIF(Mapping!$D:$D,$N117,Mapping!H:H)+SUMIF(Mapping!$B:$B,'Data BG'!$K117,Mapping!H:H)+SUMIF(Mapping!$C:$C,'Data BG'!$K117,Mapping!H:H)+SUMIF(Mapping!$D:$D,'Data BG'!$K117,Mapping!H:H)+SUMIF(Mapping!$B:$B,'Data BG'!$L117,Mapping!H:H)+SUMIF(Mapping!$C:$C,'Data BG'!$L117,Mapping!H:H)+SUMIF(Mapping!$D:$D,'Data BG'!$L117,Mapping!H:H)","v":0}]
[651,654,655,656,6580,6582,6583,6586,6588,null,null,null,null,null,null,null,null,"Autres charges ",{"$f":"SUMIF(Mapping!$B:$B,'Data BG'!$A118,Mapping!G:G)+SUMIF(Mapping!$C:$C,'Data BG'!$A118,Mapping!G:G)+SUMIF(Mapping!$D:$D,'Data BG'!$A118,Mapping!G:G)+SUMIF(Mapping!$B:$B,'Data BG'!$B118,Mapping!G:G)+SUMIF(Mapping!$C:$C,'Data BG'!$B118,Mapping!G:G)+SUMIF(Mapping!$D:$D,'Data BG'!$B118,Mapping!G:G)+SUMIF(Mapping!$B:$B,'Data BG'!$C118,Mapping!G:G)+SUMIF(Mapping!$C:$C,'Data BG'!$C118,Mapping!G:G)+SUMIF(Mapping!$D:$D,'Data BG'!$C118,Mapping!G:G)+SUMIF(Mapping!$B:$B,'Data BG'!$D118,Mapping!G:G)+SUMIF(Mapping!$C:$C,'Data BG'!$D118,Mapping!G:G)+SUMIF(Mapping!$D:$D,'Data BG'!$D118,Mapping!G:G)+SUMIF(Mapping!$B:$B,'Data BG'!$E118,Mapping!G:G)+SUMIF(Mapping!$C:$C,'Data BG'!$E118,Mapping!G:G)+SUMIF(Mapping!$D:$D,'Data BG'!$E118,Mapping!G:G)+SUMIF(Mapping!$B:$B,'Data BG'!$F118,Mapping!G:G)+SUMIF(Mapping!$C:$C,'Data BG'!$F118,Mapping!G:G)+SUMIF(Mapping!$D:$D,'Data BG'!$F118,Mapping!G:G)+SUMIF(Mapping!$B:$B,'Data BG'!$G118,Mapping!G:G)+SUMIF(Mapping!$C:$C,'Data BG'!$G118,Mapping!G:G)+SUMIF(Mapping!$D:$D,'Data BG'!$G118,Mapping!G:G)+SUMIF(Mapping!$B:$B,'Data BG'!$H118,Mapping!G:G)+SUMIF(Mapping!$C:$C,'Data BG'!$H118,Mapping!G:G)+SUMIF(Mapping!$D:$D,'Data BG'!$H118,Mapping!G:G)+SUMIF(Mapping!$B:$B,'Data BG'!$I118,Mapping!G:G)+SUMIF(Mapping!$C:$C,'Data BG'!$I118,Mapping!G:G)+SUMIF(Mapping!$D:$D,'Data BG'!$I118,Mapping!G:G)+SUMIF(Mapping!$B:$B,'Data BG'!$J118,Mapping!G:G)+SUMIF(Mapping!$C:$C,'Data BG'!$J118,Mapping!G:G)+SUMIF(Mapping!$D:$D,'Data BG'!$J118,Mapping!G:G)+SUMIF(Mapping!$B:$B,'Data BG'!$M118,Mapping!G:G)+SUMIF(Mapping!$C:$C,'Data BG'!$M118,Mapping!G:G)+SUMIF(Mapping!$D:$D,'Data BG'!$M118,Mapping!G:G)+SUMIF(Mapping!$B:$B,$N118,Mapping!G:G)+SUMIF(Mapping!$C:$C,$N118,Mapping!G:G)+SUMIF(Mapping!$D:$D,$N118,Mapping!G:G)+SUMIF(Mapping!$B:$B,'Data BG'!$K118,Mapping!G:G)+SUMIF(Mapping!$C:$C,'Data BG'!$K118,Mapping!G:G)+SUMIF(Mapping!$D:$D,'Data BG'!$K118,Mapping!G:G)+SUMIF(Mapping!$B:$B,'Data BG'!$L118,Mapping!G:G)+SUMIF(Mapping!$C:$C,'Data BG'!$L118,Mapping!G:G)+SUMIF(Mapping!$D:$D,'Data BG'!$L118,Mapping!G:G)","v":0},{"$f":"SUMIF(Mapping!$B:$B,'Data BG'!$A118,Mapping!H:H)+SUMIF(Mapping!$C:$C,'Data BG'!$A118,Mapping!H:H)+SUMIF(Mapping!$D:$D,'Data BG'!$A118,Mapping!H:H)+SUMIF(Mapping!$B:$B,'Data BG'!$B118,Mapping!H:H)+SUMIF(Mapping!$C:$C,'Data BG'!$B118,Mapping!H:H)+SUMIF(Mapping!$D:$D,'Data BG'!$B118,Mapping!H:H)+SUMIF(Mapping!$B:$B,'Data BG'!$C118,Mapping!H:H)+SUMIF(Mapping!$C:$C,'Data BG'!$C118,Mapping!H:H)+SUMIF(Mapping!$D:$D,'Data BG'!$C118,Mapping!H:H)+SUMIF(Mapping!$B:$B,'Data BG'!$D118,Mapping!H:H)+SUMIF(Mapping!$C:$C,'Data BG'!$D118,Mapping!H:H)+SUMIF(Mapping!$D:$D,'Data BG'!$D118,Mapping!H:H)+SUMIF(Mapping!$B:$B,'Data BG'!$E118,Mapping!H:H)+SUMIF(Mapping!$C:$C,'Data BG'!$E118,Mapping!H:H)+SUMIF(Mapping!$D:$D,'Data BG'!$E118,Mapping!H:H)+SUMIF(Mapping!$B:$B,'Data BG'!$F118,Mapping!H:H)+SUMIF(Mapping!$C:$C,'Data BG'!$F118,Mapping!H:H)+SUMIF(Mapping!$D:$D,'Data BG'!$F118,Mapping!H:H)+SUMIF(Mapping!$B:$B,'Data BG'!$G118,Mapping!H:H)+SUMIF(Mapping!$C:$C,'Data BG'!$G118,Mapping!H:H)+SUMIF(Mapping!$D:$D,'Data BG'!$G118,Mapping!H:H)+SUMIF(Mapping!$B:$B,'Data BG'!$H118,Mapping!H:H)+SUMIF(Mapping!$C:$C,'Data BG'!$H118,Mapping!H:H)+SUMIF(Mapping!$D:$D,'Data BG'!$H118,Mapping!H:H)+SUMIF(Mapping!$B:$B,'Data BG'!$I118,Mapping!H:H)+SUMIF(Mapping!$C:$C,'Data BG'!$I118,Mapping!H:H)+SUMIF(Mapping!$D:$D,'Data BG'!$I118,Mapping!H:H)+SUMIF(Mapping!$B:$B,'Data BG'!$J118,Mapping!H:H)+SUMIF(Mapping!$C:$C,'Data BG'!$J118,Mapping!H:H)+SUMIF(Mapping!$D:$D,'Data BG'!$J118,Mapping!H:H)+SUMIF(Mapping!$B:$B,'Data BG'!$M118,Mapping!H:H)+SUMIF(Mapping!$C:$C,'Data BG'!$M118,Mapping!H:H)+SUMIF(Mapping!$D:$D,'Data BG'!$M118,Mapping!H:H)+SUMIF(Mapping!$B:$B,$N118,Mapping!H:H)+SUMIF(Mapping!$C:$C,$N118,Mapping!H:H)+SUMIF(Mapping!$D:$D,$N118,Mapping!H:H)+SUMIF(Mapping!$B:$B,'Data BG'!$K118,Mapping!H:H)+SUMIF(Mapping!$C:$C,'Data BG'!$K118,Mapping!H:H)+SUMIF(Mapping!$D:$D,'Data BG'!$K118,Mapping!H:H)+SUMIF(Mapping!$B:$B,'Data BG'!$L118,Mapping!H:H)+SUMIF(Mapping!$C:$C,'Data BG'!$L118,Mapping!H:H)+SUMIF(Mapping!$D:$D,'Data BG'!$L118,Mapping!H:H)","v":0}]
[null,null,null,null,null,null,null,null,null,null,null,null,null,null,null,null,null,"PRODUITS FINANCIERS "]
[761,null,null,null,null,null,null,null,null,null,null,null,null,null,null,null,null,"Produits de participation ",{"$f":"SUMIF(Mapping!$B:$B,'Data BG'!$A120,Mapping!G:G)+SUMIF(Mapping!$C:$C,'Data BG'!$A120,Mapping!G:G)+SUMIF(Mapping!$D:$D,'Data BG'!$A120,Mapping!G:G)+SUMIF(Mapping!$B:$B,'Data BG'!$B120,Mapping!G:G)+SUMIF(Mapping!$C:$C,'Data BG'!$B120,Mapping!G:G)+SUMIF(Mapping!$D:$D,'Data BG'!$B120,Mapping!G:G)+SUMIF(Mapping!$B:$B,'Data BG'!$C120,Mapping!G:G)+SUMIF(Mapping!$C:$C,'Data BG'!$C120,Mapping!G:G)+SUMIF(Mapping!$D:$D,'Data BG'!$C120,Mapping!G:G)+SUMIF(Mapping!$B:$B,'Data BG'!$D120,Mapping!G:G)+SUMIF(Mapping!$C:$C,'Data BG'!$D120,Mapping!G:G)+SUMIF(Mapping!$D:$D,'Data BG'!$D120,Mapping!G:G)+SUMIF(Mapping!$B:$B,'Data BG'!$E120,Mapping!G:G)+SUMIF(Mapping!$C:$C,'Data BG'!$E120,Mapping!G:G)+SUMIF(Mapping!$D:$D,'Data BG'!$E120,Mapping!G:G)+SUMIF(Mapping!$B:$B,'Data BG'!$F120,Mapping!G:G)+SUMIF(Mapping!$C:$C,'Data BG'!$F120,Mapping!G:G)+SUMIF(Mapping!$D:$D,'Data BG'!$F120,Mapping!G:G)+SUMIF(Mapping!$B:$B,'Data BG'!$G120,Mapping!G:G)+SUMIF(Mapping!$C:$C,'Data BG'!$G120,Mapping!G:G)+SUMIF(Mapping!$D:$D,'Data BG'!$G120,Mapping!G:G)+SUMIF(Mapping!$B:$B,'Data BG'!$H120,Mapping!G:G)+SUMIF(Mapping!$C:$C,'Data BG'!$H120,Mapping!G:G)+SUMIF(Mapping!$D:$D,'Data BG'!$H120,Mapping!G:G)+SUMIF(Mapping!$B:$B,'Data BG'!$I120,Mapping!G:G)+SUMIF(Mapping!$C:$C,'Data BG'!$I120,Mapping!G:G)+SUMIF(Mapping!$D:$D,'Data BG'!$I120,Mapping!G:G)+SUMIF(Mapping!$B:$B,'Data BG'!$J120,Mapping!G:G)+SUMIF(Mapping!$C:$C,'Data BG'!$J120,Mapping!G:G)+SUMIF(Mapping!$D:$D,'Data BG'!$J120,Mapping!G:G)+SUMIF(Mapping!$B:$B,'Data BG'!$M120,Mapping!G:G)+SUMIF(Mapping!$C:$C,'Data BG'!$M120,Mapping!G:G)+SUMIF(Mapping!$D:$D,'Data BG'!$M120,Mapping!G:G)+SUMIF(Mapping!$B:$B,$N120,Mapping!G:G)+SUMIF(Mapping!$C:$C,$N120,Mapping!G:G)+SUMIF(Mapping!$D:$D,$N120,Mapping!G:G)+SUMIF(Mapping!$B:$B,'Data BG'!$K120,Mapping!G:G)+SUMIF(Mapping!$C:$C,'Data BG'!$K120,Mapping!G:G)+SUMIF(Mapping!$D:$D,'Data BG'!$K120,Mapping!G:G)+SUMIF(Mapping!$B:$B,'Data BG'!$L120,Mapping!G:G)+SUMIF(Mapping!$C:$C,'Data BG'!$L120,Mapping!G:G)+SUMIF(Mapping!$D:$D,'Data BG'!$L120,Mapping!G:G)","v":0},{"$f":"SUMIF(Mapping!$B:$B,'Data BG'!$A120,Mapping!H:H)+SUMIF(Mapping!$C:$C,'Data BG'!$A120,Mapping!H:H)+SUMIF(Mapping!$D:$D,'Data BG'!$A120,Mapping!H:H)+SUMIF(Mapping!$B:$B,'Data BG'!$B120,Mapping!H:H)+SUMIF(Mapping!$C:$C,'Data BG'!$B120,Mapping!H:H)+SUMIF(Mapping!$D:$D,'Data BG'!$B120,Mapping!H:H)+SUMIF(Mapping!$B:$B,'Data BG'!$C120,Mapping!H:H)+SUMIF(Mapping!$C:$C,'Data BG'!$C120,Mapping!H:H)+SUMIF(Mapping!$D:$D,'Data BG'!$C120,Mapping!H:H)+SUMIF(Mapping!$B:$B,'Data BG'!$D120,Mapping!H:H)+SUMIF(Mapping!$C:$C,'Data BG'!$D120,Mapping!H:H)+SUMIF(Mapping!$D:$D,'Data BG'!$D120,Mapping!H:H)+SUMIF(Mapping!$B:$B,'Data BG'!$E120,Mapping!H:H)+SUMIF(Mapping!$C:$C,'Data BG'!$E120,Mapping!H:H)+SUMIF(Mapping!$D:$D,'Data BG'!$E120,Mapping!H:H)+SUMIF(Mapping!$B:$B,'Data BG'!$F120,Mapping!H:H)+SUMIF(Mapping!$C:$C,'Data BG'!$F120,Mapping!H:H)+SUMIF(Mapping!$D:$D,'Data BG'!$F120,Mapping!H:H)+SUMIF(Mapping!$B:$B,'Data BG'!$G120,Mapping!H:H)+SUMIF(Mapping!$C:$C,'Data BG'!$G120,Mapping!H:H)+SUMIF(Mapping!$D:$D,'Data BG'!$G120,Mapping!H:H)+SUMIF(Mapping!$B:$B,'Data BG'!$H120,Mapping!H:H)+SUMIF(Mapping!$C:$C,'Data BG'!$H120,Mapping!H:H)+SUMIF(Mapping!$D:$D,'Data BG'!$H120,Mapping!H:H)+SUMIF(Mapping!$B:$B,'Data BG'!$I120,Mapping!H:H)+SUMIF(Mapping!$C:$C,'Data BG'!$I120,Mapping!H:H)+SUMIF(Mapping!$D:$D,'Data BG'!$I120,Mapping!H:H)+SUMIF(Mapping!$B:$B,'Data BG'!$J120,Mapping!H:H)+SUMIF(Mapping!$C:$C,'Data BG'!$J120,Mapping!H:H)+SUMIF(Mapping!$D:$D,'Data BG'!$J120,Mapping!H:H)+SUMIF(Mapping!$B:$B,'Data BG'!$M120,Mapping!H:H)+SUMIF(Mapping!$C:$C,'Data BG'!$M120,Mapping!H:H)+SUMIF(Mapping!$D:$D,'Data BG'!$M120,Mapping!H:H)+SUMIF(Mapping!$B:$B,$N120,Mapping!H:H)+SUMIF(Mapping!$C:$C,$N120,Mapping!H:H)+SUMIF(Mapping!$D:$D,$N120,Mapping!H:H)+SUMIF(Mapping!$B:$B,'Data BG'!$K120,Mapping!H:H)+SUMIF(Mapping!$C:$C,'Data BG'!$K120,Mapping!H:H)+SUMIF(Mapping!$D:$D,'Data BG'!$K120,Mapping!H:H)+SUMIF(Mapping!$B:$B,'Data BG'!$L120,Mapping!H:H)+SUMIF(Mapping!$C:$C,'Data BG'!$L120,Mapping!H:H)+SUMIF(Mapping!$D:$D,'Data BG'!$L120,Mapping!H:H)","v":0}]
[762,null,null,null,null,null,null,null,null,null,null,null,null,null,null,null,null,"Produits des autres immobilisations financières ",{"$f":"SUMIF(Mapping!$B:$B,'Data BG'!$A121,Mapping!G:G)+SUMIF(Mapping!$C:$C,'Data BG'!$A121,Mapping!G:G)+SUMIF(Mapping!$D:$D,'Data BG'!$A121,Mapping!G:G)+SUMIF(Mapping!$B:$B,'Data BG'!$B121,Mapping!G:G)+SUMIF(Mapping!$C:$C,'Data BG'!$B121,Mapping!G:G)+SUMIF(Mapping!$D:$D,'Data BG'!$B121,Mapping!G:G)+SUMIF(Mapping!$B:$B,'Data BG'!$C121,Mapping!G:G)+SUMIF(Mapping!$C:$C,'Data BG'!$C121,Mapping!G:G)+SUMIF(Mapping!$D:$D,'Data BG'!$C121,Mapping!G:G)+SUMIF(Mapping!$B:$B,'Data BG'!$D121,Mapping!G:G)+SUMIF(Mapping!$C:$C,'Data BG'!$D121,Mapping!G:G)+SUMIF(Mapping!$D:$D,'Data BG'!$D121,Mapping!G:G)+SUMIF(Mapping!$B:$B,'Data BG'!$E121,Mapping!G:G)+SUMIF(Mapping!$C:$C,'Data BG'!$E121,Mapping!G:G)+SUMIF(Mapping!$D:$D,'Data BG'!$E121,Mapping!G:G)+SUMIF(Mapping!$B:$B,'Data BG'!$F121,Mapping!G:G)+SUMIF(Mapping!$C:$C,'Data BG'!$F121,Mapping!G:G)+SUMIF(Mapping!$D:$D,'Data BG'!$F121,Mapping!G:G)+SUMIF(Mapping!$B:$B,'Data BG'!$G121,Mapping!G:G)+SUMIF(Mapping!$C:$C,'Data BG'!$G121,Mapping!G:G)+SUMIF(Mapping!$D:$D,'Data BG'!$G121,Mapping!G:G)+SUMIF(Mapping!$B:$B,'Data BG'!$H121,Mapping!G:G)+SUMIF(Mapping!$C:$C,'Data BG'!$H121,Mapping!G:G)+SUMIF(Mapping!$D:$D,'Data BG'!$H121,Mapping!G:G)+SUMIF(Mapping!$B:$B,'Data BG'!$I121,Mapping!G:G)+SUMIF(Mapping!$C:$C,'Data BG'!$I121,Mapping!G:G)+SUMIF(Mapping!$D:$D,'Data BG'!$I121,Mapping!G:G)+SUMIF(Mapping!$B:$B,'Data BG'!$J121,Mapping!G:G)+SUMIF(Mapping!$C:$C,'Data BG'!$J121,Mapping!G:G)+SUMIF(Mapping!$D:$D,'Data BG'!$J121,Mapping!G:G)+SUMIF(Mapping!$B:$B,'Data BG'!$M121,Mapping!G:G)+SUMIF(Mapping!$C:$C,'Data BG'!$M121,Mapping!G:G)+SUMIF(Mapping!$D:$D,'Data BG'!$M121,Mapping!G:G)+SUMIF(Mapping!$B:$B,$N121,Mapping!G:G)+SUMIF(Mapping!$C:$C,$N121,Mapping!G:G)+SUMIF(Mapping!$D:$D,$N121,Mapping!G:G)+SUMIF(Mapping!$B:$B,'Data BG'!$K121,Mapping!G:G)+SUMIF(Mapping!$C:$C,'Data BG'!$K121,Mapping!G:G)+SUMIF(Mapping!$D:$D,'Data BG'!$K121,Mapping!G:G)+SUMIF(Mapping!$B:$B,'Data BG'!$L121,Mapping!G:G)+SUMIF(Mapping!$C:$C,'Data BG'!$L121,Mapping!G:G)+SUMIF(Mapping!$D:$D,'Data BG'!$L121,Mapping!G:G)","v":0},{"$f":"SUMIF(Mapping!$B:$B,'Data BG'!$A121,Mapping!H:H)+SUMIF(Mapping!$C:$C,'Data BG'!$A121,Mapping!H:H)+SUMIF(Mapping!$D:$D,'Data BG'!$A121,Mapping!H:H)+SUMIF(Mapping!$B:$B,'Data BG'!$B121,Mapping!H:H)+SUMIF(Mapping!$C:$C,'Data BG'!$B121,Mapping!H:H)+SUMIF(Mapping!$D:$D,'Data BG'!$B121,Mapping!H:H)+SUMIF(Mapping!$B:$B,'Data BG'!$C121,Mapping!H:H)+SUMIF(Mapping!$C:$C,'Data BG'!$C121,Mapping!H:H)+SUMIF(Mapping!$D:$D,'Data BG'!$C121,Mapping!H:H)+SUMIF(Mapping!$B:$B,'Data BG'!$D121,Mapping!H:H)+SUMIF(Mapping!$C:$C,'Data BG'!$D121,Mapping!H:H)+SUMIF(Mapping!$D:$D,'Data BG'!$D121,Mapping!H:H)+SUMIF(Mapping!$B:$B,'Data BG'!$E121,Mapping!H:H)+SUMIF(Mapping!$C:$C,'Data BG'!$E121,Mapping!H:H)+SUMIF(Mapping!$D:$D,'Data BG'!$E121,Mapping!H:H)+SUMIF(Mapping!$B:$B,'Data BG'!$F121,Mapping!H:H)+SUMIF(Mapping!$C:$C,'Data BG'!$F121,Mapping!H:H)+SUMIF(Mapping!$D:$D,'Data BG'!$F121,Mapping!H:H)+SUMIF(Mapping!$B:$B,'Data BG'!$G121,Mapping!H:H)+SUMIF(Mapping!$C:$C,'Data BG'!$G121,Mapping!H:H)+SUMIF(Mapping!$D:$D,'Data BG'!$G121,Mapping!H:H)+SUMIF(Mapping!$B:$B,'Data BG'!$H121,Mapping!H:H)+SUMIF(Mapping!$C:$C,'Data BG'!$H121,Mapping!H:H)+SUMIF(Mapping!$D:$D,'Data BG'!$H121,Mapping!H:H)+SUMIF(Mapping!$B:$B,'Data BG'!$I121,Mapping!H:H)+SUMIF(Mapping!$C:$C,'Data BG'!$I121,Mapping!H:H)+SUMIF(Mapping!$D:$D,'Data BG'!$I121,Mapping!H:H)+SUMIF(Mapping!$B:$B,'Data BG'!$J121,Mapping!H:H)+SUMIF(Mapping!$C:$C,'Data BG'!$J121,Mapping!H:H)+SUMIF(Mapping!$D:$D,'Data BG'!$J121,Mapping!H:H)+SUMIF(Mapping!$B:$B,'Data BG'!$M121,Mapping!H:H)+SUMIF(Mapping!$C:$C,'Data BG'!$M121,Mapping!H:H)+SUMIF(Mapping!$D:$D,'Data BG'!$M121,Mapping!H:H)+SUMIF(Mapping!$B:$B,$N121,Mapping!H:H)+SUMIF(Mapping!$C:$C,$N121,Mapping!H:H)+SUMIF(Mapping!$D:$D,$N121,Mapping!H:H)+SUMIF(Mapping!$B:$B,'Data BG'!$K121,Mapping!H:H)+SUMIF(Mapping!$C:$C,'Data BG'!$K121,Mapping!H:H)+SUMIF(Mapping!$D:$D,'Data BG'!$K121,Mapping!H:H)+SUMIF(Mapping!$B:$B,'Data BG'!$L121,Mapping!H:H)+SUMIF(Mapping!$C:$C,'Data BG'!$L121,Mapping!H:H)+SUMIF(Mapping!$D:$D,'Data BG'!$L121,Mapping!H:H)","v":0}]
[763,765,766,768,null,null,null,null,null,null,null,null,null,null,null,null,null,"Autres intérêts et produits assimilés ",{"$f":"SUMIF(Mapping!$B:$B,'Data BG'!$A122,Mapping!G:G)+SUMIF(Mapping!$C:$C,'Data BG'!$A122,Mapping!G:G)+SUMIF(Mapping!$D:$D,'Data BG'!$A122,Mapping!G:G)+SUMIF(Mapping!$B:$B,'Data BG'!$B122,Mapping!G:G)+SUMIF(Mapping!$C:$C,'Data BG'!$B122,Mapping!G:G)+SUMIF(Mapping!$D:$D,'Data BG'!$B122,Mapping!G:G)+SUMIF(Mapping!$B:$B,'Data BG'!$C122,Mapping!G:G)+SUMIF(Mapping!$C:$C,'Data BG'!$C122,Mapping!G:G)+SUMIF(Mapping!$D:$D,'Data BG'!$C122,Mapping!G:G)+SUMIF(Mapping!$B:$B,'Data BG'!$D122,Mapping!G:G)+SUMIF(Mapping!$C:$C,'Data BG'!$D122,Mapping!G:G)+SUMIF(Mapping!$D:$D,'Data BG'!$D122,Mapping!G:G)+SUMIF(Mapping!$B:$B,'Data BG'!$E122,Mapping!G:G)+SUMIF(Mapping!$C:$C,'Data BG'!$E122,Mapping!G:G)+SUMIF(Mapping!$D:$D,'Data BG'!$E122,Mapping!G:G)+SUMIF(Mapping!$B:$B,'Data BG'!$F122,Mapping!G:G)+SUMIF(Mapping!$C:$C,'Data BG'!$F122,Mapping!G:G)+SUMIF(Mapping!$D:$D,'Data BG'!$F122,Mapping!G:G)+SUMIF(Mapping!$B:$B,'Data BG'!$G122,Mapping!G:G)+SUMIF(Mapping!$C:$C,'Data BG'!$G122,Mapping!G:G)+SUMIF(Mapping!$D:$D,'Data BG'!$G122,Mapping!G:G)+SUMIF(Mapping!$B:$B,'Data BG'!$H122,Mapping!G:G)+SUMIF(Mapping!$C:$C,'Data BG'!$H122,Mapping!G:G)+SUMIF(Mapping!$D:$D,'Data BG'!$H122,Mapping!G:G)+SUMIF(Mapping!$B:$B,'Data BG'!$I122,Mapping!G:G)+SUMIF(Mapping!$C:$C,'Data BG'!$I122,Mapping!G:G)+SUMIF(Mapping!$D:$D,'Data BG'!$I122,Mapping!G:G)+SUMIF(Mapping!$B:$B,'Data BG'!$J122,Mapping!G:G)+SUMIF(Mapping!$C:$C,'Data BG'!$J122,Mapping!G:G)+SUMIF(Mapping!$D:$D,'Data BG'!$J122,Mapping!G:G)+SUMIF(Mapping!$B:$B,'Data BG'!$M122,Mapping!G:G)+SUMIF(Mapping!$C:$C,'Data BG'!$M122,Mapping!G:G)+SUMIF(Mapping!$D:$D,'Data BG'!$M122,Mapping!G:G)+SUMIF(Mapping!$B:$B,$N122,Mapping!G:G)+SUMIF(Mapping!$C:$C,$N122,Mapping!G:G)+SUMIF(Mapping!$D:$D,$N122,Mapping!G:G)+SUMIF(Mapping!$B:$B,'Data BG'!$K122,Mapping!G:G)+SUMIF(Mapping!$C:$C,'Data BG'!$K122,Mapping!G:G)+SUMIF(Mapping!$D:$D,'Data BG'!$K122,Mapping!G:G)+SUMIF(Mapping!$B:$B,'Data BG'!$L122,Mapping!G:G)+SUMIF(Mapping!$C:$C,'Data BG'!$L122,Mapping!G:G)+SUMIF(Mapping!$D:$D,'Data BG'!$L122,Mapping!G:G)","v":0},{"$f":"SUMIF(Mapping!$B:$B,'Data BG'!$A122,Mapping!H:H)+SUMIF(Mapping!$C:$C,'Data BG'!$A122,Mapping!H:H)+SUMIF(Mapping!$D:$D,'Data BG'!$A122,Mapping!H:H)+SUMIF(Mapping!$B:$B,'Data BG'!$B122,Mapping!H:H)+SUMIF(Mapping!$C:$C,'Data BG'!$B122,Mapping!H:H)+SUMIF(Mapping!$D:$D,'Data BG'!$B122,Mapping!H:H)+SUMIF(Mapping!$B:$B,'Data BG'!$C122,Mapping!H:H)+SUMIF(Mapping!$C:$C,'Data BG'!$C122,Mapping!H:H)+SUMIF(Mapping!$D:$D,'Data BG'!$C122,Mapping!H:H)+SUMIF(Mapping!$B:$B,'Data BG'!$D122,Mapping!H:H)+SUMIF(Mapping!$C:$C,'Data BG'!$D122,Mapping!H:H)+SUMIF(Mapping!$D:$D,'Data BG'!$D122,Mapping!H:H)+SUMIF(Mapping!$B:$B,'Data BG'!$E122,Mapping!H:H)+SUMIF(Mapping!$C:$C,'Data BG'!$E122,Mapping!H:H)+SUMIF(Mapping!$D:$D,'Data BG'!$E122,Mapping!H:H)+SUMIF(Mapping!$B:$B,'Data BG'!$F122,Mapping!H:H)+SUMIF(Mapping!$C:$C,'Data BG'!$F122,Mapping!H:H)+SUMIF(Mapping!$D:$D,'Data BG'!$F122,Mapping!H:H)+SUMIF(Mapping!$B:$B,'Data BG'!$G122,Mapping!H:H)+SUMIF(Mapping!$C:$C,'Data BG'!$G122,Mapping!H:H)+SUMIF(Mapping!$D:$D,'Data BG'!$G122,Mapping!H:H)+SUMIF(Mapping!$B:$B,'Data BG'!$H122,Mapping!H:H)+SUMIF(Mapping!$C:$C,'Data BG'!$H122,Mapping!H:H)+SUMIF(Mapping!$D:$D,'Data BG'!$H122,Mapping!H:H)+SUMIF(Mapping!$B:$B,'Data BG'!$I122,Mapping!H:H)+SUMIF(Mapping!$C:$C,'Data BG'!$I122,Mapping!H:H)+SUMIF(Mapping!$D:$D,'Data BG'!$I122,Mapping!H:H)+SUMIF(Mapping!$B:$B,'Data BG'!$J122,Mapping!H:H)+SUMIF(Mapping!$C:$C,'Data BG'!$J122,Mapping!H:H)+SUMIF(Mapping!$D:$D,'Data BG'!$J122,Mapping!H:H)+SUMIF(Mapping!$B:$B,'Data BG'!$M122,Mapping!H:H)+SUMIF(Mapping!$C:$C,'Data BG'!$M122,Mapping!H:H)+SUMIF(Mapping!$D:$D,'Data BG'!$M122,Mapping!H:H)+SUMIF(Mapping!$B:$B,$N122,Mapping!H:H)+SUMIF(Mapping!$C:$C,$N122,Mapping!H:H)+SUMIF(Mapping!$D:$D,$N122,Mapping!H:H)+SUMIF(Mapping!$B:$B,'Data BG'!$K122,Mapping!H:H)+SUMIF(Mapping!$C:$C,'Data BG'!$K122,Mapping!H:H)+SUMIF(Mapping!$D:$D,'Data BG'!$K122,Mapping!H:H)+SUMIF(Mapping!$B:$B,'Data BG'!$L122,Mapping!H:H)+SUMIF(Mapping!$C:$C,'Data BG'!$L122,Mapping!H:H)+SUMIF(Mapping!$D:$D,'Data BG'!$L122,Mapping!H:H)","v":0}]
[786,null,null,null,null,null,null,null,null,null,null,null,null,null,null,null,null,"Reprises sur dépréciations et provisions ",{"$f":"SUMIF(Mapping!$B:$B,'Data BG'!$A123,Mapping!G:G)+SUMIF(Mapping!$C:$C,'Data BG'!$A123,Mapping!G:G)+SUMIF(Mapping!$D:$D,'Data BG'!$A123,Mapping!G:G)+SUMIF(Mapping!$B:$B,'Data BG'!$B123,Mapping!G:G)+SUMIF(Mapping!$C:$C,'Data BG'!$B123,Mapping!G:G)+SUMIF(Mapping!$D:$D,'Data BG'!$B123,Mapping!G:G)+SUMIF(Mapping!$B:$B,'Data BG'!$C123,Mapping!G:G)+SUMIF(Mapping!$C:$C,'Data BG'!$C123,Mapping!G:G)+SUMIF(Mapping!$D:$D,'Data BG'!$C123,Mapping!G:G)+SUMIF(Mapping!$B:$B,'Data BG'!$D123,Mapping!G:G)+SUMIF(Mapping!$C:$C,'Data BG'!$D123,Mapping!G:G)+SUMIF(Mapping!$D:$D,'Data BG'!$D123,Mapping!G:G)+SUMIF(Mapping!$B:$B,'Data BG'!$E123,Mapping!G:G)+SUMIF(Mapping!$C:$C,'Data BG'!$E123,Mapping!G:G)+SUMIF(Mapping!$D:$D,'Data BG'!$E123,Mapping!G:G)+SUMIF(Mapping!$B:$B,'Data BG'!$F123,Mapping!G:G)+SUMIF(Mapping!$C:$C,'Data BG'!$F123,Mapping!G:G)+SUMIF(Mapping!$D:$D,'Data BG'!$F123,Mapping!G:G)+SUMIF(Mapping!$B:$B,'Data BG'!$G123,Mapping!G:G)+SUMIF(Mapping!$C:$C,'Data BG'!$G123,Mapping!G:G)+SUMIF(Mapping!$D:$D,'Data BG'!$G123,Mapping!G:G)+SUMIF(Mapping!$B:$B,'Data BG'!$H123,Mapping!G:G)+SUMIF(Mapping!$C:$C,'Data BG'!$H123,Mapping!G:G)+SUMIF(Mapping!$D:$D,'Data BG'!$H123,Mapping!G:G)+SUMIF(Mapping!$B:$B,'Data BG'!$I123,Mapping!G:G)+SUMIF(Mapping!$C:$C,'Data BG'!$I123,Mapping!G:G)+SUMIF(Mapping!$D:$D,'Data BG'!$I123,Mapping!G:G)+SUMIF(Mapping!$B:$B,'Data BG'!$J123,Mapping!G:G)+SUMIF(Mapping!$C:$C,'Data BG'!$J123,Mapping!G:G)+SUMIF(Mapping!$D:$D,'Data BG'!$J123,Mapping!G:G)+SUMIF(Mapping!$B:$B,'Data BG'!$M123,Mapping!G:G)+SUMIF(Mapping!$C:$C,'Data BG'!$M123,Mapping!G:G)+SUMIF(Mapping!$D:$D,'Data BG'!$M123,Mapping!G:G)+SUMIF(Mapping!$B:$B,$N123,Mapping!G:G)+SUMIF(Mapping!$C:$C,$N123,Mapping!G:G)+SUMIF(Mapping!$D:$D,$N123,Mapping!G:G)+SUMIF(Mapping!$B:$B,'Data BG'!$K123,Mapping!G:G)+SUMIF(Mapping!$C:$C,'Data BG'!$K123,Mapping!G:G)+SUMIF(Mapping!$D:$D,'Data BG'!$K123,Mapping!G:G)+SUMIF(Mapping!$B:$B,'Data BG'!$L123,Mapping!G:G)+SUMIF(Mapping!$C:$C,'Data BG'!$L123,Mapping!G:G)+SUMIF(Mapping!$D:$D,'Data BG'!$L123,Mapping!G:G)","v":0},{"$f":"SUMIF(Mapping!$B:$B,'Data BG'!$A123,Mapping!H:H)+SUMIF(Mapping!$C:$C,'Data BG'!$A123,Mapping!H:H)+SUMIF(Mapping!$D:$D,'Data BG'!$A123,Mapping!H:H)+SUMIF(Mapping!$B:$B,'Data BG'!$B123,Mapping!H:H)+SUMIF(Mapping!$C:$C,'Data BG'!$B123,Mapping!H:H)+SUMIF(Mapping!$D:$D,'Data BG'!$B123,Mapping!H:H)+SUMIF(Mapping!$B:$B,'Data BG'!$C123,Mapping!H:H)+SUMIF(Mapping!$C:$C,'Data BG'!$C123,Mapping!H:H)+SUMIF(Mapping!$D:$D,'Data BG'!$C123,Mapping!H:H)+SUMIF(Mapping!$B:$B,'Data BG'!$D123,Mapping!H:H)+SUMIF(Mapping!$C:$C,'Data BG'!$D123,Mapping!H:H)+SUMIF(Mapping!$D:$D,'Data BG'!$D123,Mapping!H:H)+SUMIF(Mapping!$B:$B,'Data BG'!$E123,Mapping!H:H)+SUMIF(Mapping!$C:$C,'Data BG'!$E123,Mapping!H:H)+SUMIF(Mapping!$D:$D,'Data BG'!$E123,Mapping!H:H)+SUMIF(Mapping!$B:$B,'Data BG'!$F123,Mapping!H:H)+SUMIF(Mapping!$C:$C,'Data BG'!$F123,Mapping!H:H)+SUMIF(Mapping!$D:$D,'Data BG'!$F123,Mapping!H:H)+SUMIF(Mapping!$B:$B,'Data BG'!$G123,Mapping!H:H)+SUMIF(Mapping!$C:$C,'Data BG'!$G123,Mapping!H:H)+SUMIF(Mapping!$D:$D,'Data BG'!$G123,Mapping!H:H)+SUMIF(Mapping!$B:$B,'Data BG'!$H123,Mapping!H:H)+SUMIF(Mapping!$C:$C,'Data BG'!$H123,Mapping!H:H)+SUMIF(Mapping!$D:$D,'Data BG'!$H123,Mapping!H:H)+SUMIF(Mapping!$B:$B,'Data BG'!$I123,Mapping!H:H)+SUMIF(Mapping!$C:$C,'Data BG'!$I123,Mapping!H:H)+SUMIF(Mapping!$D:$D,'Data BG'!$I123,Mapping!H:H)+SUMIF(Mapping!$B:$B,'Data BG'!$J123,Mapping!H:H)+SUMIF(Mapping!$C:$C,'Data BG'!$J123,Mapping!H:H)+SUMIF(Mapping!$D:$D,'Data BG'!$J123,Mapping!H:H)+SUMIF(Mapping!$B:$B,'Data BG'!$M123,Mapping!H:H)+SUMIF(Mapping!$C:$C,'Data BG'!$M123,Mapping!H:H)+SUMIF(Mapping!$D:$D,'Data BG'!$M123,Mapping!H:H)+SUMIF(Mapping!$B:$B,$N123,Mapping!H:H)+SUMIF(Mapping!$C:$C,$N123,Mapping!H:H)+SUMIF(Mapping!$D:$D,$N123,Mapping!H:H)+SUMIF(Mapping!$B:$B,'Data BG'!$K123,Mapping!H:H)+SUMIF(Mapping!$C:$C,'Data BG'!$K123,Mapping!H:H)+SUMIF(Mapping!$D:$D,'Data BG'!$K123,Mapping!H:H)+SUMIF(Mapping!$B:$B,'Data BG'!$L123,Mapping!H:H)+SUMIF(Mapping!$C:$C,'Data BG'!$L123,Mapping!H:H)+SUMIF(Mapping!$D:$D,'Data BG'!$L123,Mapping!H:H)","v":0}]
[767,null,null,null,null,null,null,null,null,null,null,null,null,null,null,null,null,"Produits des cessions d'immobilisations financières ",{"$f":"SUMIF(Mapping!$B:$B,'Data BG'!$A124,Mapping!G:G)+SUMIF(Mapping!$C:$C,'Data BG'!$A124,Mapping!G:G)+SUMIF(Mapping!$D:$D,'Data BG'!$A124,Mapping!G:G)+SUMIF(Mapping!$B:$B,'Data BG'!$B124,Mapping!G:G)+SUMIF(Mapping!$C:$C,'Data BG'!$B124,Mapping!G:G)+SUMIF(Mapping!$D:$D,'Data BG'!$B124,Mapping!G:G)+SUMIF(Mapping!$B:$B,'Data BG'!$C124,Mapping!G:G)+SUMIF(Mapping!$C:$C,'Data BG'!$C124,Mapping!G:G)+SUMIF(Mapping!$D:$D,'Data BG'!$C124,Mapping!G:G)+SUMIF(Mapping!$B:$B,'Data BG'!$D124,Mapping!G:G)+SUMIF(Mapping!$C:$C,'Data BG'!$D124,Mapping!G:G)+SUMIF(Mapping!$D:$D,'Data BG'!$D124,Mapping!G:G)+SUMIF(Mapping!$B:$B,'Data BG'!$E124,Mapping!G:G)+SUMIF(Mapping!$C:$C,'Data BG'!$E124,Mapping!G:G)+SUMIF(Mapping!$D:$D,'Data BG'!$E124,Mapping!G:G)+SUMIF(Mapping!$B:$B,'Data BG'!$F124,Mapping!G:G)+SUMIF(Mapping!$C:$C,'Data BG'!$F124,Mapping!G:G)+SUMIF(Mapping!$D:$D,'Data BG'!$F124,Mapping!G:G)+SUMIF(Mapping!$B:$B,'Data BG'!$G124,Mapping!G:G)+SUMIF(Mapping!$C:$C,'Data BG'!$G124,Mapping!G:G)+SUMIF(Mapping!$D:$D,'Data BG'!$G124,Mapping!G:G)+SUMIF(Mapping!$B:$B,'Data BG'!$H124,Mapping!G:G)+SUMIF(Mapping!$C:$C,'Data BG'!$H124,Mapping!G:G)+SUMIF(Mapping!$D:$D,'Data BG'!$H124,Mapping!G:G)+SUMIF(Mapping!$B:$B,'Data BG'!$I124,Mapping!G:G)+SUMIF(Mapping!$C:$C,'Data BG'!$I124,Mapping!G:G)+SUMIF(Mapping!$D:$D,'Data BG'!$I124,Mapping!G:G)+SUMIF(Mapping!$B:$B,'Data BG'!$J124,Mapping!G:G)+SUMIF(Mapping!$C:$C,'Data BG'!$J124,Mapping!G:G)+SUMIF(Mapping!$D:$D,'Data BG'!$J124,Mapping!G:G)+SUMIF(Mapping!$B:$B,'Data BG'!$M124,Mapping!G:G)+SUMIF(Mapping!$C:$C,'Data BG'!$M124,Mapping!G:G)+SUMIF(Mapping!$D:$D,'Data BG'!$M124,Mapping!G:G)+SUMIF(Mapping!$B:$B,$N124,Mapping!G:G)+SUMIF(Mapping!$C:$C,$N124,Mapping!G:G)+SUMIF(Mapping!$D:$D,$N124,Mapping!G:G)+SUMIF(Mapping!$B:$B,'Data BG'!$K124,Mapping!G:G)+SUMIF(Mapping!$C:$C,'Data BG'!$K124,Mapping!G:G)+SUMIF(Mapping!$D:$D,'Data BG'!$K124,Mapping!G:G)+SUMIF(Mapping!$B:$B,'Data BG'!$L124,Mapping!G:G)+SUMIF(Mapping!$C:$C,'Data BG'!$L124,Mapping!G:G)+SUMIF(Mapping!$D:$D,'Data BG'!$L124,Mapping!G:G)","v":0},{"$f":"SUMIF(Mapping!$B:$B,'Data BG'!$A124,Mapping!H:H)+SUMIF(Mapping!$C:$C,'Data BG'!$A124,Mapping!H:H)+SUMIF(Mapping!$D:$D,'Data BG'!$A124,Mapping!H:H)+SUMIF(Mapping!$B:$B,'Data BG'!$B124,Mapping!H:H)+SUMIF(Mapping!$C:$C,'Data BG'!$B124,Mapping!H:H)+SUMIF(Mapping!$D:$D,'Data BG'!$B124,Mapping!H:H)+SUMIF(Mapping!$B:$B,'Data BG'!$C124,Mapping!H:H)+SUMIF(Mapping!$C:$C,'Data BG'!$C124,Mapping!H:H)+SUMIF(Mapping!$D:$D,'Data BG'!$C124,Mapping!H:H)+SUMIF(Mapping!$B:$B,'Data BG'!$D124,Mapping!H:H)+SUMIF(Mapping!$C:$C,'Data BG'!$D124,Mapping!H:H)+SUMIF(Mapping!$D:$D,'Data BG'!$D124,Mapping!H:H)+SUMIF(Mapping!$B:$B,'Data BG'!$E124,Mapping!H:H)+SUMIF(Mapping!$C:$C,'Data BG'!$E124,Mapping!H:H)+SUMIF(Mapping!$D:$D,'Data BG'!$E124,Mapping!H:H)+SUMIF(Mapping!$B:$B,'Data BG'!$F124,Mapping!H:H)+SUMIF(Mapping!$C:$C,'Data BG'!$F124,Mapping!H:H)+SUMIF(Mapping!$D:$D,'Data BG'!$F124,Mapping!H:H)+SUMIF(Mapping!$B:$B,'Data BG'!$G124,Mapping!H:H)+SUMIF(Mapping!$C:$C,'Data BG'!$G124,Mapping!H:H)+SUMIF(Mapping!$D:$D,'Data BG'!$G124,Mapping!H:H)+SUMIF(Mapping!$B:$B,'Data BG'!$H124,Mapping!H:H)+SUMIF(Mapping!$C:$C,'Data BG'!$H124,Mapping!H:H)+SUMIF(Mapping!$D:$D,'Data BG'!$H124,Mapping!H:H)+SUMIF(Mapping!$B:$B,'Data BG'!$I124,Mapping!H:H)+SUMIF(Mapping!$C:$C,'Data BG'!$I124,Mapping!H:H)+SUMIF(Mapping!$D:$D,'Data BG'!$I124,Mapping!H:H)+SUMIF(Mapping!$B:$B,'Data BG'!$J124,Mapping!H:H)+SUMIF(Mapping!$C:$C,'Data BG'!$J124,Mapping!H:H)+SUMIF(Mapping!$D:$D,'Data BG'!$J124,Mapping!H:H)+SUMIF(Mapping!$B:$B,'Data BG'!$M124,Mapping!H:H)+SUMIF(Mapping!$C:$C,'Data BG'!$M124,Mapping!H:H)+SUMIF(Mapping!$D:$D,'Data BG'!$M124,Mapping!H:H)+SUMIF(Mapping!$B:$B,$N124,Mapping!H:H)+SUMIF(Mapping!$C:$C,$N124,Mapping!H:H)+SUMIF(Mapping!$D:$D,$N124,Mapping!H:H)+SUMIF(Mapping!$B:$B,'Data BG'!$K124,Mapping!H:H)+SUMIF(Mapping!$C:$C,'Data BG'!$K124,Mapping!H:H)+SUMIF(Mapping!$D:$D,'Data BG'!$K124,Mapping!H:H)+SUMIF(Mapping!$B:$B,'Data BG'!$L124,Mapping!H:H)+SUMIF(Mapping!$C:$C,'Data BG'!$L124,Mapping!H:H)+SUMIF(Mapping!$D:$D,'Data BG'!$L124,Mapping!H:H)","v":0}]
[764,null,null,null,null,null,null,null,null,null,null,null,null,null,null,null,null,"Produits nets sur cessions de valeurs mobilières de placement et d'instruments de trésorerie ",{"$f":"SUMIF(Mapping!$B:$B,'Data BG'!$A125,Mapping!G:G)+SUMIF(Mapping!$C:$C,'Data BG'!$A125,Mapping!G:G)+SUMIF(Mapping!$D:$D,'Data BG'!$A125,Mapping!G:G)+SUMIF(Mapping!$B:$B,'Data BG'!$B125,Mapping!G:G)+SUMIF(Mapping!$C:$C,'Data BG'!$B125,Mapping!G:G)+SUMIF(Mapping!$D:$D,'Data BG'!$B125,Mapping!G:G)+SUMIF(Mapping!$B:$B,'Data BG'!$C125,Mapping!G:G)+SUMIF(Mapping!$C:$C,'Data BG'!$C125,Mapping!G:G)+SUMIF(Mapping!$D:$D,'Data BG'!$C125,Mapping!G:G)+SUMIF(Mapping!$B:$B,'Data BG'!$D125,Mapping!G:G)+SUMIF(Mapping!$C:$C,'Data BG'!$D125,Mapping!G:G)+SUMIF(Mapping!$D:$D,'Data BG'!$D125,Mapping!G:G)+SUMIF(Mapping!$B:$B,'Data BG'!$E125,Mapping!G:G)+SUMIF(Mapping!$C:$C,'Data BG'!$E125,Mapping!G:G)+SUMIF(Mapping!$D:$D,'Data BG'!$E125,Mapping!G:G)+SUMIF(Mapping!$B:$B,'Data BG'!$F125,Mapping!G:G)+SUMIF(Mapping!$C:$C,'Data BG'!$F125,Mapping!G:G)+SUMIF(Mapping!$D:$D,'Data BG'!$F125,Mapping!G:G)+SUMIF(Mapping!$B:$B,'Data BG'!$G125,Mapping!G:G)+SUMIF(Mapping!$C:$C,'Data BG'!$G125,Mapping!G:G)+SUMIF(Mapping!$D:$D,'Data BG'!$G125,Mapping!G:G)+SUMIF(Mapping!$B:$B,'Data BG'!$H125,Mapping!G:G)+SUMIF(Mapping!$C:$C,'Data BG'!$H125,Mapping!G:G)+SUMIF(Mapping!$D:$D,'Data BG'!$H125,Mapping!G:G)+SUMIF(Mapping!$B:$B,'Data BG'!$I125,Mapping!G:G)+SUMIF(Mapping!$C:$C,'Data BG'!$I125,Mapping!G:G)+SUMIF(Mapping!$D:$D,'Data BG'!$I125,Mapping!G:G)+SUMIF(Mapping!$B:$B,'Data BG'!$J125,Mapping!G:G)+SUMIF(Mapping!$C:$C,'Data BG'!$J125,Mapping!G:G)+SUMIF(Mapping!$D:$D,'Data BG'!$J125,Mapping!G:G)+SUMIF(Mapping!$B:$B,'Data BG'!$M125,Mapping!G:G)+SUMIF(Mapping!$C:$C,'Data BG'!$M125,Mapping!G:G)+SUMIF(Mapping!$D:$D,'Data BG'!$M125,Mapping!G:G)+SUMIF(Mapping!$B:$B,$N125,Mapping!G:G)+SUMIF(Mapping!$C:$C,$N125,Mapping!G:G)+SUMIF(Mapping!$D:$D,$N125,Mapping!G:G)+SUMIF(Mapping!$B:$B,'Data BG'!$K125,Mapping!G:G)+SUMIF(Mapping!$C:$C,'Data BG'!$K125,Mapping!G:G)+SUMIF(Mapping!$D:$D,'Data BG'!$K125,Mapping!G:G)+SUMIF(Mapping!$B:$B,'Data BG'!$L125,Mapping!G:G)+SUMIF(Mapping!$C:$C,'Data BG'!$L125,Mapping!G:G)+SUMIF(Mapping!$D:$D,'Data BG'!$L125,Mapping!G:G)","v":0},{"$f":"SUMIF(Mapping!$B:$B,'Data BG'!$A125,Mapping!H:H)+SUMIF(Mapping!$C:$C,'Data BG'!$A125,Mapping!H:H)+SUMIF(Mapping!$D:$D,'Data BG'!$A125,Mapping!H:H)+SUMIF(Mapping!$B:$B,'Data BG'!$B125,Mapping!H:H)+SUMIF(Mapping!$C:$C,'Data BG'!$B125,Mapping!H:H)+SUMIF(Mapping!$D:$D,'Data BG'!$B125,Mapping!H:H)+SUMIF(Mapping!$B:$B,'Data BG'!$C125,Mapping!H:H)+SUMIF(Mapping!$C:$C,'Data BG'!$C125,Mapping!H:H)+SUMIF(Mapping!$D:$D,'Data BG'!$C125,Mapping!H:H)+SUMIF(Mapping!$B:$B,'Data BG'!$D125,Mapping!H:H)+SUMIF(Mapping!$C:$C,'Data BG'!$D125,Mapping!H:H)+SUMIF(Mapping!$D:$D,'Data BG'!$D125,Mapping!H:H)+SUMIF(Mapping!$B:$B,'Data BG'!$E125,Mapping!H:H)+SUMIF(Mapping!$C:$C,'Data BG'!$E125,Mapping!H:H)+SUMIF(Mapping!$D:$D,'Data BG'!$E125,Mapping!H:H)+SUMIF(Mapping!$B:$B,'Data BG'!$F125,Mapping!H:H)+SUMIF(Mapping!$C:$C,'Data BG'!$F125,Mapping!H:H)+SUMIF(Mapping!$D:$D,'Data BG'!$F125,Mapping!H:H)+SUMIF(Mapping!$B:$B,'Data BG'!$G125,Mapping!H:H)+SUMIF(Mapping!$C:$C,'Data BG'!$G125,Mapping!H:H)+SUMIF(Mapping!$D:$D,'Data BG'!$G125,Mapping!H:H)+SUMIF(Mapping!$B:$B,'Data BG'!$H125,Mapping!H:H)+SUMIF(Mapping!$C:$C,'Data BG'!$H125,Mapping!H:H)+SUMIF(Mapping!$D:$D,'Data BG'!$H125,Mapping!H:H)+SUMIF(Mapping!$B:$B,'Data BG'!$I125,Mapping!H:H)+SUMIF(Mapping!$C:$C,'Data BG'!$I125,Mapping!H:H)+SUMIF(Mapping!$D:$D,'Data BG'!$I125,Mapping!H:H)+SUMIF(Mapping!$B:$B,'Data BG'!$J125,Mapping!H:H)+SUMIF(Mapping!$C:$C,'Data BG'!$J125,Mapping!H:H)+SUMIF(Mapping!$D:$D,'Data BG'!$J125,Mapping!H:H)+SUMIF(Mapping!$B:$B,'Data BG'!$M125,Mapping!H:H)+SUMIF(Mapping!$C:$C,'Data BG'!$M125,Mapping!H:H)+SUMIF(Mapping!$D:$D,'Data BG'!$M125,Mapping!H:H)+SUMIF(Mapping!$B:$B,$N125,Mapping!H:H)+SUMIF(Mapping!$C:$C,$N125,Mapping!H:H)+SUMIF(Mapping!$D:$D,$N125,Mapping!H:H)+SUMIF(Mapping!$B:$B,'Data BG'!$K125,Mapping!H:H)+SUMIF(Mapping!$C:$C,'Data BG'!$K125,Mapping!H:H)+SUMIF(Mapping!$D:$D,'Data BG'!$K125,Mapping!H:H)+SUMIF(Mapping!$B:$B,'Data BG'!$L125,Mapping!H:H)+SUMIF(Mapping!$C:$C,'Data BG'!$L125,Mapping!H:H)+SUMIF(Mapping!$D:$D,'Data BG'!$L125,Mapping!H:H)","v":0}]
[null,null,null,null,null,null,null,null,null,null,null,null,null,null,null,null,null,"CHARGES FINANCIERES  "]
[686,null,null,null,null,null,null,null,null,null,null,null,null,null,null,null,null,"Dotations aux amortissements, aux dépréciations et aux provisions ",{"$f":"SUMIF(Mapping!$B:$B,'Data BG'!$A127,Mapping!G:G)+SUMIF(Mapping!$C:$C,'Data BG'!$A127,Mapping!G:G)+SUMIF(Mapping!$D:$D,'Data BG'!$A127,Mapping!G:G)+SUMIF(Mapping!$B:$B,'Data BG'!$B127,Mapping!G:G)+SUMIF(Mapping!$C:$C,'Data BG'!$B127,Mapping!G:G)+SUMIF(Mapping!$D:$D,'Data BG'!$B127,Mapping!G:G)+SUMIF(Mapping!$B:$B,'Data BG'!$C127,Mapping!G:G)+SUMIF(Mapping!$C:$C,'Data BG'!$C127,Mapping!G:G)+SUMIF(Mapping!$D:$D,'Data BG'!$C127,Mapping!G:G)+SUMIF(Mapping!$B:$B,'Data BG'!$D127,Mapping!G:G)+SUMIF(Mapping!$C:$C,'Data BG'!$D127,Mapping!G:G)+SUMIF(Mapping!$D:$D,'Data BG'!$D127,Mapping!G:G)+SUMIF(Mapping!$B:$B,'Data BG'!$E127,Mapping!G:G)+SUMIF(Mapping!$C:$C,'Data BG'!$E127,Mapping!G:G)+SUMIF(Mapping!$D:$D,'Data BG'!$E127,Mapping!G:G)+SUMIF(Mapping!$B:$B,'Data BG'!$F127,Mapping!G:G)+SUMIF(Mapping!$C:$C,'Data BG'!$F127,Mapping!G:G)+SUMIF(Mapping!$D:$D,'Data BG'!$F127,Mapping!G:G)+SUMIF(Mapping!$B:$B,'Data BG'!$G127,Mapping!G:G)+SUMIF(Mapping!$C:$C,'Data BG'!$G127,Mapping!G:G)+SUMIF(Mapping!$D:$D,'Data BG'!$G127,Mapping!G:G)+SUMIF(Mapping!$B:$B,'Data BG'!$H127,Mapping!G:G)+SUMIF(Mapping!$C:$C,'Data BG'!$H127,Mapping!G:G)+SUMIF(Mapping!$D:$D,'Data BG'!$H127,Mapping!G:G)+SUMIF(Mapping!$B:$B,'Data BG'!$I127,Mapping!G:G)+SUMIF(Mapping!$C:$C,'Data BG'!$I127,Mapping!G:G)+SUMIF(Mapping!$D:$D,'Data BG'!$I127,Mapping!G:G)+SUMIF(Mapping!$B:$B,'Data BG'!$J127,Mapping!G:G)+SUMIF(Mapping!$C:$C,'Data BG'!$J127,Mapping!G:G)+SUMIF(Mapping!$D:$D,'Data BG'!$J127,Mapping!G:G)+SUMIF(Mapping!$B:$B,'Data BG'!$M127,Mapping!G:G)+SUMIF(Mapping!$C:$C,'Data BG'!$M127,Mapping!G:G)+SUMIF(Mapping!$D:$D,'Data BG'!$M127,Mapping!G:G)+SUMIF(Mapping!$B:$B,$N127,Mapping!G:G)+SUMIF(Mapping!$C:$C,$N127,Mapping!G:G)+SUMIF(Mapping!$D:$D,$N127,Mapping!G:G)+SUMIF(Mapping!$B:$B,'Data BG'!$K127,Mapping!G:G)+SUMIF(Mapping!$C:$C,'Data BG'!$K127,Mapping!G:G)+SUMIF(Mapping!$D:$D,'Data BG'!$K127,Mapping!G:G)+SUMIF(Mapping!$B:$B,'Data BG'!$L127,Mapping!G:G)+SUMIF(Mapping!$C:$C,'Data BG'!$L127,Mapping!G:G)+SUMIF(Mapping!$D:$D,'Data BG'!$L127,Mapping!G:G)","v":0},{"$f":"SUMIF(Mapping!$B:$B,'Data BG'!$A127,Mapping!H:H)+SUMIF(Mapping!$C:$C,'Data BG'!$A127,Mapping!H:H)+SUMIF(Mapping!$D:$D,'Data BG'!$A127,Mapping!H:H)+SUMIF(Mapping!$B:$B,'Data BG'!$B127,Mapping!H:H)+SUMIF(Mapping!$C:$C,'Data BG'!$B127,Mapping!H:H)+SUMIF(Mapping!$D:$D,'Data BG'!$B127,Mapping!H:H)+SUMIF(Mapping!$B:$B,'Data BG'!$C127,Mapping!H:H)+SUMIF(Mapping!$C:$C,'Data BG'!$C127,Mapping!H:H)+SUMIF(Mapping!$D:$D,'Data BG'!$C127,Mapping!H:H)+SUMIF(Mapping!$B:$B,'Data BG'!$D127,Mapping!H:H)+SUMIF(Mapping!$C:$C,'Data BG'!$D127,Mapping!H:H)+SUMIF(Mapping!$D:$D,'Data BG'!$D127,Mapping!H:H)+SUMIF(Mapping!$B:$B,'Data BG'!$E127,Mapping!H:H)+SUMIF(Mapping!$C:$C,'Data BG'!$E127,Mapping!H:H)+SUMIF(Mapping!$D:$D,'Data BG'!$E127,Mapping!H:H)+SUMIF(Mapping!$B:$B,'Data BG'!$F127,Mapping!H:H)+SUMIF(Mapping!$C:$C,'Data BG'!$F127,Mapping!H:H)+SUMIF(Mapping!$D:$D,'Data BG'!$F127,Mapping!H:H)+SUMIF(Mapping!$B:$B,'Data BG'!$G127,Mapping!H:H)+SUMIF(Mapping!$C:$C,'Data BG'!$G127,Mapping!H:H)+SUMIF(Mapping!$D:$D,'Data BG'!$G127,Mapping!H:H)+SUMIF(Mapping!$B:$B,'Data BG'!$H127,Mapping!H:H)+SUMIF(Mapping!$C:$C,'Data BG'!$H127,Mapping!H:H)+SUMIF(Mapping!$D:$D,'Data BG'!$H127,Mapping!H:H)+SUMIF(Mapping!$B:$B,'Data BG'!$I127,Mapping!H:H)+SUMIF(Mapping!$C:$C,'Data BG'!$I127,Mapping!H:H)+SUMIF(Mapping!$D:$D,'Data BG'!$I127,Mapping!H:H)+SUMIF(Mapping!$B:$B,'Data BG'!$J127,Mapping!H:H)+SUMIF(Mapping!$C:$C,'Data BG'!$J127,Mapping!H:H)+SUMIF(Mapping!$D:$D,'Data BG'!$J127,Mapping!H:H)+SUMIF(Mapping!$B:$B,'Data BG'!$M127,Mapping!H:H)+SUMIF(Mapping!$C:$C,'Data BG'!$M127,Mapping!H:H)+SUMIF(Mapping!$D:$D,'Data BG'!$M127,Mapping!H:H)+SUMIF(Mapping!$B:$B,$N127,Mapping!H:H)+SUMIF(Mapping!$C:$C,$N127,Mapping!H:H)+SUMIF(Mapping!$D:$D,$N127,Mapping!H:H)+SUMIF(Mapping!$B:$B,'Data BG'!$K127,Mapping!H:H)+SUMIF(Mapping!$C:$C,'Data BG'!$K127,Mapping!H:H)+SUMIF(Mapping!$D:$D,'Data BG'!$K127,Mapping!H:H)+SUMIF(Mapping!$B:$B,'Data BG'!$L127,Mapping!H:H)+SUMIF(Mapping!$C:$C,'Data BG'!$L127,Mapping!H:H)+SUMIF(Mapping!$D:$D,'Data BG'!$L127,Mapping!H:H)","v":0}]
[66,null,null,null,null,null,null,null,null,null,null,null,null,null,null,null,null,"Intérêts et charges assimilées ",{"$f":"SUMIF(Mapping!$B:$B,'Data BG'!$A128,Mapping!G:G)+SUMIF(Mapping!$C:$C,'Data BG'!$A128,Mapping!G:G)+SUMIF(Mapping!$D:$D,'Data BG'!$A128,Mapping!G:G)+SUMIF(Mapping!$B:$B,'Data BG'!$B128,Mapping!G:G)+SUMIF(Mapping!$C:$C,'Data BG'!$B128,Mapping!G:G)+SUMIF(Mapping!$D:$D,'Data BG'!$B128,Mapping!G:G)+SUMIF(Mapping!$B:$B,'Data BG'!$C128,Mapping!G:G)+SUMIF(Mapping!$C:$C,'Data BG'!$C128,Mapping!G:G)+SUMIF(Mapping!$D:$D,'Data BG'!$C128,Mapping!G:G)+SUMIF(Mapping!$B:$B,'Data BG'!$D128,Mapping!G:G)+SUMIF(Mapping!$C:$C,'Data BG'!$D128,Mapping!G:G)+SUMIF(Mapping!$D:$D,'Data BG'!$D128,Mapping!G:G)+SUMIF(Mapping!$B:$B,'Data BG'!$E128,Mapping!G:G)+SUMIF(Mapping!$C:$C,'Data BG'!$E128,Mapping!G:G)+SUMIF(Mapping!$D:$D,'Data BG'!$E128,Mapping!G:G)+SUMIF(Mapping!$B:$B,'Data BG'!$F128,Mapping!G:G)+SUMIF(Mapping!$C:$C,'Data BG'!$F128,Mapping!G:G)+SUMIF(Mapping!$D:$D,'Data BG'!$F128,Mapping!G:G)+SUMIF(Mapping!$B:$B,'Data BG'!$G128,Mapping!G:G)+SUMIF(Mapping!$C:$C,'Data BG'!$G128,Mapping!G:G)+SUMIF(Mapping!$D:$D,'Data BG'!$G128,Mapping!G:G)+SUMIF(Mapping!$B:$B,'Data BG'!$H128,Mapping!G:G)+SUMIF(Mapping!$C:$C,'Data BG'!$H128,Mapping!G:G)+SUMIF(Mapping!$D:$D,'Data BG'!$H128,Mapping!G:G)+SUMIF(Mapping!$B:$B,'Data BG'!$I128,Mapping!G:G)+SUMIF(Mapping!$C:$C,'Data BG'!$I128,Mapping!G:G)+SUMIF(Mapping!$D:$D,'Data BG'!$I128,Mapping!G:G)+SUMIF(Mapping!$B:$B,'Data BG'!$J128,Mapping!G:G)+SUMIF(Mapping!$C:$C,'Data BG'!$J128,Mapping!G:G)+SUMIF(Mapping!$D:$D,'Data BG'!$J128,Mapping!G:G)+SUMIF(Mapping!$B:$B,'Data BG'!$M128,Mapping!G:G)+SUMIF(Mapping!$C:$C,'Data BG'!$M128,Mapping!G:G)+SUMIF(Mapping!$D:$D,'Data BG'!$M128,Mapping!G:G)+SUMIF(Mapping!$B:$B,$N128,Mapping!G:G)+SUMIF(Mapping!$C:$C,$N128,Mapping!G:G)+SUMIF(Mapping!$D:$D,$N128,Mapping!G:G)+SUMIF(Mapping!$B:$B,'Data BG'!$K128,Mapping!G:G)+SUMIF(Mapping!$C:$C,'Data BG'!$K128,Mapping!G:G)+SUMIF(Mapping!$D:$D,'Data BG'!$K128,Mapping!G:G)+SUMIF(Mapping!$B:$B,'Data BG'!$L128,Mapping!G:G)+SUMIF(Mapping!$C:$C,'Data BG'!$L128,Mapping!G:G)+SUMIF(Mapping!$D:$D,'Data BG'!$L128,Mapping!G:G)-S129-S130","v":0},{"$f":"SUMIF(Mapping!$B:$B,'Data BG'!$A128,Mapping!H:H)+SUMIF(Mapping!$C:$C,'Data BG'!$A128,Mapping!H:H)+SUMIF(Mapping!$D:$D,'Data BG'!$A128,Mapping!H:H)+SUMIF(Mapping!$B:$B,'Data BG'!$B128,Mapping!H:H)+SUMIF(Mapping!$C:$C,'Data BG'!$B128,Mapping!H:H)+SUMIF(Mapping!$D:$D,'Data BG'!$B128,Mapping!H:H)+SUMIF(Mapping!$B:$B,'Data BG'!$C128,Mapping!H:H)+SUMIF(Mapping!$C:$C,'Data BG'!$C128,Mapping!H:H)+SUMIF(Mapping!$D:$D,'Data BG'!$C128,Mapping!H:H)+SUMIF(Mapping!$B:$B,'Data BG'!$D128,Mapping!H:H)+SUMIF(Mapping!$C:$C,'Data BG'!$D128,Mapping!H:H)+SUMIF(Mapping!$D:$D,'Data BG'!$D128,Mapping!H:H)+SUMIF(Mapping!$B:$B,'Data BG'!$E128,Mapping!H:H)+SUMIF(Mapping!$C:$C,'Data BG'!$E128,Mapping!H:H)+SUMIF(Mapping!$D:$D,'Data BG'!$E128,Mapping!H:H)+SUMIF(Mapping!$B:$B,'Data BG'!$F128,Mapping!H:H)+SUMIF(Mapping!$C:$C,'Data BG'!$F128,Mapping!H:H)+SUMIF(Mapping!$D:$D,'Data BG'!$F128,Mapping!H:H)+SUMIF(Mapping!$B:$B,'Data BG'!$G128,Mapping!H:H)+SUMIF(Mapping!$C:$C,'Data BG'!$G128,Mapping!H:H)+SUMIF(Mapping!$D:$D,'Data BG'!$G128,Mapping!H:H)+SUMIF(Mapping!$B:$B,'Data BG'!$H128,Mapping!H:H)+SUMIF(Mapping!$C:$C,'Data BG'!$H128,Mapping!H:H)+SUMIF(Mapping!$D:$D,'Data BG'!$H128,Mapping!H:H)+SUMIF(Mapping!$B:$B,'Data BG'!$I128,Mapping!H:H)+SUMIF(Mapping!$C:$C,'Data BG'!$I128,Mapping!H:H)+SUMIF(Mapping!$D:$D,'Data BG'!$I128,Mapping!H:H)+SUMIF(Mapping!$B:$B,'Data BG'!$J128,Mapping!H:H)+SUMIF(Mapping!$C:$C,'Data BG'!$J128,Mapping!H:H)+SUMIF(Mapping!$D:$D,'Data BG'!$J128,Mapping!H:H)+SUMIF(Mapping!$B:$B,'Data BG'!$M128,Mapping!H:H)+SUMIF(Mapping!$C:$C,'Data BG'!$M128,Mapping!H:H)+SUMIF(Mapping!$D:$D,'Data BG'!$M128,Mapping!H:H)+SUMIF(Mapping!$B:$B,$N128,Mapping!H:H)+SUMIF(Mapping!$C:$C,$N128,Mapping!H:H)+SUMIF(Mapping!$D:$D,$N128,Mapping!H:H)+SUMIF(Mapping!$B:$B,'Data BG'!$K128,Mapping!H:H)+SUMIF(Mapping!$C:$C,'Data BG'!$K128,Mapping!H:H)+SUMIF(Mapping!$D:$D,'Data BG'!$K128,Mapping!H:H)+SUMIF(Mapping!$B:$B,'Data BG'!$L128,Mapping!H:H)+SUMIF(Mapping!$C:$C,'Data BG'!$L128,Mapping!H:H)+SUMIF(Mapping!$D:$D,'Data BG'!$L128,Mapping!H:H)-T129-T130","v":0}]
[6671,null,null,null,null,null,null,null,null,null,null,null,null,null,null,null,null,"Valeurs comptables des immobilisations financières cédées ",{"$f":"SUMIF(Mapping!$B:$B,'Data BG'!$A129,Mapping!G:G)+SUMIF(Mapping!$C:$C,'Data BG'!$A129,Mapping!G:G)+SUMIF(Mapping!$D:$D,'Data BG'!$A129,Mapping!G:G)+SUMIF(Mapping!$B:$B,'Data BG'!$B129,Mapping!G:G)+SUMIF(Mapping!$C:$C,'Data BG'!$B129,Mapping!G:G)+SUMIF(Mapping!$D:$D,'Data BG'!$B129,Mapping!G:G)+SUMIF(Mapping!$B:$B,'Data BG'!$C129,Mapping!G:G)+SUMIF(Mapping!$C:$C,'Data BG'!$C129,Mapping!G:G)+SUMIF(Mapping!$D:$D,'Data BG'!$C129,Mapping!G:G)+SUMIF(Mapping!$B:$B,'Data BG'!$D129,Mapping!G:G)+SUMIF(Mapping!$C:$C,'Data BG'!$D129,Mapping!G:G)+SUMIF(Mapping!$D:$D,'Data BG'!$D129,Mapping!G:G)+SUMIF(Mapping!$B:$B,'Data BG'!$E129,Mapping!G:G)+SUMIF(Mapping!$C:$C,'Data BG'!$E129,Mapping!G:G)+SUMIF(Mapping!$D:$D,'Data BG'!$E129,Mapping!G:G)+SUMIF(Mapping!$B:$B,'Data BG'!$F129,Mapping!G:G)+SUMIF(Mapping!$C:$C,'Data BG'!$F129,Mapping!G:G)+SUMIF(Mapping!$D:$D,'Data BG'!$F129,Mapping!G:G)+SUMIF(Mapping!$B:$B,'Data BG'!$G129,Mapping!G:G)+SUMIF(Mapping!$C:$C,'Data BG'!$G129,Mapping!G:G)+SUMIF(Mapping!$D:$D,'Data BG'!$G129,Mapping!G:G)+SUMIF(Mapping!$B:$B,'Data BG'!$H129,Mapping!G:G)+SUMIF(Mapping!$C:$C,'Data BG'!$H129,Mapping!G:G)+SUMIF(Mapping!$D:$D,'Data BG'!$H129,Mapping!G:G)+SUMIF(Mapping!$B:$B,'Data BG'!$I129,Mapping!G:G)+SUMIF(Mapping!$C:$C,'Data BG'!$I129,Mapping!G:G)+SUMIF(Mapping!$D:$D,'Data BG'!$I129,Mapping!G:G)+SUMIF(Mapping!$B:$B,'Data BG'!$J129,Mapping!G:G)+SUMIF(Mapping!$C:$C,'Data BG'!$J129,Mapping!G:G)+SUMIF(Mapping!$D:$D,'Data BG'!$J129,Mapping!G:G)+SUMIF(Mapping!$B:$B,'Data BG'!$M129,Mapping!G:G)+SUMIF(Mapping!$C:$C,'Data BG'!$M129,Mapping!G:G)+SUMIF(Mapping!$D:$D,'Data BG'!$M129,Mapping!G:G)+SUMIF(Mapping!$B:$B,$N129,Mapping!G:G)+SUMIF(Mapping!$C:$C,$N129,Mapping!G:G)+SUMIF(Mapping!$D:$D,$N129,Mapping!G:G)+SUMIF(Mapping!$B:$B,'Data BG'!$K129,Mapping!G:G)+SUMIF(Mapping!$C:$C,'Data BG'!$K129,Mapping!G:G)+SUMIF(Mapping!$D:$D,'Data BG'!$K129,Mapping!G:G)+SUMIF(Mapping!$B:$B,'Data BG'!$L129,Mapping!G:G)+SUMIF(Mapping!$C:$C,'Data BG'!$L129,Mapping!G:G)+SUMIF(Mapping!$D:$D,'Data BG'!$L129,Mapping!G:G)","v":0},{"$f":"SUMIF(Mapping!$B:$B,'Data BG'!$A129,Mapping!H:H)+SUMIF(Mapping!$C:$C,'Data BG'!$A129,Mapping!H:H)+SUMIF(Mapping!$D:$D,'Data BG'!$A129,Mapping!H:H)+SUMIF(Mapping!$B:$B,'Data BG'!$B129,Mapping!H:H)+SUMIF(Mapping!$C:$C,'Data BG'!$B129,Mapping!H:H)+SUMIF(Mapping!$D:$D,'Data BG'!$B129,Mapping!H:H)+SUMIF(Mapping!$B:$B,'Data BG'!$C129,Mapping!H:H)+SUMIF(Mapping!$C:$C,'Data BG'!$C129,Mapping!H:H)+SUMIF(Mapping!$D:$D,'Data BG'!$C129,Mapping!H:H)+SUMIF(Mapping!$B:$B,'Data BG'!$D129,Mapping!H:H)+SUMIF(Mapping!$C:$C,'Data BG'!$D129,Mapping!H:H)+SUMIF(Mapping!$D:$D,'Data BG'!$D129,Mapping!H:H)+SUMIF(Mapping!$B:$B,'Data BG'!$E129,Mapping!H:H)+SUMIF(Mapping!$C:$C,'Data BG'!$E129,Mapping!H:H)+SUMIF(Mapping!$D:$D,'Data BG'!$E129,Mapping!H:H)+SUMIF(Mapping!$B:$B,'Data BG'!$F129,Mapping!H:H)+SUMIF(Mapping!$C:$C,'Data BG'!$F129,Mapping!H:H)+SUMIF(Mapping!$D:$D,'Data BG'!$F129,Mapping!H:H)+SUMIF(Mapping!$B:$B,'Data BG'!$G129,Mapping!H:H)+SUMIF(Mapping!$C:$C,'Data BG'!$G129,Mapping!H:H)+SUMIF(Mapping!$D:$D,'Data BG'!$G129,Mapping!H:H)+SUMIF(Mapping!$B:$B,'Data BG'!$H129,Mapping!H:H)+SUMIF(Mapping!$C:$C,'Data BG'!$H129,Mapping!H:H)+SUMIF(Mapping!$D:$D,'Data BG'!$H129,Mapping!H:H)+SUMIF(Mapping!$B:$B,'Data BG'!$I129,Mapping!H:H)+SUMIF(Mapping!$C:$C,'Data BG'!$I129,Mapping!H:H)+SUMIF(Mapping!$D:$D,'Data BG'!$I129,Mapping!H:H)+SUMIF(Mapping!$B:$B,'Data BG'!$J129,Mapping!H:H)+SUMIF(Mapping!$C:$C,'Data BG'!$J129,Mapping!H:H)+SUMIF(Mapping!$D:$D,'Data BG'!$J129,Mapping!H:H)+SUMIF(Mapping!$B:$B,'Data BG'!$M129,Mapping!H:H)+SUMIF(Mapping!$C:$C,'Data BG'!$M129,Mapping!H:H)+SUMIF(Mapping!$D:$D,'Data BG'!$M129,Mapping!H:H)+SUMIF(Mapping!$B:$B,$N129,Mapping!H:H)+SUMIF(Mapping!$C:$C,$N129,Mapping!H:H)+SUMIF(Mapping!$D:$D,$N129,Mapping!H:H)+SUMIF(Mapping!$B:$B,'Data BG'!$K129,Mapping!H:H)+SUMIF(Mapping!$C:$C,'Data BG'!$K129,Mapping!H:H)+SUMIF(Mapping!$D:$D,'Data BG'!$K129,Mapping!H:H)+SUMIF(Mapping!$B:$B,'Data BG'!$L129,Mapping!H:H)+SUMIF(Mapping!$C:$C,'Data BG'!$L129,Mapping!H:H)+SUMIF(Mapping!$D:$D,'Data BG'!$L129,Mapping!H:H)","v":0}]
[6672,6673,null,null,null,null,null,null,null,null,null,null,null,null,null,null,null,"Charges nettes sur cessions de valeurs mobilières de placement et d'instruments de trésorerie ",{"$f":"SUMIF(Mapping!$B:$B,'Data BG'!$A130,Mapping!G:G)+SUMIF(Mapping!$C:$C,'Data BG'!$A130,Mapping!G:G)+SUMIF(Mapping!$D:$D,'Data BG'!$A130,Mapping!G:G)+SUMIF(Mapping!$B:$B,'Data BG'!$B130,Mapping!G:G)+SUMIF(Mapping!$C:$C,'Data BG'!$B130,Mapping!G:G)+SUMIF(Mapping!$D:$D,'Data BG'!$B130,Mapping!G:G)+SUMIF(Mapping!$B:$B,'Data BG'!$C130,Mapping!G:G)+SUMIF(Mapping!$C:$C,'Data BG'!$C130,Mapping!G:G)+SUMIF(Mapping!$D:$D,'Data BG'!$C130,Mapping!G:G)+SUMIF(Mapping!$B:$B,'Data BG'!$D130,Mapping!G:G)+SUMIF(Mapping!$C:$C,'Data BG'!$D130,Mapping!G:G)+SUMIF(Mapping!$D:$D,'Data BG'!$D130,Mapping!G:G)+SUMIF(Mapping!$B:$B,'Data BG'!$E130,Mapping!G:G)+SUMIF(Mapping!$C:$C,'Data BG'!$E130,Mapping!G:G)+SUMIF(Mapping!$D:$D,'Data BG'!$E130,Mapping!G:G)+SUMIF(Mapping!$B:$B,'Data BG'!$F130,Mapping!G:G)+SUMIF(Mapping!$C:$C,'Data BG'!$F130,Mapping!G:G)+SUMIF(Mapping!$D:$D,'Data BG'!$F130,Mapping!G:G)+SUMIF(Mapping!$B:$B,'Data BG'!$G130,Mapping!G:G)+SUMIF(Mapping!$C:$C,'Data BG'!$G130,Mapping!G:G)+SUMIF(Mapping!$D:$D,'Data BG'!$G130,Mapping!G:G)+SUMIF(Mapping!$B:$B,'Data BG'!$H130,Mapping!G:G)+SUMIF(Mapping!$C:$C,'Data BG'!$H130,Mapping!G:G)+SUMIF(Mapping!$D:$D,'Data BG'!$H130,Mapping!G:G)+SUMIF(Mapping!$B:$B,'Data BG'!$I130,Mapping!G:G)+SUMIF(Mapping!$C:$C,'Data BG'!$I130,Mapping!G:G)+SUMIF(Mapping!$D:$D,'Data BG'!$I130,Mapping!G:G)+SUMIF(Mapping!$B:$B,'Data BG'!$J130,Mapping!G:G)+SUMIF(Mapping!$C:$C,'Data BG'!$J130,Mapping!G:G)+SUMIF(Mapping!$D:$D,'Data BG'!$J130,Mapping!G:G)+SUMIF(Mapping!$B:$B,'Data BG'!$M130,Mapping!G:G)+SUMIF(Mapping!$C:$C,'Data BG'!$M130,Mapping!G:G)+SUMIF(Mapping!$D:$D,'Data BG'!$M130,Mapping!G:G)+SUMIF(Mapping!$B:$B,$N130,Mapping!G:G)+SUMIF(Mapping!$C:$C,$N130,Mapping!G:G)+SUMIF(Mapping!$D:$D,$N130,Mapping!G:G)+SUMIF(Mapping!$B:$B,'Data BG'!$K130,Mapping!G:G)+SUMIF(Mapping!$C:$C,'Data BG'!$K130,Mapping!G:G)+SUMIF(Mapping!$D:$D,'Data BG'!$K130,Mapping!G:G)+SUMIF(Mapping!$B:$B,'Data BG'!$L130,Mapping!G:G)+SUMIF(Mapping!$C:$C,'Data BG'!$L130,Mapping!G:G)+SUMIF(Mapping!$D:$D,'Data BG'!$L130,Mapping!G:G)","v":0},{"$f":"SUMIF(Mapping!$B:$B,'Data BG'!$A130,Mapping!H:H)+SUMIF(Mapping!$C:$C,'Data BG'!$A130,Mapping!H:H)+SUMIF(Mapping!$D:$D,'Data BG'!$A130,Mapping!H:H)+SUMIF(Mapping!$B:$B,'Data BG'!$B130,Mapping!H:H)+SUMIF(Mapping!$C:$C,'Data BG'!$B130,Mapping!H:H)+SUMIF(Mapping!$D:$D,'Data BG'!$B130,Mapping!H:H)+SUMIF(Mapping!$B:$B,'Data BG'!$C130,Mapping!H:H)+SUMIF(Mapping!$C:$C,'Data BG'!$C130,Mapping!H:H)+SUMIF(Mapping!$D:$D,'Data BG'!$C130,Mapping!H:H)+SUMIF(Mapping!$B:$B,'Data BG'!$D130,Mapping!H:H)+SUMIF(Mapping!$C:$C,'Data BG'!$D130,Mapping!H:H)+SUMIF(Mapping!$D:$D,'Data BG'!$D130,Mapping!H:H)+SUMIF(Mapping!$B:$B,'Data BG'!$E130,Mapping!H:H)+SUMIF(Mapping!$C:$C,'Data BG'!$E130,Mapping!H:H)+SUMIF(Mapping!$D:$D,'Data BG'!$E130,Mapping!H:H)+SUMIF(Mapping!$B:$B,'Data BG'!$F130,Mapping!H:H)+SUMIF(Mapping!$C:$C,'Data BG'!$F130,Mapping!H:H)+SUMIF(Mapping!$D:$D,'Data BG'!$F130,Mapping!H:H)+SUMIF(Mapping!$B:$B,'Data BG'!$G130,Mapping!H:H)+SUMIF(Mapping!$C:$C,'Data BG'!$G130,Mapping!H:H)+SUMIF(Mapping!$D:$D,'Data BG'!$G130,Mapping!H:H)+SUMIF(Mapping!$B:$B,'Data BG'!$H130,Mapping!H:H)+SUMIF(Mapping!$C:$C,'Data BG'!$H130,Mapping!H:H)+SUMIF(Mapping!$D:$D,'Data BG'!$H130,Mapping!H:H)+SUMIF(Mapping!$B:$B,'Data BG'!$I130,Mapping!H:H)+SUMIF(Mapping!$C:$C,'Data BG'!$I130,Mapping!H:H)+SUMIF(Mapping!$D:$D,'Data BG'!$I130,Mapping!H:H)+SUMIF(Mapping!$B:$B,'Data BG'!$J130,Mapping!H:H)+SUMIF(Mapping!$C:$C,'Data BG'!$J130,Mapping!H:H)+SUMIF(Mapping!$D:$D,'Data BG'!$J130,Mapping!H:H)+SUMIF(Mapping!$B:$B,'Data BG'!$M130,Mapping!H:H)+SUMIF(Mapping!$C:$C,'Data BG'!$M130,Mapping!H:H)+SUMIF(Mapping!$D:$D,'Data BG'!$M130,Mapping!H:H)+SUMIF(Mapping!$B:$B,$N130,Mapping!H:H)+SUMIF(Mapping!$C:$C,$N130,Mapping!H:H)+SUMIF(Mapping!$D:$D,$N130,Mapping!H:H)+SUMIF(Mapping!$B:$B,'Data BG'!$K130,Mapping!H:H)+SUMIF(Mapping!$C:$C,'Data BG'!$K130,Mapping!H:H)+SUMIF(Mapping!$D:$D,'Data BG'!$K130,Mapping!H:H)+SUMIF(Mapping!$B:$B,'Data BG'!$L130,Mapping!H:H)+SUMIF(Mapping!$C:$C,'Data BG'!$L130,Mapping!H:H)+SUMIF(Mapping!$D:$D,'Data BG'!$L130,Mapping!H:H)","v":0}]
[null,null,null,null,null,null,null,null,null,null,null,null,null,null,null,null,null,"PRODUITS EXCEPTIONNELS  "]
[778,772,787,null,null,null,null,null,null,null,null,null,null,null,null,null,null,"Produits exceptionnels",{"$f":"SUMIF(Mapping!$B:$B,'Data BG'!$A132,Mapping!G:G)+SUMIF(Mapping!$C:$C,'Data BG'!$A132,Mapping!G:G)+SUMIF(Mapping!$D:$D,'Data BG'!$A132,Mapping!G:G)+SUMIF(Mapping!$B:$B,'Data BG'!$B132,Mapping!G:G)+SUMIF(Mapping!$C:$C,'Data BG'!$B132,Mapping!G:G)+SUMIF(Mapping!$D:$D,'Data BG'!$B132,Mapping!G:G)+SUMIF(Mapping!$B:$B,'Data BG'!$C132,Mapping!G:G)+SUMIF(Mapping!$C:$C,'Data BG'!$C132,Mapping!G:G)+SUMIF(Mapping!$D:$D,'Data BG'!$C132,Mapping!G:G)+SUMIF(Mapping!$B:$B,'Data BG'!$D132,Mapping!G:G)+SUMIF(Mapping!$C:$C,'Data BG'!$D132,Mapping!G:G)+SUMIF(Mapping!$D:$D,'Data BG'!$D132,Mapping!G:G)+SUMIF(Mapping!$B:$B,'Data BG'!$E132,Mapping!G:G)+SUMIF(Mapping!$C:$C,'Data BG'!$E132,Mapping!G:G)+SUMIF(Mapping!$D:$D,'Data BG'!$E132,Mapping!G:G)+SUMIF(Mapping!$B:$B,'Data BG'!$F132,Mapping!G:G)+SUMIF(Mapping!$C:$C,'Data BG'!$F132,Mapping!G:G)+SUMIF(Mapping!$D:$D,'Data BG'!$F132,Mapping!G:G)+SUMIF(Mapping!$B:$B,'Data BG'!$G132,Mapping!G:G)+SUMIF(Mapping!$C:$C,'Data BG'!$G132,Mapping!G:G)+SUMIF(Mapping!$D:$D,'Data BG'!$G132,Mapping!G:G)+SUMIF(Mapping!$B:$B,'Data BG'!$H132,Mapping!G:G)+SUMIF(Mapping!$C:$C,'Data BG'!$H132,Mapping!G:G)+SUMIF(Mapping!$D:$D,'Data BG'!$H132,Mapping!G:G)+SUMIF(Mapping!$B:$B,'Data BG'!$I132,Mapping!G:G)+SUMIF(Mapping!$C:$C,'Data BG'!$I132,Mapping!G:G)+SUMIF(Mapping!$D:$D,'Data BG'!$I132,Mapping!G:G)+SUMIF(Mapping!$B:$B,'Data BG'!$J132,Mapping!G:G)+SUMIF(Mapping!$C:$C,'Data BG'!$J132,Mapping!G:G)+SUMIF(Mapping!$D:$D,'Data BG'!$J132,Mapping!G:G)+SUMIF(Mapping!$B:$B,'Data BG'!$M132,Mapping!G:G)+SUMIF(Mapping!$C:$C,'Data BG'!$M132,Mapping!G:G)+SUMIF(Mapping!$D:$D,'Data BG'!$M132,Mapping!G:G)+SUMIF(Mapping!$B:$B,$N132,Mapping!G:G)+SUMIF(Mapping!$C:$C,$N132,Mapping!G:G)+SUMIF(Mapping!$D:$D,$N132,Mapping!G:G)+SUMIF(Mapping!$B:$B,'Data BG'!$K132,Mapping!G:G)+SUMIF(Mapping!$C:$C,'Data BG'!$K132,Mapping!G:G)+SUMIF(Mapping!$D:$D,'Data BG'!$K132,Mapping!G:G)+SUMIF(Mapping!$B:$B,'Data BG'!$L132,Mapping!G:G)+SUMIF(Mapping!$C:$C,'Data BG'!$L132,Mapping!G:G)+SUMIF(Mapping!$D:$D,'Data BG'!$L132,Mapping!G:G)","v":0},{"$f":"SUMIF(Mapping!$B:$B,'Data BG'!$A132,Mapping!H:H)+SUMIF(Mapping!$C:$C,'Data BG'!$A132,Mapping!H:H)+SUMIF(Mapping!$D:$D,'Data BG'!$A132,Mapping!H:H)+SUMIF(Mapping!$B:$B,'Data BG'!$B132,Mapping!H:H)+SUMIF(Mapping!$C:$C,'Data BG'!$B132,Mapping!H:H)+SUMIF(Mapping!$D:$D,'Data BG'!$B132,Mapping!H:H)+SUMIF(Mapping!$B:$B,'Data BG'!$C132,Mapping!H:H)+SUMIF(Mapping!$C:$C,'Data BG'!$C132,Mapping!H:H)+SUMIF(Mapping!$D:$D,'Data BG'!$C132,Mapping!H:H)+SUMIF(Mapping!$B:$B,'Data BG'!$D132,Mapping!H:H)+SUMIF(Mapping!$C:$C,'Data BG'!$D132,Mapping!H:H)+SUMIF(Mapping!$D:$D,'Data BG'!$D132,Mapping!H:H)+SUMIF(Mapping!$B:$B,'Data BG'!$E132,Mapping!H:H)+SUMIF(Mapping!$C:$C,'Data BG'!$E132,Mapping!H:H)+SUMIF(Mapping!$D:$D,'Data BG'!$E132,Mapping!H:H)+SUMIF(Mapping!$B:$B,'Data BG'!$F132,Mapping!H:H)+SUMIF(Mapping!$C:$C,'Data BG'!$F132,Mapping!H:H)+SUMIF(Mapping!$D:$D,'Data BG'!$F132,Mapping!H:H)+SUMIF(Mapping!$B:$B,'Data BG'!$G132,Mapping!H:H)+SUMIF(Mapping!$C:$C,'Data BG'!$G132,Mapping!H:H)+SUMIF(Mapping!$D:$D,'Data BG'!$G132,Mapping!H:H)+SUMIF(Mapping!$B:$B,'Data BG'!$H132,Mapping!H:H)+SUMIF(Mapping!$C:$C,'Data BG'!$H132,Mapping!H:H)+SUMIF(Mapping!$D:$D,'Data BG'!$H132,Mapping!H:H)+SUMIF(Mapping!$B:$B,'Data BG'!$I132,Mapping!H:H)+SUMIF(Mapping!$C:$C,'Data BG'!$I132,Mapping!H:H)+SUMIF(Mapping!$D:$D,'Data BG'!$I132,Mapping!H:H)+SUMIF(Mapping!$B:$B,'Data BG'!$J132,Mapping!H:H)+SUMIF(Mapping!$C:$C,'Data BG'!$J132,Mapping!H:H)+SUMIF(Mapping!$D:$D,'Data BG'!$J132,Mapping!H:H)+SUMIF(Mapping!$B:$B,'Data BG'!$M132,Mapping!H:H)+SUMIF(Mapping!$C:$C,'Data BG'!$M132,Mapping!H:H)+SUMIF(Mapping!$D:$D,'Data BG'!$M132,Mapping!H:H)+SUMIF(Mapping!$B:$B,$N132,Mapping!H:H)+SUMIF(Mapping!$C:$C,$N132,Mapping!H:H)+SUMIF(Mapping!$D:$D,$N132,Mapping!H:H)+SUMIF(Mapping!$B:$B,'Data BG'!$K132,Mapping!H:H)+SUMIF(Mapping!$C:$C,'Data BG'!$K132,Mapping!H:H)+SUMIF(Mapping!$D:$D,'Data BG'!$K132,Mapping!H:H)+SUMIF(Mapping!$B:$B,'Data BG'!$L132,Mapping!H:H)+SUMIF(Mapping!$C:$C,'Data BG'!$L132,Mapping!H:H)+SUMIF(Mapping!$D:$D,'Data BG'!$L132,Mapping!H:H)","v":0}]
[null,null,null,null,null,null,null,null,null,null,null,null,null,null,null,null,null,null,{"$f":"SUMIF(Mapping!$B:$B,'Data BG'!$A133,Mapping!G:G)+SUMIF(Mapping!$C:$C,'Data BG'!$A133,Mapping!G:G)+SUMIF(Mapping!$D:$D,'Data BG'!$A133,Mapping!G:G)+SUMIF(Mapping!$B:$B,'Data BG'!$B133,Mapping!G:G)+SUMIF(Mapping!$C:$C,'Data BG'!$B133,Mapping!G:G)+SUMIF(Mapping!$D:$D,'Data BG'!$B133,Mapping!G:G)+SUMIF(Mapping!$B:$B,'Data BG'!$C133,Mapping!G:G)+SUMIF(Mapping!$C:$C,'Data BG'!$C133,Mapping!G:G)+SUMIF(Mapping!$D:$D,'Data BG'!$C133,Mapping!G:G)+SUMIF(Mapping!$B:$B,'Data BG'!$D133,Mapping!G:G)+SUMIF(Mapping!$C:$C,'Data BG'!$D133,Mapping!G:G)+SUMIF(Mapping!$D:$D,'Data BG'!$D133,Mapping!G:G)+SUMIF(Mapping!$B:$B,'Data BG'!$E133,Mapping!G:G)+SUMIF(Mapping!$C:$C,'Data BG'!$E133,Mapping!G:G)+SUMIF(Mapping!$D:$D,'Data BG'!$E133,Mapping!G:G)+SUMIF(Mapping!$B:$B,'Data BG'!$F133,Mapping!G:G)+SUMIF(Mapping!$C:$C,'Data BG'!$F133,Mapping!G:G)+SUMIF(Mapping!$D:$D,'Data BG'!$F133,Mapping!G:G)+SUMIF(Mapping!$B:$B,'Data BG'!$G133,Mapping!G:G)+SUMIF(Mapping!$C:$C,'Data BG'!$G133,Mapping!G:G)+SUMIF(Mapping!$D:$D,'Data BG'!$G133,Mapping!G:G)+SUMIF(Mapping!$B:$B,'Data BG'!$H133,Mapping!G:G)+SUMIF(Mapping!$C:$C,'Data BG'!$H133,Mapping!G:G)+SUMIF(Mapping!$D:$D,'Data BG'!$H133,Mapping!G:G)+SUMIF(Mapping!$B:$B,'Data BG'!$I133,Mapping!G:G)+SUMIF(Mapping!$C:$C,'Data BG'!$I133,Mapping!G:G)+SUMIF(Mapping!$D:$D,'Data BG'!$I133,Mapping!G:G)+SUMIF(Mapping!$B:$B,'Data BG'!$J133,Mapping!G:G)+SUMIF(Mapping!$C:$C,'Data BG'!$J133,Mapping!G:G)+SUMIF(Mapping!$D:$D,'Data BG'!$J133,Mapping!G:G)+SUMIF(Mapping!$B:$B,'Data BG'!$Q133,Mapping!G:G)+SUMIF(Mapping!$C:$C,'Data BG'!$Q133,Mapping!G:G)+SUMIF(Mapping!$D:$D,'Data BG'!$Q133,Mapping!G:G)","v":0},{"$f":"SUMIF(Mapping!$B:$B,'Data BG'!$A133,Mapping!H:H)+SUMIF(Mapping!$C:$C,'Data BG'!$A133,Mapping!H:H)+SUMIF(Mapping!$D:$D,'Data BG'!$A133,Mapping!H:H)+SUMIF(Mapping!$B:$B,'Data BG'!$B133,Mapping!H:H)+SUMIF(Mapping!$C:$C,'Data BG'!$B133,Mapping!H:H)+SUMIF(Mapping!$D:$D,'Data BG'!$B133,Mapping!H:H)+SUMIF(Mapping!$B:$B,'Data BG'!$C133,Mapping!H:H)+SUMIF(Mapping!$C:$C,'Data BG'!$C133,Mapping!H:H)+SUMIF(Mapping!$D:$D,'Data BG'!$C133,Mapping!H:H)+SUMIF(Mapping!$B:$B,'Data BG'!$D133,Mapping!H:H)+SUMIF(Mapping!$C:$C,'Data BG'!$D133,Mapping!H:H)+SUMIF(Mapping!$D:$D,'Data BG'!$D133,Mapping!H:H)+SUMIF(Mapping!$B:$B,'Data BG'!$E133,Mapping!H:H)+SUMIF(Mapping!$C:$C,'Data BG'!$E133,Mapping!H:H)+SUMIF(Mapping!$D:$D,'Data BG'!$E133,Mapping!H:H)+SUMIF(Mapping!$B:$B,'Data BG'!$F133,Mapping!H:H)+SUMIF(Mapping!$C:$C,'Data BG'!$F133,Mapping!H:H)+SUMIF(Mapping!$D:$D,'Data BG'!$F133,Mapping!H:H)+SUMIF(Mapping!$B:$B,'Data BG'!$G133,Mapping!H:H)+SUMIF(Mapping!$C:$C,'Data BG'!$G133,Mapping!H:H)+SUMIF(Mapping!$D:$D,'Data BG'!$G133,Mapping!H:H)+SUMIF(Mapping!$B:$B,'Data BG'!$H133,Mapping!H:H)+SUMIF(Mapping!$C:$C,'Data BG'!$H133,Mapping!H:H)+SUMIF(Mapping!$D:$D,'Data BG'!$H133,Mapping!H:H)+SUMIF(Mapping!$B:$B,'Data BG'!$I133,Mapping!H:H)+SUMIF(Mapping!$C:$C,'Data BG'!$I133,Mapping!H:H)+SUMIF(Mapping!$D:$D,'Data BG'!$I133,Mapping!H:H)+SUMIF(Mapping!$B:$B,'Data BG'!$J133,Mapping!H:H)+SUMIF(Mapping!$C:$C,'Data BG'!$J133,Mapping!H:H)+SUMIF(Mapping!$D:$D,'Data BG'!$J133,Mapping!H:H)+SUMIF(Mapping!$B:$B,'Data BG'!$Q133,Mapping!H:H)+SUMIF(Mapping!$C:$C,'Data BG'!$Q133,Mapping!H:H)+SUMIF(Mapping!$D:$D,'Data BG'!$Q133,Mapping!H:H)","v":0}]
[null,null,null,null,null,null,null,null,null,null,null,null,null,null,null,null,null,null,{"$f":"SUMIF(Mapping!$B:$B,'Data BG'!$A134,Mapping!G:G)+SUMIF(Mapping!$C:$C,'Data BG'!$A134,Mapping!G:G)+SUMIF(Mapping!$D:$D,'Data BG'!$A134,Mapping!G:G)+SUMIF(Mapping!$B:$B,'Data BG'!$B134,Mapping!G:G)+SUMIF(Mapping!$C:$C,'Data BG'!$B134,Mapping!G:G)+SUMIF(Mapping!$D:$D,'Data BG'!$B134,Mapping!G:G)+SUMIF(Mapping!$B:$B,'Data BG'!$C134,Mapping!G:G)+SUMIF(Mapping!$C:$C,'Data BG'!$C134,Mapping!G:G)+SUMIF(Mapping!$D:$D,'Data BG'!$C134,Mapping!G:G)+SUMIF(Mapping!$B:$B,'Data BG'!$D134,Mapping!G:G)+SUMIF(Mapping!$C:$C,'Data BG'!$D134,Mapping!G:G)+SUMIF(Mapping!$D:$D,'Data BG'!$D134,Mapping!G:G)+SUMIF(Mapping!$B:$B,'Data BG'!$E134,Mapping!G:G)+SUMIF(Mapping!$C:$C,'Data BG'!$E134,Mapping!G:G)+SUMIF(Mapping!$D:$D,'Data BG'!$E134,Mapping!G:G)+SUMIF(Mapping!$B:$B,'Data BG'!$F134,Mapping!G:G)+SUMIF(Mapping!$C:$C,'Data BG'!$F134,Mapping!G:G)+SUMIF(Mapping!$D:$D,'Data BG'!$F134,Mapping!G:G)+SUMIF(Mapping!$B:$B,'Data BG'!$G134,Mapping!G:G)+SUMIF(Mapping!$C:$C,'Data BG'!$G134,Mapping!G:G)+SUMIF(Mapping!$D:$D,'Data BG'!$G134,Mapping!G:G)+SUMIF(Mapping!$B:$B,'Data BG'!$H134,Mapping!G:G)+SUMIF(Mapping!$C:$C,'Data BG'!$H134,Mapping!G:G)+SUMIF(Mapping!$D:$D,'Data BG'!$H134,Mapping!G:G)+SUMIF(Mapping!$B:$B,'Data BG'!$I134,Mapping!G:G)+SUMIF(Mapping!$C:$C,'Data BG'!$I134,Mapping!G:G)+SUMIF(Mapping!$D:$D,'Data BG'!$I134,Mapping!G:G)+SUMIF(Mapping!$B:$B,'Data BG'!$J134,Mapping!G:G)+SUMIF(Mapping!$C:$C,'Data BG'!$J134,Mapping!G:G)+SUMIF(Mapping!$D:$D,'Data BG'!$J134,Mapping!G:G)+SUMIF(Mapping!$B:$B,'Data BG'!$Q134,Mapping!G:G)+SUMIF(Mapping!$C:$C,'Data BG'!$Q134,Mapping!G:G)+SUMIF(Mapping!$D:$D,'Data BG'!$Q134,Mapping!G:G)","v":0},{"$f":"SUMIF(Mapping!$B:$B,'Data BG'!$A134,Mapping!H:H)+SUMIF(Mapping!$C:$C,'Data BG'!$A134,Mapping!H:H)+SUMIF(Mapping!$D:$D,'Data BG'!$A134,Mapping!H:H)+SUMIF(Mapping!$B:$B,'Data BG'!$B134,Mapping!H:H)+SUMIF(Mapping!$C:$C,'Data BG'!$B134,Mapping!H:H)+SUMIF(Mapping!$D:$D,'Data BG'!$B134,Mapping!H:H)+SUMIF(Mapping!$B:$B,'Data BG'!$C134,Mapping!H:H)+SUMIF(Mapping!$C:$C,'Data BG'!$C134,Mapping!H:H)+SUMIF(Mapping!$D:$D,'Data BG'!$C134,Mapping!H:H)+SUMIF(Mapping!$B:$B,'Data BG'!$D134,Mapping!H:H)+SUMIF(Mapping!$C:$C,'Data BG'!$D134,Mapping!H:H)+SUMIF(Mapping!$D:$D,'Data BG'!$D134,Mapping!H:H)+SUMIF(Mapping!$B:$B,'Data BG'!$E134,Mapping!H:H)+SUMIF(Mapping!$C:$C,'Data BG'!$E134,Mapping!H:H)+SUMIF(Mapping!$D:$D,'Data BG'!$E134,Mapping!H:H)+SUMIF(Mapping!$B:$B,'Data BG'!$F134,Mapping!H:H)+SUMIF(Mapping!$C:$C,'Data BG'!$F134,Mapping!H:H)+SUMIF(Mapping!$D:$D,'Data BG'!$F134,Mapping!H:H)+SUMIF(Mapping!$B:$B,'Data BG'!$G134,Mapping!H:H)+SUMIF(Mapping!$C:$C,'Data BG'!$G134,Mapping!H:H)+SUMIF(Mapping!$D:$D,'Data BG'!$G134,Mapping!H:H)+SUMIF(Mapping!$B:$B,'Data BG'!$H134,Mapping!H:H)+SUMIF(Mapping!$C:$C,'Data BG'!$H134,Mapping!H:H)+SUMIF(Mapping!$D:$D,'Data BG'!$H134,Mapping!H:H)+SUMIF(Mapping!$B:$B,'Data BG'!$I134,Mapping!H:H)+SUMIF(Mapping!$C:$C,'Data BG'!$I134,Mapping!H:H)+SUMIF(Mapping!$D:$D,'Data BG'!$I134,Mapping!H:H)+SUMIF(Mapping!$B:$B,'Data BG'!$J134,Mapping!H:H)+SUMIF(Mapping!$C:$C,'Data BG'!$J134,Mapping!H:H)+SUMIF(Mapping!$D:$D,'Data BG'!$J134,Mapping!H:H)+SUMIF(Mapping!$B:$B,'Data BG'!$Q134,Mapping!H:H)+SUMIF(Mapping!$C:$C,'Data BG'!$Q134,Mapping!H:H)+SUMIF(Mapping!$D:$D,'Data BG'!$Q134,Mapping!H:H)","v":0}]
[null,null,null,null,null,null,null,null,null,null,null,null,null,null,null,null,null,"CHARGES EXCEPTIONNELLES : "]
[678,672,670,687,null,null,null,null,null,null,null,null,null,null,null,null,null,"Charges exceptionnelles",{"$f":"SUMIF(Mapping!$B:$B,'Data BG'!$A136,Mapping!G:G)+SUMIF(Mapping!$C:$C,'Data BG'!$A136,Mapping!G:G)+SUMIF(Mapping!$D:$D,'Data BG'!$A136,Mapping!G:G)+SUMIF(Mapping!$B:$B,'Data BG'!$B136,Mapping!G:G)+SUMIF(Mapping!$C:$C,'Data BG'!$B136,Mapping!G:G)+SUMIF(Mapping!$D:$D,'Data BG'!$B136,Mapping!G:G)+SUMIF(Mapping!$B:$B,'Data BG'!$C136,Mapping!G:G)+SUMIF(Mapping!$C:$C,'Data BG'!$C136,Mapping!G:G)+SUMIF(Mapping!$D:$D,'Data BG'!$C136,Mapping!G:G)+SUMIF(Mapping!$B:$B,'Data BG'!$D136,Mapping!G:G)+SUMIF(Mapping!$C:$C,'Data BG'!$D136,Mapping!G:G)+SUMIF(Mapping!$D:$D,'Data BG'!$D136,Mapping!G:G)+SUMIF(Mapping!$B:$B,'Data BG'!$E136,Mapping!G:G)+SUMIF(Mapping!$C:$C,'Data BG'!$E136,Mapping!G:G)+SUMIF(Mapping!$D:$D,'Data BG'!$E136,Mapping!G:G)+SUMIF(Mapping!$B:$B,'Data BG'!$F136,Mapping!G:G)+SUMIF(Mapping!$C:$C,'Data BG'!$F136,Mapping!G:G)+SUMIF(Mapping!$D:$D,'Data BG'!$F136,Mapping!G:G)+SUMIF(Mapping!$B:$B,'Data BG'!$G136,Mapping!G:G)+SUMIF(Mapping!$C:$C,'Data BG'!$G136,Mapping!G:G)+SUMIF(Mapping!$D:$D,'Data BG'!$G136,Mapping!G:G)+SUMIF(Mapping!$B:$B,'Data BG'!$H136,Mapping!G:G)+SUMIF(Mapping!$C:$C,'Data BG'!$H136,Mapping!G:G)+SUMIF(Mapping!$D:$D,'Data BG'!$H136,Mapping!G:G)+SUMIF(Mapping!$B:$B,'Data BG'!$I136,Mapping!G:G)+SUMIF(Mapping!$C:$C,'Data BG'!$I136,Mapping!G:G)+SUMIF(Mapping!$D:$D,'Data BG'!$I136,Mapping!G:G)+SUMIF(Mapping!$B:$B,'Data BG'!$J136,Mapping!G:G)+SUMIF(Mapping!$C:$C,'Data BG'!$J136,Mapping!G:G)+SUMIF(Mapping!$D:$D,'Data BG'!$J136,Mapping!G:G)+SUMIF(Mapping!$B:$B,'Data BG'!$M136,Mapping!G:G)+SUMIF(Mapping!$C:$C,'Data BG'!$M136,Mapping!G:G)+SUMIF(Mapping!$D:$D,'Data BG'!$M136,Mapping!G:G)+SUMIF(Mapping!$B:$B,$N136,Mapping!G:G)+SUMIF(Mapping!$C:$C,$N136,Mapping!G:G)+SUMIF(Mapping!$D:$D,$N136,Mapping!G:G)+SUMIF(Mapping!$B:$B,'Data BG'!$K136,Mapping!G:G)+SUMIF(Mapping!$C:$C,'Data BG'!$K136,Mapping!G:G)+SUMIF(Mapping!$D:$D,'Data BG'!$K136,Mapping!G:G)+SUMIF(Mapping!$B:$B,'Data BG'!$L136,Mapping!G:G)+SUMIF(Mapping!$C:$C,'Data BG'!$L136,Mapping!G:G)+SUMIF(Mapping!$D:$D,'Data BG'!$L136,Mapping!G:G)","v":0},{"$f":"SUMIF(Mapping!$B:$B,'Data BG'!$A136,Mapping!H:H)+SUMIF(Mapping!$C:$C,'Data BG'!$A136,Mapping!H:H)+SUMIF(Mapping!$D:$D,'Data BG'!$A136,Mapping!H:H)+SUMIF(Mapping!$B:$B,'Data BG'!$B136,Mapping!H:H)+SUMIF(Mapping!$C:$C,'Data BG'!$B136,Mapping!H:H)+SUMIF(Mapping!$D:$D,'Data BG'!$B136,Mapping!H:H)+SUMIF(Mapping!$B:$B,'Data BG'!$C136,Mapping!H:H)+SUMIF(Mapping!$C:$C,'Data BG'!$C136,Mapping!H:H)+SUMIF(Mapping!$D:$D,'Data BG'!$C136,Mapping!H:H)+SUMIF(Mapping!$B:$B,'Data BG'!$D136,Mapping!H:H)+SUMIF(Mapping!$C:$C,'Data BG'!$D136,Mapping!H:H)+SUMIF(Mapping!$D:$D,'Data BG'!$D136,Mapping!H:H)+SUMIF(Mapping!$B:$B,'Data BG'!$E136,Mapping!H:H)+SUMIF(Mapping!$C:$C,'Data BG'!$E136,Mapping!H:H)+SUMIF(Mapping!$D:$D,'Data BG'!$E136,Mapping!H:H)+SUMIF(Mapping!$B:$B,'Data BG'!$F136,Mapping!H:H)+SUMIF(Mapping!$C:$C,'Data BG'!$F136,Mapping!H:H)+SUMIF(Mapping!$D:$D,'Data BG'!$F136,Mapping!H:H)+SUMIF(Mapping!$B:$B,'Data BG'!$G136,Mapping!H:H)+SUMIF(Mapping!$C:$C,'Data BG'!$G136,Mapping!H:H)+SUMIF(Mapping!$D:$D,'Data BG'!$G136,Mapping!H:H)+SUMIF(Mapping!$B:$B,'Data BG'!$H136,Mapping!H:H)+SUMIF(Mapping!$C:$C,'Data BG'!$H136,Mapping!H:H)+SUMIF(Mapping!$D:$D,'Data BG'!$H136,Mapping!H:H)+SUMIF(Mapping!$B:$B,'Data BG'!$I136,Mapping!H:H)+SUMIF(Mapping!$C:$C,'Data BG'!$I136,Mapping!H:H)+SUMIF(Mapping!$D:$D,'Data BG'!$I136,Mapping!H:H)+SUMIF(Mapping!$B:$B,'Data BG'!$J136,Mapping!H:H)+SUMIF(Mapping!$C:$C,'Data BG'!$J136,Mapping!H:H)+SUMIF(Mapping!$D:$D,'Data BG'!$J136,Mapping!H:H)+SUMIF(Mapping!$B:$B,'Data BG'!$M136,Mapping!H:H)+SUMIF(Mapping!$C:$C,'Data BG'!$M136,Mapping!H:H)+SUMIF(Mapping!$D:$D,'Data BG'!$M136,Mapping!H:H)+SUMIF(Mapping!$B:$B,$N136,Mapping!H:H)+SUMIF(Mapping!$C:$C,$N136,Mapping!H:H)+SUMIF(Mapping!$D:$D,$N136,Mapping!H:H)+SUMIF(Mapping!$B:$B,'Data BG'!$K136,Mapping!H:H)+SUMIF(Mapping!$C:$C,'Data BG'!$K136,Mapping!H:H)+SUMIF(Mapping!$D:$D,'Data BG'!$K136,Mapping!H:H)+SUMIF(Mapping!$B:$B,'Data BG'!$L136,Mapping!H:H)+SUMIF(Mapping!$C:$C,'Data BG'!$L136,Mapping!H:H)+SUMIF(Mapping!$D:$D,'Data BG'!$L136,Mapping!H:H)","v":0}]
[null,null,null,null,null,null,null,null,null,null,null,null,null,null,null,null,null,null,{"$f":"SUMIF(Mapping!$B:$B,'Data BG'!$A137,Mapping!G:G)+SUMIF(Mapping!$C:$C,'Data BG'!$A137,Mapping!G:G)+SUMIF(Mapping!$D:$D,'Data BG'!$A137,Mapping!G:G)+SUMIF(Mapping!$B:$B,'Data BG'!$B137,Mapping!G:G)+SUMIF(Mapping!$C:$C,'Data BG'!$B137,Mapping!G:G)+SUMIF(Mapping!$D:$D,'Data BG'!$B137,Mapping!G:G)+SUMIF(Mapping!$B:$B,'Data BG'!$C137,Mapping!G:G)+SUMIF(Mapping!$C:$C,'Data BG'!$C137,Mapping!G:G)+SUMIF(Mapping!$D:$D,'Data BG'!$C137,Mapping!G:G)+SUMIF(Mapping!$B:$B,'Data BG'!$D137,Mapping!G:G)+SUMIF(Mapping!$C:$C,'Data BG'!$D137,Mapping!G:G)+SUMIF(Mapping!$D:$D,'Data BG'!$D137,Mapping!G:G)+SUMIF(Mapping!$B:$B,'Data BG'!$E137,Mapping!G:G)+SUMIF(Mapping!$C:$C,'Data BG'!$E137,Mapping!G:G)+SUMIF(Mapping!$D:$D,'Data BG'!$E137,Mapping!G:G)+SUMIF(Mapping!$B:$B,'Data BG'!$F137,Mapping!G:G)+SUMIF(Mapping!$C:$C,'Data BG'!$F137,Mapping!G:G)+SUMIF(Mapping!$D:$D,'Data BG'!$F137,Mapping!G:G)+SUMIF(Mapping!$B:$B,'Data BG'!$G137,Mapping!G:G)+SUMIF(Mapping!$C:$C,'Data BG'!$G137,Mapping!G:G)+SUMIF(Mapping!$D:$D,'Data BG'!$G137,Mapping!G:G)+SUMIF(Mapping!$B:$B,'Data BG'!$H137,Mapping!G:G)+SUMIF(Mapping!$C:$C,'Data BG'!$H137,Mapping!G:G)+SUMIF(Mapping!$D:$D,'Data BG'!$H137,Mapping!G:G)+SUMIF(Mapping!$B:$B,'Data BG'!$I137,Mapping!G:G)+SUMIF(Mapping!$C:$C,'Data BG'!$I137,Mapping!G:G)+SUMIF(Mapping!$D:$D,'Data BG'!$I137,Mapping!G:G)+SUMIF(Mapping!$B:$B,'Data BG'!$J137,Mapping!G:G)+SUMIF(Mapping!$C:$C,'Data BG'!$J137,Mapping!G:G)+SUMIF(Mapping!$D:$D,'Data BG'!$J137,Mapping!G:G)+SUMIF(Mapping!$B:$B,'Data BG'!$Q137,Mapping!G:G)+SUMIF(Mapping!$C:$C,'Data BG'!$Q137,Mapping!G:G)+SUMIF(Mapping!$D:$D,'Data BG'!$Q137,Mapping!G:G)","v":0},{"$f":"SUMIF(Mapping!$B:$B,'Data BG'!$A137,Mapping!H:H)+SUMIF(Mapping!$C:$C,'Data BG'!$A137,Mapping!H:H)+SUMIF(Mapping!$D:$D,'Data BG'!$A137,Mapping!H:H)+SUMIF(Mapping!$B:$B,'Data BG'!$B137,Mapping!H:H)+SUMIF(Mapping!$C:$C,'Data BG'!$B137,Mapping!H:H)+SUMIF(Mapping!$D:$D,'Data BG'!$B137,Mapping!H:H)+SUMIF(Mapping!$B:$B,'Data BG'!$C137,Mapping!H:H)+SUMIF(Mapping!$C:$C,'Data BG'!$C137,Mapping!H:H)+SUMIF(Mapping!$D:$D,'Data BG'!$C137,Mapping!H:H)+SUMIF(Mapping!$B:$B,'Data BG'!$D137,Mapping!H:H)+SUMIF(Mapping!$C:$C,'Data BG'!$D137,Mapping!H:H)+SUMIF(Mapping!$D:$D,'Data BG'!$D137,Mapping!H:H)+SUMIF(Mapping!$B:$B,'Data BG'!$E137,Mapping!H:H)+SUMIF(Mapping!$C:$C,'Data BG'!$E137,Mapping!H:H)+SUMIF(Mapping!$D:$D,'Data BG'!$E137,Mapping!H:H)+SUMIF(Mapping!$B:$B,'Data BG'!$F137,Mapping!H:H)+SUMIF(Mapping!$C:$C,'Data BG'!$F137,Mapping!H:H)+SUMIF(Mapping!$D:$D,'Data BG'!$F137,Mapping!H:H)+SUMIF(Mapping!$B:$B,'Data BG'!$G137,Mapping!H:H)+SUMIF(Mapping!$C:$C,'Data BG'!$G137,Mapping!H:H)+SUMIF(Mapping!$D:$D,'Data BG'!$G137,Mapping!H:H)+SUMIF(Mapping!$B:$B,'Data BG'!$H137,Mapping!H:H)+SUMIF(Mapping!$C:$C,'Data BG'!$H137,Mapping!H:H)+SUMIF(Mapping!$D:$D,'Data BG'!$H137,Mapping!H:H)+SUMIF(Mapping!$B:$B,'Data BG'!$I137,Mapping!H:H)+SUMIF(Mapping!$C:$C,'Data BG'!$I137,Mapping!H:H)+SUMIF(Mapping!$D:$D,'Data BG'!$I137,Mapping!H:H)+SUMIF(Mapping!$B:$B,'Data BG'!$J137,Mapping!H:H)+SUMIF(Mapping!$C:$C,'Data BG'!$J137,Mapping!H:H)+SUMIF(Mapping!$D:$D,'Data BG'!$J137,Mapping!H:H)+SUMIF(Mapping!$B:$B,'Data BG'!$Q137,Mapping!H:H)+SUMIF(Mapping!$C:$C,'Data BG'!$Q137,Mapping!H:H)+SUMIF(Mapping!$D:$D,'Data BG'!$Q137,Mapping!H:H)","v":0}]
[null,null,null,null,null,null,null,null,null,null,null,null,null,null,null,null,null,null,{"$f":"SUMIF(Mapping!$B:$B,'Data BG'!$A138,Mapping!G:G)+SUMIF(Mapping!$C:$C,'Data BG'!$A138,Mapping!G:G)+SUMIF(Mapping!$D:$D,'Data BG'!$A138,Mapping!G:G)+SUMIF(Mapping!$B:$B,'Data BG'!$B138,Mapping!G:G)+SUMIF(Mapping!$C:$C,'Data BG'!$B138,Mapping!G:G)+SUMIF(Mapping!$D:$D,'Data BG'!$B138,Mapping!G:G)+SUMIF(Mapping!$B:$B,'Data BG'!$C138,Mapping!G:G)+SUMIF(Mapping!$C:$C,'Data BG'!$C138,Mapping!G:G)+SUMIF(Mapping!$D:$D,'Data BG'!$C138,Mapping!G:G)+SUMIF(Mapping!$B:$B,'Data BG'!$D138,Mapping!G:G)+SUMIF(Mapping!$C:$C,'Data BG'!$D138,Mapping!G:G)+SUMIF(Mapping!$D:$D,'Data BG'!$D138,Mapping!G:G)+SUMIF(Mapping!$B:$B,'Data BG'!$E138,Mapping!G:G)+SUMIF(Mapping!$C:$C,'Data BG'!$E138,Mapping!G:G)+SUMIF(Mapping!$D:$D,'Data BG'!$E138,Mapping!G:G)+SUMIF(Mapping!$B:$B,'Data BG'!$F138,Mapping!G:G)+SUMIF(Mapping!$C:$C,'Data BG'!$F138,Mapping!G:G)+SUMIF(Mapping!$D:$D,'Data BG'!$F138,Mapping!G:G)+SUMIF(Mapping!$B:$B,'Data BG'!$G138,Mapping!G:G)+SUMIF(Mapping!$C:$C,'Data BG'!$G138,Mapping!G:G)+SUMIF(Mapping!$D:$D,'Data BG'!$G138,Mapping!G:G)+SUMIF(Mapping!$B:$B,'Data BG'!$H138,Mapping!G:G)+SUMIF(Mapping!$C:$C,'Data BG'!$H138,Mapping!G:G)+SUMIF(Mapping!$D:$D,'Data BG'!$H138,Mapping!G:G)+SUMIF(Mapping!$B:$B,'Data BG'!$I138,Mapping!G:G)+SUMIF(Mapping!$C:$C,'Data BG'!$I138,Mapping!G:G)+SUMIF(Mapping!$D:$D,'Data BG'!$I138,Mapping!G:G)+SUMIF(Mapping!$B:$B,'Data BG'!$J138,Mapping!G:G)+SUMIF(Mapping!$C:$C,'Data BG'!$J138,Mapping!G:G)+SUMIF(Mapping!$D:$D,'Data BG'!$J138,Mapping!G:G)+SUMIF(Mapping!$B:$B,'Data BG'!$Q138,Mapping!G:G)+SUMIF(Mapping!$C:$C,'Data BG'!$Q138,Mapping!G:G)+SUMIF(Mapping!$D:$D,'Data BG'!$Q138,Mapping!G:G)","v":0},{"$f":"SUMIF(Mapping!$B:$B,'Data BG'!$A138,Mapping!H:H)+SUMIF(Mapping!$C:$C,'Data BG'!$A138,Mapping!H:H)+SUMIF(Mapping!$D:$D,'Data BG'!$A138,Mapping!H:H)+SUMIF(Mapping!$B:$B,'Data BG'!$B138,Mapping!H:H)+SUMIF(Mapping!$C:$C,'Data BG'!$B138,Mapping!H:H)+SUMIF(Mapping!$D:$D,'Data BG'!$B138,Mapping!H:H)+SUMIF(Mapping!$B:$B,'Data BG'!$C138,Mapping!H:H)+SUMIF(Mapping!$C:$C,'Data BG'!$C138,Mapping!H:H)+SUMIF(Mapping!$D:$D,'Data BG'!$C138,Mapping!H:H)+SUMIF(Mapping!$B:$B,'Data BG'!$D138,Mapping!H:H)+SUMIF(Mapping!$C:$C,'Data BG'!$D138,Mapping!H:H)+SUMIF(Mapping!$D:$D,'Data BG'!$D138,Mapping!H:H)+SUMIF(Mapping!$B:$B,'Data BG'!$E138,Mapping!H:H)+SUMIF(Mapping!$C:$C,'Data BG'!$E138,Mapping!H:H)+SUMIF(Mapping!$D:$D,'Data BG'!$E138,Mapping!H:H)+SUMIF(Mapping!$B:$B,'Data BG'!$F138,Mapping!H:H)+SUMIF(Mapping!$C:$C,'Data BG'!$F138,Mapping!H:H)+SUMIF(Mapping!$D:$D,'Data BG'!$F138,Mapping!H:H)+SUMIF(Mapping!$B:$B,'Data BG'!$G138,Mapping!H:H)+SUMIF(Mapping!$C:$C,'Data BG'!$G138,Mapping!H:H)+SUMIF(Mapping!$D:$D,'Data BG'!$G138,Mapping!H:H)+SUMIF(Mapping!$B:$B,'Data BG'!$H138,Mapping!H:H)+SUMIF(Mapping!$C:$C,'Data BG'!$H138,Mapping!H:H)+SUMIF(Mapping!$D:$D,'Data BG'!$H138,Mapping!H:H)+SUMIF(Mapping!$B:$B,'Data BG'!$I138,Mapping!H:H)+SUMIF(Mapping!$C:$C,'Data BG'!$I138,Mapping!H:H)+SUMIF(Mapping!$D:$D,'Data BG'!$I138,Mapping!H:H)+SUMIF(Mapping!$B:$B,'Data BG'!$J138,Mapping!H:H)+SUMIF(Mapping!$C:$C,'Data BG'!$J138,Mapping!H:H)+SUMIF(Mapping!$D:$D,'Data BG'!$J138,Mapping!H:H)+SUMIF(Mapping!$B:$B,'Data BG'!$Q138,Mapping!H:H)+SUMIF(Mapping!$C:$C,'Data BG'!$Q138,Mapping!H:H)+SUMIF(Mapping!$D:$D,'Data BG'!$Q138,Mapping!H:H)","v":0}]
[null,null,null,null,null,null,null,null,null,null,null,null,null,null,null,null,null,"AUTRES OPERATIONS NON COURANTES"]
[69,null,null,null,null,null,null,null,null,null,null,null,null,null,null,null,null,"Impôts sur les bénéfices (VII) ",{"$f":"SUMIF(Mapping!$B:$B,'Data BG'!$A140,Mapping!G:G)+SUMIF(Mapping!$C:$C,'Data BG'!$A140,Mapping!G:G)+SUMIF(Mapping!$D:$D,'Data BG'!$A140,Mapping!G:G)+SUMIF(Mapping!$B:$B,'Data BG'!$B140,Mapping!G:G)+SUMIF(Mapping!$C:$C,'Data BG'!$B140,Mapping!G:G)+SUMIF(Mapping!$D:$D,'Data BG'!$B140,Mapping!G:G)+SUMIF(Mapping!$B:$B,'Data BG'!$C140,Mapping!G:G)+SUMIF(Mapping!$C:$C,'Data BG'!$C140,Mapping!G:G)+SUMIF(Mapping!$D:$D,'Data BG'!$C140,Mapping!G:G)+SUMIF(Mapping!$B:$B,'Data BG'!$D140,Mapping!G:G)+SUMIF(Mapping!$C:$C,'Data BG'!$D140,Mapping!G:G)+SUMIF(Mapping!$D:$D,'Data BG'!$D140,Mapping!G:G)+SUMIF(Mapping!$B:$B,'Data BG'!$E140,Mapping!G:G)+SUMIF(Mapping!$C:$C,'Data BG'!$E140,Mapping!G:G)+SUMIF(Mapping!$D:$D,'Data BG'!$E140,Mapping!G:G)+SUMIF(Mapping!$B:$B,'Data BG'!$F140,Mapping!G:G)+SUMIF(Mapping!$C:$C,'Data BG'!$F140,Mapping!G:G)+SUMIF(Mapping!$D:$D,'Data BG'!$F140,Mapping!G:G)+SUMIF(Mapping!$B:$B,'Data BG'!$G140,Mapping!G:G)+SUMIF(Mapping!$C:$C,'Data BG'!$G140,Mapping!G:G)+SUMIF(Mapping!$D:$D,'Data BG'!$G140,Mapping!G:G)+SUMIF(Mapping!$B:$B,'Data BG'!$H140,Mapping!G:G)+SUMIF(Mapping!$C:$C,'Data BG'!$H140,Mapping!G:G)+SUMIF(Mapping!$D:$D,'Data BG'!$H140,Mapping!G:G)+SUMIF(Mapping!$B:$B,'Data BG'!$I140,Mapping!G:G)+SUMIF(Mapping!$C:$C,'Data BG'!$I140,Mapping!G:G)+SUMIF(Mapping!$D:$D,'Data BG'!$I140,Mapping!G:G)+SUMIF(Mapping!$B:$B,'Data BG'!$J140,Mapping!G:G)+SUMIF(Mapping!$C:$C,'Data BG'!$J140,Mapping!G:G)+SUMIF(Mapping!$D:$D,'Data BG'!$J140,Mapping!G:G)+SUMIF(Mapping!$B:$B,'Data BG'!$M140,Mapping!G:G)+SUMIF(Mapping!$C:$C,'Data BG'!$M140,Mapping!G:G)+SUMIF(Mapping!$D:$D,'Data BG'!$M140,Mapping!G:G)+SUMIF(Mapping!$B:$B,$N140,Mapping!G:G)+SUMIF(Mapping!$C:$C,$N140,Mapping!G:G)+SUMIF(Mapping!$D:$D,$N140,Mapping!G:G)+SUMIF(Mapping!$B:$B,'Data BG'!$K140,Mapping!G:G)+SUMIF(Mapping!$C:$C,'Data BG'!$K140,Mapping!G:G)+SUMIF(Mapping!$D:$D,'Data BG'!$K140,Mapping!G:G)+SUMIF(Mapping!$B:$B,'Data BG'!$L140,Mapping!G:G)+SUMIF(Mapping!$C:$C,'Data BG'!$L140,Mapping!G:G)+SUMIF(Mapping!$D:$D,'Data BG'!$L140,Mapping!G:G)","v":0},{"$f":"SUMIF(Mapping!$B:$B,'Data BG'!$A140,Mapping!H:H)+SUMIF(Mapping!$C:$C,'Data BG'!$A140,Mapping!H:H)+SUMIF(Mapping!$D:$D,'Data BG'!$A140,Mapping!H:H)+SUMIF(Mapping!$B:$B,'Data BG'!$B140,Mapping!H:H)+SUMIF(Mapping!$C:$C,'Data BG'!$B140,Mapping!H:H)+SUMIF(Mapping!$D:$D,'Data BG'!$B140,Mapping!H:H)+SUMIF(Mapping!$B:$B,'Data BG'!$C140,Mapping!H:H)+SUMIF(Mapping!$C:$C,'Data BG'!$C140,Mapping!H:H)+SUMIF(Mapping!$D:$D,'Data BG'!$C140,Mapping!H:H)+SUMIF(Mapping!$B:$B,'Data BG'!$D140,Mapping!H:H)+SUMIF(Mapping!$C:$C,'Data BG'!$D140,Mapping!H:H)+SUMIF(Mapping!$D:$D,'Data BG'!$D140,Mapping!H:H)+SUMIF(Mapping!$B:$B,'Data BG'!$E140,Mapping!H:H)+SUMIF(Mapping!$C:$C,'Data BG'!$E140,Mapping!H:H)+SUMIF(Mapping!$D:$D,'Data BG'!$E140,Mapping!H:H)+SUMIF(Mapping!$B:$B,'Data BG'!$F140,Mapping!H:H)+SUMIF(Mapping!$C:$C,'Data BG'!$F140,Mapping!H:H)+SUMIF(Mapping!$D:$D,'Data BG'!$F140,Mapping!H:H)+SUMIF(Mapping!$B:$B,'Data BG'!$G140,Mapping!H:H)+SUMIF(Mapping!$C:$C,'Data BG'!$G140,Mapping!H:H)+SUMIF(Mapping!$D:$D,'Data BG'!$G140,Mapping!H:H)+SUMIF(Mapping!$B:$B,'Data BG'!$H140,Mapping!H:H)+SUMIF(Mapping!$C:$C,'Data BG'!$H140,Mapping!H:H)+SUMIF(Mapping!$D:$D,'Data BG'!$H140,Mapping!H:H)+SUMIF(Mapping!$B:$B,'Data BG'!$I140,Mapping!H:H)+SUMIF(Mapping!$C:$C,'Data BG'!$I140,Mapping!H:H)+SUMIF(Mapping!$D:$D,'Data BG'!$I140,Mapping!H:H)+SUMIF(Mapping!$B:$B,'Data BG'!$J140,Mapping!H:H)+SUMIF(Mapping!$C:$C,'Data BG'!$J140,Mapping!H:H)+SUMIF(Mapping!$D:$D,'Data BG'!$J140,Mapping!H:H)+SUMIF(Mapping!$B:$B,'Data BG'!$M140,Mapping!H:H)+SUMIF(Mapping!$C:$C,'Data BG'!$M140,Mapping!H:H)+SUMIF(Mapping!$D:$D,'Data BG'!$M140,Mapping!H:H)+SUMIF(Mapping!$B:$B,$N140,Mapping!H:H)+SUMIF(Mapping!$C:$C,$N140,Mapping!H:H)+SUMIF(Mapping!$D:$D,$N140,Mapping!H:H)+SUMIF(Mapping!$B:$B,'Data BG'!$K140,Mapping!H:H)+SUMIF(Mapping!$C:$C,'Data BG'!$K140,Mapping!H:H)+SUMIF(Mapping!$D:$D,'Data BG'!$K140,Mapping!H:H)+SUMIF(Mapping!$B:$B,'Data BG'!$L140,Mapping!H:H)+SUMIF(Mapping!$C:$C,'Data BG'!$L140,Mapping!H:H)+SUMIF(Mapping!$D:$D,'Data BG'!$L140,Mapping!H:H)","v":0}]
[681611,null,null,null,null,null,null,null,null,null,null,null,null,null,null,null,null,"Dotations aux amortissements des écarts d'acquisition (VIII) ",{"$f":"SUMIF(Mapping!$B:$B,'Data BG'!$A141,Mapping!G:G)+SUMIF(Mapping!$C:$C,'Data BG'!$A141,Mapping!G:G)+SUMIF(Mapping!$D:$D,'Data BG'!$A141,Mapping!G:G)+SUMIF(Mapping!$B:$B,'Data BG'!$B141,Mapping!G:G)+SUMIF(Mapping!$C:$C,'Data BG'!$B141,Mapping!G:G)+SUMIF(Mapping!$D:$D,'Data BG'!$B141,Mapping!G:G)+SUMIF(Mapping!$B:$B,'Data BG'!$C141,Mapping!G:G)+SUMIF(Mapping!$C:$C,'Data BG'!$C141,Mapping!G:G)+SUMIF(Mapping!$D:$D,'Data BG'!$C141,Mapping!G:G)+SUMIF(Mapping!$B:$B,'Data BG'!$D141,Mapping!G:G)+SUMIF(Mapping!$C:$C,'Data BG'!$D141,Mapping!G:G)+SUMIF(Mapping!$D:$D,'Data BG'!$D141,Mapping!G:G)+SUMIF(Mapping!$B:$B,'Data BG'!$E141,Mapping!G:G)+SUMIF(Mapping!$C:$C,'Data BG'!$E141,Mapping!G:G)+SUMIF(Mapping!$D:$D,'Data BG'!$E141,Mapping!G:G)+SUMIF(Mapping!$B:$B,'Data BG'!$F141,Mapping!G:G)+SUMIF(Mapping!$C:$C,'Data BG'!$F141,Mapping!G:G)+SUMIF(Mapping!$D:$D,'Data BG'!$F141,Mapping!G:G)+SUMIF(Mapping!$B:$B,'Data BG'!$G141,Mapping!G:G)+SUMIF(Mapping!$C:$C,'Data BG'!$G141,Mapping!G:G)+SUMIF(Mapping!$D:$D,'Data BG'!$G141,Mapping!G:G)+SUMIF(Mapping!$B:$B,'Data BG'!$H141,Mapping!G:G)+SUMIF(Mapping!$C:$C,'Data BG'!$H141,Mapping!G:G)+SUMIF(Mapping!$D:$D,'Data BG'!$H141,Mapping!G:G)+SUMIF(Mapping!$B:$B,'Data BG'!$I141,Mapping!G:G)+SUMIF(Mapping!$C:$C,'Data BG'!$I141,Mapping!G:G)+SUMIF(Mapping!$D:$D,'Data BG'!$I141,Mapping!G:G)+SUMIF(Mapping!$B:$B,'Data BG'!$J141,Mapping!G:G)+SUMIF(Mapping!$C:$C,'Data BG'!$J141,Mapping!G:G)+SUMIF(Mapping!$D:$D,'Data BG'!$J141,Mapping!G:G)+SUMIF(Mapping!$B:$B,'Data BG'!$M141,Mapping!G:G)+SUMIF(Mapping!$C:$C,'Data BG'!$M141,Mapping!G:G)+SUMIF(Mapping!$D:$D,'Data BG'!$M141,Mapping!G:G)+SUMIF(Mapping!$B:$B,$N141,Mapping!G:G)+SUMIF(Mapping!$C:$C,$N141,Mapping!G:G)+SUMIF(Mapping!$D:$D,$N141,Mapping!G:G)+SUMIF(Mapping!$B:$B,'Data BG'!$K141,Mapping!G:G)+SUMIF(Mapping!$C:$C,'Data BG'!$K141,Mapping!G:G)+SUMIF(Mapping!$D:$D,'Data BG'!$K141,Mapping!G:G)+SUMIF(Mapping!$B:$B,'Data BG'!$L141,Mapping!G:G)+SUMIF(Mapping!$C:$C,'Data BG'!$L141,Mapping!G:G)+SUMIF(Mapping!$D:$D,'Data BG'!$L141,Mapping!G:G)","v":0},{"$f":"SUMIF(Mapping!$B:$B,'Data BG'!$A141,Mapping!H:H)+SUMIF(Mapping!$C:$C,'Data BG'!$A141,Mapping!H:H)+SUMIF(Mapping!$D:$D,'Data BG'!$A141,Mapping!H:H)+SUMIF(Mapping!$B:$B,'Data BG'!$B141,Mapping!H:H)+SUMIF(Mapping!$C:$C,'Data BG'!$B141,Mapping!H:H)+SUMIF(Mapping!$D:$D,'Data BG'!$B141,Mapping!H:H)+SUMIF(Mapping!$B:$B,'Data BG'!$C141,Mapping!H:H)+SUMIF(Mapping!$C:$C,'Data BG'!$C141,Mapping!H:H)+SUMIF(Mapping!$D:$D,'Data BG'!$C141,Mapping!H:H)+SUMIF(Mapping!$B:$B,'Data BG'!$D141,Mapping!H:H)+SUMIF(Mapping!$C:$C,'Data BG'!$D141,Mapping!H:H)+SUMIF(Mapping!$D:$D,'Data BG'!$D141,Mapping!H:H)+SUMIF(Mapping!$B:$B,'Data BG'!$E141,Mapping!H:H)+SUMIF(Mapping!$C:$C,'Data BG'!$E141,Mapping!H:H)+SUMIF(Mapping!$D:$D,'Data BG'!$E141,Mapping!H:H)+SUMIF(Mapping!$B:$B,'Data BG'!$F141,Mapping!H:H)+SUMIF(Mapping!$C:$C,'Data BG'!$F141,Mapping!H:H)+SUMIF(Mapping!$D:$D,'Data BG'!$F141,Mapping!H:H)+SUMIF(Mapping!$B:$B,'Data BG'!$G141,Mapping!H:H)+SUMIF(Mapping!$C:$C,'Data BG'!$G141,Mapping!H:H)+SUMIF(Mapping!$D:$D,'Data BG'!$G141,Mapping!H:H)+SUMIF(Mapping!$B:$B,'Data BG'!$H141,Mapping!H:H)+SUMIF(Mapping!$C:$C,'Data BG'!$H141,Mapping!H:H)+SUMIF(Mapping!$D:$D,'Data BG'!$H141,Mapping!H:H)+SUMIF(Mapping!$B:$B,'Data BG'!$I141,Mapping!H:H)+SUMIF(Mapping!$C:$C,'Data BG'!$I141,Mapping!H:H)+SUMIF(Mapping!$D:$D,'Data BG'!$I141,Mapping!H:H)+SUMIF(Mapping!$B:$B,'Data BG'!$J141,Mapping!H:H)+SUMIF(Mapping!$C:$C,'Data BG'!$J141,Mapping!H:H)+SUMIF(Mapping!$D:$D,'Data BG'!$J141,Mapping!H:H)+SUMIF(Mapping!$B:$B,'Data BG'!$M141,Mapping!H:H)+SUMIF(Mapping!$C:$C,'Data BG'!$M141,Mapping!H:H)+SUMIF(Mapping!$D:$D,'Data BG'!$M141,Mapping!H:H)+SUMIF(Mapping!$B:$B,$N141,Mapping!H:H)+SUMIF(Mapping!$C:$C,$N141,Mapping!H:H)+SUMIF(Mapping!$D:$D,$N141,Mapping!H:H)+SUMIF(Mapping!$B:$B,'Data BG'!$K141,Mapping!H:H)+SUMIF(Mapping!$C:$C,'Data BG'!$K141,Mapping!H:H)+SUMIF(Mapping!$D:$D,'Data BG'!$K141,Mapping!H:H)+SUMIF(Mapping!$B:$B,'Data BG'!$L141,Mapping!H:H)+SUMIF(Mapping!$C:$C,'Data BG'!$L141,Mapping!H:H)+SUMIF(Mapping!$D:$D,'Data BG'!$L141,Mapping!H:H)","v":0}]
[7950,null,null,null,null,null,null,null,null,null,null,null,null,null,null,null,null,"Intérêts des tiers (IX) ",{"$f":"SUMIF(Mapping!$B:$B,'Data BG'!$A142,Mapping!G:G)+SUMIF(Mapping!$C:$C,'Data BG'!$A142,Mapping!G:G)+SUMIF(Mapping!$D:$D,'Data BG'!$A142,Mapping!G:G)+SUMIF(Mapping!$B:$B,'Data BG'!$B142,Mapping!G:G)+SUMIF(Mapping!$C:$C,'Data BG'!$B142,Mapping!G:G)+SUMIF(Mapping!$D:$D,'Data BG'!$B142,Mapping!G:G)+SUMIF(Mapping!$B:$B,'Data BG'!$C142,Mapping!G:G)+SUMIF(Mapping!$C:$C,'Data BG'!$C142,Mapping!G:G)+SUMIF(Mapping!$D:$D,'Data BG'!$C142,Mapping!G:G)+SUMIF(Mapping!$B:$B,'Data BG'!$D142,Mapping!G:G)+SUMIF(Mapping!$C:$C,'Data BG'!$D142,Mapping!G:G)+SUMIF(Mapping!$D:$D,'Data BG'!$D142,Mapping!G:G)+SUMIF(Mapping!$B:$B,'Data BG'!$E142,Mapping!G:G)+SUMIF(Mapping!$C:$C,'Data BG'!$E142,Mapping!G:G)+SUMIF(Mapping!$D:$D,'Data BG'!$E142,Mapping!G:G)+SUMIF(Mapping!$B:$B,'Data BG'!$F142,Mapping!G:G)+SUMIF(Mapping!$C:$C,'Data BG'!$F142,Mapping!G:G)+SUMIF(Mapping!$D:$D,'Data BG'!$F142,Mapping!G:G)+SUMIF(Mapping!$B:$B,'Data BG'!$G142,Mapping!G:G)+SUMIF(Mapping!$C:$C,'Data BG'!$G142,Mapping!G:G)+SUMIF(Mapping!$D:$D,'Data BG'!$G142,Mapping!G:G)+SUMIF(Mapping!$B:$B,'Data BG'!$H142,Mapping!G:G)+SUMIF(Mapping!$C:$C,'Data BG'!$H142,Mapping!G:G)+SUMIF(Mapping!$D:$D,'Data BG'!$H142,Mapping!G:G)+SUMIF(Mapping!$B:$B,'Data BG'!$I142,Mapping!G:G)+SUMIF(Mapping!$C:$C,'Data BG'!$I142,Mapping!G:G)+SUMIF(Mapping!$D:$D,'Data BG'!$I142,Mapping!G:G)+SUMIF(Mapping!$B:$B,'Data BG'!$J142,Mapping!G:G)+SUMIF(Mapping!$C:$C,'Data BG'!$J142,Mapping!G:G)+SUMIF(Mapping!$D:$D,'Data BG'!$J142,Mapping!G:G)+SUMIF(Mapping!$B:$B,'Data BG'!$M142,Mapping!G:G)+SUMIF(Mapping!$C:$C,'Data BG'!$M142,Mapping!G:G)+SUMIF(Mapping!$D:$D,'Data BG'!$M142,Mapping!G:G)+SUMIF(Mapping!$B:$B,$N142,Mapping!G:G)+SUMIF(Mapping!$C:$C,$N142,Mapping!G:G)+SUMIF(Mapping!$D:$D,$N142,Mapping!G:G)+SUMIF(Mapping!$B:$B,'Data BG'!$K142,Mapping!G:G)+SUMIF(Mapping!$C:$C,'Data BG'!$K142,Mapping!G:G)+SUMIF(Mapping!$D:$D,'Data BG'!$K142,Mapping!G:G)+SUMIF(Mapping!$B:$B,'Data BG'!$L142,Mapping!G:G)+SUMIF(Mapping!$C:$C,'Data BG'!$L142,Mapping!G:G)+SUMIF(Mapping!$D:$D,'Data BG'!$L142,Mapping!G:G)","v":0},{"$f":"SUMIF(Mapping!$B:$B,'Data BG'!$A142,Mapping!H:H)+SUMIF(Mapping!$C:$C,'Data BG'!$A142,Mapping!H:H)+SUMIF(Mapping!$D:$D,'Data BG'!$A142,Mapping!H:H)+SUMIF(Mapping!$B:$B,'Data BG'!$B142,Mapping!H:H)+SUMIF(Mapping!$C:$C,'Data BG'!$B142,Mapping!H:H)+SUMIF(Mapping!$D:$D,'Data BG'!$B142,Mapping!H:H)+SUMIF(Mapping!$B:$B,'Data BG'!$C142,Mapping!H:H)+SUMIF(Mapping!$C:$C,'Data BG'!$C142,Mapping!H:H)+SUMIF(Mapping!$D:$D,'Data BG'!$C142,Mapping!H:H)+SUMIF(Mapping!$B:$B,'Data BG'!$D142,Mapping!H:H)+SUMIF(Mapping!$C:$C,'Data BG'!$D142,Mapping!H:H)+SUMIF(Mapping!$D:$D,'Data BG'!$D142,Mapping!H:H)+SUMIF(Mapping!$B:$B,'Data BG'!$E142,Mapping!H:H)+SUMIF(Mapping!$C:$C,'Data BG'!$E142,Mapping!H:H)+SUMIF(Mapping!$D:$D,'Data BG'!$E142,Mapping!H:H)+SUMIF(Mapping!$B:$B,'Data BG'!$F142,Mapping!H:H)+SUMIF(Mapping!$C:$C,'Data BG'!$F142,Mapping!H:H)+SUMIF(Mapping!$D:$D,'Data BG'!$F142,Mapping!H:H)+SUMIF(Mapping!$B:$B,'Data BG'!$G142,Mapping!H:H)+SUMIF(Mapping!$C:$C,'Data BG'!$G142,Mapping!H:H)+SUMIF(Mapping!$D:$D,'Data BG'!$G142,Mapping!H:H)+SUMIF(Mapping!$B:$B,'Data BG'!$H142,Mapping!H:H)+SUMIF(Mapping!$C:$C,'Data BG'!$H142,Mapping!H:H)+SUMIF(Mapping!$D:$D,'Data BG'!$H142,Mapping!H:H)+SUMIF(Mapping!$B:$B,'Data BG'!$I142,Mapping!H:H)+SUMIF(Mapping!$C:$C,'Data BG'!$I142,Mapping!H:H)+SUMIF(Mapping!$D:$D,'Data BG'!$I142,Mapping!H:H)+SUMIF(Mapping!$B:$B,'Data BG'!$J142,Mapping!H:H)+SUMIF(Mapping!$C:$C,'Data BG'!$J142,Mapping!H:H)+SUMIF(Mapping!$D:$D,'Data BG'!$J142,Mapping!H:H)+SUMIF(Mapping!$B:$B,'Data BG'!$M142,Mapping!H:H)+SUMIF(Mapping!$C:$C,'Data BG'!$M142,Mapping!H:H)+SUMIF(Mapping!$D:$D,'Data BG'!$M142,Mapping!H:H)+SUMIF(Mapping!$B:$B,$N142,Mapping!H:H)+SUMIF(Mapping!$C:$C,$N142,Mapping!H:H)+SUMIF(Mapping!$D:$D,$N142,Mapping!H:H)+SUMIF(Mapping!$B:$B,'Data BG'!$K142,Mapping!H:H)+SUMIF(Mapping!$C:$C,'Data BG'!$K142,Mapping!H:H)+SUMIF(Mapping!$D:$D,'Data BG'!$K142,Mapping!H:H)+SUMIF(Mapping!$B:$B,'Data BG'!$L142,Mapping!H:H)+SUMIF(Mapping!$C:$C,'Data BG'!$L142,Mapping!H:H)+SUMIF(Mapping!$D:$D,'Data BG'!$L142,Mapping!H:H)","v":0}]
[null,null,null,null,null,null,null,null,null,null,null,null,null,null,null,null,null,"EXCEDENT OU DEFICIT D'ENSEMBLE ",{"$f":"SUM(S74:S142)","v":0},{"$f":"SUM(T74:T142)","v":0}]
[]
[null,null,null,null,null,null,null,null,null,null,null,null,null,null,null,null,null,"contrôle balance",{"$f":"+S73+S47","v":0},{"$f":"+T73+T47","v":0}]
[null,null,null,null,null,null,null,null,null,null,null,null,null,null,null,null,null,"contrôle résultat",{"$f":"+S143-S54","v":0},{"$f":"+T143-T54","v":0}]

{"sheet":"Import","index":4,"n_rows":1805,"n_cols":9,"rows_kept":1805,"cut":false,"hidden":false,"merged":[]}
[null,null,null,null,null,"BALANCE D'ENSEMBLE"]
[null,null,null,null,null,"Période du 01/01/2025 au 31/12/2025"]
[null,null,null,null," "]
["PCG 1","PCG 4","PCG 3","PCG 2","N° de compte","Intitulé du compte","Solde N","Solde N-1","Notes"]
[{"$f":"LEFT(B5,1)","v":""},{"$f":"IF(LEFT(E5,4)=\"2974\",LEFT(E5,5),IF(LEFT(E5,4)=\"1688\",LEFT(E5,6),IF(LEFT(E5,5)=\"29073\",LEFT(E5,5),IF(LEFT(E5,5)=\"49671\",LEFT(E5,5),IF(LEFT(E5,5)=\"4458\",LEFT(E5,5),IF(LEFT(E5,6)=\"681611\",LEFT(E5,6),IF(LEFT(E5,3)=\"401\",\"4010\",IF(LEFT(E5,3)=\"411\",\"4110\",LEFT(E5,4)))))))))","v":""},{"$f":"LEFT(E5,3)","v":""},{"$f":"IF(OR(LEFT(E5,2)=\"42\",LEFT(E5,2)=\"43\",LEFT(E5,2)=\"44\",LEFT(E5,2)=\"45\",LEFT(E5,2)=\"46\",LEFT(E5,2)=\"47\",LEFT(E5,2)=\"51\"),IF(G5<0,LEFT(E5,2)&\"P\",LEFT(E5,2)&\"A\"),LEFT(E5,2))","v":""}]
["","","",""]
["","","",""]
["","","",""]
["","","",""]
["","","",""]
["","","",""]
["","","",""]
["","","",""]
["","","",""]
["","","",""]
["","","",""]
["","","",""]
["","","",""]
["","","",""]
["","","",""]
["","","",""]
["","","",""]
["","","",""]
["","","",""]
["","","",""]
["","","",""]
["","","",""]
["","","",""]
["","","",""]
["","","",""]
["","","",""]
["","","",""]
["","","",""]
["","","",""]
["","","",""]
["","","",""]
["","","",""]
["","","",""]
["","","",""]
["","","",""]
["","","",""]
["","","",""]
["","","",""]
["","","",""]
["","","",""]
["","","",""]
["","","",""]
["","","",""]
["","","",""]
["","","",""]
["","","",""]
["","","",""]
["","","",""]
["","","",""]
["","","",""]
["","","",""]
["","","",""]
["","","",""]
["","","",""]
["","","",""]
["","","",""]
["","","",""]
["","","",""]
["","","",""]
["","","",""]
["","","",""]
["","","",""]
["","","",""]
[{"$f":"LEFT(B69,1)","v":""},{"$f":"IF(LEFT(E69,4)=\"2974\",LEFT(E69,5),IF(LEFT(E69,4)=\"1688\",LEFT(E69,6),IF(LEFT(E69,5)=\"29073\",LEFT(E69,5),IF(LEFT(E69,5)=\"49671\",LEFT(E69,5),IF(LEFT(E69,5)=\"4458\",LEFT(E69,5),IF(LEFT(E69,6)=\"681611\",LEFT(E69,6),IF(LEFT(E69,3)=\"401\",\"4010\",IF(LEFT(E69,3)=\"411\",\"4110\",LEFT(E69,4)))))))))","v":""},{"$f":"LEFT(E69,3)","v":""},{"$f":"IF(OR(LEFT(E69,2)=\"42\",LEFT(E69,2)=\"43\",LEFT(E69,2)=\"44\",LEFT(E69,2)=\"45\",LEFT(E69,2)=\"46\",LEFT(E69,2)=\"47\",LEFT(E69,2)=\"51\"),IF(G69<0,LEFT(E69,2)&\"P\",LEFT(E69,2)&\"A\"),LEFT(E69,2))","v":""}]
["","","",""]
["","","",""]
["","","",""]
["","","",""]
["","","",""]
["","","",""]
["","","",""]
["","","",""]
["","","",""]
["","","",""]
["","","",""]
["","","",""]
["","","",""]
["","","",""]
["","","",""]
["","","",""]
["","","",""]
["","","",""]
["","","",""]
["","","",""]
["","","",""]
["","","",""]
["","","",""]
["","","",""]
["","","",""]
["","","",""]
["","","",""]
["","","",""]
["","","",""]
["","","",""]
["","","",""]
["","","",""]
["","","",""]
["","","",""]
["","","",""]
["","","",""]
["","","",""]
["","","",""]
["","","",""]
["","","",""]
["","","",""]
["","","",""]
["","","",""]
["","","",""]
["","","",""]
["","","",""]
["","","",""]
["","","",""]
["","","",""]
["","","",""]
["","","",""]
["","","",""]
["","","",""]
["","","",""]
["","","",""]
["","","",""]
["","","",""]
["","","",""]
["","","",""]
["","","",""]
["","","",""]
["","","",""]
["","","",""]
[{"$f":"LEFT(B133,1)","v":""},{"$f":"IF(LEFT(E133,4)=\"2974\",LEFT(E133,5),IF(LEFT(E133,4)=\"1688\",LEFT(E133,6),IF(LEFT(E133,5)=\"29073\",LEFT(E133,5),IF(LEFT(E133,5)=\"49671\",LEFT(E133,5),IF(LEFT(E133,5)=\"4458\",LEFT(E133,5),IF(LEFT(E133,6)=\"681611\",LEFT(E133,6),IF(LEFT(E133,3)=\"401\",\"4010\",IF(LEFT(E133,3)=\"411\",\"4110\",LEFT(E133,4)))))))))","v":""},{"$f":"LEFT(E133,3)","v":""},{"$f":"IF(OR(LEFT(E133,2)=\"42\",LEFT(E133,2)=\"43\",LEFT(E133,2)=\"44\",LEFT(E133,2)=\"45\",LEFT(E133,2)=\"46\",LEFT(E133,2)=\"47\",LEFT(E133,2)=\"51\"),IF(G133<0,LEFT(E133,2)&\"P\",LEFT(E133,2)&\"A\"),LEFT(E133,2))","v":""}]
["","","",""]
["","","",""]
["","","",""]
["","","",""]
["","","",""]
["","","",""]
["","","",""]
["","","",""]
["","","",""]
["","","",""]
["","","",""]
["","","",""]
["","","",""]
["","","",""]
["","","",""]
["","","",""]
["","","",""]
["","","",""]
["","","",""]
["","","",""]
["","","",""]
["","","",""]
["","","",""]
["","","",""]
["","","",""]
["","","",""]
["","","",""]
["","","",""]
["","","",""]
["","","",""]
["","","",""]
["","","",""]
["","","",""]
["","","",""]
["","","",""]
["","","",""]
["","","",""]
["","","",""]
["","","",""]
["","","",""]
["","","",""]
["","","",""]
["","","",""]
["","","",""]
["","","",""]
["","","",""]
["","","",""]
["","","",""]
["","","",""]
["","","",""]
["","","",""]
["","","",""]
["","","",""]
["","","",""]
["","","",""]
["","","",""]
["","","",""]
["","","",""]
["","","",""]
["","","",""]
["","","",""]
["","","",""]
["","","",""]
[{"$f":"LEFT(B197,1)","v":""},{"$f":"IF(LEFT(E197,4)=\"2974\",LEFT(E197,5),IF(LEFT(E197,4)=\"1688\",LEFT(E197,6),IF(LEFT(E197,5)=\"29073\",LEFT(E197,5),IF(LEFT(E197,5)=\"49671\",LEFT(E197,5),IF(LEFT(E197,5)=\"4458\",LEFT(E197,5),IF(LEFT(E197,6)=\"681611\",LEFT(E197,6),IF(LEFT(E197,3)=\"401\",\"4010\",IF(LEFT(E197,3)=\"411\",\"4110\",LEFT(E197,4)))))))))","v":""},{"$f":"LEFT(E197,3)","v":""},{"$f":"IF(OR(LEFT(E197,2)=\"42\",LEFT(E197,2)=\"43\",LEFT(E197,2)=\"44\",LEFT(E197,2)=\"45\",LEFT(E197,2)=\"46\",LEFT(E197,2)=\"47\",LEFT(E197,2)=\"51\"),IF(G197<0,LEFT(E197,2)&\"P\",LEFT(E197,2)&\"A\"),LEFT(E197,2))","v":""}]
["","","",""]
["","","",""]
["","","",""]
["","","",""]
["","","",""]
["","","",""]
["","","",""]
["","","",""]
["","","",""]
["","","",""]
["","","",""]
["","","",""]
["","","",""]
["","","",""]
["","","",""]
["","","",""]
["","","",""]
["","","",""]
["","","",""]
["","","",""]
["","","",""]
["","","",""]
["","","",""]
["","","",""]
["","","",""]
["","","",""]
["","","",""]
["","","",""]
["","","",""]
["","","",""]
["","","",""]
["","","",""]
["","","",""]
["","","",""]
["","","",""]
["","","",""]
["","","",""]
["","","",""]
["","","",""]
["","","",""]
["","","",""]
["","","",""]
["","","",""]
["","","",""]
["","","",""]
["","","",""]
["","","",""]
["","","",""]
["","","",""]
["","","",""]
["","","",""]
["","","",""]
["","","",""]
["","","",""]
["","","",""]
["","","",""]
["","","",""]
["","","",""]
["","","",""]
["","","",""]
["","","",""]
["","","",""]
["","","",""]
[{"$f":"LEFT(B261,1)","v":""},{"$f":"IF(LEFT(E261,4)=\"2974\",LEFT(E261,5),IF(LEFT(E261,4)=\"1688\",LEFT(E261,6),IF(LEFT(E261,5)=\"29073\",LEFT(E261,5),IF(LEFT(E261,5)=\"49671\",LEFT(E261,5),IF(LEFT(E261,5)=\"4458\",LEFT(E261,5),IF(LEFT(E261,6)=\"681611\",LEFT(E261,6),IF(LEFT(E261,3)=\"401\",\"4010\",IF(LEFT(E261,3)=\"411\",\"4110\",LEFT(E261,4)))))))))","v":""},{"$f":"LEFT(E261,3)","v":""},{"$f":"IF(OR(LEFT(E261,2)=\"42\",LEFT(E261,2)=\"43\",LEFT(E261,2)=\"44\",LEFT(E261,2)=\"45\",LEFT(E261,2)=\"46\",LEFT(E261,2)=\"47\",LEFT(E261,2)=\"51\"),IF(G261<0,LEFT(E261,2)&\"P\",LEFT(E261,2)&\"A\"),LEFT(E261,2))","v":""}]
["","","",""]
["","","",""]
["","","",""]
["","","",""]
["","","",""]
["","","",""]
["","","",""]
["","","",""]
["","","",""]
["","","",""]
["","","",""]
["","","",""]
["","","",""]
["","","",""]
["","","",""]
["","","",""]
["","","",""]
["","","",""]
["","","",""]
["","","",""]
["","","",""]
["","","",""]
["","","",""]
["","","",""]
["","","",""]
["","","",""]
["","","",""]
["","","",""]
["","","",""]
["","","",""]
["","","",""]
["","","",""]
["","","",""]
["","","",""]
["","","",""]
["","","",""]
["","","",""]
["","","",""]
["","","",""]
["","","",""]
["","","",""]
["","","",""]
["","","",""]
["","","",""]
["","","",""]
["","","",""]
["","","",""]
["","","",""]
["","","",""]
["","","",""]
["","","",""]
["","","",""]
["","","",""]
["","","",""]
["","","",""]
["","","",""]
["","","",""]
["","","",""]
["","","",""]
["","","",""]
["","","",""]
["","","",""]
["","","",""]
[{"$f":"LEFT(B325,1)","v":""},{"$f":"IF(LEFT(E325,4)=\"2974\",LEFT(E325,5),IF(LEFT(E325,4)=\"1688\",LEFT(E325,6),IF(LEFT(E325,5)=\"29073\",LEFT(E325,5),IF(LEFT(E325,5)=\"49671\",LEFT(E325,5),IF(LEFT(E325,5)=\"4458\",LEFT(E325,5),IF(LEFT(E325,6)=\"681611\",LEFT(E325,6),IF(LEFT(E325,3)=\"401\",\"4010\",IF(LEFT(E325,3)=\"411\",\"4110\",LEFT(E325,4)))))))))","v":""},{"$f":"LEFT(E325,3)","v":""},{"$f":"IF(OR(LEFT(E325,2)=\"42\",LEFT(E325,2)=\"43\",LEFT(E325,2)=\"44\",LEFT(E325,2)=\"45\",LEFT(E325,2)=\"46\",LEFT(E325,2)=\"47\",LEFT(E325,2)=\"51\"),IF(G325<0,LEFT(E325,2)&\"P\",LEFT(E325,2)&\"A\"),LEFT(E325,2))","v":""}]
["","","",""]
["","","",""]
["","","",""]
["","","",""]
["","","",""]
["","","",""]
["","","",""]
["","","",""]
["","","",""]
["","","",""]
["","","",""]
["","","",""]
["","","",""]
["","","",""]
["","","",""]
["","","",""]
["","","",""]
["","","",""]
["","","",""]
["","","",""]
["","","",""]
["","","",""]
["","","",""]
["","","",""]
["","","",""]
["","","",""]
["","","",""]
["","","",""]
["","","",""]
["","","",""]
["","","",""]
["","","",""]
["","","",""]
["","","",""]
["","","",""]
["","","",""]
["","","",""]
["","","",""]
["","","",""]
["","","",""]
["","","",""]
["","","",""]
["","","",""]
["","","",""]
["","","",""]
["","","",""]
["","","",""]
["","","",{"$f":"IF(OR(LEFT(E373,2)=\"42\",LEFT(E373,2)=\"43\",LEFT(E373,2)=\"44\",LEFT(E373,2)=\"45\",LEFT(E373,2)=\"46\",LEFT(E373,2)=\"47\",LEFT(E373,2)=\"48\",LEFT(E373,2)=\"51\"),IF(G373<0,LEFT(E373,2)&\"P\",LEFT(E373,2)&\"A\"),LEFT(E373,2))","v":""}]
["","","",{"$f":"IF(OR(LEFT(E374,2)=\"42\",LEFT(E374,2)=\"43\",LEFT(E374,2)=\"44\",LEFT(E374,2)=\"45\",LEFT(E374,2)=\"46\",LEFT(E374,2)=\"47\",LEFT(E374,2)=\"51\"),IF(G374<0,LEFT(E374,2)&\"P\",LEFT(E374,2)&\"A\"),LEFT(E374,2))","v":""}]
["","","",""]
["","","",""]
["","","",""]
["","","",""]
["","","",""]
["","","",""]
["","","",""]
["","","",""]
["","","",""]
["","","",""]
["","","",""]
["","","",""]
["","","",""]
["","","",""]
[{"$f":"LEFT(B389,1)","v":""},{"$f":"IF(LEFT(E389,4)=\"2974\",LEFT(E389,5),IF(LEFT(E389,4)=\"1688\",LEFT(E389,6),IF(LEFT(E389,5)=\"29073\",LEFT(E389,5),IF(LEFT(E389,5)=\"49671\",LEFT(E389,5),IF(LEFT(E389,5)=\"4458\",LEFT(E389,5),IF(LEFT(E389,6)=\"681611\",LEFT(E389,6),IF(LEFT(E389,3)=\"401\",\"4010\",IF(LEFT(E389,3)=\"411\",\"4110\",LEFT(E389,4)))))))))","v":""},{"$f":"LEFT(E389,3)","v":""},""]
["","","",""]
["","","",""]
["","","",""]
["","","",""]
["","","",""]
["","","",""]
["","","",""]
["","","",""]
["","","",{"$f":"IF(OR(LEFT(E398,2)=\"42\",LEFT(E398,2)=\"43\",LEFT(E398,2)=\"44\",LEFT(E398,2)=\"45\",LEFT(E398,2)=\"46\",LEFT(E398,2)=\"47\",LEFT(E398,2)=\"48\",LEFT(E398,2)=\"51\"),IF(G398<0,LEFT(E398,2)&\"P\",LEFT(E398,2)&\"A\"),LEFT(E398,2))","v":""}]
["","","",""]
["","","",""]
["","","",""]
["","","",""]
["","","",""]
["","","",{"$f":"IF(OR(LEFT(E404,2)=\"42\",LEFT(E404,2)=\"43\",LEFT(E404,2)=\"44\",LEFT(E404,2)=\"45\",LEFT(E404,2)=\"46\",LEFT(E404,2)=\"47\",LEFT(E404,2)=\"51\"),IF(G404<0,LEFT(E404,2)&\"P\",LEFT(E404,2)&\"A\"),LEFT(E404,2))","v":""}]
["","","",""]
["","","",""]
["","","",""]
["","","",""]
["","","",""]
["","","",""]
["","","",""]
["","","",""]
["","","",""]
["","","",""]
["","","",""]
["","","",""]
["","","",""]
["","","",""]
["","","",""]
["","","",""]
["","","",""]
["","","",""]
["","","",""]
["","","",""]
["","","",""]
["","","",""]
["","","",""]
["","","",""]
["","","",""]
["","","",""]
["","","",""]
["","","",""]
["","","",""]
["","","",""]
["","","",""]
["","","",""]
["","","",""]
["","","",""]
["","","",""]
["","","",""]
["","","",""]
["","","",""]
["","","",""]
["","","",""]
["","","",""]
["","","",""]
["","","",""]
["","","",""]
["","","",""]
["","","",""]
["","","",""]
["","","",""]
[{"$f":"LEFT(B453,1)","v":""},{"$f":"IF(LEFT(E453,4)=\"2974\",LEFT(E453,5),IF(LEFT(E453,4)=\"1688\",LEFT(E453,6),IF(LEFT(E453,5)=\"29073\",LEFT(E453,5),IF(LEFT(E453,5)=\"49671\",LEFT(E453,5),IF(LEFT(E453,5)=\"4458\",LEFT(E453,5),IF(LEFT(E453,6)=\"681611\",LEFT(E453,6),IF(LEFT(E453,3)=\"401\",\"4010\",IF(LEFT(E453,3)=\"411\",\"4110\",LEFT(E453,4)))))))))","v":""},{"$f":"LEFT(E453,3)","v":""},""]
["","","",""]
["","","",""]
["","","",""]
["","","",""]
["","","",""]
["","","",""]
["","","",""]
["","","",""]
["","","",""]
["","","",""]
["","","",""]
["","","",""]
["","","",""]
["","","",""]
["","","",{"$f":"IF(OR(LEFT(E468,2)=\"42\",LEFT(E468,2)=\"43\",LEFT(E468,2)=\"44\",LEFT(E468,2)=\"45\",LEFT(E468,2)=\"46\",LEFT(E468,2)=\"47\",LEFT(E468,2)=\"51\"),IF(G468<0,LEFT(E468,2)&\"P\",LEFT(E468,2)&\"A\"),LEFT(E468,2))","v":""}]
["","","",""]
["","","",""]
["","","",""]
["","","",""]
["","","",""]
["","","",""]
["","","",""]
["","","",""]
["","","",""]
["","","",""]
["","","",""]
["","","",""]
["","","",""]
["","","",""]
["","","",""]
["","","",""]
["","","",""]
["","","",""]
["","","",""]
["","","",""]
["","","",""]
["","","",""]
["","","",""]
["","","",""]
["","","",""]
["","","",""]
["","","",""]
["","","",""]
["","","",""]
["","","",""]
["","","",""]
["","","",""]
["","","",""]
["","","",""]
["","","",""]
["","","",""]
["","","",""]
["","","",""]
["","","",""]
["","","",""]
["","","",""]
["","","",""]
["","","",""]
["","","",""]
["","","",""]
["","","",""]
["","","",""]
["","","",""]
[{"$f":"LEFT(B517,1)","v":""},{"$f":"IF(LEFT(E517,4)=\"2974\",LEFT(E517,5),IF(LEFT(E517,4)=\"1688\",LEFT(E517,6),IF(LEFT(E517,5)=\"29073\",LEFT(E517,5),IF(LEFT(E517,5)=\"49671\",LEFT(E517,5),IF(LEFT(E517,5)=\"4458\",LEFT(E517,5),IF(LEFT(E517,6)=\"681611\",LEFT(E517,6),IF(LEFT(E517,3)=\"401\",\"4010\",IF(LEFT(E517,3)=\"411\",\"4110\",LEFT(E517,4)))))))))","v":""},{"$f":"LEFT(E517,3)","v":""},""]
[6,"","",""]
[{"$f":"LEFT(B519,1)","v":""},"","",""]
["","","",""]
["","","",""]
["","","",""]
["","","",""]
["","","",""]
["","","",""]
["","","",""]
["","","",""]
["","","",""]
["","","",""]
["","","",""]
["","","",""]
["","","",{"$f":"IF(OR(LEFT(E532,2)=\"42\",LEFT(E532,2)=\"43\",LEFT(E532,2)=\"44\",LEFT(E532,2)=\"45\",LEFT(E532,2)=\"46\",LEFT(E532,2)=\"47\",LEFT(E532,2)=\"51\"),IF(G532<0,LEFT(E532,2)&\"P\",LEFT(E532,2)&\"A\"),LEFT(E532,2))","v":""}]
["","","",""]
["","","",""]
["","","",""]
["","","",""]
["","","",""]
["","","",""]
["","","",""]
["","","",""]
["","","",""]
["","","",""]
["","","",""]
["","","",""]
["","","",""]
["","","",""]
["","","",""]
["","","",""]
["","","",""]
["","","",""]
["","","",""]
["","","",""]
["","","",""]
["","","",""]
["","","",""]
["","","",""]
["","","",""]
["","","",""]
["","","",""]
["","","",""]
["","","",""]
["","","",""]
["","","",""]
["","","",""]
["","","",""]
["","","",""]
["","","",""]
["","","",""]
["","","",""]
["","","",""]
["","","",""]
["","","",""]
["","","",""]
["","","",""]
["","","",""]
["","","",""]
["","","",""]
["","","",""]
["","","",""]
["","","",""]
["",{"$f":"IF(LEFT(E581,4)=\"2974\",LEFT(E581,5),IF(LEFT(E581,4)=\"1688\",LEFT(E581,6),IF(LEFT(E581,5)=\"29073\",LEFT(E581,5),IF(LEFT(E581,5)=\"49671\",LEFT(E581,5),IF(LEFT(E581,5)=\"4458\",LEFT(E581,5),IF(LEFT(E581,6)=\"681611\",LEFT(E581,6),IF(LEFT(E581,3)=\"401\",\"4010\",IF(LEFT(E581,3)=\"411\",\"4110\",LEFT(E581,4)))))))))","v":""},{"$f":"LEFT(E581,3)","v":""},""]
["","","",""]
[{"$f":"LEFT(B583,1)","v":""},"","",""]
["","","",""]
["","","",""]
["","","",""]
["","","",""]
["","","",""]
["","","",""]
["","","",""]
["","","",""]
["","","",""]
["","","",""]
["","","",""]
["","","",""]
["","","",{"$f":"IF(OR(LEFT(E596,2)=\"42\",LEFT(E596,2)=\"43\",LEFT(E596,2)=\"44\",LEFT(E596,2)=\"45\",LEFT(E596,2)=\"46\",LEFT(E596,2)=\"47\",LEFT(E596,2)=\"51\"),IF(G596<0,LEFT(E596,2)&\"P\",LEFT(E596,2)&\"A\"),LEFT(E596,2))","v":""}]
["","","",""]
["","","",""]
["","","",""]
["","","",""]
["","","",""]
["","","",""]
["","","",""]
["","","",""]
["","","",""]
["","","",""]
["","","",""]
["","","",""]
["","","",""]
["","","",""]
["","","",""]
["","","",""]
["","","",""]
["","","",""]
["","","",""]
["","","",""]
["","","",""]
["","","",""]
["","","",""]
["","","",""]
["","","",""]
["","","",""]
["","","",""]
["","","",""]
["","","",""]
["","","",""]
["","","",""]
["","","",""]
["","","",""]
["","","",""]
["","","",""]
["","","",""]
["","","",""]
["","","",""]
["","","",""]
["","","",""]
["","","",""]
["","","",""]
["","","",""]
["","","",""]
["","","",""]
["","","",""]
["","","",""]
["","","",""]
["",{"$f":"IF(LEFT(E645,4)=\"2974\",LEFT(E645,5),IF(LEFT(E645,4)=\"1688\",LEFT(E645,6),IF(LEFT(E645,5)=\"29073\",LEFT(E645,5),IF(LEFT(E645,5)=\"49671\",LEFT(E645,5),IF(LEFT(E645,5)=\"4458\",LEFT(E645,5),IF(LEFT(E645,6)=\"681611\",LEFT(E645,6),IF(LEFT(E645,3)=\"401\",\"4010\",IF(LEFT(E645,3)=\"411\",\"4110\",LEFT(E645,4)))))))))","v":""},{"$f":"LEFT(E645,3)","v":""},""]
["","","",""]
[{"$f":"LEFT(B647,1)","v":""},"","",""]
["","","",""]
["","","",""]
["","","",""]
["","","",""]
["","","",""]
["","","",""]
["","","",""]
["","","",""]
["","","",""]
["","","",""]
["","","",""]
["","","",""]
["","","",{"$f":"IF(OR(LEFT(E660,2)=\"42\",LEFT(E660,2)=\"43\",LEFT(E660,2)=\"44\",LEFT(E660,2)=\"45\",LEFT(E660,2)=\"46\",LEFT(E660,2)=\"47\",LEFT(E660,2)=\"51\"),IF(G660<0,LEFT(E660,2)&\"P\",LEFT(E660,2)&\"A\"),LEFT(E660,2))","v":""}]
["","","",""]
["","","",""]
["","","",""]
["","","",""]
["","","",""]
["","","",""]
["","","",""]
["","","",""]
["","","",""]
["","","",""]
["","","",""]
["","","",""]
["","","",""]
["","","",""]
["","","",""]
["","","",""]
["","","",""]
["","","",""]
["","","",""]
["","","",""]
["","","",""]
["","","",""]
["","","",""]
["","","",""]
["","","",""]
["","","",""]
["","","",""]
["","","",""]
["","","",""]
["","","",""]
["","","",""]
["","","",""]
["","","",""]
["","","",""]
["","","",""]
["","","",""]
["","","",""]
["","","",""]
["","","",""]
["","","",""]
["","","",""]
["","","",""]
["","","",""]
["","","",""]
["","","",""]
["","","",""]
["","","",""]
["","","",""]
["",{"$f":"IF(LEFT(E709,4)=\"2974\",LEFT(E709,5),IF(LEFT(E709,4)=\"1688\",LEFT(E709,6),IF(LEFT(E709,5)=\"29073\",LEFT(E709,5),IF(LEFT(E709,5)=\"49671\",LEFT(E709,5),IF(LEFT(E709,5)=\"4458\",LEFT(E709,5),IF(LEFT(E709,6)=\"681611\",LEFT(E709,6),IF(LEFT(E709,3)=\"401\",\"4010\",IF(LEFT(E709,3)=\"411\",\"4110\",LEFT(E709,4)))))))))","v":""},{"$f":"LEFT(E709,3)","v":""},""]
["","","",""]
[{"$f":"LEFT(B711,1)","v":""},"","",""]
["","","",""]
["","","",""]
["","","",""]
["","","",""]
["","","",""]
["","","",""]
["","","",""]
["","","",""]
["","","",""]
["","","",""]
["","","",""]
["","","",""]
["","","",{"$f":"IF(OR(LEFT(E724,2)=\"42\",LEFT(E724,2)=\"43\",LEFT(E724,2)=\"44\",LEFT(E724,2)=\"45\",LEFT(E724,2)=\"46\",LEFT(E724,2)=\"47\",LEFT(E724,2)=\"51\"),IF(G724<0,LEFT(E724,2)&\"P\",LEFT(E724,2)&\"A\"),LEFT(E724,2))","v":""}]
["","","",""]
["","","",""]
["","","",""]
["","","",""]
["","","",""]
["","","",""]
["","","",""]
["","","",""]
["","","",""]
["","","",""]
["","","",""]
["","","",""]
["","","",""]
["","","",""]
["","","",""]
["","","",""]
["","","",""]
["","","",""]
["","","",""]
["","","",""]
["","","",""]
["","","",""]
["","","",""]
["","","",""]
["","","",""]
["","","",""]
["","","",""]
["","","",""]
["","","",""]
["","","",""]
["","","",""]
["","","",""]
["","","",""]
["","","",""]
["","","",""]
["","","",""]
["","","",""]
["","","",""]
["","","",""]
["","","",""]
["","","",""]
["","","",""]
["","","",""]
["","","",""]
["","","",""]
["","","",""]
["","","",""]
["","","",""]
["",{"$f":"IF(LEFT(E773,4)=\"2974\",LEFT(E773,5),IF(LEFT(E773,4)=\"1688\",LEFT(E773,6),IF(LEFT(E773,5)=\"29073\",LEFT(E773,5),IF(LEFT(E773,5)=\"49671\",LEFT(E773,5),IF(LEFT(E773,5)=\"4458\",LEFT(E773,5),IF(LEFT(E773,6)=\"681611\",LEFT(E773,6),IF(LEFT(E773,3)=\"401\",\"4010\",IF(LEFT(E773,3)=\"411\",\"4110\",LEFT(E773,4)))))))))","v":""},{"$f":"LEFT(E773,3)","v":""},""]
["","","",""]
[{"$f":"LEFT(B775,1)","v":""},"","",""]
["","","",""]
["","","",""]
["","","",""]
["","","",""]
["","","",""]
["","","",""]
["","","",""]
["","","",""]
["","","",""]
["","","",""]
["","","",""]
["","","",""]
["","","",{"$f":"IF(OR(LEFT(E788,2)=\"42\",LEFT(E788,2)=\"43\",LEFT(E788,2)=\"44\",LEFT(E788,2)=\"45\",LEFT(E788,2)=\"46\",LEFT(E788,2)=\"47\",LEFT(E788,2)=\"51\"),IF(G788<0,LEFT(E788,2)&\"P\",LEFT(E788,2)&\"A\"),LEFT(E788,2))","v":""}]
["","","",""]
["","","",""]
["","","",""]
["","","",""]
["","","",""]
["","","",""]
["","","",""]
["","","",""]
["","","",""]
["","","",""]
["","","",""]
["","","",""]
["","","",""]
["","","",""]
["","","",""]
["","","",""]
["","","",""]
["","","",""]
["","","",""]
["","","",""]
["","","",""]
["","","",""]
["","","",""]
["","","",""]
["","","",""]
["","","",""]
["","","",""]
["","","",""]
["","","",""]
["","","",""]
["","","",""]
["","","",""]
["","","",""]
["","","",""]
["","","",""]
["","","",""]
["","","",""]
["","","",""]
["","","",""]
["","","",""]
["","","",""]
["","","",""]
["","","",""]
["","","",""]
["","","",""]
["","","",""]
["","","",""]
["","","",""]
["",{"$f":"IF(LEFT(E837,4)=\"2974\",LEFT(E837,5),IF(LEFT(E837,4)=\"1688\",LEFT(E837,6),IF(LEFT(E837,5)=\"29073\",LEFT(E837,5),IF(LEFT(E837,5)=\"49671\",LEFT(E837,5),IF(LEFT(E837,5)=\"4458\",LEFT(E837,5),IF(LEFT(E837,6)=\"681611\",LEFT(E837,6),IF(LEFT(E837,3)=\"401\",\"4010\",IF(LEFT(E837,3)=\"411\",\"4110\",LEFT(E837,4)))))))))","v":""},{"$f":"LEFT(E837,3)","v":""},""]
["","","",""]
[{"$f":"LEFT(B839,1)","v":""},"","",""]
["","","",""]
["","","",""]
["","","",""]
["","","",""]
["","","",""]
["","","",""]
["","","",""]
["","","",""]
["","","",""]
["","","",""]
["","","",""]
["","","",""]
["","","",{"$f":"IF(OR(LEFT(E852,2)=\"42\",LEFT(E852,2)=\"43\",LEFT(E852,2)=\"44\",LEFT(E852,2)=\"45\",LEFT(E852,2)=\"46\",LEFT(E852,2)=\"47\",LEFT(E852,2)=\"51\"),IF(G852<0,LEFT(E852,2)&\"P\",LEFT(E852,2)&\"A\"),LEFT(E852,2))","v":""}]
["","","",""]
["","","",""]
["","","",""]
["","","",""]
["","","",""]
["","","",""]
["","","",""]
["","","",""]
["","","",""]
["","","",""]
["","","",""]
["","","",""]
["","","",""]
["","","",""]
["","","",""]
["","","",""]
["","","",""]
["","","",""]
["","","",""]
["","","",""]
["","","",""]
["","","",""]
["","","",""]
["","","",""]
["","","",""]
["","","",""]
["","","",""]
["","","",""]
["","","",""]
["","","",""]
["","","",""]
["","","",""]
["","","",""]
["","","",""]
["","","",""]
["","","",""]
["","","",""]
["","","",""]
["","","",""]
["","","",""]
["","","",""]
["","","",""]
["","","",""]
["","","",""]
["","","",""]
["","","",""]
["","","",""]
["","","",""]
["",{"$f":"IF(LEFT(E901,4)=\"2974\",LEFT(E901,5),IF(LEFT(E901,4)=\"1688\",LEFT(E901,6),IF(LEFT(E901,5)=\"29073\",LEFT(E901,5),IF(LEFT(E901,5)=\"49671\",LEFT(E901,5),IF(LEFT(E901,5)=\"4458\",LEFT(E901,5),IF(LEFT(E901,6)=\"681611\",LEFT(E901,6),IF(LEFT(E901,3)=\"401\",\"4010\",IF(LEFT(E901,3)=\"411\",\"4110\",LEFT(E901,4)))))))))","v":""},{"$f":"LEFT(E901,3)","v":""},""]
["","","",""]
[{"$f":"LEFT(B903,1)","v":""},"","",""]
["","","",""]
["","","",""]
["","","",""]
["","","",""]
["","","",""]
["","","",""]
["","","",""]
["","","",""]
["","","",""]
["","","",""]
["","","",""]
["","","",""]
["","","",{"$f":"IF(OR(LEFT(E916,2)=\"42\",LEFT(E916,2)=\"43\",LEFT(E916,2)=\"44\",LEFT(E916,2)=\"45\",LEFT(E916,2)=\"46\",LEFT(E916,2)=\"47\",LEFT(E916,2)=\"51\"),IF(G916<0,LEFT(E916,2)&\"P\",LEFT(E916,2)&\"A\"),LEFT(E916,2))","v":""}]
["","","",""]
["","","",""]
["","","",""]
["","","",""]
["","","",""]
["","","",""]
["","","",""]
["","","",""]
["","","",""]
["","","",""]
["","","",""]
["","","",""]
["","","",""]
["","","",""]
["","","",""]
["","","",""]
["","","",""]
["","","",""]
["","","",""]
["","","",""]
["","","",""]
["","","",""]
["","","",""]
["","","",""]
["","","",""]
["","","",""]
["","","",""]
["","","",""]
["","","",""]
["","","",""]
["","","",""]
["","","",""]
["","","",""]
["","","",""]
["","","",""]
["","","",""]
["","","",""]
["","","",""]
["","","",""]
["","","",""]
["","","",""]
["","","",""]
["","","",""]
["","","",""]
["","","",""]
["","","",""]
["","","",""]
["","","",""]
["",{"$f":"IF(LEFT(E965,4)=\"2974\",LEFT(E965,5),IF(LEFT(E965,4)=\"1688\",LEFT(E965,6),IF(LEFT(E965,5)=\"29073\",LEFT(E965,5),IF(LEFT(E965,5)=\"49671\",LEFT(E965,5),IF(LEFT(E965,5)=\"4458\",LEFT(E965,5),IF(LEFT(E965,6)=\"681611\",LEFT(E965,6),IF(LEFT(E965,3)=\"401\",\"4010\",IF(LEFT(E965,3)=\"411\",\"4110\",LEFT(E965,4)))))))))","v":""},{"$f":"LEFT(E965,3)","v":""},""]
["","","",""]
[{"$f":"LEFT(B967,1)","v":""},"","",""]
["","","",""]
["","","",""]
["","","",""]
["","","",""]
["","","",""]
["","","",""]
["","","",""]
["","","",""]
["","","",""]
["","","",""]
["","","",""]
["","","",""]
["","","",{"$f":"IF(OR(LEFT(E980,2)=\"42\",LEFT(E980,2)=\"43\",LEFT(E980,2)=\"44\",LEFT(E980,2)=\"45\",LEFT(E980,2)=\"46\",LEFT(E980,2)=\"47\",LEFT(E980,2)=\"51\"),IF(G980<0,LEFT(E980,2)&\"P\",LEFT(E980,2)&\"A\"),LEFT(E980,2))","v":""}]
["","","",""]
["","","",""]
["","","",""]
["","","",""]
["","","",""]
["","","",""]
["","","",""]
["","","",""]
["","","",""]
["","","",""]
["","","",""]
["","","",""]
["","","",""]
["","","",""]
["","","",""]
["","","",""]
["","","",""]
["","","",""]
["","","",""]
["","","",""]
["","","",""]
["","","",""]
["","","",""]
["","","",""]
["","","",""]
["","","",""]
["","","",""]
["","","",""]
["","","",""]
["","","",""]
["","","",""]
["","","",""]
["","","",""]
["","","",""]
["","","",""]
["","","",""]
["","","",""]
["","","",""]
["","","",""]
["","","",""]
["","","",""]
["","","",""]
["","","",""]
["","","",""]
["","","",""]
["","","",""]
["","","",""]
["","","",""]
["",{"$f":"IF(LEFT(E1029,4)=\"2974\",LEFT(E1029,5),IF(LEFT(E1029,4)=\"1688\",LEFT(E1029,6),IF(LEFT(E1029,5)=\"29073\",LEFT(E1029,5),IF(LEFT(E1029,5)=\"49671\",LEFT(E1029,5),IF(LEFT(E1029,5)=\"4458\",LEFT(E1029,5),IF(LEFT(E1029,6)=\"681611\",LEFT(E1029,6),IF(LEFT(E1029,3)=\"401\",\"4010\",IF(LEFT(E1029,3)=\"411\",\"4110\",LEFT(E1029,4)))))))))","v":""},{"$f":"LEFT(E1029,3)","v":""},""]
["","","",""]
[{"$f":"LEFT(B1031,1)","v":""},"","",""]
["","","",""]
["","","",""]
["","","",""]
["","","",""]
["","","",""]
["","","",""]
["","","",""]
["","","",""]
["","","",""]
["","","",""]
["","","",""]
["","","",""]
["","","",{"$f":"IF(OR(LEFT(E1044,2)=\"42\",LEFT(E1044,2)=\"43\",LEFT(E1044,2)=\"44\",LEFT(E1044,2)=\"45\",LEFT(E1044,2)=\"46\",LEFT(E1044,2)=\"47\",LEFT(E1044,2)=\"51\"),IF(G1044<0,LEFT(E1044,2)&\"P\",LEFT(E1044,2)&\"A\"),LEFT(E1044,2))","v":""}]
["","","",""]
["","","",""]
["","","",""]
["","","",""]
["","","",""]
["","","",""]
["","","",""]
["","","",""]
["","","",""]
["","","",""]
["","","",""]
["","","",""]
["","","",""]
["","","",""]
["","","",""]
["","","",""]
["","","",""]
["","","",""]
["","","",""]
["","","",""]
["","","",""]
["","","",""]
["","","",""]
["","","",""]
["","","",""]
["","","",""]
["","","",""]
["","","",""]
["","","",""]
["","","",""]
["","","",""]
["","","",""]
["","","",""]
["","","",""]
["","","",""]
["","","",""]
["","","",""]
["","","",""]
["","","",""]
["","","",""]
["","","",""]
["","","",""]
["","","",""]
["","","",""]
["","","",""]
["","","",""]
["","","",""]
["","","",""]
["",{"$f":"IF(LEFT(E1093,4)=\"2974\",LEFT(E1093,5),IF(LEFT(E1093,4)=\"1688\",LEFT(E1093,6),IF(LEFT(E1093,5)=\"29073\",LEFT(E1093,5),IF(LEFT(E1093,5)=\"49671\",LEFT(E1093,5),IF(LEFT(E1093,5)=\"4458\",LEFT(E1093,5),IF(LEFT(E1093,6)=\"681611\",LEFT(E1093,6),IF(LEFT(E1093,3)=\"401\",\"4010\",IF(LEFT(E1093,3)=\"411\",\"4110\",LEFT(E1093,4)))))))))","v":""},{"$f":"LEFT(E1093,3)","v":""},""]
["","","",""]
[{"$f":"LEFT(B1095,1)","v":""},"","",""]
["","","",""]
["","","",""]
["","","",""]
["","","",""]
["","","",""]
["","","",""]
["","","",""]
["","","",""]
["","","",""]
["","","",""]
["","","",""]
["","","",""]
["","","",{"$f":"IF(OR(LEFT(E1108,2)=\"42\",LEFT(E1108,2)=\"43\",LEFT(E1108,2)=\"44\",LEFT(E1108,2)=\"45\",LEFT(E1108,2)=\"46\",LEFT(E1108,2)=\"47\",LEFT(E1108,2)=\"51\"),IF(G1108<0,LEFT(E1108,2)&\"P\",LEFT(E1108,2)&\"A\"),LEFT(E1108,2))","v":""}]
["","","",""]
["","","",""]
["","","",""]
["","","",""]
["","","",""]
["","","",""]
["","","",""]
["","","",""]
["","","",""]
["","","",""]
["","","",""]
["","","",""]
["","","",""]
["","","",""]
["","","",""]
["","","",""]
["","","",""]
["","","",""]
["","","",""]
["","","",""]
["","","",""]
["","","",""]
["","","",""]
["","","",""]
["","","",""]
["","","",""]
["","","",""]
["","","",""]
["","","",""]
["","","",""]
["","","",""]
["","","",""]
["","","",""]
["","","",""]
["","","",""]
["","","",""]
["","","",""]
["","","",""]
["","","",""]
["","","",""]
["","","",""]
["","","",""]
["","","",""]
["","","",""]
["","","",""]
["","","",""]
["","","",""]
["","","",""]
["",{"$f":"IF(LEFT(E1157,4)=\"2974\",LEFT(E1157,5),IF(LEFT(E1157,4)=\"1688\",LEFT(E1157,6),IF(LEFT(E1157,5)=\"29073\",LEFT(E1157,5),IF(LEFT(E1157,5)=\"49671\",LEFT(E1157,5),IF(LEFT(E1157,5)=\"4458\",LEFT(E1157,5),IF(LEFT(E1157,6)=\"681611\",LEFT(E1157,6),IF(LEFT(E1157,3)=\"401\",\"4010\",IF(LEFT(E1157,3)=\"411\",\"4110\",LEFT(E1157,4)))))))))","v":""},{"$f":"LEFT(E1157,3)","v":""},""]
["","","",""]
[{"$f":"LEFT(B1159,1)","v":""},"","",""]
["","","",""]
["","","",""]
["","","",""]
["","","",""]
["","","",""]
["","","",""]
["","","",""]
["","","",""]
["","","",""]
["","","",""]
["","","",""]
["","","",""]
["","","",{"$f":"IF(OR(LEFT(E1172,2)=\"42\",LEFT(E1172,2)=\"43\",LEFT(E1172,2)=\"44\",LEFT(E1172,2)=\"45\",LEFT(E1172,2)=\"46\",LEFT(E1172,2)=\"47\",LEFT(E1172,2)=\"51\"),IF(G1172<0,LEFT(E1172,2)&\"P\",LEFT(E1172,2)&\"A\"),LEFT(E1172,2))","v":""}]
["","","",""]
["","","",""]
["","","",""]
["","","",""]
["","","",""]
["","","",""]
["","","",""]
["","","",""]
["","","",""]
["","","",""]
["","","",""]
["","","",""]
["","","",""]
["","","",""]
["","","",""]
["","","",""]
["","","",""]
["","","",""]
["","","",""]
["","","",""]
["","","",""]
["","","",""]
["","","",""]
["","","",""]
["","","",""]
["","","",""]
["","","",""]
["","","",""]
["","","",""]
["","","",""]
["","","",""]
["","","",""]
["","","",""]
["","","",""]
["","","",""]
["","","",""]
["","","",""]
["","","",""]
["","","",""]
["","","",""]
["","","",""]
["","","",""]
["","","",""]
["","","",""]
["","","",""]
["","","",""]
["","","",""]
["","","",""]
["",{"$f":"IF(LEFT(E1221,4)=\"2974\",LEFT(E1221,5),IF(LEFT(E1221,4)=\"1688\",LEFT(E1221,6),IF(LEFT(E1221,5)=\"29073\",LEFT(E1221,5),IF(LEFT(E1221,5)=\"49671\",LEFT(E1221,5),IF(LEFT(E1221,5)=\"4458\",LEFT(E1221,5),IF(LEFT(E1221,6)=\"681611\",LEFT(E1221,6),IF(LEFT(E1221,3)=\"401\",\"4010\",IF(LEFT(E1221,3)=\"411\",\"4110\",LEFT(E1221,4)))))))))","v":""},{"$f":"LEFT(E1221,3)","v":""},""]
["","","",""]
[{"$f":"LEFT(B1223,1)","v":""},"","",""]
["","","",""]
["","","",""]
["","","",""]
["","","",""]
["","","",""]
["","","",""]
["","","",""]
["","","",""]
["","","",""]
["","","",""]
["","","",""]
["","","",""]
["","","",{"$f":"IF(OR(LEFT(E1236,2)=\"42\",LEFT(E1236,2)=\"43\",LEFT(E1236,2)=\"44\",LEFT(E1236,2)=\"45\",LEFT(E1236,2)=\"46\",LEFT(E1236,2)=\"47\",LEFT(E1236,2)=\"51\"),IF(G1236<0,LEFT(E1236,2)&\"P\",LEFT(E1236,2)&\"A\"),LEFT(E1236,2))","v":""}]
["","","",""]
["","","",""]
["","","",""]
["","","",""]
["","","",""]
["","","",""]
["","","",""]
["","","",""]
["","","",""]
["","","",""]
["","","",""]
["","","",""]
["","","",""]
["","","",""]
["","","",""]
["","","",""]
["","","",""]
["","","",""]
["","","",""]
["","","",""]
["","","",""]
["","","",""]
["","","",""]
["","","",""]
["","","",""]
["","","",""]
["","","",""]
["","","",""]
["","","",""]
["","","",""]
["","","",""]
["","","",""]
["","","",""]
["","","",""]
["","","",""]
["","","",""]
["","","",""]
["","","",""]
["","","",""]
["","","",""]
["","","",""]
["","","",""]
["","","",""]
["","","",""]
["","","",""]
["","","",""]
["","","",""]
["","","",""]
["",{"$f":"IF(LEFT(E1285,4)=\"2974\",LEFT(E1285,5),IF(LEFT(E1285,4)=\"1688\",LEFT(E1285,6),IF(LEFT(E1285,5)=\"29073\",LEFT(E1285,5),IF(LEFT(E1285,5)=\"49671\",LEFT(E1285,5),IF(LEFT(E1285,5)=\"4458\",LEFT(E1285,5),IF(LEFT(E1285,6)=\"681611\",LEFT(E1285,6),IF(LEFT(E1285,3)=\"401\",\"4010\",IF(LEFT(E1285,3)=\"411\",\"4110\",LEFT(E1285,4)))))))))","v":""},{"$f":"LEFT(E1285,3)","v":""},""]
["","","",""]
[{"$f":"LEFT(B1287,1)","v":""},"","",""]
["","","",""]
["","","",""]
["","","",""]
["","","",""]
["","","",""]
["","","",""]
["","","",""]
["","","",""]
["","","",""]
["","","",""]
["","","",""]
["","","",""]
["","","",{"$f":"IF(OR(LEFT(E1300,2)=\"42\",LEFT(E1300,2)=\"43\",LEFT(E1300,2)=\"44\",LEFT(E1300,2)=\"45\",LEFT(E1300,2)=\"46\",LEFT(E1300,2)=\"47\",LEFT(E1300,2)=\"51\"),IF(G1300<0,LEFT(E1300,2)&\"P\",LEFT(E1300,2)&\"A\"),LEFT(E1300,2))","v":""}]
["","","",""]
["","","",""]
["","","",""]
["","","",""]
["","","",""]
["","","",""]
["","","",""]
["","","",""]
["","","",""]
["","","",""]
["","","",""]
["","","",""]
["","","",""]
["","","",""]
["","","",""]
["","","",""]
["","","",""]
["","","",""]
["","","",""]
["","","",""]
["","","",""]
["","","",""]
["","","",""]
["","","",""]
["","","",""]
["","","",""]
["","","",""]
["","","",""]
["","","",""]
["","","",""]
["","","",""]
["","","",""]
["","","",""]
["","","",""]
["","","",""]
["","","",""]
["","","",""]
["","","",""]
["","","",""]
["","","",""]
["","","",""]
["","","",""]
["","","",""]
["","","",""]
["","","",""]
["","","",""]
["","","",""]
["","","",""]
["",{"$f":"IF(LEFT(E1349,4)=\"2974\",LEFT(E1349,5),IF(LEFT(E1349,4)=\"1688\",LEFT(E1349,6),IF(LEFT(E1349,5)=\"29073\",LEFT(E1349,5),IF(LEFT(E1349,5)=\"49671\",LEFT(E1349,5),IF(LEFT(E1349,5)=\"4458\",LEFT(E1349,5),IF(LEFT(E1349,6)=\"681611\",LEFT(E1349,6),IF(LEFT(E1349,3)=\"401\",\"4010\",IF(LEFT(E1349,3)=\"411\",\"4110\",LEFT(E1349,4)))))))))","v":""},{"$f":"LEFT(E1349,3)","v":""},""]
["","","",""]
[{"$f":"LEFT(B1351,1)","v":""},"","",""]
["","","",""]
["","","",""]
["","","",""]
["","","",""]
["","","",""]
["","","",""]
["","","",""]
["","","",""]
["","","",""]
["","","",""]
["","","",""]
["","","",""]
["","","",{"$f":"IF(OR(LEFT(E1364,2)=\"42\",LEFT(E1364,2)=\"43\",LEFT(E1364,2)=\"44\",LEFT(E1364,2)=\"45\",LEFT(E1364,2)=\"46\",LEFT(E1364,2)=\"47\",LEFT(E1364,2)=\"51\"),IF(G1364<0,LEFT(E1364,2)&\"P\",LEFT(E1364,2)&\"A\"),LEFT(E1364,2))","v":""}]
["","","",""]
["","","",""]
["","","",""]
["","","",""]
["","","",""]
["","","",""]
["","","",""]
["","","",""]
["","","",""]
["","","",""]
["","","",""]
["","","",""]
["","","",""]
["","","",""]
["","","",""]
["","","",""]
["","","",""]
["","","",""]
["","","",""]
["","","",""]
["","","",""]
["","","",""]
["","","",""]
["","","",""]
["","","",""]
["","","",""]
["","","",""]
["","","",""]
["","","",""]
["","","",""]
["","","",""]
["","","",""]
["","","",""]
["","","",""]
["","","",""]
["","","",""]
["","","",""]
["","","",""]
["","","",""]
["","","",""]
["","","",""]
["","","",""]
["","","",""]
["","","",""]
["","","",""]
["","","",""]
["","","",""]
["","","",""]
["",{"$f":"IF(LEFT(E1413,4)=\"2974\",LEFT(E1413,5),IF(LEFT(E1413,4)=\"1688\",LEFT(E1413,6),IF(LEFT(E1413,5)=\"29073\",LEFT(E1413,5),IF(LEFT(E1413,5)=\"49671\",LEFT(E1413,5),IF(LEFT(E1413,5)=\"4458\",LEFT(E1413,5),IF(LEFT(E1413,6)=\"681611\",LEFT(E1413,6),IF(LEFT(E1413,3)=\"401\",\"4010\",IF(LEFT(E1413,3)=\"411\",\"4110\",LEFT(E1413,4)))))))))","v":""},{"$f":"LEFT(E1413,3)","v":""},""]
["","","",""]
[{"$f":"LEFT(B1415,1)","v":""},"","",""]
["","","",""]
["","","",""]
["","","",""]
["","","",""]
["","","",""]
["","","",""]
["","","",""]
["","","",""]
["","","",""]
["","","",""]
["","","",""]
["","","",""]
["","","",{"$f":"IF(OR(LEFT(E1428,2)=\"42\",LEFT(E1428,2)=\"43\",LEFT(E1428,2)=\"44\",LEFT(E1428,2)=\"45\",LEFT(E1428,2)=\"46\",LEFT(E1428,2)=\"47\",LEFT(E1428,2)=\"51\"),IF(G1428<0,LEFT(E1428,2)&\"P\",LEFT(E1428,2)&\"A\"),LEFT(E1428,2))","v":""}]
["","","",""]
["","","",""]
["","","",""]
["","","",""]
["","","",""]
["","","",""]
["","","",""]
["","","",""]
["","","",""]
["","","",""]
["","","",""]
["","","",""]
["","","",""]
["","","",""]
["","","",""]
["","","",""]
["","","",""]
["","","",""]
["","","",""]
["","","",""]
["","","",""]
["","","",""]
["","","",""]
["","","",""]
["","","",""]
["","","",""]
["","","",""]
["","","",""]
["","","",""]
["","","",""]
["","","",""]
["","","",""]
["","","",""]
["","","",""]
["","","",""]
["","","",""]
["","","",""]
["","","",""]
["","","",""]
["","","",""]
["","","",""]
["","","",""]
["","","",""]
["","","",""]
["","","",""]
["","","",""]
["","","",""]
["","","",""]
["",{"$f":"IF(LEFT(E1477,4)=\"2974\",LEFT(E1477,5),IF(LEFT(E1477,4)=\"1688\",LEFT(E1477,6),IF(LEFT(E1477,5)=\"29073\",LEFT(E1477,5),IF(LEFT(E1477,5)=\"49671\",LEFT(E1477,5),IF(LEFT(E1477,5)=\"4458\",LEFT(E1477,5),IF(LEFT(E1477,6)=\"681611\",LEFT(E1477,6),IF(LEFT(E1477,3)=\"401\",\"4010\",IF(LEFT(E1477,3)=\"411\",\"4110\",LEFT(E1477,4)))))))))","v":""},{"$f":"LEFT(E1477,3)","v":""},""]
["","","",""]
[{"$f":"LEFT(B1479,1)","v":""},"","",""]
["","","",""]
["","","",""]
["","","",""]
["","","",""]
["","","",""]
["","","",""]
["","","",""]
["","","",""]
["","","",""]
["","","",""]
["","","",""]
["","","",""]
["","","",{"$f":"IF(OR(LEFT(E1492,2)=\"42\",LEFT(E1492,2)=\"43\",LEFT(E1492,2)=\"44\",LEFT(E1492,2)=\"45\",LEFT(E1492,2)=\"46\",LEFT(E1492,2)=\"47\",LEFT(E1492,2)=\"51\"),IF(G1492<0,LEFT(E1492,2)&\"P\",LEFT(E1492,2)&\"A\"),LEFT(E1492,2))","v":""}]
["","","",""]
["","","",""]
["","","",""]
["","","",""]
["","","",""]
["","","",""]
["","","",""]
["","","",""]
["","","",""]
["","","",""]
["","","",""]
["","","",""]
["","","",""]
["","","",""]
["","","",""]
["","","",""]
["","","",""]
["","","",""]
["","","",""]
["","","",""]
["","","",""]
["","","",""]
["","","",""]
["","","",""]
["","","",""]
["","","",""]
["","","",""]
["","","",""]
["","","",""]
["","","",""]
["","","",""]
["","","",""]
["","","",""]
["","","",""]
["","","",""]
["","","",""]
["","","",""]
["","","",""]
["","","",""]
["","","",""]
["","","",""]
["","","",""]
["","","",""]
["","","",""]
["","","",""]
["","","",""]
["","","",""]
["","","",""]
["",{"$f":"IF(LEFT(E1541,4)=\"2974\",LEFT(E1541,5),IF(LEFT(E1541,4)=\"1688\",LEFT(E1541,6),IF(LEFT(E1541,5)=\"29073\",LEFT(E1541,5),IF(LEFT(E1541,5)=\"49671\",LEFT(E1541,5),IF(LEFT(E1541,5)=\"4458\",LEFT(E1541,5),IF(LEFT(E1541,6)=\"681611\",LEFT(E1541,6),IF(LEFT(E1541,3)=\"401\",\"4010\",IF(LEFT(E1541,3)=\"411\",\"4110\",LEFT(E1541,4)))))))))","v":""},{"$f":"LEFT(E1541,3)","v":""},""]
["","","",""]
[{"$f":"LEFT(B1543,1)","v":""},"","",""]
["","","",""]
["","","",""]
["","","",""]
["","","",""]
["","","",""]
["","","",""]
["","","",""]
["","","",""]
["","","",""]
["","","",""]
["","","",""]
["","","",""]
["","","",{"$f":"IF(OR(LEFT(E1556,2)=\"42\",LEFT(E1556,2)=\"43\",LEFT(E1556,2)=\"44\",LEFT(E1556,2)=\"45\",LEFT(E1556,2)=\"46\",LEFT(E1556,2)=\"47\",LEFT(E1556,2)=\"51\"),IF(G1556<0,LEFT(E1556,2)&\"P\",LEFT(E1556,2)&\"A\"),LEFT(E1556,2))","v":""}]
["","","",""]
["","","",""]
["","","",""]
["","","",""]
["","","",""]
["","","",""]
["","","",""]
["","","",""]
["","","",""]
["","","",""]
["","","",""]
["","","",""]
["","","",""]
["","","",""]
["","","",""]
["","","",""]
["","","",""]
["","","",""]
["","","",""]
["","","",""]
["","","",""]
["","","",""]
["","","",""]
["","","",""]
["","","",""]
["","","",""]
["","","",""]
["","","",""]
["","","",""]
["","","",""]
["","","",""]
["","","",""]
["","","",""]
["","","",""]
["","","",""]
["","","",""]
["","","",""]
["","","",""]
["","","",""]
["","","",""]
["","","",""]
["","","",""]
["","","",""]
["","","",""]
["","","",""]
["","","",""]
["","","",""]
["","","",""]
["",{"$f":"IF(LEFT(E1605,4)=\"2974\",LEFT(E1605,5),IF(LEFT(E1605,4)=\"1688\",LEFT(E1605,6),IF(LEFT(E1605,5)=\"29073\",LEFT(E1605,5),IF(LEFT(E1605,5)=\"49671\",LEFT(E1605,5),IF(LEFT(E1605,5)=\"4458\",LEFT(E1605,5),IF(LEFT(E1605,6)=\"681611\",LEFT(E1605,6),IF(LEFT(E1605,3)=\"401\",\"4010\",IF(LEFT(E1605,3)=\"411\",\"4110\",LEFT(E1605,4)))))))))","v":""},{"$f":"LEFT(E1605,3)","v":""},""]
["","","",""]
[{"$f":"LEFT(B1607,1)","v":""},"","",""]
["","","",""]
["","","",""]
["","","",""]
["","","",""]
["","","",""]
["","","",""]
["","","",""]
["","","",""]
["","","",""]
["","","",""]
["","","",""]
["","","",""]
["","","",{"$f":"IF(OR(LEFT(E1620,2)=\"42\",LEFT(E1620,2)=\"43\",LEFT(E1620,2)=\"44\",LEFT(E1620,2)=\"45\",LEFT(E1620,2)=\"46\",LEFT(E1620,2)=\"47\",LEFT(E1620,2)=\"51\"),IF(G1620<0,LEFT(E1620,2)&\"P\",LEFT(E1620,2)&\"A\"),LEFT(E1620,2))","v":""}]
["","","",""]
["","","",""]
["","","",""]
["","","",""]
["","","",""]
["","","",""]
["","","",""]
["","","",""]
["","","",""]
["","","",""]
["","","",""]
["","","",""]
["","","",""]
["","","",""]
["","","",""]
["","","",""]
["","","",""]
["","","",""]
["","","",""]
["","","",""]
["","","",""]
["","","",""]
["","","",""]
["","","",""]
["","","",""]
["","","",""]
["","","",""]
["","","",""]
["","","",""]
["","","",""]
["","","",""]
["","","",""]
["","","",""]
["","","",""]
["","","",""]
["","","",""]
["","","",""]
["","","",""]
["","","",""]
["","","",""]
["","","",""]
["","","",""]
["","","",""]
["","","",""]
["","","",""]
["","","",""]
["","","",""]
["","","",""]
["",{"$f":"IF(LEFT(E1669,4)=\"2974\",LEFT(E1669,5),IF(LEFT(E1669,4)=\"1688\",LEFT(E1669,6),IF(LEFT(E1669,5)=\"29073\",LEFT(E1669,5),IF(LEFT(E1669,5)=\"49671\",LEFT(E1669,5),IF(LEFT(E1669,5)=\"4458\",LEFT(E1669,5),IF(LEFT(E1669,6)=\"681611\",LEFT(E1669,6),IF(LEFT(E1669,3)=\"401\",\"4010\",IF(LEFT(E1669,3)=\"411\",\"4110\",LEFT(E1669,4)))))))))","v":""},{"$f":"LEFT(E1669,3)","v":""},""]
["","","",""]
[{"$f":"LEFT(B1671,1)","v":""},"","",""]
["","","",""]
["","","",""]
["","","",""]
["","","",""]
["","","",""]
["","","",""]
["","","",""]
["","","",""]
["","","",""]
["","","",""]
["","","",""]
["","","",""]
["","","",{"$f":"IF(OR(LEFT(E1684,2)=\"42\",LEFT(E1684,2)=\"43\",LEFT(E1684,2)=\"44\",LEFT(E1684,2)=\"45\",LEFT(E1684,2)=\"46\",LEFT(E1684,2)=\"47\",LEFT(E1684,2)=\"51\"),IF(G1684<0,LEFT(E1684,2)&\"P\",LEFT(E1684,2)&\"A\"),LEFT(E1684,2))","v":""}]
["","","",""]
["","","",""]
["","","",""]
["","","",""]
["","","",""]
["","","",""]
["","","",""]
["","","",""]
["","","",""]
["","","",""]
["","","",""]
["","","",""]
["","","",""]
["","","",""]
["","","",""]
["","","",""]
["","","",""]
["","","",""]
["","","",""]
["","","",""]
["","","",""]
["","","",""]
["","","",""]
["","","",""]
["","","",""]
["","","",""]
["","","",""]
["","","",""]
["","","",""]
["","","",""]
["","","",""]
["","","",""]
["","","",""]
["","","",""]
["","","",""]
["","","",""]
["","","",""]
["","","",""]
["","","",""]
["","","",""]
["","","",""]
["","","",""]
["","","",""]
["","","",""]
["","","",""]
["","","",""]
["","","",""]
["","","",""]
["",{"$f":"IF(LEFT(E1733,4)=\"2974\",LEFT(E1733,5),IF(LEFT(E1733,4)=\"1688\",LEFT(E1733,6),IF(LEFT(E1733,5)=\"29073\",LEFT(E1733,5),IF(LEFT(E1733,5)=\"49671\",LEFT(E1733,5),IF(LEFT(E1733,5)=\"4458\",LEFT(E1733,5),IF(LEFT(E1733,6)=\"681611\",LEFT(E1733,6),IF(LEFT(E1733,3)=\"401\",\"4010\",IF(LEFT(E1733,3)=\"411\",\"4110\",LEFT(E1733,4)))))))))","v":""},{"$f":"LEFT(E1733,3)","v":""},""]
["","","",""]
[{"$f":"LEFT(B1735,1)","v":""},"","",""]
["","","",""]
["","","",""]
["","","",""]
["","","",""]
["","","",""]
["","","",""]
["","","",""]
["","","",""]
["","","",""]
["","","",""]
["","","",""]
["","","",""]
["","","",{"$f":"IF(OR(LEFT(E1748,2)=\"42\",LEFT(E1748,2)=\"43\",LEFT(E1748,2)=\"44\",LEFT(E1748,2)=\"45\",LEFT(E1748,2)=\"46\",LEFT(E1748,2)=\"47\",LEFT(E1748,2)=\"51\"),IF(G1748<0,LEFT(E1748,2)&\"P\",LEFT(E1748,2)&\"A\"),LEFT(E1748,2))","v":""}]
["","","",""]
["","","",""]
["","","",""]
["","","",""]
["","","",""]
["","","",""]
["","","",""]
["","","",""]
["","","",""]
["","","",""]
["","","",""]
["","","",""]
["","","",""]
["","","",""]
["","","",""]
["","","",""]
["","","",""]
["","","",""]
["","","",""]
["","","",""]
["","","",""]
["","","",""]
["","","",""]
["","","",""]
["","","",""]
["","","",""]
["","","",""]
["","","",""]
["","","",""]
["","","",""]
["","","",""]
["","","",""]
["","","",""]
["","","",""]
["","","",""]
["","","",""]
["","","",""]
["","","",""]
["","","",""]
["","","",""]
["","","",""]
["","","",""]
["","","",""]
["","","",""]
["","","",""]
["","","",""]
["","","",""]
["","","",""]
["",{"$f":"IF(LEFT(E1797,4)=\"2974\",LEFT(E1797,5),IF(LEFT(E1797,4)=\"1688\",LEFT(E1797,6),IF(LEFT(E1797,5)=\"29073\",LEFT(E1797,5),IF(LEFT(E1797,5)=\"49671\",LEFT(E1797,5),IF(LEFT(E1797,5)=\"4458\",LEFT(E1797,5),IF(LEFT(E1797,6)=\"681611\",LEFT(E1797,6),IF(LEFT(E1797,3)=\"401\",\"4010\",IF(LEFT(E1797,3)=\"411\",\"4110\",LEFT(E1797,4)))))))))","v":""},{"$f":"LEFT(E1797,3)","v":""},""]
["","","",""]
[{"$f":"LEFT(B1799,1)","v":""},"","",""]
["","","",""]
["","","",""]
["","","",""]
["","","",""]
[null,null,null,null,null,"Contrôle Balance",{"$f":"SUM(G5:G1802)","v":0},{"$f":"SUM(H5:H1802)","v":0}]
[null,"RNC",null,null,null,"Résultat",{"$f":"SUMIF($A$5:$A$1802,\"7\",G5:G1802)+SUMIF($A$5:$A$1802,\"6\",G5:G1802)","v":0},{"$f":"SUMIF($A$5:$A$1802,\"7\",H5:H1802)+SUMIF($A$5:$A$1802,\"6\",H5:H1802)","v":0}]

{"sheet":"Ctrl Cptes HF","index":5,"n_rows":1800,"n_cols":3,"rows_kept":1800,"cut":false,"hidden":false,"merged":[]}
["Comptes","Ctrl racine","Ctrl comptes"]
[{"$f":"IF(ISBLANK(Import!E5),\"\",Import!E5)","v":""},{"$f":"IF(ISBLANK(Import!E5),\"\",(IFERROR(VLOOKUP(Import!C5,Mapping!C:F,1,FALSE),\"HF, à reclasser\")))","v":""},{"$f":"IF(ISBLANK(Import!E5),\"\",IF(B2=(LEFT(A2,3)),(IFERROR(VLOOKUP(Import!B5,Mapping!D:F,2,FALSE),\"Cpte à créer dans Mapping\")),\"Cpte à reclasser\"))","v":""}]
[{"$f":"IF(ISBLANK(Import!E6),\"\",Import!E6)","v":""},{"$f":"IF(ISBLANK(Import!E6),\"\",(IFERROR(VLOOKUP(Import!C6,Mapping!C:F,1,FALSE),\"HF, à reclasser\")))","v":""},{"$f":"IF(ISBLANK(Import!E6),\"\",IF(B3=(LEFT(A3,3)),(IFERROR(VLOOKUP(Import!B6,Mapping!D:F,2,FALSE),\"Cpte à créer dans Mapping\")),\"Cpte à reclasser\"))","v":""}]
[{"$f":"IF(ISBLANK(Import!E7),\"\",Import!E7)","v":""},{"$f":"IF(ISBLANK(Import!E7),\"\",(IFERROR(VLOOKUP(Import!C7,Mapping!C:F,1,FALSE),\"HF, à reclasser\")))","v":""},{"$f":"IF(ISBLANK(Import!E7),\"\",IF(B4=(LEFT(A4,3)),(IFERROR(VLOOKUP(Import!B7,Mapping!D:F,2,FALSE),\"Cpte à créer dans Mapping\")),\"Cpte à reclasser\"))","v":""}]
[{"$f":"IF(ISBLANK(Import!E8),\"\",Import!E8)","v":""},{"$f":"IF(ISBLANK(Import!E8),\"\",(IFERROR(VLOOKUP(Import!C8,Mapping!C:F,1,FALSE),\"HF, à reclasser\")))","v":""},{"$f":"IF(ISBLANK(Import!E8),\"\",IF(B5=(LEFT(A5,3)),(IFERROR(VLOOKUP(Import!B8,Mapping!D:F,2,FALSE),\"Cpte à créer dans Mapping\")),\"Cpte à reclasser\"))","v":""}]
[{"$f":"IF(ISBLANK(Import!E9),\"\",Import!E9)","v":""},{"$f":"IF(ISBLANK(Import!E9),\"\",(IFERROR(VLOOKUP(Import!C9,Mapping!C:F,1,FALSE),\"HF, à reclasser\")))","v":""},{"$f":"IF(ISBLANK(Import!E9),\"\",IF(B6=(LEFT(A6,3)),(IFERROR(VLOOKUP(Import!B9,Mapping!D:F,2,FALSE),\"Cpte à créer dans Mapping\")),\"Cpte à reclasser\"))","v":""}]
[{"$f":"IF(ISBLANK(Import!E10),\"\",Import!E10)","v":""},{"$f":"IF(ISBLANK(Import!E10),\"\",(IFERROR(VLOOKUP(Import!C10,Mapping!C:F,1,FALSE),\"HF, à reclasser\")))","v":""},{"$f":"IF(ISBLANK(Import!E10),\"\",IF(B7=(LEFT(A7,3)),(IFERROR(VLOOKUP(Import!B10,Mapping!D:F,2,FALSE),\"Cpte à créer dans Mapping\")),\"Cpte à reclasser\"))","v":""}]
[{"$f":"IF(ISBLANK(Import!E11),\"\",Import!E11)","v":""},{"$f":"IF(ISBLANK(Import!E11),\"\",(IFERROR(VLOOKUP(Import!C11,Mapping!C:F,1,FALSE),\"HF, à reclasser\")))","v":""},{"$f":"IF(ISBLANK(Import!E11),\"\",IF(B8=(LEFT(A8,3)),(IFERROR(VLOOKUP(Import!B11,Mapping!D:F,2,FALSE),\"Cpte à créer dans Mapping\")),\"Cpte à reclasser\"))","v":""}]
[{"$f":"IF(ISBLANK(Import!E12),\"\",Import!E12)","v":""},{"$f":"IF(ISBLANK(Import!E12),\"\",(IFERROR(VLOOKUP(Import!C12,Mapping!C:F,1,FALSE),\"HF, à reclasser\")))","v":""},{"$f":"IF(ISBLANK(Import!E12),\"\",IF(B9=(LEFT(A9,3)),(IFERROR(VLOOKUP(Import!B12,Mapping!D:F,2,FALSE),\"Cpte à créer dans Mapping\")),\"Cpte à reclasser\"))","v":""}]
[{"$f":"IF(ISBLANK(Import!E13),\"\",Import!E13)","v":""},{"$f":"IF(ISBLANK(Import!E13),\"\",(IFERROR(VLOOKUP(Import!C13,Mapping!C:F,1,FALSE),\"HF, à reclasser\")))","v":""},{"$f":"IF(ISBLANK(Import!E13),\"\",IF(B10=(LEFT(A10,3)),(IFERROR(VLOOKUP(Import!B13,Mapping!D:F,2,FALSE),\"Cpte à créer dans Mapping\")),\"Cpte à reclasser\"))","v":""}]
[{"$f":"IF(ISBLANK(Import!E14),\"\",Import!E14)","v":""},{"$f":"IF(ISBLANK(Import!E14),\"\",(IFERROR(VLOOKUP(Import!C14,Mapping!C:F,1,FALSE),\"HF, à reclasser\")))","v":""},{"$f":"IF(ISBLANK(Import!E14),\"\",IF(B11=(LEFT(A11,3)),(IFERROR(VLOOKUP(Import!B14,Mapping!D:F,2,FALSE),\"Cpte à créer dans Mapping\")),\"Cpte à reclasser\"))","v":""}]
[{"$f":"IF(ISBLANK(Import!E15),\"\",Import!E15)","v":""},{"$f":"IF(ISBLANK(Import!E15),\"\",(IFERROR(VLOOKUP(Import!C15,Mapping!C:F,1,FALSE),\"HF, à reclasser\")))","v":""},{"$f":"IF(ISBLANK(Import!E15),\"\",IF(B12=(LEFT(A12,3)),(IFERROR(VLOOKUP(Import!B15,Mapping!D:F,2,FALSE),\"Cpte à créer dans Mapping\")),\"Cpte à reclasser\"))","v":""}]
[{"$f":"IF(ISBLANK(Import!E16),\"\",Import!E16)","v":""},{"$f":"IF(ISBLANK(Import!E16),\"\",(IFERROR(VLOOKUP(Import!C16,Mapping!C:F,1,FALSE),\"HF, à reclasser\")))","v":""},{"$f":"IF(ISBLANK(Import!E16),\"\",IF(B13=(LEFT(A13,3)),(IFERROR(VLOOKUP(Import!B16,Mapping!D:F,2,FALSE),\"Cpte à créer dans Mapping\")),\"Cpte à reclasser\"))","v":""}]
[{"$f":"IF(ISBLANK(Import!E17),\"\",Import!E17)","v":""},{"$f":"IF(ISBLANK(Import!E17),\"\",(IFERROR(VLOOKUP(Import!C17,Mapping!C:F,1,FALSE),\"HF, à reclasser\")))","v":""},{"$f":"IF(ISBLANK(Import!E17),\"\",IF(B14=(LEFT(A14,3)),(IFERROR(VLOOKUP(Import!B17,Mapping!D:F,2,FALSE),\"Cpte à créer dans Mapping\")),\"Cpte à reclasser\"))","v":""}]
[{"$f":"IF(ISBLANK(Import!E18),\"\",Import!E18)","v":""},{"$f":"IF(ISBLANK(Import!E18),\"\",(IFERROR(VLOOKUP(Import!C18,Mapping!C:F,1,FALSE),\"HF, à reclasser\")))","v":""},{"$f":"IF(ISBLANK(Import!E18),\"\",IF(B15=(LEFT(A15,3)),(IFERROR(VLOOKUP(Import!B18,Mapping!D:F,2,FALSE),\"Cpte à créer dans Mapping\")),\"Cpte à reclasser\"))","v":""}]
[{"$f":"IF(ISBLANK(Import!E19),\"\",Import!E19)","v":""},{"$f":"IF(ISBLANK(Import!E19),\"\",(IFERROR(VLOOKUP(Import!C19,Mapping!C:F,1,FALSE),\"HF, à reclasser\")))","v":""},{"$f":"IF(ISBLANK(Import!E19),\"\",IF(B16=(LEFT(A16,3)),(IFERROR(VLOOKUP(Import!B19,Mapping!D:F,2,FALSE),\"Cpte à créer dans Mapping\")),\"Cpte à reclasser\"))","v":""}]
[{"$f":"IF(ISBLANK(Import!E20),\"\",Import!E20)","v":""},{"$f":"IF(ISBLANK(Import!E20),\"\",(IFERROR(VLOOKUP(Import!C20,Mapping!C:F,1,FALSE),\"HF, à reclasser\")))","v":""},{"$f":"IF(ISBLANK(Import!E20),\"\",IF(B17=(LEFT(A17,3)),(IFERROR(VLOOKUP(Import!B20,Mapping!D:F,2,FALSE),\"Cpte à créer dans Mapping\")),\"Cpte à reclasser\"))","v":""}]
[{"$f":"IF(ISBLANK(Import!E21),\"\",Import!E21)","v":""},{"$f":"IF(ISBLANK(Import!E21),\"\",(IFERROR(VLOOKUP(Import!C21,Mapping!C:F,1,FALSE),\"HF, à reclasser\")))","v":""},{"$f":"IF(ISBLANK(Import!E21),\"\",IF(B18=(LEFT(A18,3)),(IFERROR(VLOOKUP(Import!B21,Mapping!D:F,2,FALSE),\"Cpte à créer dans Mapping\")),\"Cpte à reclasser\"))","v":""}]
[{"$f":"IF(ISBLANK(Import!E22),\"\",Import!E22)","v":""},{"$f":"IF(ISBLANK(Import!E22),\"\",(IFERROR(VLOOKUP(Import!C22,Mapping!C:F,1,FALSE),\"HF, à reclasser\")))","v":""},{"$f":"IF(ISBLANK(Import!E22),\"\",IF(B19=(LEFT(A19,3)),(IFERROR(VLOOKUP(Import!B22,Mapping!D:F,2,FALSE),\"Cpte à créer dans Mapping\")),\"Cpte à reclasser\"))","v":""}]
[{"$f":"IF(ISBLANK(Import!E23),\"\",Import!E23)","v":""},{"$f":"IF(ISBLANK(Import!E23),\"\",(IFERROR(VLOOKUP(Import!C23,Mapping!C:F,1,FALSE),\"HF, à reclasser\")))","v":""},{"$f":"IF(ISBLANK(Import!E23),\"\",IF(B20=(LEFT(A20,3)),(IFERROR(VLOOKUP(Import!B23,Mapping!D:F,2,FALSE),\"Cpte à créer dans Mapping\")),\"Cpte à reclasser\"))","v":""}]
[{"$f":"IF(ISBLANK(Import!E24),\"\",Import!E24)","v":""},{"$f":"IF(ISBLANK(Import!E24),\"\",(IFERROR(VLOOKUP(Import!C24,Mapping!C:F,1,FALSE),\"HF, à reclasser\")))","v":""},{"$f":"IF(ISBLANK(Import!E24),\"\",IF(B21=(LEFT(A21,3)),(IFERROR(VLOOKUP(Import!B24,Mapping!D:F,2,FALSE),\"Cpte à créer dans Mapping\")),\"Cpte à reclasser\"))","v":""}]
[{"$f":"IF(ISBLANK(Import!E25),\"\",Import!E25)","v":""},{"$f":"IF(ISBLANK(Import!E25),\"\",(IFERROR(VLOOKUP(Import!C25,Mapping!C:F,1,FALSE),\"HF, à reclasser\")))","v":""},{"$f":"IF(ISBLANK(Import!E25),\"\",IF(B22=(LEFT(A22,3)),(IFERROR(VLOOKUP(Import!B25,Mapping!D:F,2,FALSE),\"Cpte à créer dans Mapping\")),\"Cpte à reclasser\"))","v":""}]
[{"$f":"IF(ISBLANK(Import!E26),\"\",Import!E26)","v":""},{"$f":"IF(ISBLANK(Import!E26),\"\",(IFERROR(VLOOKUP(Import!C26,Mapping!C:F,1,FALSE),\"HF, à reclasser\")))","v":""},{"$f":"IF(ISBLANK(Import!E26),\"\",IF(B23=(LEFT(A23,3)),(IFERROR(VLOOKUP(Import!B26,Mapping!D:F,2,FALSE),\"Cpte à créer dans Mapping\")),\"Cpte à reclasser\"))","v":""}]
[{"$f":"IF(ISBLANK(Import!E27),\"\",Import!E27)","v":""},{"$f":"IF(ISBLANK(Import!E27),\"\",(IFERROR(VLOOKUP(Import!C27,Mapping!C:F,1,FALSE),\"HF, à reclasser\")))","v":""},{"$f":"IF(ISBLANK(Import!E27),\"\",IF(B24=(LEFT(A24,3)),(IFERROR(VLOOKUP(Import!B27,Mapping!D:F,2,FALSE),\"Cpte à créer dans Mapping\")),\"Cpte à reclasser\"))","v":""}]
[{"$f":"IF(ISBLANK(Import!E28),\"\",Import!E28)","v":""},{"$f":"IF(ISBLANK(Import!E28),\"\",(IFERROR(VLOOKUP(Import!C28,Mapping!C:F,1,FALSE),\"HF, à reclasser\")))","v":""},{"$f":"IF(ISBLANK(Import!E28),\"\",IF(B25=(LEFT(A25,3)),(IFERROR(VLOOKUP(Import!B28,Mapping!D:F,2,FALSE),\"Cpte à créer dans Mapping\")),\"Cpte à reclasser\"))","v":""}]
[{"$f":"IF(ISBLANK(Import!E29),\"\",Import!E29)","v":""},{"$f":"IF(ISBLANK(Import!E29),\"\",(IFERROR(VLOOKUP(Import!C29,Mapping!C:F,1,FALSE),\"HF, à reclasser\")))","v":""},{"$f":"IF(ISBLANK(Import!E29),\"\",IF(B26=(LEFT(A26,3)),(IFERROR(VLOOKUP(Import!B29,Mapping!D:F,2,FALSE),\"Cpte à créer dans Mapping\")),\"Cpte à reclasser\"))","v":""}]
[{"$f":"IF(ISBLANK(Import!E30),\"\",Import!E30)","v":""},{"$f":"IF(ISBLANK(Import!E30),\"\",(IFERROR(VLOOKUP(Import!C30,Mapping!C:F,1,FALSE),\"HF, à reclasser\")))","v":""},{"$f":"IF(ISBLANK(Import!E30),\"\",IF(B27=(LEFT(A27,3)),(IFERROR(VLOOKUP(Import!B30,Mapping!D:F,2,FALSE),\"Cpte à créer dans Mapping\")),\"Cpte à reclasser\"))","v":""}]
[{"$f":"IF(ISBLANK(Import!E31),\"\",Import!E31)","v":""},{"$f":"IF(ISBLANK(Import!E31),\"\",(IFERROR(VLOOKUP(Import!C31,Mapping!C:F,1,FALSE),\"HF, à reclasser\")))","v":""},{"$f":"IF(ISBLANK(Import!E31),\"\",IF(B28=(LEFT(A28,3)),(IFERROR(VLOOKUP(Import!B31,Mapping!D:F,2,FALSE),\"Cpte à créer dans Mapping\")),\"Cpte à reclasser\"))","v":""}]
[{"$f":"IF(ISBLANK(Import!E32),\"\",Import!E32)","v":""},{"$f":"IF(ISBLANK(Import!E32),\"\",(IFERROR(VLOOKUP(Import!C32,Mapping!C:F,1,FALSE),\"HF, à reclasser\")))","v":""},{"$f":"IF(ISBLANK(Import!E32),\"\",IF(B29=(LEFT(A29,3)),(IFERROR(VLOOKUP(Import!B32,Mapping!D:F,2,FALSE),\"Cpte à créer dans Mapping\")),\"Cpte à reclasser\"))","v":""}]
[{"$f":"IF(ISBLANK(Import!E33),\"\",Import!E33)","v":""},{"$f":"IF(ISBLANK(Import!E33),\"\",(IFERROR(VLOOKUP(Import!C33,Mapping!C:F,1,FALSE),\"HF, à reclasser\")))","v":""},{"$f":"IF(ISBLANK(Import!E33),\"\",IF(B30=(LEFT(A30,3)),(IFERROR(VLOOKUP(Import!B33,Mapping!D:F,2,FALSE),\"Cpte à créer dans Mapping\")),\"Cpte à reclasser\"))","v":""}]
[{"$f":"IF(ISBLANK(Import!E34),\"\",Import!E34)","v":""},{"$f":"IF(ISBLANK(Import!E34),\"\",(IFERROR(VLOOKUP(Import!C34,Mapping!C:F,1,FALSE),\"HF, à reclasser\")))","v":""},{"$f":"IF(ISBLANK(Import!E34),\"\",IF(B31=(LEFT(A31,3)),(IFERROR(VLOOKUP(Import!B34,Mapping!D:F,2,FALSE),\"Cpte à créer dans Mapping\")),\"Cpte à reclasser\"))","v":""}]
[{"$f":"IF(ISBLANK(Import!E35),\"\",Import!E35)","v":""},{"$f":"IF(ISBLANK(Import!E35),\"\",(IFERROR(VLOOKUP(Import!C35,Mapping!C:F,1,FALSE),\"HF, à reclasser\")))","v":""},{"$f":"IF(ISBLANK(Import!E35),\"\",IF(B32=(LEFT(A32,3)),(IFERROR(VLOOKUP(Import!B35,Mapping!D:F,2,FALSE),\"Cpte à créer dans Mapping\")),\"Cpte à reclasser\"))","v":""}]
[{"$f":"IF(ISBLANK(Import!E36),\"\",Import!E36)","v":""},{"$f":"IF(ISBLANK(Import!E36),\"\",(IFERROR(VLOOKUP(Import!C36,Mapping!C:F,1,FALSE),\"HF, à reclasser\")))","v":""},{"$f":"IF(ISBLANK(Import!E36),\"\",IF(B33=(LEFT(A33,3)),(IFERROR(VLOOKUP(Import!B36,Mapping!D:F,2,FALSE),\"Cpte à créer dans Mapping\")),\"Cpte à reclasser\"))","v":""}]
[{"$f":"IF(ISBLANK(Import!E37),\"\",Import!E37)","v":""},{"$f":"IF(ISBLANK(Import!E37),\"\",(IFERROR(VLOOKUP(Import!C37,Mapping!C:F,1,FALSE),\"HF, à reclasser\")))","v":""},{"$f":"IF(ISBLANK(Import!E37),\"\",IF(B34=(LEFT(A34,3)),(IFERROR(VLOOKUP(Import!B37,Mapping!D:F,2,FALSE),\"Cpte à créer dans Mapping\")),\"Cpte à reclasser\"))","v":""}]
[{"$f":"IF(ISBLANK(Import!E38),\"\",Import!E38)","v":""},{"$f":"IF(ISBLANK(Import!E38),\"\",(IFERROR(VLOOKUP(Import!C38,Mapping!C:F,1,FALSE),\"HF, à reclasser\")))","v":""},{"$f":"IF(ISBLANK(Import!E38),\"\",IF(B35=(LEFT(A35,3)),(IFERROR(VLOOKUP(Import!B38,Mapping!D:F,2,FALSE),\"Cpte à créer dans Mapping\")),\"Cpte à reclasser\"))","v":""}]
[{"$f":"IF(ISBLANK(Import!E39),\"\",Import!E39)","v":""},{"$f":"IF(ISBLANK(Import!E39),\"\",(IFERROR(VLOOKUP(Import!C39,Mapping!C:F,1,FALSE),\"HF, à reclasser\")))","v":""},{"$f":"IF(ISBLANK(Import!E39),\"\",IF(B36=(LEFT(A36,3)),(IFERROR(VLOOKUP(Import!B39,Mapping!D:F,2,FALSE),\"Cpte à créer dans Mapping\")),\"Cpte à reclasser\"))","v":""}]
[{"$f":"IF(ISBLANK(Import!E40),\"\",Import!E40)","v":""},{"$f":"IF(ISBLANK(Import!E40),\"\",(IFERROR(VLOOKUP(Import!C40,Mapping!C:F,1,FALSE),\"HF, à reclasser\")))","v":""},{"$f":"IF(ISBLANK(Import!E40),\"\",IF(B37=(LEFT(A37,3)),(IFERROR(VLOOKUP(Import!B40,Mapping!D:F,2,FALSE),\"Cpte à créer dans Mapping\")),\"Cpte à reclasser\"))","v":""}]
[{"$f":"IF(ISBLANK(Import!E41),\"\",Import!E41)","v":""},{"$f":"IF(ISBLANK(Import!E41),\"\",(IFERROR(VLOOKUP(Import!C41,Mapping!C:F,1,FALSE),\"HF, à reclasser\")))","v":""},{"$f":"IF(ISBLANK(Import!E41),\"\",IF(B38=(LEFT(A38,3)),(IFERROR(VLOOKUP(Import!B41,Mapping!D:F,2,FALSE),\"Cpte à créer dans Mapping\")),\"Cpte à reclasser\"))","v":""}]
[{"$f":"IF(ISBLANK(Import!E42),\"\",Import!E42)","v":""},{"$f":"IF(ISBLANK(Import!E42),\"\",(IFERROR(VLOOKUP(Import!C42,Mapping!C:F,1,FALSE),\"HF, à reclasser\")))","v":""},{"$f":"IF(ISBLANK(Import!E42),\"\",IF(B39=(LEFT(A39,3)),(IFERROR(VLOOKUP(Import!B42,Mapping!D:F,2,FALSE),\"Cpte à créer dans Mapping\")),\"Cpte à reclasser\"))","v":""}]
[{"$f":"IF(ISBLANK(Import!E43),\"\",Import!E43)","v":""},{"$f":"IF(ISBLANK(Import!E43),\"\",(IFERROR(VLOOKUP(Import!C43,Mapping!C:F,1,FALSE),\"HF, à reclasser\")))","v":""},{"$f":"IF(ISBLANK(Import!E43),\"\",IF(B40=(LEFT(A40,3)),(IFERROR(VLOOKUP(Import!B43,Mapping!D:F,2,FALSE),\"Cpte à créer dans Mapping\")),\"Cpte à reclasser\"))","v":""}]
[{"$f":"IF(ISBLANK(Import!E44),\"\",Import!E44)","v":""},{"$f":"IF(ISBLANK(Import!E44),\"\",(IFERROR(VLOOKUP(Import!C44,Mapping!C:F,1,FALSE),\"HF, à reclasser\")))","v":""},{"$f":"IF(ISBLANK(Import!E44),\"\",IF(B41=(LEFT(A41,3)),(IFERROR(VLOOKUP(Import!B44,Mapping!D:F,2,FALSE),\"Cpte à créer dans Mapping\")),\"Cpte à reclasser\"))","v":""}]
[{"$f":"IF(ISBLANK(Import!E45),\"\",Import!E45)","v":""},{"$f":"IF(ISBLANK(Import!E45),\"\",(IFERROR(VLOOKUP(Import!C45,Mapping!C:F,1,FALSE),\"HF, à reclasser\")))","v":""},{"$f":"IF(ISBLANK(Import!E45),\"\",IF(B42=(LEFT(A42,3)),(IFERROR(VLOOKUP(Import!B45,Mapping!D:F,2,FALSE),\"Cpte à créer dans Mapping\")),\"Cpte à reclasser\"))","v":""}]
[{"$f":"IF(ISBLANK(Import!E46),\"\",Import!E46)","v":""},{"$f":"IF(ISBLANK(Import!E46),\"\",(IFERROR(VLOOKUP(Import!C46,Mapping!C:F,1,FALSE),\"HF, à reclasser\")))","v":""},{"$f":"IF(ISBLANK(Import!E46),\"\",IF(B43=(LEFT(A43,3)),(IFERROR(VLOOKUP(Import!B46,Mapping!D:F,2,FALSE),\"Cpte à créer dans Mapping\")),\"Cpte à reclasser\"))","v":""}]
[{"$f":"IF(ISBLANK(Import!E47),\"\",Import!E47)","v":""},{"$f":"IF(ISBLANK(Import!E47),\"\",(IFERROR(VLOOKUP(Import!C47,Mapping!C:F,1,FALSE),\"HF, à reclasser\")))","v":""},{"$f":"IF(ISBLANK(Import!E47),\"\",IF(B44=(LEFT(A44,3)),(IFERROR(VLOOKUP(Import!B47,Mapping!D:F,2,FALSE),\"Cpte à créer dans Mapping\")),\"Cpte à reclasser\"))","v":""}]
[{"$f":"IF(ISBLANK(Import!E48),\"\",Import!E48)","v":""},{"$f":"IF(ISBLANK(Import!E48),\"\",(IFERROR(VLOOKUP(Import!C48,Mapping!C:F,1,FALSE),\"HF, à reclasser\")))","v":""},{"$f":"IF(ISBLANK(Import!E48),\"\",IF(B45=(LEFT(A45,3)),(IFERROR(VLOOKUP(Import!B48,Mapping!D:F,2,FALSE),\"Cpte à créer dans Mapping\")),\"Cpte à reclasser\"))","v":""}]
[{"$f":"IF(ISBLANK(Import!E49),\"\",Import!E49)","v":""},{"$f":"IF(ISBLANK(Import!E49),\"\",(IFERROR(VLOOKUP(Import!C49,Mapping!C:F,1,FALSE),\"HF, à reclasser\")))","v":""},{"$f":"IF(ISBLANK(Import!E49),\"\",IF(B46=(LEFT(A46,3)),(IFERROR(VLOOKUP(Import!B49,Mapping!D:F,2,FALSE),\"Cpte à créer dans Mapping\")),\"Cpte à reclasser\"))","v":""}]
[{"$f":"IF(ISBLANK(Import!E50),\"\",Import!E50)","v":""},{"$f":"IF(ISBLANK(Import!E50),\"\",(IFERROR(VLOOKUP(Import!C50,Mapping!C:F,1,FALSE),\"HF, à reclasser\")))","v":""},{"$f":"IF(ISBLANK(Import!E50),\"\",IF(B47=(LEFT(A47,3)),(IFERROR(VLOOKUP(Import!B50,Mapping!D:F,2,FALSE),\"Cpte à créer dans Mapping\")),\"Cpte à reclasser\"))","v":""}]
[{"$f":"IF(ISBLANK(Import!E51),\"\",Import!E51)","v":""},{"$f":"IF(ISBLANK(Import!E51),\"\",(IFERROR(VLOOKUP(Import!C51,Mapping!C:F,1,FALSE),\"HF, à reclasser\")))","v":""},{"$f":"IF(ISBLANK(Import!E51),\"\",IF(B48=(LEFT(A48,3)),(IFERROR(VLOOKUP(Import!B51,Mapping!D:F,2,FALSE),\"Cpte à créer dans Mapping\")),\"Cpte à reclasser\"))","v":""}]
[{"$f":"IF(ISBLANK(Import!E52),\"\",Import!E52)","v":""},{"$f":"IF(ISBLANK(Import!E52),\"\",(IFERROR(VLOOKUP(Import!C52,Mapping!C:F,1,FALSE),\"HF, à reclasser\")))","v":""},{"$f":"IF(ISBLANK(Import!E52),\"\",IF(B49=(LEFT(A49,3)),(IFERROR(VLOOKUP(Import!B52,Mapping!D:F,2,FALSE),\"Cpte à créer dans Mapping\")),\"Cpte à reclasser\"))","v":""}]
[{"$f":"IF(ISBLANK(Import!E53),\"\",Import!E53)","v":""},{"$f":"IF(ISBLANK(Import!E53),\"\",(IFERROR(VLOOKUP(Import!C53,Mapping!C:F,1,FALSE),\"HF, à reclasser\")))","v":""},{"$f":"IF(ISBLANK(Import!E53),\"\",IF(B50=(LEFT(A50,3)),(IFERROR(VLOOKUP(Import!B53,Mapping!D:F,2,FALSE),\"Cpte à créer dans Mapping\")),\"Cpte à reclasser\"))","v":""}]
[{"$f":"IF(ISBLANK(Import!E54),\"\",Import!E54)","v":""},{"$f":"IF(ISBLANK(Import!E54),\"\",(IFERROR(VLOOKUP(Import!C54,Mapping!C:F,1,FALSE),\"HF, à reclasser\")))","v":""},{"$f":"IF(ISBLANK(Import!E54),\"\",IF(B51=(LEFT(A51,3)),(IFERROR(VLOOKUP(Import!B54,Mapping!D:F,2,FALSE),\"Cpte à créer dans Mapping\")),\"Cpte à reclasser\"))","v":""}]
[{"$f":"IF(ISBLANK(Import!E55),\"\",Import!E55)","v":""},{"$f":"IF(ISBLANK(Import!E55),\"\",(IFERROR(VLOOKUP(Import!C55,Mapping!C:F,1,FALSE),\"HF, à reclasser\")))","v":""},{"$f":"IF(ISBLANK(Import!E55),\"\",IF(B52=(LEFT(A52,3)),(IFERROR(VLOOKUP(Import!B55,Mapping!D:F,2,FALSE),\"Cpte à créer dans Mapping\")),\"Cpte à reclasser\"))","v":""}]
[{"$f":"IF(ISBLANK(Import!E56),\"\",Import!E56)","v":""},{"$f":"IF(ISBLANK(Import!E56),\"\",(IFERROR(VLOOKUP(Import!C56,Mapping!C:F,1,FALSE),\"HF, à reclasser\")))","v":""},{"$f":"IF(ISBLANK(Import!E56),\"\",IF(B53=(LEFT(A53,3)),(IFERROR(VLOOKUP(Import!B56,Mapping!D:F,2,FALSE),\"Cpte à créer dans Mapping\")),\"Cpte à reclasser\"))","v":""}]
[{"$f":"IF(ISBLANK(Import!E57),\"\",Import!E57)","v":""},{"$f":"IF(ISBLANK(Import!E57),\"\",(IFERROR(VLOOKUP(Import!C57,Mapping!C:F,1,FALSE),\"HF, à reclasser\")))","v":""},{"$f":"IF(ISBLANK(Import!E57),\"\",IF(B54=(LEFT(A54,3)),(IFERROR(VLOOKUP(Import!B57,Mapping!D:F,2,FALSE),\"Cpte à créer dans Mapping\")),\"Cpte à reclasser\"))","v":""}]
[{"$f":"IF(ISBLANK(Import!E58),\"\",Import!E58)","v":""},{"$f":"IF(ISBLANK(Import!E58),\"\",(IFERROR(VLOOKUP(Import!C58,Mapping!C:F,1,FALSE),\"HF, à reclasser\")))","v":""},{"$f":"IF(ISBLANK(Import!E58),\"\",IF(B55=(LEFT(A55,3)),(IFERROR(VLOOKUP(Import!B58,Mapping!D:F,2,FALSE),\"Cpte à créer dans Mapping\")),\"Cpte à reclasser\"))","v":""}]
[{"$f":"IF(ISBLANK(Import!E59),\"\",Import!E59)","v":""},{"$f":"IF(ISBLANK(Import!E59),\"\",(IFERROR(VLOOKUP(Import!C59,Mapping!C:F,1,FALSE),\"HF, à reclasser\")))","v":""},{"$f":"IF(ISBLANK(Import!E59),\"\",IF(B56=(LEFT(A56,3)),(IFERROR(VLOOKUP(Import!B59,Mapping!D:F,2,FALSE),\"Cpte à créer dans Mapping\")),\"Cpte à reclasser\"))","v":""}]
[{"$f":"IF(ISBLANK(Import!E60),\"\",Import!E60)","v":""},{"$f":"IF(ISBLANK(Import!E60),\"\",(IFERROR(VLOOKUP(Import!C60,Mapping!C:F,1,FALSE),\"HF, à reclasser\")))","v":""},{"$f":"IF(ISBLANK(Import!E60),\"\",IF(B57=(LEFT(A57,3)),(IFERROR(VLOOKUP(Import!B60,Mapping!D:F,2,FALSE),\"Cpte à créer dans Mapping\")),\"Cpte à reclasser\"))","v":""}]
[{"$f":"IF(ISBLANK(Import!E61),\"\",Import!E61)","v":""},{"$f":"IF(ISBLANK(Import!E61),\"\",(IFERROR(VLOOKUP(Import!C61,Mapping!C:F,1,FALSE),\"HF, à reclasser\")))","v":""},{"$f":"IF(ISBLANK(Import!E61),\"\",IF(B58=(LEFT(A58,3)),(IFERROR(VLOOKUP(Import!B61,Mapping!D:F,2,FALSE),\"Cpte à créer dans Mapping\")),\"Cpte à reclasser\"))","v":""}]
[{"$f":"IF(ISBLANK(Import!E62),\"\",Import!E62)","v":""},{"$f":"IF(ISBLANK(Import!E62),\"\",(IFERROR(VLOOKUP(Import!C62,Mapping!C:F,1,FALSE),\"HF, à reclasser\")))","v":""},{"$f":"IF(ISBLANK(Import!E62),\"\",IF(B59=(LEFT(A59,3)),(IFERROR(VLOOKUP(Import!B62,Mapping!D:F,2,FALSE),\"Cpte à créer dans Mapping\")),\"Cpte à reclasser\"))","v":""}]
[{"$f":"IF(ISBLANK(Import!E63),\"\",Import!E63)","v":""},{"$f":"IF(ISBLANK(Import!E63),\"\",(IFERROR(VLOOKUP(Import!C63,Mapping!C:F,1,FALSE),\"HF, à reclasser\")))","v":""},{"$f":"IF(ISBLANK(Import!E63),\"\",IF(B60=(LEFT(A60,3)),(IFERROR(VLOOKUP(Import!B63,Mapping!D:F,2,FALSE),\"Cpte à créer dans Mapping\")),\"Cpte à reclasser\"))","v":""}]
[{"$f":"IF(ISBLANK(Import!E64),\"\",Import!E64)","v":""},{"$f":"IF(ISBLANK(Import!E64),\"\",(IFERROR(VLOOKUP(Import!C64,Mapping!C:F,1,FALSE),\"HF, à reclasser\")))","v":""},{"$f":"IF(ISBLANK(Import!E64),\"\",IF(B61=(LEFT(A61,3)),(IFERROR(VLOOKUP(Import!B64,Mapping!D:F,2,FALSE),\"Cpte à créer dans Mapping\")),\"Cpte à reclasser\"))","v":""}]
[{"$f":"IF(ISBLANK(Import!E65),\"\",Import!E65)","v":""},{"$f":"IF(ISBLANK(Import!E65),\"\",(IFERROR(VLOOKUP(Import!C65,Mapping!C:F,1,FALSE),\"HF, à reclasser\")))","v":""},{"$f":"IF(ISBLANK(Import!E65),\"\",IF(B62=(LEFT(A62,3)),(IFERROR(VLOOKUP(Import!B65,Mapping!D:F,2,FALSE),\"Cpte à créer dans Mapping\")),\"Cpte à reclasser\"))","v":""}]
[{"$f":"IF(ISBLANK(Import!E66),\"\",Import!E66)","v":""},{"$f":"IF(ISBLANK(Import!E66),\"\",(IFERROR(VLOOKUP(Import!C66,Mapping!C:F,1,FALSE),\"HF, à reclasser\")))","v":""},{"$f":"IF(ISBLANK(Import!E66),\"\",IF(B63=(LEFT(A63,3)),(IFERROR(VLOOKUP(Import!B66,Mapping!D:F,2,FALSE),\"Cpte à créer dans Mapping\")),\"Cpte à reclasser\"))","v":""}]
[{"$f":"IF(ISBLANK(Import!E67),\"\",Import!E67)","v":""},{"$f":"IF(ISBLANK(Import!E67),\"\",(IFERROR(VLOOKUP(Import!C67,Mapping!C:F,1,FALSE),\"HF, à reclasser\")))","v":""},{"$f":"IF(ISBLANK(Import!E67),\"\",IF(B64=(LEFT(A64,3)),(IFERROR(VLOOKUP(Import!B67,Mapping!D:F,2,FALSE),\"Cpte à créer dans Mapping\")),\"Cpte à reclasser\"))","v":""}]
[{"$f":"IF(ISBLANK(Import!E68),\"\",Import!E68)","v":""},{"$f":"IF(ISBLANK(Import!E68),\"\",(IFERROR(VLOOKUP(Import!C68,Mapping!C:F,1,FALSE),\"HF, à reclasser\")))","v":""},{"$f":"IF(ISBLANK(Import!E68),\"\",IF(B65=(LEFT(A65,3)),(IFERROR(VLOOKUP(Import!B68,Mapping!D:F,2,FALSE),\"Cpte à créer dans Mapping\")),\"Cpte à reclasser\"))","v":""}]
[{"$f":"IF(ISBLANK(Import!E69),\"\",Import!E69)","v":""},{"$f":"IF(ISBLANK(Import!E69),\"\",(IFERROR(VLOOKUP(Import!C69,Mapping!C:F,1,FALSE),\"HF, à reclasser\")))","v":""},{"$f":"IF(ISBLANK(Import!E69),\"\",IF(B66=(LEFT(A66,3)),(IFERROR(VLOOKUP(Import!B69,Mapping!D:F,2,FALSE),\"Cpte à créer dans Mapping\")),\"Cpte à reclasser\"))","v":""}]
[{"$f":"IF(ISBLANK(Import!E70),\"\",Import!E70)","v":""},{"$f":"IF(ISBLANK(Import!E70),\"\",(IFERROR(VLOOKUP(Import!C70,Mapping!C:F,1,FALSE),\"HF, à reclasser\")))","v":""},{"$f":"IF(ISBLANK(Import!E70),\"\",IF(B67=(LEFT(A67,3)),(IFERROR(VLOOKUP(Import!B70,Mapping!D:F,2,FALSE),\"Cpte à créer dans Mapping\")),\"Cpte à reclasser\"))","v":""}]
[{"$f":"IF(ISBLANK(Import!E71),\"\",Import!E71)","v":""},{"$f":"IF(ISBLANK(Import!E71),\"\",(IFERROR(VLOOKUP(Import!C71,Mapping!C:F,1,FALSE),\"HF, à reclasser\")))","v":""},{"$f":"IF(ISBLANK(Import!E71),\"\",IF(B68=(LEFT(A68,3)),(IFERROR(VLOOKUP(Import!B71,Mapping!D:F,2,FALSE),\"Cpte à créer dans Mapping\")),\"Cpte à reclasser\"))","v":""}]
[{"$f":"IF(ISBLANK(Import!E72),\"\",Import!E72)","v":""},{"$f":"IF(ISBLANK(Import!E72),\"\",(IFERROR(VLOOKUP(Import!C72,Mapping!C:F,1,FALSE),\"HF, à reclasser\")))","v":""},{"$f":"IF(ISBLANK(Import!E72),\"\",IF(B69=(LEFT(A69,3)),(IFERROR(VLOOKUP(Import!B72,Mapping!D:F,2,FALSE),\"Cpte à créer dans Mapping\")),\"Cpte à reclasser\"))","v":""}]
[{"$f":"IF(ISBLANK(Import!E73),\"\",Import!E73)","v":""},{"$f":"IF(ISBLANK(Import!E73),\"\",(IFERROR(VLOOKUP(Import!C73,Mapping!C:F,1,FALSE),\"HF, à reclasser\")))","v":""},{"$f":"IF(ISBLANK(Import!E73),\"\",IF(B70=(LEFT(A70,3)),(IFERROR(VLOOKUP(Import!B73,Mapping!D:F,2,FALSE),\"Cpte à créer dans Mapping\")),\"Cpte à reclasser\"))","v":""}]
[{"$f":"IF(ISBLANK(Import!E74),\"\",Import!E74)","v":""},{"$f":"IF(ISBLANK(Import!E74),\"\",(IFERROR(VLOOKUP(Import!C74,Mapping!C:F,1,FALSE),\"HF, à reclasser\")))","v":""},{"$f":"IF(ISBLANK(Import!E74),\"\",IF(B71=(LEFT(A71,3)),(IFERROR(VLOOKUP(Import!B74,Mapping!D:F,2,FALSE),\"Cpte à créer dans Mapping\")),\"Cpte à reclasser\"))","v":""}]
[{"$f":"IF(ISBLANK(Import!E75),\"\",Import!E75)","v":""},{"$f":"IF(ISBLANK(Import!E75),\"\",(IFERROR(VLOOKUP(Import!C75,Mapping!C:F,1,FALSE),\"HF, à reclasser\")))","v":""},{"$f":"IF(ISBLANK(Import!E75),\"\",IF(B72=(LEFT(A72,3)),(IFERROR(VLOOKUP(Import!B75,Mapping!D:F,2,FALSE),\"Cpte à créer dans Mapping\")),\"Cpte à reclasser\"))","v":""}]
[{"$f":"IF(ISBLANK(Import!E76),\"\",Import!E76)","v":""},{"$f":"IF(ISBLANK(Import!E76),\"\",(IFERROR(VLOOKUP(Import!C76,Mapping!C:F,1,FALSE),\"HF, à reclasser\")))","v":""},{"$f":"IF(ISBLANK(Import!E76),\"\",IF(B73=(LEFT(A73,3)),(IFERROR(VLOOKUP(Import!B76,Mapping!D:F,2,FALSE),\"Cpte à créer dans Mapping\")),\"Cpte à reclasser\"))","v":""}]
[{"$f":"IF(ISBLANK(Import!E77),\"\",Import!E77)","v":""},{"$f":"IF(ISBLANK(Import!E77),\"\",(IFERROR(VLOOKUP(Import!C77,Mapping!C:F,1,FALSE),\"HF, à reclasser\")))","v":""},{"$f":"IF(ISBLANK(Import!E77),\"\",IF(B74=(LEFT(A74,3)),(IFERROR(VLOOKUP(Import!B77,Mapping!D:F,2,FALSE),\"Cpte à créer dans Mapping\")),\"Cpte à reclasser\"))","v":""}]
[{"$f":"IF(ISBLANK(Import!E78),\"\",Import!E78)","v":""},{"$f":"IF(ISBLANK(Import!E78),\"\",(IFERROR(VLOOKUP(Import!C78,Mapping!C:F,1,FALSE),\"HF, à reclasser\")))","v":""},{"$f":"IF(ISBLANK(Import!E78),\"\",IF(B75=(LEFT(A75,3)),(IFERROR(VLOOKUP(Import!B78,Mapping!D:F,2,FALSE),\"Cpte à créer dans Mapping\")),\"Cpte à reclasser\"))","v":""}]
[{"$f":"IF(ISBLANK(Import!E79),\"\",Import!E79)","v":""},{"$f":"IF(ISBLANK(Import!E79),\"\",(IFERROR(VLOOKUP(Import!C79,Mapping!C:F,1,FALSE),\"HF, à reclasser\")))","v":""},{"$f":"IF(ISBLANK(Import!E79),\"\",IF(B76=(LEFT(A76,3)),(IFERROR(VLOOKUP(Import!B79,Mapping!D:F,2,FALSE),\"Cpte à créer dans Mapping\")),\"Cpte à reclasser\"))","v":""}]
[{"$f":"IF(ISBLANK(Import!E80),\"\",Import!E80)","v":""},{"$f":"IF(ISBLANK(Import!E80),\"\",(IFERROR(VLOOKUP(Import!C80,Mapping!C:F,1,FALSE),\"HF, à reclasser\")))","v":""},{"$f":"IF(ISBLANK(Import!E80),\"\",IF(B77=(LEFT(A77,3)),(IFERROR(VLOOKUP(Import!B80,Mapping!D:F,2,FALSE),\"Cpte à créer dans Mapping\")),\"Cpte à reclasser\"))","v":""}]
[{"$f":"IF(ISBLANK(Import!E81),\"\",Import!E81)","v":""},{"$f":"IF(ISBLANK(Import!E81),\"\",(IFERROR(VLOOKUP(Import!C81,Mapping!C:F,1,FALSE),\"HF, à reclasser\")))","v":""},{"$f":"IF(ISBLANK(Import!E81),\"\",IF(B78=(LEFT(A78,3)),(IFERROR(VLOOKUP(Import!B81,Mapping!D:F,2,FALSE),\"Cpte à créer dans Mapping\")),\"Cpte à reclasser\"))","v":""}]
[{"$f":"IF(ISBLANK(Import!E82),\"\",Import!E82)","v":""},{"$f":"IF(ISBLANK(Import!E82),\"\",(IFERROR(VLOOKUP(Import!C82,Mapping!C:F,1,FALSE),\"HF, à reclasser\")))","v":""},{"$f":"IF(ISBLANK(Import!E82),\"\",IF(B79=(LEFT(A79,3)),(IFERROR(VLOOKUP(Import!B82,Mapping!D:F,2,FALSE),\"Cpte à créer dans Mapping\")),\"Cpte à reclasser\"))","v":""}]
[{"$f":"IF(ISBLANK(Import!E83),\"\",Import!E83)","v":""},{"$f":"IF(ISBLANK(Import!E83),\"\",(IFERROR(VLOOKUP(Import!C83,Mapping!C:F,1,FALSE),\"HF, à reclasser\")))","v":""},{"$f":"IF(ISBLANK(Import!E83),\"\",IF(B80=(LEFT(A80,3)),(IFERROR(VLOOKUP(Import!B83,Mapping!D:F,2,FALSE),\"Cpte à créer dans Mapping\")),\"Cpte à reclasser\"))","v":""}]
[{"$f":"IF(ISBLANK(Import!E84),\"\",Import!E84)","v":""},{"$f":"IF(ISBLANK(Import!E84),\"\",(IFERROR(VLOOKUP(Import!C84,Mapping!C:F,1,FALSE),\"HF, à reclasser\")))","v":""},{"$f":"IF(ISBLANK(Import!E84),\"\",IF(B81=(LEFT(A81,3)),(IFERROR(VLOOKUP(Import!B84,Mapping!D:F,2,FALSE),\"Cpte à créer dans Mapping\")),\"Cpte à reclasser\"))","v":""}]
[{"$f":"IF(ISBLANK(Import!E85),\"\",Import!E85)","v":""},{"$f":"IF(ISBLANK(Import!E85),\"\",(IFERROR(VLOOKUP(Import!C85,Mapping!C:F,1,FALSE),\"HF, à reclasser\")))","v":""},{"$f":"IF(ISBLANK(Import!E85),\"\",IF(B82=(LEFT(A82,3)),(IFERROR(VLOOKUP(Import!B85,Mapping!D:F,2,FALSE),\"Cpte à créer dans Mapping\")),\"Cpte à reclasser\"))","v":""}]
[{"$f":"IF(ISBLANK(Import!E86),\"\",Import!E86)","v":""},{"$f":"IF(ISBLANK(Import!E86),\"\",(IFERROR(VLOOKUP(Import!C86,Mapping!C:F,1,FALSE),\"HF, à reclasser\")))","v":""},{"$f":"IF(ISBLANK(Import!E86),\"\",IF(B83=(LEFT(A83,3)),(IFERROR(VLOOKUP(Import!B86,Mapping!D:F,2,FALSE),\"Cpte à créer dans Mapping\")),\"Cpte à reclasser\"))","v":""}]
[{"$f":"IF(ISBLANK(Import!E87),\"\",Import!E87)","v":""},{"$f":"IF(ISBLANK(Import!E87),\"\",(IFERROR(VLOOKUP(Import!C87,Mapping!C:F,1,FALSE),\"HF, à reclasser\")))","v":""},{"$f":"IF(ISBLANK(Import!E87),\"\",IF(B84=(LEFT(A84,3)),(IFERROR(VLOOKUP(Import!B87,Mapping!D:F,2,FALSE),\"Cpte à créer dans Mapping\")),\"Cpte à reclasser\"))","v":""}]
[{"$f":"IF(ISBLANK(Import!E88),\"\",Import!E88)","v":""},{"$f":"IF(ISBLANK(Import!E88),\"\",(IFERROR(VLOOKUP(Import!C88,Mapping!C:F,1,FALSE),\"HF, à reclasser\")))","v":""},{"$f":"IF(ISBLANK(Import!E88),\"\",IF(B85=(LEFT(A85,3)),(IFERROR(VLOOKUP(Import!B88,Mapping!D:F,2,FALSE),\"Cpte à créer dans Mapping\")),\"Cpte à reclasser\"))","v":""}]
[{"$f":"IF(ISBLANK(Import!E89),\"\",Import!E89)","v":""},{"$f":"IF(ISBLANK(Import!E89),\"\",(IFERROR(VLOOKUP(Import!C89,Mapping!C:F,1,FALSE),\"HF, à reclasser\")))","v":""},{"$f":"IF(ISBLANK(Import!E89),\"\",IF(B86=(LEFT(A86,3)),(IFERROR(VLOOKUP(Import!B89,Mapping!D:F,2,FALSE),\"Cpte à créer dans Mapping\")),\"Cpte à reclasser\"))","v":""}]
[{"$f":"IF(ISBLANK(Import!E90),\"\",Import!E90)","v":""},{"$f":"IF(ISBLANK(Import!E90),\"\",(IFERROR(VLOOKUP(Import!C90,Mapping!C:F,1,FALSE),\"HF, à reclasser\")))","v":""},{"$f":"IF(ISBLANK(Import!E90),\"\",IF(B87=(LEFT(A87,3)),(IFERROR(VLOOKUP(Import!B90,Mapping!D:F,2,FALSE),\"Cpte à créer dans Mapping\")),\"Cpte à reclasser\"))","v":""}]
[{"$f":"IF(ISBLANK(Import!E91),\"\",Import!E91)","v":""},{"$f":"IF(ISBLANK(Import!E91),\"\",(IFERROR(VLOOKUP(Import!C91,Mapping!C:F,1,FALSE),\"HF, à reclasser\")))","v":""},{"$f":"IF(ISBLANK(Import!E91),\"\",IF(B88=(LEFT(A88,3)),(IFERROR(VLOOKUP(Import!B91,Mapping!D:F,2,FALSE),\"Cpte à créer dans Mapping\")),\"Cpte à reclasser\"))","v":""}]
[{"$f":"IF(ISBLANK(Import!E92),\"\",Import!E92)","v":""},{"$f":"IF(ISBLANK(Import!E92),\"\",(IFERROR(VLOOKUP(Import!C92,Mapping!C:F,1,FALSE),\"HF, à reclasser\")))","v":""},{"$f":"IF(ISBLANK(Import!E92),\"\",IF(B89=(LEFT(A89,3)),(IFERROR(VLOOKUP(Import!B92,Mapping!D:F,2,FALSE),\"Cpte à créer dans Mapping\")),\"Cpte à reclasser\"))","v":""}]
[{"$f":"IF(ISBLANK(Import!E93),\"\",Import!E93)","v":""},{"$f":"IF(ISBLANK(Import!E93),\"\",(IFERROR(VLOOKUP(Import!C93,Mapping!C:F,1,FALSE),\"HF, à reclasser\")))","v":""},{"$f":"IF(ISBLANK(Import!E93),\"\",IF(B90=(LEFT(A90,3)),(IFERROR(VLOOKUP(Import!B93,Mapping!D:F,2,FALSE),\"Cpte à créer dans Mapping\")),\"Cpte à reclasser\"))","v":""}]
[{"$f":"IF(ISBLANK(Import!E94),\"\",Import!E94)","v":""},{"$f":"IF(ISBLANK(Import!E94),\"\",(IFERROR(VLOOKUP(Import!C94,Mapping!C:F,1,FALSE),\"HF, à reclasser\")))","v":""},{"$f":"IF(ISBLANK(Import!E94),\"\",IF(B91=(LEFT(A91,3)),(IFERROR(VLOOKUP(Import!B94,Mapping!D:F,2,FALSE),\"Cpte à créer dans Mapping\")),\"Cpte à reclasser\"))","v":""}]
[{"$f":"IF(ISBLANK(Import!E95),\"\",Import!E95)","v":""},{"$f":"IF(ISBLANK(Import!E95),\"\",(IFERROR(VLOOKUP(Import!C95,Mapping!C:F,1,FALSE),\"HF, à reclasser\")))","v":""},{"$f":"IF(ISBLANK(Import!E95),\"\",IF(B92=(LEFT(A92,3)),(IFERROR(VLOOKUP(Import!B95,Mapping!D:F,2,FALSE),\"Cpte à créer dans Mapping\")),\"Cpte à reclasser\"))","v":""}]
[{"$f":"IF(ISBLANK(Import!E96),\"\",Import!E96)","v":""},{"$f":"IF(ISBLANK(Import!E96),\"\",(IFERROR(VLOOKUP(Import!C96,Mapping!C:F,1,FALSE),\"HF, à reclasser\")))","v":""},{"$f":"IF(ISBLANK(Import!E96),\"\",IF(B93=(LEFT(A93,3)),(IFERROR(VLOOKUP(Import!B96,Mapping!D:F,2,FALSE),\"Cpte à créer dans Mapping\")),\"Cpte à reclasser\"))","v":""}]
[{"$f":"IF(ISBLANK(Import!E97),\"\",Import!E97)","v":""},{"$f":"IF(ISBLANK(Import!E97),\"\",(IFERROR(VLOOKUP(Import!C97,Mapping!C:F,1,FALSE),\"HF, à reclasser\")))","v":""},{"$f":"IF(ISBLANK(Import!E97),\"\",IF(B94=(LEFT(A94,3)),(IFERROR(VLOOKUP(Import!B97,Mapping!D:F,2,FALSE),\"Cpte à créer dans Mapping\")),\"Cpte à reclasser\"))","v":""}]
[{"$f":"IF(ISBLANK(Import!E98),\"\",Import!E98)","v":""},{"$f":"IF(ISBLANK(Import!E98),\"\",(IFERROR(VLOOKUP(Import!C98,Mapping!C:F,1,FALSE),\"HF, à reclasser\")))","v":""},{"$f":"IF(ISBLANK(Import!E98),\"\",IF(B95=(LEFT(A95,3)),(IFERROR(VLOOKUP(Import!B98,Mapping!D:F,2,FALSE),\"Cpte à créer dans Mapping\")),\"Cpte à reclasser\"))","v":""}]
[{"$f":"IF(ISBLANK(Import!E99),\"\",Import!E99)","v":""},{"$f":"IF(ISBLANK(Import!E99),\"\",(IFERROR(VLOOKUP(Import!C99,Mapping!C:F,1,FALSE),\"HF, à reclasser\")))","v":""},{"$f":"IF(ISBLANK(Import!E99),\"\",IF(B96=(LEFT(A96,3)),(IFERROR(VLOOKUP(Import!B99,Mapping!D:F,2,FALSE),\"Cpte à créer dans Mapping\")),\"Cpte à reclasser\"))","v":""}]
[{"$f":"IF(ISBLANK(Import!E100),\"\",Import!E100)","v":""},{"$f":"IF(ISBLANK(Import!E100),\"\",(IFERROR(VLOOKUP(Import!C100,Mapping!C:F,1,FALSE),\"HF, à reclasser\")))","v":""},{"$f":"IF(ISBLANK(Import!E100),\"\",IF(B97=(LEFT(A97,3)),(IFERROR(VLOOKUP(Import!B100,Mapping!D:F,2,FALSE),\"Cpte à créer dans Mapping\")),\"Cpte à reclasser\"))","v":""}]
[{"$f":"IF(ISBLANK(Import!E101),\"\",Import!E101)","v":""},{"$f":"IF(ISBLANK(Import!E101),\"\",(IFERROR(VLOOKUP(Import!C101,Mapping!C:F,1,FALSE),\"HF, à reclasser\")))","v":""},{"$f":"IF(ISBLANK(Import!E101),\"\",IF(B98=(LEFT(A98,3)),(IFERROR(VLOOKUP(Import!B101,Mapping!D:F,2,FALSE),\"Cpte à créer dans Mapping\")),\"Cpte à reclasser\"))","v":""}]
[{"$f":"IF(ISBLANK(Import!E102),\"\",Import!E102)","v":""},{"$f":"IF(ISBLANK(Import!E102),\"\",(IFERROR(VLOOKUP(Import!C102,Mapping!C:F,1,FALSE),\"HF, à reclasser\")))","v":""},{"$f":"IF(ISBLANK(Import!E102),\"\",IF(B99=(LEFT(A99,3)),(IFERROR(VLOOKUP(Import!B102,Mapping!D:F,2,FALSE),\"Cpte à créer dans Mapping\")),\"Cpte à reclasser\"))","v":""}]
[{"$f":"IF(ISBLANK(Import!E103),\"\",Import!E103)","v":""},{"$f":"IF(ISBLANK(Import!E103),\"\",(IFERROR(VLOOKUP(Import!C103,Mapping!C:F,1,FALSE),\"HF, à reclasser\")))","v":""},{"$f":"IF(ISBLANK(Import!E103),\"\",IF(B100=(LEFT(A100,3)),(IFERROR(VLOOKUP(Import!B103,Mapping!D:F,2,FALSE),\"Cpte à créer dans Mapping\")),\"Cpte à reclasser\"))","v":""}]
[{"$f":"IF(ISBLANK(Import!E104),\"\",Import!E104)","v":""},{"$f":"IF(ISBLANK(Import!E104),\"\",(IFERROR(VLOOKUP(Import!C104,Mapping!C:F,1,FALSE),\"HF, à reclasser\")))","v":""},{"$f":"IF(ISBLANK(Import!E104),\"\",IF(B101=(LEFT(A101,3)),(IFERROR(VLOOKUP(Import!B104,Mapping!D:F,2,FALSE),\"Cpte à créer dans Mapping\")),\"Cpte à reclasser\"))","v":""}]
[{"$f":"IF(ISBLANK(Import!E105),\"\",Import!E105)","v":""},{"$f":"IF(ISBLANK(Import!E105),\"\",(IFERROR(VLOOKUP(Import!C105,Mapping!C:F,1,FALSE),\"HF, à reclasser\")))","v":""},{"$f":"IF(ISBLANK(Import!E105),\"\",IF(B102=(LEFT(A102,3)),(IFERROR(VLOOKUP(Import!B105,Mapping!D:F,2,FALSE),\"Cpte à créer dans Mapping\")),\"Cpte à reclasser\"))","v":""}]
[{"$f":"IF(ISBLANK(Import!E106),\"\",Import!E106)","v":""},{"$f":"IF(ISBLANK(Import!E106),\"\",(IFERROR(VLOOKUP(Import!C106,Mapping!C:F,1,FALSE),\"HF, à reclasser\")))","v":""},{"$f":"IF(ISBLANK(Import!E106),\"\",IF(B103=(LEFT(A103,3)),(IFERROR(VLOOKUP(Import!B106,Mapping!D:F,2,FALSE),\"Cpte à créer dans Mapping\")),\"Cpte à reclasser\"))","v":""}]
[{"$f":"IF(ISBLANK(Import!E107),\"\",Import!E107)","v":""},{"$f":"IF(ISBLANK(Import!E107),\"\",(IFERROR(VLOOKUP(Import!C107,Mapping!C:F,1,FALSE),\"HF, à reclasser\")))","v":""},{"$f":"IF(ISBLANK(Import!E107),\"\",IF(B104=(LEFT(A104,3)),(IFERROR(VLOOKUP(Import!B107,Mapping!D:F,2,FALSE),\"Cpte à créer dans Mapping\")),\"Cpte à reclasser\"))","v":""}]
[{"$f":"IF(ISBLANK(Import!E108),\"\",Import!E108)","v":""},{"$f":"IF(ISBLANK(Import!E108),\"\",(IFERROR(VLOOKUP(Import!C108,Mapping!C:F,1,FALSE),\"HF, à reclasser\")))","v":""},{"$f":"IF(ISBLANK(Import!E108),\"\",IF(B105=(LEFT(A105,3)),(IFERROR(VLOOKUP(Import!B108,Mapping!D:F,2,FALSE),\"Cpte à créer dans Mapping\")),\"Cpte à reclasser\"))","v":""}]
[{"$f":"IF(ISBLANK(Import!E109),\"\",Import!E109)","v":""},{"$f":"IF(ISBLANK(Import!E109),\"\",(IFERROR(VLOOKUP(Import!C109,Mapping!C:F,1,FALSE),\"HF, à reclasser\")))","v":""},{"$f":"IF(ISBLANK(Import!E109),\"\",IF(B106=(LEFT(A106,3)),(IFERROR(VLOOKUP(Import!B109,Mapping!D:F,2,FALSE),\"Cpte à créer dans Mapping\")),\"Cpte à reclasser\"))","v":""}]
[{"$f":"IF(ISBLANK(Import!E110),\"\",Import!E110)","v":""},{"$f":"IF(ISBLANK(Import!E110),\"\",(IFERROR(VLOOKUP(Import!C110,Mapping!C:F,1,FALSE),\"HF, à reclasser\")))","v":""},{"$f":"IF(ISBLANK(Import!E110),\"\",IF(B107=(LEFT(A107,3)),(IFERROR(VLOOKUP(Import!B110,Mapping!D:F,2,FALSE),\"Cpte à créer dans Mapping\")),\"Cpte à reclasser\"))","v":""}]
[{"$f":"IF(ISBLANK(Import!E111),\"\",Import!E111)","v":""},{"$f":"IF(ISBLANK(Import!E111),\"\",(IFERROR(VLOOKUP(Import!C111,Mapping!C:F,1,FALSE),\"HF, à reclasser\")))","v":""},{"$f":"IF(ISBLANK(Import!E111),\"\",IF(B108=(LEFT(A108,3)),(IFERROR(VLOOKUP(Import!B111,Mapping!D:F,2,FALSE),\"Cpte à créer dans Mapping\")),\"Cpte à reclasser\"))","v":""}]
[{"$f":"IF(ISBLANK(Import!E112),\"\",Import!E112)","v":""},{"$f":"IF(ISBLANK(Import!E112),\"\",(IFERROR(VLOOKUP(Import!C112,Mapping!C:F,1,FALSE),\"HF, à reclasser\")))","v":""},{"$f":"IF(ISBLANK(Import!E112),\"\",IF(B109=(LEFT(A109,3)),(IFERROR(VLOOKUP(Import!B112,Mapping!D:F,2,FALSE),\"Cpte à créer dans Mapping\")),\"Cpte à reclasser\"))","v":""}]
[{"$f":"IF(ISBLANK(Import!E113),\"\",Import!E113)","v":""},{"$f":"IF(ISBLANK(Import!E113),\"\",(IFERROR(VLOOKUP(Import!C113,Mapping!C:F,1,FALSE),\"HF, à reclasser\")))","v":""},{"$f":"IF(ISBLANK(Import!E113),\"\",IF(B110=(LEFT(A110,3)),(IFERROR(VLOOKUP(Import!B113,Mapping!D:F,2,FALSE),\"Cpte à créer dans Mapping\")),\"Cpte à reclasser\"))","v":""}]
[{"$f":"IF(ISBLANK(Import!E114),\"\",Import!E114)","v":""},{"$f":"IF(ISBLANK(Import!E114),\"\",(IFERROR(VLOOKUP(Import!C114,Mapping!C:F,1,FALSE),\"HF, à reclasser\")))","v":""},{"$f":"IF(ISBLANK(Import!E114),\"\",IF(B111=(LEFT(A111,3)),(IFERROR(VLOOKUP(Import!B114,Mapping!D:F,2,FALSE),\"Cpte à créer dans Mapping\")),\"Cpte à reclasser\"))","v":""}]
[{"$f":"IF(ISBLANK(Import!E115),\"\",Import!E115)","v":""},{"$f":"IF(ISBLANK(Import!E115),\"\",(IFERROR(VLOOKUP(Import!C115,Mapping!C:F,1,FALSE),\"HF, à reclasser\")))","v":""},{"$f":"IF(ISBLANK(Import!E115),\"\",IF(B112=(LEFT(A112,3)),(IFERROR(VLOOKUP(Import!B115,Mapping!D:F,2,FALSE),\"Cpte à créer dans Mapping\")),\"Cpte à reclasser\"))","v":""}]
[{"$f":"IF(ISBLANK(Import!E116),\"\",Import!E116)","v":""},{"$f":"IF(ISBLANK(Import!E116),\"\",(IFERROR(VLOOKUP(Import!C116,Mapping!C:F,1,FALSE),\"HF, à reclasser\")))","v":""},{"$f":"IF(ISBLANK(Import!E116),\"\",IF(B113=(LEFT(A113,3)),(IFERROR(VLOOKUP(Import!B116,Mapping!D:F,2,FALSE),\"Cpte à créer dans Mapping\")),\"Cpte à reclasser\"))","v":""}]
[{"$f":"IF(ISBLANK(Import!E117),\"\",Import!E117)","v":""},{"$f":"IF(ISBLANK(Import!E117),\"\",(IFERROR(VLOOKUP(Import!C117,Mapping!C:F,1,FALSE),\"HF, à reclasser\")))","v":""},{"$f":"IF(ISBLANK(Import!E117),\"\",IF(B114=(LEFT(A114,3)),(IFERROR(VLOOKUP(Import!B117,Mapping!D:F,2,FALSE),\"Cpte à créer dans Mapping\")),\"Cpte à reclasser\"))","v":""}]
[{"$f":"IF(ISBLANK(Import!E118),\"\",Import!E118)","v":""},{"$f":"IF(ISBLANK(Import!E118),\"\",(IFERROR(VLOOKUP(Import!C118,Mapping!C:F,1,FALSE),\"HF, à reclasser\")))","v":""},{"$f":"IF(ISBLANK(Import!E118),\"\",IF(B115=(LEFT(A115,3)),(IFERROR(VLOOKUP(Import!B118,Mapping!D:F,2,FALSE),\"Cpte à créer dans Mapping\")),\"Cpte à reclasser\"))","v":""}]
[{"$f":"IF(ISBLANK(Import!E119),\"\",Import!E119)","v":""},{"$f":"IF(ISBLANK(Import!E119),\"\",(IFERROR(VLOOKUP(Import!C119,Mapping!C:F,1,FALSE),\"HF, à reclasser\")))","v":""},{"$f":"IF(ISBLANK(Import!E119),\"\",IF(B116=(LEFT(A116,3)),(IFERROR(VLOOKUP(Import!B119,Mapping!D:F,2,FALSE),\"Cpte à créer dans Mapping\")),\"Cpte à reclasser\"))","v":""}]
[{"$f":"IF(ISBLANK(Import!E120),\"\",Import!E120)","v":""},{"$f":"IF(ISBLANK(Import!E120),\"\",(IFERROR(VLOOKUP(Import!C120,Mapping!C:F,1,FALSE),\"HF, à reclasser\")))","v":""},{"$f":"IF(ISBLANK(Import!E120),\"\",IF(B117=(LEFT(A117,3)),(IFERROR(VLOOKUP(Import!B120,Mapping!D:F,2,FALSE),\"Cpte à créer dans Mapping\")),\"Cpte à reclasser\"))","v":""}]
[{"$f":"IF(ISBLANK(Import!E121),\"\",Import!E121)","v":""},{"$f":"IF(ISBLANK(Import!E121),\"\",(IFERROR(VLOOKUP(Import!C121,Mapping!C:F,1,FALSE),\"HF, à reclasser\")))","v":""},{"$f":"IF(ISBLANK(Import!E121),\"\",IF(B118=(LEFT(A118,3)),(IFERROR(VLOOKUP(Import!B121,Mapping!D:F,2,FALSE),\"Cpte à créer dans Mapping\")),\"Cpte à reclasser\"))","v":""}]
[{"$f":"IF(ISBLANK(Import!E122),\"\",Import!E122)","v":""},{"$f":"IF(ISBLANK(Import!E122),\"\",(IFERROR(VLOOKUP(Import!C122,Mapping!C:F,1,FALSE),\"HF, à reclasser\")))","v":""},{"$f":"IF(ISBLANK(Import!E122),\"\",IF(B119=(LEFT(A119,3)),(IFERROR(VLOOKUP(Import!B122,Mapping!D:F,2,FALSE),\"Cpte à créer dans Mapping\")),\"Cpte à reclasser\"))","v":""}]
[{"$f":"IF(ISBLANK(Import!E123),\"\",Import!E123)","v":""},{"$f":"IF(ISBLANK(Import!E123),\"\",(IFERROR(VLOOKUP(Import!C123,Mapping!C:F,1,FALSE),\"HF, à reclasser\")))","v":""},{"$f":"IF(ISBLANK(Import!E123),\"\",IF(B120=(LEFT(A120,3)),(IFERROR(VLOOKUP(Import!B123,Mapping!D:F,2,FALSE),\"Cpte à créer dans Mapping\")),\"Cpte à reclasser\"))","v":""}]
[{"$f":"IF(ISBLANK(Import!E124),\"\",Import!E124)","v":""},{"$f":"IF(ISBLANK(Import!E124),\"\",(IFERROR(VLOOKUP(Import!C124,Mapping!C:F,1,FALSE),\"HF, à reclasser\")))","v":""},{"$f":"IF(ISBLANK(Import!E124),\"\",IF(B121=(LEFT(A121,3)),(IFERROR(VLOOKUP(Import!B124,Mapping!D:F,2,FALSE),\"Cpte à créer dans Mapping\")),\"Cpte à reclasser\"))","v":""}]
[{"$f":"IF(ISBLANK(Import!E125),\"\",Import!E125)","v":""},{"$f":"IF(ISBLANK(Import!E125),\"\",(IFERROR(VLOOKUP(Import!C125,Mapping!C:F,1,FALSE),\"HF, à reclasser\")))","v":""},{"$f":"IF(ISBLANK(Import!E125),\"\",IF(B122=(LEFT(A122,3)),(IFERROR(VLOOKUP(Import!B125,Mapping!D:F,2,FALSE),\"Cpte à créer dans Mapping\")),\"Cpte à reclasser\"))","v":""}]
[{"$f":"IF(ISBLANK(Import!E126),\"\",Import!E126)","v":""},{"$f":"IF(ISBLANK(Import!E126),\"\",(IFERROR(VLOOKUP(Import!C126,Mapping!C:F,1,FALSE),\"HF, à reclasser\")))","v":""},{"$f":"IF(ISBLANK(Import!E126),\"\",IF(B123=(LEFT(A123,3)),(IFERROR(VLOOKUP(Import!B126,Mapping!D:F,2,FALSE),\"Cpte à créer dans Mapping\")),\"Cpte à reclasser\"))","v":""}]
[{"$f":"IF(ISBLANK(Import!E127),\"\",Import!E127)","v":""},{"$f":"IF(ISBLANK(Import!E127),\"\",(IFERROR(VLOOKUP(Import!C127,Mapping!C:F,1,FALSE),\"HF, à reclasser\")))","v":""},{"$f":"IF(ISBLANK(Import!E127),\"\",IF(B124=(LEFT(A124,3)),(IFERROR(VLOOKUP(Import!B127,Mapping!D:F,2,FALSE),\"Cpte à créer dans Mapping\")),\"Cpte à reclasser\"))","v":""}]
[{"$f":"IF(ISBLANK(Import!E128),\"\",Import!E128)","v":""},{"$f":"IF(ISBLANK(Import!E128),\"\",(IFERROR(VLOOKUP(Import!C128,Mapping!C:F,1,FALSE),\"HF, à reclasser\")))","v":""},{"$f":"IF(ISBLANK(Import!E128),\"\",IF(B125=(LEFT(A125,3)),(IFERROR(VLOOKUP(Import!B128,Mapping!D:F,2,FALSE),\"Cpte à créer dans Mapping\")),\"Cpte à reclasser\"))","v":""}]
[{"$f":"IF(ISBLANK(Import!E129),\"\",Import!E129)","v":""},{"$f":"IF(ISBLANK(Import!E129),\"\",(IFERROR(VLOOKUP(Import!C129,Mapping!C:F,1,FALSE),\"HF, à reclasser\")))","v":""},{"$f":"IF(ISBLANK(Import!E129),\"\",IF(B126=(LEFT(A126,3)),(IFERROR(VLOOKUP(Import!B129,Mapping!D:F,2,FALSE),\"Cpte à créer dans Mapping\")),\"Cpte à reclasser\"))","v":""}]
[{"$f":"IF(ISBLANK(Import!E130),\"\",Import!E130)","v":""},{"$f":"IF(ISBLANK(Import!E130),\"\",(IFERROR(VLOOKUP(Import!C130,Mapping!C:F,1,FALSE),\"HF, à reclasser\")))","v":""},{"$f":"IF(ISBLANK(Import!E130),\"\",IF(B127=(LEFT(A127,3)),(IFERROR(VLOOKUP(Import!B130,Mapping!D:F,2,FALSE),\"Cpte à créer dans Mapping\")),\"Cpte à reclasser\"))","v":""}]
[{"$f":"IF(ISBLANK(Import!E131),\"\",Import!E131)","v":""},{"$f":"IF(ISBLANK(Import!E131),\"\",(IFERROR(VLOOKUP(Import!C131,Mapping!C:F,1,FALSE),\"HF, à reclasser\")))","v":""},{"$f":"IF(ISBLANK(Import!E131),\"\",IF(B128=(LEFT(A128,3)),(IFERROR(VLOOKUP(Import!B131,Mapping!D:F,2,FALSE),\"Cpte à créer dans Mapping\")),\"Cpte à reclasser\"))","v":""}]
[{"$f":"IF(ISBLANK(Import!E132),\"\",Import!E132)","v":""},{"$f":"IF(ISBLANK(Import!E132),\"\",(IFERROR(VLOOKUP(Import!C132,Mapping!C:F,1,FALSE),\"HF, à reclasser\")))","v":""},{"$f":"IF(ISBLANK(Import!E132),\"\",IF(B129=(LEFT(A129,3)),(IFERROR(VLOOKUP(Import!B132,Mapping!D:F,2,FALSE),\"Cpte à créer dans Mapping\")),\"Cpte à reclasser\"))","v":""}]
[{"$f":"IF(ISBLANK(Import!E133),\"\",Import!E133)","v":""},{"$f":"IF(ISBLANK(Import!E133),\"\",(IFERROR(VLOOKUP(Import!C133,Mapping!C:F,1,FALSE),\"HF, à reclasser\")))","v":""},{"$f":"IF(ISBLANK(Import!E133),\"\",IF(B130=(LEFT(A130,3)),(IFERROR(VLOOKUP(Import!B133,Mapping!D:F,2,FALSE),\"Cpte à créer dans Mapping\")),\"Cpte à reclasser\"))","v":""}]
[{"$f":"IF(ISBLANK(Import!E134),\"\",Import!E134)","v":""},{"$f":"IF(ISBLANK(Import!E134),\"\",(IFERROR(VLOOKUP(Import!C134,Mapping!C:F,1,FALSE),\"HF, à reclasser\")))","v":""},{"$f":"IF(ISBLANK(Import!E134),\"\",IF(B131=(LEFT(A131,3)),(IFERROR(VLOOKUP(Import!B134,Mapping!D:F,2,FALSE),\"Cpte à créer dans Mapping\")),\"Cpte à reclasser\"))","v":""}]
[{"$f":"IF(ISBLANK(Import!E135),\"\",Import!E135)","v":""},{"$f":"IF(ISBLANK(Import!E135),\"\",(IFERROR(VLOOKUP(Import!C135,Mapping!C:F,1,FALSE),\"HF, à reclasser\")))","v":""},{"$f":"IF(ISBLANK(Import!E135),\"\",IF(B132=(LEFT(A132,3)),(IFERROR(VLOOKUP(Import!B135,Mapping!D:F,2,FALSE),\"Cpte à créer dans Mapping\")),\"Cpte à reclasser\"))","v":""}]
[{"$f":"IF(ISBLANK(Import!E136),\"\",Import!E136)","v":""},{"$f":"IF(ISBLANK(Import!E136),\"\",(IFERROR(VLOOKUP(Import!C136,Mapping!C:F,1,FALSE),\"HF, à reclasser\")))","v":""},{"$f":"IF(ISBLANK(Import!E136),\"\",IF(B133=(LEFT(A133,3)),(IFERROR(VLOOKUP(Import!B136,Mapping!D:F,2,FALSE),\"Cpte à créer dans Mapping\")),\"Cpte à reclasser\"))","v":""}]
[{"$f":"IF(ISBLANK(Import!E137),\"\",Import!E137)","v":""},{"$f":"IF(ISBLANK(Import!E137),\"\",(IFERROR(VLOOKUP(Import!C137,Mapping!C:F,1,FALSE),\"HF, à reclasser\")))","v":""},{"$f":"IF(ISBLANK(Import!E137),\"\",IF(B134=(LEFT(A134,3)),(IFERROR(VLOOKUP(Import!B137,Mapping!D:F,2,FALSE),\"Cpte à créer dans Mapping\")),\"Cpte à reclasser\"))","v":""}]
[{"$f":"IF(ISBLANK(Import!E138),\"\",Import!E138)","v":""},{"$f":"IF(ISBLANK(Import!E138),\"\",(IFERROR(VLOOKUP(Import!C138,Mapping!C:F,1,FALSE),\"HF, à reclasser\")))","v":""},{"$f":"IF(ISBLANK(Import!E138),\"\",IF(B135=(LEFT(A135,3)),(IFERROR(VLOOKUP(Import!B138,Mapping!D:F,2,FALSE),\"Cpte à créer dans Mapping\")),\"Cpte à reclasser\"))","v":""}]
[{"$f":"IF(ISBLANK(Import!E139),\"\",Import!E139)","v":""},{"$f":"IF(ISBLANK(Import!E139),\"\",(IFERROR(VLOOKUP(Import!C139,Mapping!C:F,1,FALSE),\"HF, à reclasser\")))","v":""},{"$f":"IF(ISBLANK(Import!E139),\"\",IF(B136=(LEFT(A136,3)),(IFERROR(VLOOKUP(Import!B139,Mapping!D:F,2,FALSE),\"Cpte à créer dans Mapping\")),\"Cpte à reclasser\"))","v":""}]
[{"$f":"IF(ISBLANK(Import!E140),\"\",Import!E140)","v":""},{"$f":"IF(ISBLANK(Import!E140),\"\",(IFERROR(VLOOKUP(Import!C140,Mapping!C:F,1,FALSE),\"HF, à reclasser\")))","v":""},{"$f":"IF(ISBLANK(Import!E140),\"\",IF(B137=(LEFT(A137,3)),(IFERROR(VLOOKUP(Import!B140,Mapping!D:F,2,FALSE),\"Cpte à créer dans Mapping\")),\"Cpte à reclasser\"))","v":""}]
[{"$f":"IF(ISBLANK(Import!E141),\"\",Import!E141)","v":""},{"$f":"IF(ISBLANK(Import!E141),\"\",(IFERROR(VLOOKUP(Import!C141,Mapping!C:F,1,FALSE),\"HF, à reclasser\")))","v":""},{"$f":"IF(ISBLANK(Import!E141),\"\",IF(B138=(LEFT(A138,3)),(IFERROR(VLOOKUP(Import!B141,Mapping!D:F,2,FALSE),\"Cpte à créer dans Mapping\")),\"Cpte à reclasser\"))","v":""}]
[{"$f":"IF(ISBLANK(Import!E142),\"\",Import!E142)","v":""},{"$f":"IF(ISBLANK(Import!E142),\"\",(IFERROR(VLOOKUP(Import!C142,Mapping!C:F,1,FALSE),\"HF, à reclasser\")))","v":""},{"$f":"IF(ISBLANK(Import!E142),\"\",IF(B139=(LEFT(A139,3)),(IFERROR(VLOOKUP(Import!B142,Mapping!D:F,2,FALSE),\"Cpte à créer dans Mapping\")),\"Cpte à reclasser\"))","v":""}]
[{"$f":"IF(ISBLANK(Import!E143),\"\",Import!E143)","v":""},{"$f":"IF(ISBLANK(Import!E143),\"\",(IFERROR(VLOOKUP(Import!C143,Mapping!C:F,1,FALSE),\"HF, à reclasser\")))","v":""},{"$f":"IF(ISBLANK(Import!E143),\"\",IF(B140=(LEFT(A140,3)),(IFERROR(VLOOKUP(Import!B143,Mapping!D:F,2,FALSE),\"Cpte à créer dans Mapping\")),\"Cpte à reclasser\"))","v":""}]
[{"$f":"IF(ISBLANK(Import!E144),\"\",Import!E144)","v":""},{"$f":"IF(ISBLANK(Import!E144),\"\",(IFERROR(VLOOKUP(Import!C144,Mapping!C:F,1,FALSE),\"HF, à reclasser\")))","v":""},{"$f":"IF(ISBLANK(Import!E144),\"\",IF(B141=(LEFT(A141,3)),(IFERROR(VLOOKUP(Import!B144,Mapping!D:F,2,FALSE),\"Cpte à créer dans Mapping\")),\"Cpte à reclasser\"))","v":""}]
[{"$f":"IF(ISBLANK(Import!E145),\"\",Import!E145)","v":""},{"$f":"IF(ISBLANK(Import!E145),\"\",(IFERROR(VLOOKUP(Import!C145,Mapping!C:F,1,FALSE),\"HF, à reclasser\")))","v":""},{"$f":"IF(ISBLANK(Import!E145),\"\",IF(B142=(LEFT(A142,3)),(IFERROR(VLOOKUP(Import!B145,Mapping!D:F,2,FALSE),\"Cpte à créer dans Mapping\")),\"Cpte à reclasser\"))","v":""}]
[{"$f":"IF(ISBLANK(Import!E146),\"\",Import!E146)","v":""},{"$f":"IF(ISBLANK(Import!E146),\"\",(IFERROR(VLOOKUP(Import!C146,Mapping!C:F,1,FALSE),\"HF, à reclasser\")))","v":""},{"$f":"IF(ISBLANK(Import!E146),\"\",IF(B143=(LEFT(A143,3)),(IFERROR(VLOOKUP(Import!B146,Mapping!D:F,2,FALSE),\"Cpte à créer dans Mapping\")),\"Cpte à reclasser\"))","v":""}]
[{"$f":"IF(ISBLANK(Import!E147),\"\",Import!E147)","v":""},{"$f":"IF(ISBLANK(Import!E147),\"\",(IFERROR(VLOOKUP(Import!C147,Mapping!C:F,1,FALSE),\"HF, à reclasser\")))","v":""},{"$f":"IF(ISBLANK(Import!E147),\"\",IF(B144=(LEFT(A144,3)),(IFERROR(VLOOKUP(Import!B147,Mapping!D:F,2,FALSE),\"Cpte à créer dans Mapping\")),\"Cpte à reclasser\"))","v":""}]
[{"$f":"IF(ISBLANK(Import!E148),\"\",Import!E148)","v":""},{"$f":"IF(ISBLANK(Import!E148),\"\",(IFERROR(VLOOKUP(Import!C148,Mapping!C:F,1,FALSE),\"HF, à reclasser\")))","v":""},{"$f":"IF(ISBLANK(Import!E148),\"\",IF(B145=(LEFT(A145,3)),(IFERROR(VLOOKUP(Import!B148,Mapping!D:F,2,FALSE),\"Cpte à créer dans Mapping\")),\"Cpte à reclasser\"))","v":""}]
[{"$f":"IF(ISBLANK(Import!E149),\"\",Import!E149)","v":""},{"$f":"IF(ISBLANK(Import!E149),\"\",(IFERROR(VLOOKUP(Import!C149,Mapping!C:F,1,FALSE),\"HF, à reclasser\")))","v":""},{"$f":"IF(ISBLANK(Import!E149),\"\",IF(B146=(LEFT(A146,3)),(IFERROR(VLOOKUP(Import!B149,Mapping!D:F,2,FALSE),\"Cpte à créer dans Mapping\")),\"Cpte à reclasser\"))","v":""}]
[{"$f":"IF(ISBLANK(Import!E150),\"\",Import!E150)","v":""},{"$f":"IF(ISBLANK(Import!E150),\"\",(IFERROR(VLOOKUP(Import!C150,Mapping!C:F,1,FALSE),\"HF, à reclasser\")))","v":""},{"$f":"IF(ISBLANK(Import!E150),\"\",IF(B147=(LEFT(A147,3)),(IFERROR(VLOOKUP(Import!B150,Mapping!D:F,2,FALSE),\"Cpte à créer dans Mapping\")),\"Cpte à reclasser\"))","v":""}]
[{"$f":"IF(ISBLANK(Import!E151),\"\",Import!E151)","v":""},{"$f":"IF(ISBLANK(Import!E151),\"\",(IFERROR(VLOOKUP(Import!C151,Mapping!C:F,1,FALSE),\"HF, à reclasser\")))","v":""},{"$f":"IF(ISBLANK(Import!E151),\"\",IF(B148=(LEFT(A148,3)),(IFERROR(VLOOKUP(Import!B151,Mapping!D:F,2,FALSE),\"Cpte à créer dans Mapping\")),\"Cpte à reclasser\"))","v":""}]
[{"$f":"IF(ISBLANK(Import!E152),\"\",Import!E152)","v":""},{"$f":"IF(ISBLANK(Import!E152),\"\",(IFERROR(VLOOKUP(Import!C152,Mapping!C:F,1,FALSE),\"HF, à reclasser\")))","v":""},{"$f":"IF(ISBLANK(Import!E152),\"\",IF(B149=(LEFT(A149,3)),(IFERROR(VLOOKUP(Import!B152,Mapping!D:F,2,FALSE),\"Cpte à créer dans Mapping\")),\"Cpte à reclasser\"))","v":""}]
[{"$f":"IF(ISBLANK(Import!E153),\"\",Import!E153)","v":""},{"$f":"IF(ISBLANK(Import!E153),\"\",(IFERROR(VLOOKUP(Import!C153,Mapping!C:F,1,FALSE),\"HF, à reclasser\")))","v":""},{"$f":"IF(ISBLANK(Import!E153),\"\",IF(B150=(LEFT(A150,3)),(IFERROR(VLOOKUP(Import!B153,Mapping!D:F,2,FALSE),\"Cpte à créer dans Mapping\")),\"Cpte à reclasser\"))","v":""}]
[{"$f":"IF(ISBLANK(Import!E154),\"\",Import!E154)","v":""},{"$f":"IF(ISBLANK(Import!E154),\"\",(IFERROR(VLOOKUP(Import!C154,Mapping!C:F,1,FALSE),\"HF, à reclasser\")))","v":""},{"$f":"IF(ISBLANK(Import!E154),\"\",IF(B151=(LEFT(A151,3)),(IFERROR(VLOOKUP(Import!B154,Mapping!D:F,2,FALSE),\"Cpte à créer dans Mapping\")),\"Cpte à reclasser\"))","v":""}]
[{"$f":"IF(ISBLANK(Import!E155),\"\",Import!E155)","v":""},{"$f":"IF(ISBLANK(Import!E155),\"\",(IFERROR(VLOOKUP(Import!C155,Mapping!C:F,1,FALSE),\"HF, à reclasser\")))","v":""},{"$f":"IF(ISBLANK(Import!E155),\"\",IF(B152=(LEFT(A152,3)),(IFERROR(VLOOKUP(Import!B155,Mapping!D:F,2,FALSE),\"Cpte à créer dans Mapping\")),\"Cpte à reclasser\"))","v":""}]
[{"$f":"IF(ISBLANK(Import!E156),\"\",Import!E156)","v":""},{"$f":"IF(ISBLANK(Import!E156),\"\",(IFERROR(VLOOKUP(Import!C156,Mapping!C:F,1,FALSE),\"HF, à reclasser\")))","v":""},{"$f":"IF(ISBLANK(Import!E156),\"\",IF(B153=(LEFT(A153,3)),(IFERROR(VLOOKUP(Import!B156,Mapping!D:F,2,FALSE),\"Cpte à créer dans Mapping\")),\"Cpte à reclasser\"))","v":""}]
[{"$f":"IF(ISBLANK(Import!E157),\"\",Import!E157)","v":""},{"$f":"IF(ISBLANK(Import!E157),\"\",(IFERROR(VLOOKUP(Import!C157,Mapping!C:F,1,FALSE),\"HF, à reclasser\")))","v":""},{"$f":"IF(ISBLANK(Import!E157),\"\",IF(B154=(LEFT(A154,3)),(IFERROR(VLOOKUP(Import!B157,Mapping!D:F,2,FALSE),\"Cpte à créer dans Mapping\")),\"Cpte à reclasser\"))","v":""}]
[{"$f":"IF(ISBLANK(Import!E158),\"\",Import!E158)","v":""},{"$f":"IF(ISBLANK(Import!E158),\"\",(IFERROR(VLOOKUP(Import!C158,Mapping!C:F,1,FALSE),\"HF, à reclasser\")))","v":""},{"$f":"IF(ISBLANK(Import!E158),\"\",IF(B155=(LEFT(A155,3)),(IFERROR(VLOOKUP(Import!B158,Mapping!D:F,2,FALSE),\"Cpte à créer dans Mapping\")),\"Cpte à reclasser\"))","v":""}]
[{"$f":"IF(ISBLANK(Import!E159),\"\",Import!E159)","v":""},{"$f":"IF(ISBLANK(Import!E159),\"\",(IFERROR(VLOOKUP(Import!C159,Mapping!C:F,1,FALSE),\"HF, à reclasser\")))","v":""},{"$f":"IF(ISBLANK(Import!E159),\"\",IF(B156=(LEFT(A156,3)),(IFERROR(VLOOKUP(Import!B159,Mapping!D:F,2,FALSE),\"Cpte à créer dans Mapping\")),\"Cpte à reclasser\"))","v":""}]
[{"$f":"IF(ISBLANK(Import!E160),\"\",Import!E160)","v":""},{"$f":"IF(ISBLANK(Import!E160),\"\",(IFERROR(VLOOKUP(Import!C160,Mapping!C:F,1,FALSE),\"HF, à reclasser\")))","v":""},{"$f":"IF(ISBLANK(Import!E160),\"\",IF(B157=(LEFT(A157,3)),(IFERROR(VLOOKUP(Import!B160,Mapping!D:F,2,FALSE),\"Cpte à créer dans Mapping\")),\"Cpte à reclasser\"))","v":""}]
[{"$f":"IF(ISBLANK(Import!E161),\"\",Import!E161)","v":""},{"$f":"IF(ISBLANK(Import!E161),\"\",(IFERROR(VLOOKUP(Import!C161,Mapping!C:F,1,FALSE),\"HF, à reclasser\")))","v":""},{"$f":"IF(ISBLANK(Import!E161),\"\",IF(B158=(LEFT(A158,3)),(IFERROR(VLOOKUP(Import!B161,Mapping!D:F,2,FALSE),\"Cpte à créer dans Mapping\")),\"Cpte à reclasser\"))","v":""}]
[{"$f":"IF(ISBLANK(Import!E162),\"\",Import!E162)","v":""},{"$f":"IF(ISBLANK(Import!E162),\"\",(IFERROR(VLOOKUP(Import!C162,Mapping!C:F,1,FALSE),\"HF, à reclasser\")))","v":""},{"$f":"IF(ISBLANK(Import!E162),\"\",IF(B159=(LEFT(A159,3)),(IFERROR(VLOOKUP(Import!B162,Mapping!D:F,2,FALSE),\"Cpte à créer dans Mapping\")),\"Cpte à reclasser\"))","v":""}]
[{"$f":"IF(ISBLANK(Import!E163),\"\",Import!E163)","v":""},{"$f":"IF(ISBLANK(Import!E163),\"\",(IFERROR(VLOOKUP(Import!C163,Mapping!C:F,1,FALSE),\"HF, à reclasser\")))","v":""},{"$f":"IF(ISBLANK(Import!E163),\"\",IF(B160=(LEFT(A160,3)),(IFERROR(VLOOKUP(Import!B163,Mapping!D:F,2,FALSE),\"Cpte à créer dans Mapping\")),\"Cpte à reclasser\"))","v":""}]
[{"$f":"IF(ISBLANK(Import!E164),\"\",Import!E164)","v":""},{"$f":"IF(ISBLANK(Import!E164),\"\",(IFERROR(VLOOKUP(Import!C164,Mapping!C:F,1,FALSE),\"HF, à reclasser\")))","v":""},{"$f":"IF(ISBLANK(Import!E164),\"\",IF(B161=(LEFT(A161,3)),(IFERROR(VLOOKUP(Import!B164,Mapping!D:F,2,FALSE),\"Cpte à créer dans Mapping\")),\"Cpte à reclasser\"))","v":""}]
[{"$f":"IF(ISBLANK(Import!E165),\"\",Import!E165)","v":""},{"$f":"IF(ISBLANK(Import!E165),\"\",(IFERROR(VLOOKUP(Import!C165,Mapping!C:F,1,FALSE),\"HF, à reclasser\")))","v":""},{"$f":"IF(ISBLANK(Import!E165),\"\",IF(B162=(LEFT(A162,3)),(IFERROR(VLOOKUP(Import!B165,Mapping!D:F,2,FALSE),\"Cpte à créer dans Mapping\")),\"Cpte à reclasser\"))","v":""}]
[{"$f":"IF(ISBLANK(Import!E166),\"\",Import!E166)","v":""},{"$f":"IF(ISBLANK(Import!E166),\"\",(IFERROR(VLOOKUP(Import!C166,Mapping!C:F,1,FALSE),\"HF, à reclasser\")))","v":""},{"$f":"IF(ISBLANK(Import!E166),\"\",IF(B163=(LEFT(A163,3)),(IFERROR(VLOOKUP(Import!B166,Mapping!D:F,2,FALSE),\"Cpte à créer dans Mapping\")),\"Cpte à reclasser\"))","v":""}]
[{"$f":"IF(ISBLANK(Import!E167),\"\",Import!E167)","v":""},{"$f":"IF(ISBLANK(Import!E167),\"\",(IFERROR(VLOOKUP(Import!C167,Mapping!C:F,1,FALSE),\"HF, à reclasser\")))","v":""},{"$f":"IF(ISBLANK(Import!E167),\"\",IF(B164=(LEFT(A164,3)),(IFERROR(VLOOKUP(Import!B167,Mapping!D:F,2,FALSE),\"Cpte à créer dans Mapping\")),\"Cpte à reclasser\"))","v":""}]
[{"$f":"IF(ISBLANK(Import!E168),\"\",Import!E168)","v":""},{"$f":"IF(ISBLANK(Import!E168),\"\",(IFERROR(VLOOKUP(Import!C168,Mapping!C:F,1,FALSE),\"HF, à reclasser\")))","v":""},{"$f":"IF(ISBLANK(Import!E168),\"\",IF(B165=(LEFT(A165,3)),(IFERROR(VLOOKUP(Import!B168,Mapping!D:F,2,FALSE),\"Cpte à créer dans Mapping\")),\"Cpte à reclasser\"))","v":""}]
[{"$f":"IF(ISBLANK(Import!E169),\"\",Import!E169)","v":""},{"$f":"IF(ISBLANK(Import!E169),\"\",(IFERROR(VLOOKUP(Import!C169,Mapping!C:F,1,FALSE),\"HF, à reclasser\")))","v":""},{"$f":"IF(ISBLANK(Import!E169),\"\",IF(B166=(LEFT(A166,3)),(IFERROR(VLOOKUP(Import!B169,Mapping!D:F,2,FALSE),\"Cpte à créer dans Mapping\")),\"Cpte à reclasser\"))","v":""}]
[{"$f":"IF(ISBLANK(Import!E170),\"\",Import!E170)","v":""},{"$f":"IF(ISBLANK(Import!E170),\"\",(IFERROR(VLOOKUP(Import!C170,Mapping!C:F,1,FALSE),\"HF, à reclasser\")))","v":""},{"$f":"IF(ISBLANK(Import!E170),\"\",IF(B167=(LEFT(A167,3)),(IFERROR(VLOOKUP(Import!B170,Mapping!D:F,2,FALSE),\"Cpte à créer dans Mapping\")),\"Cpte à reclasser\"))","v":""}]
[{"$f":"IF(ISBLANK(Import!E171),\"\",Import!E171)","v":""},{"$f":"IF(ISBLANK(Import!E171),\"\",(IFERROR(VLOOKUP(Import!C171,Mapping!C:F,1,FALSE),\"HF, à reclasser\")))","v":""},{"$f":"IF(ISBLANK(Import!E171),\"\",IF(B168=(LEFT(A168,3)),(IFERROR(VLOOKUP(Import!B171,Mapping!D:F,2,FALSE),\"Cpte à créer dans Mapping\")),\"Cpte à reclasser\"))","v":""}]
[{"$f":"IF(ISBLANK(Import!E172),\"\",Import!E172)","v":""},{"$f":"IF(ISBLANK(Import!E172),\"\",(IFERROR(VLOOKUP(Import!C172,Mapping!C:F,1,FALSE),\"HF, à reclasser\")))","v":""},{"$f":"IF(ISBLANK(Import!E172),\"\",IF(B169=(LEFT(A169,3)),(IFERROR(VLOOKUP(Import!B172,Mapping!D:F,2,FALSE),\"Cpte à créer dans Mapping\")),\"Cpte à reclasser\"))","v":""}]
[{"$f":"IF(ISBLANK(Import!E173),\"\",Import!E173)","v":""},{"$f":"IF(ISBLANK(Import!E173),\"\",(IFERROR(VLOOKUP(Import!C173,Mapping!C:F,1,FALSE),\"HF, à reclasser\")))","v":""},{"$f":"IF(ISBLANK(Import!E173),\"\",IF(B170=(LEFT(A170,3)),(IFERROR(VLOOKUP(Import!B173,Mapping!D:F,2,FALSE),\"Cpte à créer dans Mapping\")),\"Cpte à reclasser\"))","v":""}]
[{"$f":"IF(ISBLANK(Import!E174),\"\",Import!E174)","v":""},{"$f":"IF(ISBLANK(Import!E174),\"\",(IFERROR(VLOOKUP(Import!C174,Mapping!C:F,1,FALSE),\"HF, à reclasser\")))","v":""},{"$f":"IF(ISBLANK(Import!E174),\"\",IF(B171=(LEFT(A171,3)),(IFERROR(VLOOKUP(Import!B174,Mapping!D:F,2,FALSE),\"Cpte à créer dans Mapping\")),\"Cpte à reclasser\"))","v":""}]
[{"$f":"IF(ISBLANK(Import!E175),\"\",Import!E175)","v":""},{"$f":"IF(ISBLANK(Import!E175),\"\",(IFERROR(VLOOKUP(Import!C175,Mapping!C:F,1,FALSE),\"HF, à reclasser\")))","v":""},{"$f":"IF(ISBLANK(Import!E175),\"\",IF(B172=(LEFT(A172,3)),(IFERROR(VLOOKUP(Import!B175,Mapping!D:F,2,FALSE),\"Cpte à créer dans Mapping\")),\"Cpte à reclasser\"))","v":""}]
[{"$f":"IF(ISBLANK(Import!E176),\"\",Import!E176)","v":""},{"$f":"IF(ISBLANK(Import!E176),\"\",(IFERROR(VLOOKUP(Import!C176,Mapping!C:F,1,FALSE),\"HF, à reclasser\")))","v":""},{"$f":"IF(ISBLANK(Import!E176),\"\",IF(B173=(LEFT(A173,3)),(IFERROR(VLOOKUP(Import!B176,Mapping!D:F,2,FALSE),\"Cpte à créer dans Mapping\")),\"Cpte à reclasser\"))","v":""}]
[{"$f":"IF(ISBLANK(Import!E177),\"\",Import!E177)","v":""},{"$f":"IF(ISBLANK(Import!E177),\"\",(IFERROR(VLOOKUP(Import!C177,Mapping!C:F,1,FALSE),\"HF, à reclasser\")))","v":""},{"$f":"IF(ISBLANK(Import!E177),\"\",IF(B174=(LEFT(A174,3)),(IFERROR(VLOOKUP(Import!B177,Mapping!D:F,2,FALSE),\"Cpte à créer dans Mapping\")),\"Cpte à reclasser\"))","v":""}]
[{"$f":"IF(ISBLANK(Import!E178),\"\",Import!E178)","v":""},{"$f":"IF(ISBLANK(Import!E178),\"\",(IFERROR(VLOOKUP(Import!C178,Mapping!C:F,1,FALSE),\"HF, à reclasser\")))","v":""},{"$f":"IF(ISBLANK(Import!E178),\"\",IF(B175=(LEFT(A175,3)),(IFERROR(VLOOKUP(Import!B178,Mapping!D:F,2,FALSE),\"Cpte à créer dans Mapping\")),\"Cpte à reclasser\"))","v":""}]
[{"$f":"IF(ISBLANK(Import!E179),\"\",Import!E179)","v":""},{"$f":"IF(ISBLANK(Import!E179),\"\",(IFERROR(VLOOKUP(Import!C179,Mapping!C:F,1,FALSE),\"HF, à reclasser\")))","v":""},{"$f":"IF(ISBLANK(Import!E179),\"\",IF(B176=(LEFT(A176,3)),(IFERROR(VLOOKUP(Import!B179,Mapping!D:F,2,FALSE),\"Cpte à créer dans Mapping\")),\"Cpte à reclasser\"))","v":""}]
[{"$f":"IF(ISBLANK(Import!E180),\"\",Import!E180)","v":""},{"$f":"IF(ISBLANK(Import!E180),\"\",(IFERROR(VLOOKUP(Import!C180,Mapping!C:F,1,FALSE),\"HF, à reclasser\")))","v":""},{"$f":"IF(ISBLANK(Import!E180),\"\",IF(B177=(LEFT(A177,3)),(IFERROR(VLOOKUP(Import!B180,Mapping!D:F,2,FALSE),\"Cpte à créer dans Mapping\")),\"Cpte à reclasser\"))","v":""}]
[{"$f":"IF(ISBLANK(Import!E181),\"\",Import!E181)","v":""},{"$f":"IF(ISBLANK(Import!E181),\"\",(IFERROR(VLOOKUP(Import!C181,Mapping!C:F,1,FALSE),\"HF, à reclasser\")))","v":""},{"$f":"IF(ISBLANK(Import!E181),\"\",IF(B178=(LEFT(A178,3)),(IFERROR(VLOOKUP(Import!B181,Mapping!D:F,2,FALSE),\"Cpte à créer dans Mapping\")),\"Cpte à reclasser\"))","v":""}]
[{"$f":"IF(ISBLANK(Import!E182),\"\",Import!E182)","v":""},{"$f":"IF(ISBLANK(Import!E182),\"\",(IFERROR(VLOOKUP(Import!C182,Mapping!C:F,1,FALSE),\"HF, à reclasser\")))","v":""},{"$f":"IF(ISBLANK(Import!E182),\"\",IF(B179=(LEFT(A179,3)),(IFERROR(VLOOKUP(Import!B182,Mapping!D:F,2,FALSE),\"Cpte à créer dans Mapping\")),\"Cpte à reclasser\"))","v":""}]
[{"$f":"IF(ISBLANK(Import!E183),\"\",Import!E183)","v":""},{"$f":"IF(ISBLANK(Import!E183),\"\",(IFERROR(VLOOKUP(Import!C183,Mapping!C:F,1,FALSE),\"HF, à reclasser\")))","v":""},{"$f":"IF(ISBLANK(Import!E183),\"\",IF(B180=(LEFT(A180,3)),(IFERROR(VLOOKUP(Import!B183,Mapping!D:F,2,FALSE),\"Cpte à créer dans Mapping\")),\"Cpte à reclasser\"))","v":""}]
[{"$f":"IF(ISBLANK(Import!E184),\"\",Import!E184)","v":""},{"$f":"IF(ISBLANK(Import!E184),\"\",(IFERROR(VLOOKUP(Import!C184,Mapping!C:F,1,FALSE),\"HF, à reclasser\")))","v":""},{"$f":"IF(ISBLANK(Import!E184),\"\",IF(B181=(LEFT(A181,3)),(IFERROR(VLOOKUP(Import!B184,Mapping!D:F,2,FALSE),\"Cpte à créer dans Mapping\")),\"Cpte à reclasser\"))","v":""}]
[{"$f":"IF(ISBLANK(Import!E185),\"\",Import!E185)","v":""},{"$f":"IF(ISBLANK(Import!E185),\"\",(IFERROR(VLOOKUP(Import!C185,Mapping!C:F,1,FALSE),\"HF, à reclasser\")))","v":""},{"$f":"IF(ISBLANK(Import!E185),\"\",IF(B182=(LEFT(A182,3)),(IFERROR(VLOOKUP(Import!B185,Mapping!D:F,2,FALSE),\"Cpte à créer dans Mapping\")),\"Cpte à reclasser\"))","v":""}]
[{"$f":"IF(ISBLANK(Import!E186),\"\",Import!E186)","v":""},{"$f":"IF(ISBLANK(Import!E186),\"\",(IFERROR(VLOOKUP(Import!C186,Mapping!C:F,1,FALSE),\"HF, à reclasser\")))","v":""},{"$f":"IF(ISBLANK(Import!E186),\"\",IF(B183=(LEFT(A183,3)),(IFERROR(VLOOKUP(Import!B186,Mapping!D:F,2,FALSE),\"Cpte à créer dans Mapping\")),\"Cpte à reclasser\"))","v":""}]
[{"$f":"IF(ISBLANK(Import!E187),\"\",Import!E187)","v":""},{"$f":"IF(ISBLANK(Import!E187),\"\",(IFERROR(VLOOKUP(Import!C187,Mapping!C:F,1,FALSE),\"HF, à reclasser\")))","v":""},{"$f":"IF(ISBLANK(Import!E187),\"\",IF(B184=(LEFT(A184,3)),(IFERROR(VLOOKUP(Import!B187,Mapping!D:F,2,FALSE),\"Cpte à créer dans Mapping\")),\"Cpte à reclasser\"))","v":""}]
[{"$f":"IF(ISBLANK(Import!E188),\"\",Import!E188)","v":""},{"$f":"IF(ISBLANK(Import!E188),\"\",(IFERROR(VLOOKUP(Import!C188,Mapping!C:F,1,FALSE),\"HF, à reclasser\")))","v":""},{"$f":"IF(ISBLANK(Import!E188),\"\",IF(B185=(LEFT(A185,3)),(IFERROR(VLOOKUP(Import!B188,Mapping!D:F,2,FALSE),\"Cpte à créer dans Mapping\")),\"Cpte à reclasser\"))","v":""}]
[{"$f":"IF(ISBLANK(Import!E189),\"\",Import!E189)","v":""},{"$f":"IF(ISBLANK(Import!E189),\"\",(IFERROR(VLOOKUP(Import!C189,Mapping!C:F,1,FALSE),\"HF, à reclasser\")))","v":""},{"$f":"IF(ISBLANK(Import!E189),\"\",IF(B186=(LEFT(A186,3)),(IFERROR(VLOOKUP(Import!B189,Mapping!D:F,2,FALSE),\"Cpte à créer dans Mapping\")),\"Cpte à reclasser\"))","v":""}]
[{"$f":"IF(ISBLANK(Import!E190),\"\",Import!E190)","v":""},{"$f":"IF(ISBLANK(Import!E190),\"\",(IFERROR(VLOOKUP(Import!C190,Mapping!C:F,1,FALSE),\"HF, à reclasser\")))","v":""},{"$f":"IF(ISBLANK(Import!E190),\"\",IF(B187=(LEFT(A187,3)),(IFERROR(VLOOKUP(Import!B190,Mapping!D:F,2,FALSE),\"Cpte à créer dans Mapping\")),\"Cpte à reclasser\"))","v":""}]
[{"$f":"IF(ISBLANK(Import!E191),\"\",Import!E191)","v":""},{"$f":"IF(ISBLANK(Import!E191),\"\",(IFERROR(VLOOKUP(Import!C191,Mapping!C:F,1,FALSE),\"HF, à reclasser\")))","v":""},{"$f":"IF(ISBLANK(Import!E191),\"\",IF(B188=(LEFT(A188,3)),(IFERROR(VLOOKUP(Import!B191,Mapping!D:F,2,FALSE),\"Cpte à créer dans Mapping\")),\"Cpte à reclasser\"))","v":""}]
[{"$f":"IF(ISBLANK(Import!E192),\"\",Import!E192)","v":""},{"$f":"IF(ISBLANK(Import!E192),\"\",(IFERROR(VLOOKUP(Import!C192,Mapping!C:F,1,FALSE),\"HF, à reclasser\")))","v":""},{"$f":"IF(ISBLANK(Import!E192),\"\",IF(B189=(LEFT(A189,3)),(IFERROR(VLOOKUP(Import!B192,Mapping!D:F,2,FALSE),\"Cpte à créer dans Mapping\")),\"Cpte à reclasser\"))","v":""}]
[{"$f":"IF(ISBLANK(Import!E193),\"\",Import!E193)","v":""},{"$f":"IF(ISBLANK(Import!E193),\"\",(IFERROR(VLOOKUP(Import!C193,Mapping!C:F,1,FALSE),\"HF, à reclasser\")))","v":""},{"$f":"IF(ISBLANK(Import!E193),\"\",IF(B190=(LEFT(A190,3)),(IFERROR(VLOOKUP(Import!B193,Mapping!D:F,2,FALSE),\"Cpte à créer dans Mapping\")),\"Cpte à reclasser\"))","v":""}]
[{"$f":"IF(ISBLANK(Import!E194),\"\",Import!E194)","v":""},{"$f":"IF(ISBLANK(Import!E194),\"\",(IFERROR(VLOOKUP(Import!C194,Mapping!C:F,1,FALSE),\"HF, à reclasser\")))","v":""},{"$f":"IF(ISBLANK(Import!E194),\"\",IF(B191=(LEFT(A191,3)),(IFERROR(VLOOKUP(Import!B194,Mapping!D:F,2,FALSE),\"Cpte à créer dans Mapping\")),\"Cpte à reclasser\"))","v":""}]
[{"$f":"IF(ISBLANK(Import!E195),\"\",Import!E195)","v":""},{"$f":"IF(ISBLANK(Import!E195),\"\",(IFERROR(VLOOKUP(Import!C195,Mapping!C:F,1,FALSE),\"HF, à reclasser\")))","v":""},{"$f":"IF(ISBLANK(Import!E195),\"\",IF(B192=(LEFT(A192,3)),(IFERROR(VLOOKUP(Import!B195,Mapping!D:F,2,FALSE),\"Cpte à créer dans Mapping\")),\"Cpte à reclasser\"))","v":""}]
[{"$f":"IF(ISBLANK(Import!E196),\"\",Import!E196)","v":""},{"$f":"IF(ISBLANK(Import!E196),\"\",(IFERROR(VLOOKUP(Import!C196,Mapping!C:F,1,FALSE),\"HF, à reclasser\")))","v":""},{"$f":"IF(ISBLANK(Import!E196),\"\",IF(B193=(LEFT(A193,3)),(IFERROR(VLOOKUP(Import!B196,Mapping!D:F,2,FALSE),\"Cpte à créer dans Mapping\")),\"Cpte à reclasser\"))","v":""}]
[{"$f":"IF(ISBLANK(Import!E197),\"\",Import!E197)","v":""},{"$f":"IF(ISBLANK(Import!E197),\"\",(IFERROR(VLOOKUP(Import!C197,Mapping!C:F,1,FALSE),\"HF, à reclasser\")))","v":""},{"$f":"IF(ISBLANK(Import!E197),\"\",IF(B194=(LEFT(A194,3)),(IFERROR(VLOOKUP(Import!B197,Mapping!D:F,2,FALSE),\"Cpte à créer dans Mapping\")),\"Cpte à reclasser\"))","v":""}]
[{"$f":"IF(ISBLANK(Import!E198),\"\",Import!E198)","v":""},{"$f":"IF(ISBLANK(Import!E198),\"\",(IFERROR(VLOOKUP(Import!C198,Mapping!C:F,1,FALSE),\"HF, à reclasser\")))","v":""},{"$f":"IF(ISBLANK(Import!E198),\"\",IF(B195=(LEFT(A195,3)),(IFERROR(VLOOKUP(Import!B198,Mapping!D:F,2,FALSE),\"Cpte à créer dans Mapping\")),\"Cpte à reclasser\"))","v":""}]
[{"$f":"IF(ISBLANK(Import!E199),\"\",Import!E199)","v":""},{"$f":"IF(ISBLANK(Import!E199),\"\",(IFERROR(VLOOKUP(Import!C199,Mapping!C:F,1,FALSE),\"HF, à reclasser\")))","v":""},{"$f":"IF(ISBLANK(Import!E199),\"\",IF(B196=(LEFT(A196,3)),(IFERROR(VLOOKUP(Import!B199,Mapping!D:F,2,FALSE),\"Cpte à créer dans Mapping\")),\"Cpte à reclasser\"))","v":""}]
[{"$f":"IF(ISBLANK(Import!E200),\"\",Import!E200)","v":""},{"$f":"IF(ISBLANK(Import!E200),\"\",(IFERROR(VLOOKUP(Import!C200,Mapping!C:F,1,FALSE),\"HF, à reclasser\")))","v":""},{"$f":"IF(ISBLANK(Import!E200),\"\",IF(B197=(LEFT(A197,3)),(IFERROR(VLOOKUP(Import!B200,Mapping!D:F,2,FALSE),\"Cpte à créer dans Mapping\")),\"Cpte à reclasser\"))","v":""}]
[{"$f":"IF(ISBLANK(Import!E201),\"\",Import!E201)","v":""},{"$f":"IF(ISBLANK(Import!E201),\"\",(IFERROR(VLOOKUP(Import!C201,Mapping!C:F,1,FALSE),\"HF, à reclasser\")))","v":""},{"$f":"IF(ISBLANK(Import!E201),\"\",IF(B198=(LEFT(A198,3)),(IFERROR(VLOOKUP(Import!B201,Mapping!D:F,2,FALSE),\"Cpte à créer dans Mapping\")),\"Cpte à reclasser\"))","v":""}]
[{"$f":"IF(ISBLANK(Import!E202),\"\",Import!E202)","v":""},{"$f":"IF(ISBLANK(Import!E202),\"\",(IFERROR(VLOOKUP(Import!C202,Mapping!C:F,1,FALSE),\"HF, à reclasser\")))","v":""},{"$f":"IF(ISBLANK(Import!E202),\"\",IF(B199=(LEFT(A199,3)),(IFERROR(VLOOKUP(Import!B202,Mapping!D:F,2,FALSE),\"Cpte à créer dans Mapping\")),\"Cpte à reclasser\"))","v":""}]
[{"$f":"IF(ISBLANK(Import!E203),\"\",Import!E203)","v":""},{"$f":"IF(ISBLANK(Import!E203),\"\",(IFERROR(VLOOKUP(Import!C203,Mapping!C:F,1,FALSE),\"HF, à reclasser\")))","v":""},{"$f":"IF(ISBLANK(Import!E203),\"\",IF(B200=(LEFT(A200,3)),(IFERROR(VLOOKUP(Import!B203,Mapping!D:F,2,FALSE),\"Cpte à créer dans Mapping\")),\"Cpte à reclasser\"))","v":""}]
[{"$f":"IF(ISBLANK(Import!E204),\"\",Import!E204)","v":""},{"$f":"IF(ISBLANK(Import!E204),\"\",(IFERROR(VLOOKUP(Import!C204,Mapping!C:F,1,FALSE),\"HF, à reclasser\")))","v":""},{"$f":"IF(ISBLANK(Import!E204),\"\",IF(B201=(LEFT(A201,3)),(IFERROR(VLOOKUP(Import!B204,Mapping!D:F,2,FALSE),\"Cpte à créer dans Mapping\")),\"Cpte à reclasser\"))","v":""}]
[{"$f":"IF(ISBLANK(Import!E205),\"\",Import!E205)","v":""},{"$f":"IF(ISBLANK(Import!E205),\"\",(IFERROR(VLOOKUP(Import!C205,Mapping!C:F,1,FALSE),\"HF, à reclasser\")))","v":""},{"$f":"IF(ISBLANK(Import!E205),\"\",IF(B202=(LEFT(A202,3)),(IFERROR(VLOOKUP(Import!B205,Mapping!D:F,2,FALSE),\"Cpte à créer dans Mapping\")),\"Cpte à reclasser\"))","v":""}]
[{"$f":"IF(ISBLANK(Import!E206),\"\",Import!E206)","v":""},{"$f":"IF(ISBLANK(Import!E206),\"\",(IFERROR(VLOOKUP(Import!C206,Mapping!C:F,1,FALSE),\"HF, à reclasser\")))","v":""},{"$f":"IF(ISBLANK(Import!E206),\"\",IF(B203=(LEFT(A203,3)),(IFERROR(VLOOKUP(Import!B206,Mapping!D:F,2,FALSE),\"Cpte à créer dans Mapping\")),\"Cpte à reclasser\"))","v":""}]
[{"$f":"IF(ISBLANK(Import!E207),\"\",Import!E207)","v":""},{"$f":"IF(ISBLANK(Import!E207),\"\",(IFERROR(VLOOKUP(Import!C207,Mapping!C:F,1,FALSE),\"HF, à reclasser\")))","v":""},{"$f":"IF(ISBLANK(Import!E207),\"\",IF(B204=(LEFT(A204,3)),(IFERROR(VLOOKUP(Import!B207,Mapping!D:F,2,FALSE),\"Cpte à créer dans Mapping\")),\"Cpte à reclasser\"))","v":""}]
[{"$f":"IF(ISBLANK(Import!E208),\"\",Import!E208)","v":""},{"$f":"IF(ISBLANK(Import!E208),\"\",(IFERROR(VLOOKUP(Import!C208,Mapping!C:F,1,FALSE),\"HF, à reclasser\")))","v":""},{"$f":"IF(ISBLANK(Import!E208),\"\",IF(B205=(LEFT(A205,3)),(IFERROR(VLOOKUP(Import!B208,Mapping!D:F,2,FALSE),\"Cpte à créer dans Mapping\")),\"Cpte à reclasser\"))","v":""}]
[{"$f":"IF(ISBLANK(Import!E209),\"\",Import!E209)","v":""},{"$f":"IF(ISBLANK(Import!E209),\"\",(IFERROR(VLOOKUP(Import!C209,Mapping!C:F,1,FALSE),\"HF, à reclasser\")))","v":""},{"$f":"IF(ISBLANK(Import!E209),\"\",IF(B206=(LEFT(A206,3)),(IFERROR(VLOOKUP(Import!B209,Mapping!D:F,2,FALSE),\"Cpte à créer dans Mapping\")),\"Cpte à reclasser\"))","v":""}]
[{"$f":"IF(ISBLANK(Import!E210),\"\",Import!E210)","v":""},{"$f":"IF(ISBLANK(Import!E210),\"\",(IFERROR(VLOOKUP(Import!C210,Mapping!C:F,1,FALSE),\"HF, à reclasser\")))","v":""},{"$f":"IF(ISBLANK(Import!E210),\"\",IF(B207=(LEFT(A207,3)),(IFERROR(VLOOKUP(Import!B210,Mapping!D:F,2,FALSE),\"Cpte à créer dans Mapping\")),\"Cpte à reclasser\"))","v":""}]
[{"$f":"IF(ISBLANK(Import!E211),\"\",Import!E211)","v":""},{"$f":"IF(ISBLANK(Import!E211),\"\",(IFERROR(VLOOKUP(Import!C211,Mapping!C:F,1,FALSE),\"HF, à reclasser\")))","v":""},{"$f":"IF(ISBLANK(Import!E211),\"\",IF(B208=(LEFT(A208,3)),(IFERROR(VLOOKUP(Import!B211,Mapping!D:F,2,FALSE),\"Cpte à créer dans Mapping\")),\"Cpte à reclasser\"))","v":""}]
[{"$f":"IF(ISBLANK(Import!E212),\"\",Import!E212)","v":""},{"$f":"IF(ISBLANK(Import!E212),\"\",(IFERROR(VLOOKUP(Import!C212,Mapping!C:F,1,FALSE),\"HF, à reclasser\")))","v":""},{"$f":"IF(ISBLANK(Import!E212),\"\",IF(B209=(LEFT(A209,3)),(IFERROR(VLOOKUP(Import!B212,Mapping!D:F,2,FALSE),\"Cpte à créer dans Mapping\")),\"Cpte à reclasser\"))","v":""}]
[{"$f":"IF(ISBLANK(Import!E213),\"\",Import!E213)","v":""},{"$f":"IF(ISBLANK(Import!E213),\"\",(IFERROR(VLOOKUP(Import!C213,Mapping!C:F,1,FALSE),\"HF, à reclasser\")))","v":""},{"$f":"IF(ISBLANK(Import!E213),\"\",IF(B210=(LEFT(A210,3)),(IFERROR(VLOOKUP(Import!B213,Mapping!D:F,2,FALSE),\"Cpte à créer dans Mapping\")),\"Cpte à reclasser\"))","v":""}]
[{"$f":"IF(ISBLANK(Import!E214),\"\",Import!E214)","v":""},{"$f":"IF(ISBLANK(Import!E214),\"\",(IFERROR(VLOOKUP(Import!C214,Mapping!C:F,1,FALSE),\"HF, à reclasser\")))","v":""},{"$f":"IF(ISBLANK(Import!E214),\"\",IF(B211=(LEFT(A211,3)),(IFERROR(VLOOKUP(Import!B214,Mapping!D:F,2,FALSE),\"Cpte à créer dans Mapping\")),\"Cpte à reclasser\"))","v":""}]
[{"$f":"IF(ISBLANK(Import!E215),\"\",Import!E215)","v":""},{"$f":"IF(ISBLANK(Import!E215),\"\",(IFERROR(VLOOKUP(Import!C215,Mapping!C:F,1,FALSE),\"HF, à reclasser\")))","v":""},{"$f":"IF(ISBLANK(Import!E215),\"\",IF(B212=(LEFT(A212,3)),(IFERROR(VLOOKUP(Import!B215,Mapping!D:F,2,FALSE),\"Cpte à créer dans Mapping\")),\"Cpte à reclasser\"))","v":""}]
[{"$f":"IF(ISBLANK(Import!E216),\"\",Import!E216)","v":""},{"$f":"IF(ISBLANK(Import!E216),\"\",(IFERROR(VLOOKUP(Import!C216,Mapping!C:F,1,FALSE),\"HF, à reclasser\")))","v":""},{"$f":"IF(ISBLANK(Import!E216),\"\",IF(B213=(LEFT(A213,3)),(IFERROR(VLOOKUP(Import!B216,Mapping!D:F,2,FALSE),\"Cpte à créer dans Mapping\")),\"Cpte à reclasser\"))","v":""}]
[{"$f":"IF(ISBLANK(Import!E217),\"\",Import!E217)","v":""},{"$f":"IF(ISBLANK(Import!E217),\"\",(IFERROR(VLOOKUP(Import!C217,Mapping!C:F,1,FALSE),\"HF, à reclasser\")))","v":""},{"$f":"IF(ISBLANK(Import!E217),\"\",IF(B214=(LEFT(A214,3)),(IFERROR(VLOOKUP(Import!B217,Mapping!D:F,2,FALSE),\"Cpte à créer dans Mapping\")),\"Cpte à reclasser\"))","v":""}]
[{"$f":"IF(ISBLANK(Import!E218),\"\",Import!E218)","v":""},{"$f":"IF(ISBLANK(Import!E218),\"\",(IFERROR(VLOOKUP(Import!C218,Mapping!C:F,1,FALSE),\"HF, à reclasser\")))","v":""},{"$f":"IF(ISBLANK(Import!E218),\"\",IF(B215=(LEFT(A215,3)),(IFERROR(VLOOKUP(Import!B218,Mapping!D:F,2,FALSE),\"Cpte à créer dans Mapping\")),\"Cpte à reclasser\"))","v":""}]
[{"$f":"IF(ISBLANK(Import!E219),\"\",Import!E219)","v":""},{"$f":"IF(ISBLANK(Import!E219),\"\",(IFERROR(VLOOKUP(Import!C219,Mapping!C:F,1,FALSE),\"HF, à reclasser\")))","v":""},{"$f":"IF(ISBLANK(Import!E219),\"\",IF(B216=(LEFT(A216,3)),(IFERROR(VLOOKUP(Import!B219,Mapping!D:F,2,FALSE),\"Cpte à créer dans Mapping\")),\"Cpte à reclasser\"))","v":""}]
[{"$f":"IF(ISBLANK(Import!E220),\"\",Import!E220)","v":""},{"$f":"IF(ISBLANK(Import!E220),\"\",(IFERROR(VLOOKUP(Import!C220,Mapping!C:F,1,FALSE),\"HF, à reclasser\")))","v":""},{"$f":"IF(ISBLANK(Import!E220),\"\",IF(B217=(LEFT(A217,3)),(IFERROR(VLOOKUP(Import!B220,Mapping!D:F,2,FALSE),\"Cpte à créer dans Mapping\")),\"Cpte à reclasser\"))","v":""}]
[{"$f":"IF(ISBLANK(Import!E221),\"\",Import!E221)","v":""},{"$f":"IF(ISBLANK(Import!E221),\"\",(IFERROR(VLOOKUP(Import!C221,Mapping!C:F,1,FALSE),\"HF, à reclasser\")))","v":""},{"$f":"IF(ISBLANK(Import!E221),\"\",IF(B218=(LEFT(A218,3)),(IFERROR(VLOOKUP(Import!B221,Mapping!D:F,2,FALSE),\"Cpte à créer dans Mapping\")),\"Cpte à reclasser\"))","v":""}]
[{"$f":"IF(ISBLANK(Import!E222),\"\",Import!E222)","v":""},{"$f":"IF(ISBLANK(Import!E222),\"\",(IFERROR(VLOOKUP(Import!C222,Mapping!C:F,1,FALSE),\"HF, à reclasser\")))","v":""},{"$f":"IF(ISBLANK(Import!E222),\"\",IF(B219=(LEFT(A219,3)),(IFERROR(VLOOKUP(Import!B222,Mapping!D:F,2,FALSE),\"Cpte à créer dans Mapping\")),\"Cpte à reclasser\"))","v":""}]
[{"$f":"IF(ISBLANK(Import!E223),\"\",Import!E223)","v":""},{"$f":"IF(ISBLANK(Import!E223),\"\",(IFERROR(VLOOKUP(Import!C223,Mapping!C:F,1,FALSE),\"HF, à reclasser\")))","v":""},{"$f":"IF(ISBLANK(Import!E223),\"\",IF(B220=(LEFT(A220,3)),(IFERROR(VLOOKUP(Import!B223,Mapping!D:F,2,FALSE),\"Cpte à créer dans Mapping\")),\"Cpte à reclasser\"))","v":""}]
[{"$f":"IF(ISBLANK(Import!E224),\"\",Import!E224)","v":""},{"$f":"IF(ISBLANK(Import!E224),\"\",(IFERROR(VLOOKUP(Import!C224,Mapping!C:F,1,FALSE),\"HF, à reclasser\")))","v":""},{"$f":"IF(ISBLANK(Import!E224),\"\",IF(B221=(LEFT(A221,3)),(IFERROR(VLOOKUP(Import!B224,Mapping!D:F,2,FALSE),\"Cpte à créer dans Mapping\")),\"Cpte à reclasser\"))","v":""}]
[{"$f":"IF(ISBLANK(Import!E225),\"\",Import!E225)","v":""},{"$f":"IF(ISBLANK(Import!E225),\"\",(IFERROR(VLOOKUP(Import!C225,Mapping!C:F,1,FALSE),\"HF, à reclasser\")))","v":""},{"$f":"IF(ISBLANK(Import!E225),\"\",IF(B222=(LEFT(A222,3)),(IFERROR(VLOOKUP(Import!B225,Mapping!D:F,2,FALSE),\"Cpte à créer dans Mapping\")),\"Cpte à reclasser\"))","v":""}]
[{"$f":"IF(ISBLANK(Import!E226),\"\",Import!E226)","v":""},{"$f":"IF(ISBLANK(Import!E226),\"\",(IFERROR(VLOOKUP(Import!C226,Mapping!C:F,1,FALSE),\"HF, à reclasser\")))","v":""},{"$f":"IF(ISBLANK(Import!E226),\"\",IF(B223=(LEFT(A223,3)),(IFERROR(VLOOKUP(Import!B226,Mapping!D:F,2,FALSE),\"Cpte à créer dans Mapping\")),\"Cpte à reclasser\"))","v":""}]
[{"$f":"IF(ISBLANK(Import!E227),\"\",Import!E227)","v":""},{"$f":"IF(ISBLANK(Import!E227),\"\",(IFERROR(VLOOKUP(Import!C227,Mapping!C:F,1,FALSE),\"HF, à reclasser\")))","v":""},{"$f":"IF(ISBLANK(Import!E227),\"\",IF(B224=(LEFT(A224,3)),(IFERROR(VLOOKUP(Import!B227,Mapping!D:F,2,FALSE),\"Cpte à créer dans Mapping\")),\"Cpte à reclasser\"))","v":""}]
[{"$f":"IF(ISBLANK(Import!E228),\"\",Import!E228)","v":""},{"$f":"IF(ISBLANK(Import!E228),\"\",(IFERROR(VLOOKUP(Import!C228,Mapping!C:F,1,FALSE),\"HF, à reclasser\")))","v":""},{"$f":"IF(ISBLANK(Import!E228),\"\",IF(B225=(LEFT(A225,3)),(IFERROR(VLOOKUP(Import!B228,Mapping!D:F,2,FALSE),\"Cpte à créer dans Mapping\")),\"Cpte à reclasser\"))","v":""}]
[{"$f":"IF(ISBLANK(Import!E229),\"\",Import!E229)","v":""},{"$f":"IF(ISBLANK(Import!E229),\"\",(IFERROR(VLOOKUP(Import!C229,Mapping!C:F,1,FALSE),\"HF, à reclasser\")))","v":""},{"$f":"IF(ISBLANK(Import!E229),\"\",IF(B226=(LEFT(A226,3)),(IFERROR(VLOOKUP(Import!B229,Mapping!D:F,2,FALSE),\"Cpte à créer dans Mapping\")),\"Cpte à reclasser\"))","v":""}]
[{"$f":"IF(ISBLANK(Import!E230),\"\",Import!E230)","v":""},{"$f":"IF(ISBLANK(Import!E230),\"\",(IFERROR(VLOOKUP(Import!C230,Mapping!C:F,1,FALSE),\"HF, à reclasser\")))","v":""},{"$f":"IF(ISBLANK(Import!E230),\"\",IF(B227=(LEFT(A227,3)),(IFERROR(VLOOKUP(Import!B230,Mapping!D:F,2,FALSE),\"Cpte à créer dans Mapping\")),\"Cpte à reclasser\"))","v":""}]
[{"$f":"IF(ISBLANK(Import!E231),\"\",Import!E231)","v":""},{"$f":"IF(ISBLANK(Import!E231),\"\",(IFERROR(VLOOKUP(Import!C231,Mapping!C:F,1,FALSE),\"HF, à reclasser\")))","v":""},{"$f":"IF(ISBLANK(Import!E231),\"\",IF(B228=(LEFT(A228,3)),(IFERROR(VLOOKUP(Import!B231,Mapping!D:F,2,FALSE),\"Cpte à créer dans Mapping\")),\"Cpte à reclasser\"))","v":""}]
[{"$f":"IF(ISBLANK(Import!E232),\"\",Import!E232)","v":""},{"$f":"IF(ISBLANK(Import!E232),\"\",(IFERROR(VLOOKUP(Import!C232,Mapping!C:F,1,FALSE),\"HF, à reclasser\")))","v":""},{"$f":"IF(ISBLANK(Import!E232),\"\",IF(B229=(LEFT(A229,3)),(IFERROR(VLOOKUP(Import!B232,Mapping!D:F,2,FALSE),\"Cpte à créer dans Mapping\")),\"Cpte à reclasser\"))","v":""}]
[{"$f":"IF(ISBLANK(Import!E233),\"\",Import!E233)","v":""},{"$f":"IF(ISBLANK(Import!E233),\"\",(IFERROR(VLOOKUP(Import!C233,Mapping!C:F,1,FALSE),\"HF, à reclasser\")))","v":""},{"$f":"IF(ISBLANK(Import!E233),\"\",IF(B230=(LEFT(A230,3)),(IFERROR(VLOOKUP(Import!B233,Mapping!D:F,2,FALSE),\"Cpte à créer dans Mapping\")),\"Cpte à reclasser\"))","v":""}]
[{"$f":"IF(ISBLANK(Import!E234),\"\",Import!E234)","v":""},{"$f":"IF(ISBLANK(Import!E234),\"\",(IFERROR(VLOOKUP(Import!C234,Mapping!C:F,1,FALSE),\"HF, à reclasser\")))","v":""},{"$f":"IF(ISBLANK(Import!E234),\"\",IF(B231=(LEFT(A231,3)),(IFERROR(VLOOKUP(Import!B234,Mapping!D:F,2,FALSE),\"Cpte à créer dans Mapping\")),\"Cpte à reclasser\"))","v":""}]
[{"$f":"IF(ISBLANK(Import!E235),\"\",Import!E235)","v":""},{"$f":"IF(ISBLANK(Import!E235),\"\",(IFERROR(VLOOKUP(Import!C235,Mapping!C:F,1,FALSE),\"HF, à reclasser\")))","v":""},{"$f":"IF(ISBLANK(Import!E235),\"\",IF(B232=(LEFT(A232,3)),(IFERROR(VLOOKUP(Import!B235,Mapping!D:F,2,FALSE),\"Cpte à créer dans Mapping\")),\"Cpte à reclasser\"))","v":""}]
[{"$f":"IF(ISBLANK(Import!E236),\"\",Import!E236)","v":""},{"$f":"IF(ISBLANK(Import!E236),\"\",(IFERROR(VLOOKUP(Import!C236,Mapping!C:F,1,FALSE),\"HF, à reclasser\")))","v":""},{"$f":"IF(ISBLANK(Import!E236),\"\",IF(B233=(LEFT(A233,3)),(IFERROR(VLOOKUP(Import!B236,Mapping!D:F,2,FALSE),\"Cpte à créer dans Mapping\")),\"Cpte à reclasser\"))","v":""}]
[{"$f":"IF(ISBLANK(Import!E237),\"\",Import!E237)","v":""},{"$f":"IF(ISBLANK(Import!E237),\"\",(IFERROR(VLOOKUP(Import!C237,Mapping!C:F,1,FALSE),\"HF, à reclasser\")))","v":""},{"$f":"IF(ISBLANK(Import!E237),\"\",IF(B234=(LEFT(A234,3)),(IFERROR(VLOOKUP(Import!B237,Mapping!D:F,2,FALSE),\"Cpte à créer dans Mapping\")),\"Cpte à reclasser\"))","v":""}]
[{"$f":"IF(ISBLANK(Import!E238),\"\",Import!E238)","v":""},{"$f":"IF(ISBLANK(Import!E238),\"\",(IFERROR(VLOOKUP(Import!C238,Mapping!C:F,1,FALSE),\"HF, à reclasser\")))","v":""},{"$f":"IF(ISBLANK(Import!E238),\"\",IF(B235=(LEFT(A235,3)),(IFERROR(VLOOKUP(Import!B238,Mapping!D:F,2,FALSE),\"Cpte à créer dans Mapping\")),\"Cpte à reclasser\"))","v":""}]
[{"$f":"IF(ISBLANK(Import!E239),\"\",Import!E239)","v":""},{"$f":"IF(ISBLANK(Import!E239),\"\",(IFERROR(VLOOKUP(Import!C239,Mapping!C:F,1,FALSE),\"HF, à reclasser\")))","v":""},{"$f":"IF(ISBLANK(Import!E239),\"\",IF(B236=(LEFT(A236,3)),(IFERROR(VLOOKUP(Import!B239,Mapping!D:F,2,FALSE),\"Cpte à créer dans Mapping\")),\"Cpte à reclasser\"))","v":""}]
[{"$f":"IF(ISBLANK(Import!E240),\"\",Import!E240)","v":""},{"$f":"IF(ISBLANK(Import!E240),\"\",(IFERROR(VLOOKUP(Import!C240,Mapping!C:F,1,FALSE),\"HF, à reclasser\")))","v":""},{"$f":"IF(ISBLANK(Import!E240),\"\",IF(B237=(LEFT(A237,3)),(IFERROR(VLOOKUP(Import!B240,Mapping!D:F,2,FALSE),\"Cpte à créer dans Mapping\")),\"Cpte à reclasser\"))","v":""}]
[{"$f":"IF(ISBLANK(Import!E241),\"\",Import!E241)","v":""},{"$f":"IF(ISBLANK(Import!E241),\"\",(IFERROR(VLOOKUP(Import!C241,Mapping!C:F,1,FALSE),\"HF, à reclasser\")))","v":""},{"$f":"IF(ISBLANK(Import!E241),\"\",IF(B238=(LEFT(A238,3)),(IFERROR(VLOOKUP(Import!B241,Mapping!D:F,2,FALSE),\"Cpte à créer dans Mapping\")),\"Cpte à reclasser\"))","v":""}]
[{"$f":"IF(ISBLANK(Import!E242),\"\",Import!E242)","v":""},{"$f":"IF(ISBLANK(Import!E242),\"\",(IFERROR(VLOOKUP(Import!C242,Mapping!C:F,1,FALSE),\"HF, à reclasser\")))","v":""},{"$f":"IF(ISBLANK(Import!E242),\"\",IF(B239=(LEFT(A239,3)),(IFERROR(VLOOKUP(Import!B242,Mapping!D:F,2,FALSE),\"Cpte à créer dans Mapping\")),\"Cpte à reclasser\"))","v":""}]
[{"$f":"IF(ISBLANK(Import!E243),\"\",Import!E243)","v":""},{"$f":"IF(ISBLANK(Import!E243),\"\",(IFERROR(VLOOKUP(Import!C243,Mapping!C:F,1,FALSE),\"HF, à reclasser\")))","v":""},{"$f":"IF(ISBLANK(Import!E243),\"\",IF(B240=(LEFT(A240,3)),(IFERROR(VLOOKUP(Import!B243,Mapping!D:F,2,FALSE),\"Cpte à créer dans Mapping\")),\"Cpte à reclasser\"))","v":""}]
[{"$f":"IF(ISBLANK(Import!E244),\"\",Import!E244)","v":""},{"$f":"IF(ISBLANK(Import!E244),\"\",(IFERROR(VLOOKUP(Import!C244,Mapping!C:F,1,FALSE),\"HF, à reclasser\")))","v":""},{"$f":"IF(ISBLANK(Import!E244),\"\",IF(B241=(LEFT(A241,3)),(IFERROR(VLOOKUP(Import!B244,Mapping!D:F,2,FALSE),\"Cpte à créer dans Mapping\")),\"Cpte à reclasser\"))","v":""}]
[{"$f":"IF(ISBLANK(Import!E245),\"\",Import!E245)","v":""},{"$f":"IF(ISBLANK(Import!E245),\"\",(IFERROR(VLOOKUP(Import!C245,Mapping!C:F,1,FALSE),\"HF, à reclasser\")))","v":""},{"$f":"IF(ISBLANK(Import!E245),\"\",IF(B242=(LEFT(A242,3)),(IFERROR(VLOOKUP(Import!B245,Mapping!D:F,2,FALSE),\"Cpte à créer dans Mapping\")),\"Cpte à reclasser\"))","v":""}]
[{"$f":"IF(ISBLANK(Import!E246),\"\",Import!E246)","v":""},{"$f":"IF(ISBLANK(Import!E246),\"\",(IFERROR(VLOOKUP(Import!C246,Mapping!C:F,1,FALSE),\"HF, à reclasser\")))","v":""},{"$f":"IF(ISBLANK(Import!E246),\"\",IF(B243=(LEFT(A243,3)),(IFERROR(VLOOKUP(Import!B246,Mapping!D:F,2,FALSE),\"Cpte à créer dans Mapping\")),\"Cpte à reclasser\"))","v":""}]
[{"$f":"IF(ISBLANK(Import!E247),\"\",Import!E247)","v":""},{"$f":"IF(ISBLANK(Import!E247),\"\",(IFERROR(VLOOKUP(Import!C247,Mapping!C:F,1,FALSE),\"HF, à reclasser\")))","v":""},{"$f":"IF(ISBLANK(Import!E247),\"\",IF(B244=(LEFT(A244,3)),(IFERROR(VLOOKUP(Import!B247,Mapping!D:F,2,FALSE),\"Cpte à créer dans Mapping\")),\"Cpte à reclasser\"))","v":""}]
[{"$f":"IF(ISBLANK(Import!E248),\"\",Import!E248)","v":""},{"$f":"IF(ISBLANK(Import!E248),\"\",(IFERROR(VLOOKUP(Import!C248,Mapping!C:F,1,FALSE),\"HF, à reclasser\")))","v":""},{"$f":"IF(ISBLANK(Import!E248),\"\",IF(B245=(LEFT(A245,3)),(IFERROR(VLOOKUP(Import!B248,Mapping!D:F,2,FALSE),\"Cpte à créer dans Mapping\")),\"Cpte à reclasser\"))","v":""}]
[{"$f":"IF(ISBLANK(Import!E249),\"\",Import!E249)","v":""},{"$f":"IF(ISBLANK(Import!E249),\"\",(IFERROR(VLOOKUP(Import!C249,Mapping!C:F,1,FALSE),\"HF, à reclasser\")))","v":""},{"$f":"IF(ISBLANK(Import!E249),\"\",IF(B246=(LEFT(A246,3)),(IFERROR(VLOOKUP(Import!B249,Mapping!D:F,2,FALSE),\"Cpte à créer dans Mapping\")),\"Cpte à reclasser\"))","v":""}]
[{"$f":"IF(ISBLANK(Import!E250),\"\",Import!E250)","v":""},{"$f":"IF(ISBLANK(Import!E250),\"\",(IFERROR(VLOOKUP(Import!C250,Mapping!C:F,1,FALSE),\"HF, à reclasser\")))","v":""},{"$f":"IF(ISBLANK(Import!E250),\"\",IF(B247=(LEFT(A247,3)),(IFERROR(VLOOKUP(Import!B250,Mapping!D:F,2,FALSE),\"Cpte à créer dans Mapping\")),\"Cpte à reclasser\"))","v":""}]
[{"$f":"IF(ISBLANK(Import!E251),\"\",Import!E251)","v":""},{"$f":"IF(ISBLANK(Import!E251),\"\",(IFERROR(VLOOKUP(Import!C251,Mapping!C:F,1,FALSE),\"HF, à reclasser\")))","v":""},{"$f":"IF(ISBLANK(Import!E251),\"\",IF(B248=(LEFT(A248,3)),(IFERROR(VLOOKUP(Import!B251,Mapping!D:F,2,FALSE),\"Cpte à créer dans Mapping\")),\"Cpte à reclasser\"))","v":""}]
[{"$f":"IF(ISBLANK(Import!E252),\"\",Import!E252)","v":""},{"$f":"IF(ISBLANK(Import!E252),\"\",(IFERROR(VLOOKUP(Import!C252,Mapping!C:F,1,FALSE),\"HF, à reclasser\")))","v":""},{"$f":"IF(ISBLANK(Import!E252),\"\",IF(B249=(LEFT(A249,3)),(IFERROR(VLOOKUP(Import!B252,Mapping!D:F,2,FALSE),\"Cpte à créer dans Mapping\")),\"Cpte à reclasser\"))","v":""}]
[{"$f":"IF(ISBLANK(Import!E253),\"\",Import!E253)","v":""},{"$f":"IF(ISBLANK(Import!E253),\"\",(IFERROR(VLOOKUP(Import!C253,Mapping!C:F,1,FALSE),\"HF, à reclasser\")))","v":""},{"$f":"IF(ISBLANK(Import!E253),\"\",IF(B250=(LEFT(A250,3)),(IFERROR(VLOOKUP(Import!B253,Mapping!D:F,2,FALSE),\"Cpte à créer dans Mapping\")),\"Cpte à reclasser\"))","v":""}]
[{"$f":"IF(ISBLANK(Import!E254),\"\",Import!E254)","v":""},{"$f":"IF(ISBLANK(Import!E254),\"\",(IFERROR(VLOOKUP(Import!C254,Mapping!C:F,1,FALSE),\"HF, à reclasser\")))","v":""},{"$f":"IF(ISBLANK(Import!E254),\"\",IF(B251=(LEFT(A251,3)),(IFERROR(VLOOKUP(Import!B254,Mapping!D:F,2,FALSE),\"Cpte à créer dans Mapping\")),\"Cpte à reclasser\"))","v":""}]
[{"$f":"IF(ISBLANK(Import!E255),\"\",Import!E255)","v":""},{"$f":"IF(ISBLANK(Import!E255),\"\",(IFERROR(VLOOKUP(Import!C255,Mapping!C:F,1,FALSE),\"HF, à reclasser\")))","v":""},{"$f":"IF(ISBLANK(Import!E255),\"\",IF(B252=(LEFT(A252,3)),(IFERROR(VLOOKUP(Import!B255,Mapping!D:F,2,FALSE),\"Cpte à créer dans Mapping\")),\"Cpte à reclasser\"))","v":""}]
[{"$f":"IF(ISBLANK(Import!E256),\"\",Import!E256)","v":""},{"$f":"IF(ISBLANK(Import!E256),\"\",(IFERROR(VLOOKUP(Import!C256,Mapping!C:F,1,FALSE),\"HF, à reclasser\")))","v":""},{"$f":"IF(ISBLANK(Import!E256),\"\",IF(B253=(LEFT(A253,3)),(IFERROR(VLOOKUP(Import!B256,Mapping!D:F,2,FALSE),\"Cpte à créer dans Mapping\")),\"Cpte à reclasser\"))","v":""}]
[{"$f":"IF(ISBLANK(Import!E257),\"\",Import!E257)","v":""},{"$f":"IF(ISBLANK(Import!E257),\"\",(IFERROR(VLOOKUP(Import!C257,Mapping!C:F,1,FALSE),\"HF, à reclasser\")))","v":""},{"$f":"IF(ISBLANK(Import!E257),\"\",IF(B254=(LEFT(A254,3)),(IFERROR(VLOOKUP(Import!B257,Mapping!D:F,2,FALSE),\"Cpte à créer dans Mapping\")),\"Cpte à reclasser\"))","v":""}]
[{"$f":"IF(ISBLANK(Import!E258),\"\",Import!E258)","v":""},{"$f":"IF(ISBLANK(Import!E258),\"\",(IFERROR(VLOOKUP(Import!C258,Mapping!C:F,1,FALSE),\"HF, à reclasser\")))","v":""},{"$f":"IF(ISBLANK(Import!E258),\"\",IF(B255=(LEFT(A255,3)),(IFERROR(VLOOKUP(Import!B258,Mapping!D:F,2,FALSE),\"Cpte à créer dans Mapping\")),\"Cpte à reclasser\"))","v":""}]
[{"$f":"IF(ISBLANK(Import!E259),\"\",Import!E259)","v":""},{"$f":"IF(ISBLANK(Import!E259),\"\",(IFERROR(VLOOKUP(Import!C259,Mapping!C:F,1,FALSE),\"HF, à reclasser\")))","v":""},{"$f":"IF(ISBLANK(Import!E259),\"\",IF(B256=(LEFT(A256,3)),(IFERROR(VLOOKUP(Import!B259,Mapping!D:F,2,FALSE),\"Cpte à créer dans Mapping\")),\"Cpte à reclasser\"))","v":""}]
[{"$f":"IF(ISBLANK(Import!E260),\"\",Import!E260)","v":""},{"$f":"IF(ISBLANK(Import!E260),\"\",(IFERROR(VLOOKUP(Import!C260,Mapping!C:F,1,FALSE),\"HF, à reclasser\")))","v":""},{"$f":"IF(ISBLANK(Import!E260),\"\",IF(B257=(LEFT(A257,3)),(IFERROR(VLOOKUP(Import!B260,Mapping!D:F,2,FALSE),\"Cpte à créer dans Mapping\")),\"Cpte à reclasser\"))","v":""}]
[{"$f":"IF(ISBLANK(Import!E261),\"\",Import!E261)","v":""},{"$f":"IF(ISBLANK(Import!E261),\"\",(IFERROR(VLOOKUP(Import!C261,Mapping!C:F,1,FALSE),\"HF, à reclasser\")))","v":""},{"$f":"IF(ISBLANK(Import!E261),\"\",IF(B258=(LEFT(A258,3)),(IFERROR(VLOOKUP(Import!B261,Mapping!D:F,2,FALSE),\"Cpte à créer dans Mapping\")),\"Cpte à reclasser\"))","v":""}]
[{"$f":"IF(ISBLANK(Import!E262),\"\",Import!E262)","v":""},{"$f":"IF(ISBLANK(Import!E262),\"\",(IFERROR(VLOOKUP(Import!C262,Mapping!C:F,1,FALSE),\"HF, à reclasser\")))","v":""},{"$f":"IF(ISBLANK(Import!E262),\"\",IF(B259=(LEFT(A259,3)),(IFERROR(VLOOKUP(Import!B262,Mapping!D:F,2,FALSE),\"Cpte à créer dans Mapping\")),\"Cpte à reclasser\"))","v":""}]
[{"$f":"IF(ISBLANK(Import!E263),\"\",Import!E263)","v":""},{"$f":"IF(ISBLANK(Import!E263),\"\",(IFERROR(VLOOKUP(Import!C263,Mapping!C:F,1,FALSE),\"HF, à reclasser\")))","v":""},{"$f":"IF(ISBLANK(Import!E263),\"\",IF(B260=(LEFT(A260,3)),(IFERROR(VLOOKUP(Import!B263,Mapping!D:F,2,FALSE),\"Cpte à créer dans Mapping\")),\"Cpte à reclasser\"))","v":""}]
[{"$f":"IF(ISBLANK(Import!E264),\"\",Import!E264)","v":""},{"$f":"IF(ISBLANK(Import!E264),\"\",(IFERROR(VLOOKUP(Import!C264,Mapping!C:F,1,FALSE),\"HF, à reclasser\")))","v":""},{"$f":"IF(ISBLANK(Import!E264),\"\",IF(B261=(LEFT(A261,3)),(IFERROR(VLOOKUP(Import!B264,Mapping!D:F,2,FALSE),\"Cpte à créer dans Mapping\")),\"Cpte à reclasser\"))","v":""}]
[{"$f":"IF(ISBLANK(Import!E265),\"\",Import!E265)","v":""},{"$f":"IF(ISBLANK(Import!E265),\"\",(IFERROR(VLOOKUP(Import!C265,Mapping!C:F,1,FALSE),\"HF, à reclasser\")))","v":""},{"$f":"IF(ISBLANK(Import!E265),\"\",IF(B262=(LEFT(A262,3)),(IFERROR(VLOOKUP(Import!B265,Mapping!D:F,2,FALSE),\"Cpte à créer dans Mapping\")),\"Cpte à reclasser\"))","v":""}]
[{"$f":"IF(ISBLANK(Import!E266),\"\",Import!E266)","v":""},{"$f":"IF(ISBLANK(Import!E266),\"\",(IFERROR(VLOOKUP(Import!C266,Mapping!C:F,1,FALSE),\"HF, à reclasser\")))","v":""},{"$f":"IF(ISBLANK(Import!E266),\"\",IF(B263=(LEFT(A263,3)),(IFERROR(VLOOKUP(Import!B266,Mapping!D:F,2,FALSE),\"Cpte à créer dans Mapping\")),\"Cpte à reclasser\"))","v":""}]
[{"$f":"IF(ISBLANK(Import!E267),\"\",Import!E267)","v":""},{"$f":"IF(ISBLANK(Import!E267),\"\",(IFERROR(VLOOKUP(Import!C267,Mapping!C:F,1,FALSE),\"HF, à reclasser\")))","v":""},{"$f":"IF(ISBLANK(Import!E267),\"\",IF(B264=(LEFT(A264,3)),(IFERROR(VLOOKUP(Import!B267,Mapping!D:F,2,FALSE),\"Cpte à créer dans Mapping\")),\"Cpte à reclasser\"))","v":""}]
[{"$f":"IF(ISBLANK(Import!E268),\"\",Import!E268)","v":""},{"$f":"IF(ISBLANK(Import!E268),\"\",(IFERROR(VLOOKUP(Import!C268,Mapping!C:F,1,FALSE),\"HF, à reclasser\")))","v":""},{"$f":"IF(ISBLANK(Import!E268),\"\",IF(B265=(LEFT(A265,3)),(IFERROR(VLOOKUP(Import!B268,Mapping!D:F,2,FALSE),\"Cpte à créer dans Mapping\")),\"Cpte à reclasser\"))","v":""}]
[{"$f":"IF(ISBLANK(Import!E269),\"\",Import!E269)","v":""},{"$f":"IF(ISBLANK(Import!E269),\"\",(IFERROR(VLOOKUP(Import!C269,Mapping!C:F,1,FALSE),\"HF, à reclasser\")))","v":""},{"$f":"IF(ISBLANK(Import!E269),\"\",IF(B266=(LEFT(A266,3)),(IFERROR(VLOOKUP(Import!B269,Mapping!D:F,2,FALSE),\"Cpte à créer dans Mapping\")),\"Cpte à reclasser\"))","v":""}]
[{"$f":"IF(ISBLANK(Import!E270),\"\",Import!E270)","v":""},{"$f":"IF(ISBLANK(Import!E270),\"\",(IFERROR(VLOOKUP(Import!C270,Mapping!C:F,1,FALSE),\"HF, à reclasser\")))","v":""},{"$f":"IF(ISBLANK(Import!E270),\"\",IF(B267=(LEFT(A267,3)),(IFERROR(VLOOKUP(Import!B270,Mapping!D:F,2,FALSE),\"Cpte à créer dans Mapping\")),\"Cpte à reclasser\"))","v":""}]
[{"$f":"IF(ISBLANK(Import!E271),\"\",Import!E271)","v":""},{"$f":"IF(ISBLANK(Import!E271),\"\",(IFERROR(VLOOKUP(Import!C271,Mapping!C:F,1,FALSE),\"HF, à reclasser\")))","v":""},{"$f":"IF(ISBLANK(Import!E271),\"\",IF(B268=(LEFT(A268,3)),(IFERROR(VLOOKUP(Import!B271,Mapping!D:F,2,FALSE),\"Cpte à créer dans Mapping\")),\"Cpte à reclasser\"))","v":""}]
[{"$f":"IF(ISBLANK(Import!E272),\"\",Import!E272)","v":""},{"$f":"IF(ISBLANK(Import!E272),\"\",(IFERROR(VLOOKUP(Import!C272,Mapping!C:F,1,FALSE),\"HF, à reclasser\")))","v":""},{"$f":"IF(ISBLANK(Import!E272),\"\",IF(B269=(LEFT(A269,3)),(IFERROR(VLOOKUP(Import!B272,Mapping!D:F,2,FALSE),\"Cpte à créer dans Mapping\")),\"Cpte à reclasser\"))","v":""}]
[{"$f":"IF(ISBLANK(Import!E273),\"\",Import!E273)","v":""},{"$f":"IF(ISBLANK(Import!E273),\"\",(IFERROR(VLOOKUP(Import!C273,Mapping!C:F,1,FALSE),\"HF, à reclasser\")))","v":""},{"$f":"IF(ISBLANK(Import!E273),\"\",IF(B270=(LEFT(A270,3)),(IFERROR(VLOOKUP(Import!B273,Mapping!D:F,2,FALSE),\"Cpte à créer dans Mapping\")),\"Cpte à reclasser\"))","v":""}]
[{"$f":"IF(ISBLANK(Import!E274),\"\",Import!E274)","v":""},{"$f":"IF(ISBLANK(Import!E274),\"\",(IFERROR(VLOOKUP(Import!C274,Mapping!C:F,1,FALSE),\"HF, à reclasser\")))","v":""},{"$f":"IF(ISBLANK(Import!E274),\"\",IF(B271=(LEFT(A271,3)),(IFERROR(VLOOKUP(Import!B274,Mapping!D:F,2,FALSE),\"Cpte à créer dans Mapping\")),\"Cpte à reclasser\"))","v":""}]
[{"$f":"IF(ISBLANK(Import!E275),\"\",Import!E275)","v":""},{"$f":"IF(ISBLANK(Import!E275),\"\",(IFERROR(VLOOKUP(Import!C275,Mapping!C:F,1,FALSE),\"HF, à reclasser\")))","v":""},{"$f":"IF(ISBLANK(Import!E275),\"\",IF(B272=(LEFT(A272,3)),(IFERROR(VLOOKUP(Import!B275,Mapping!D:F,2,FALSE),\"Cpte à créer dans Mapping\")),\"Cpte à reclasser\"))","v":""}]
[{"$f":"IF(ISBLANK(Import!E276),\"\",Import!E276)","v":""},{"$f":"IF(ISBLANK(Import!E276),\"\",(IFERROR(VLOOKUP(Import!C276,Mapping!C:F,1,FALSE),\"HF, à reclasser\")))","v":""},{"$f":"IF(ISBLANK(Import!E276),\"\",IF(B273=(LEFT(A273,3)),(IFERROR(VLOOKUP(Import!B276,Mapping!D:F,2,FALSE),\"Cpte à créer dans Mapping\")),\"Cpte à reclasser\"))","v":""}]
[{"$f":"IF(ISBLANK(Import!E277),\"\",Import!E277)","v":""},{"$f":"IF(ISBLANK(Import!E277),\"\",(IFERROR(VLOOKUP(Import!C277,Mapping!C:F,1,FALSE),\"HF, à reclasser\")))","v":""},{"$f":"IF(ISBLANK(Import!E277),\"\",IF(B274=(LEFT(A274,3)),(IFERROR(VLOOKUP(Import!B277,Mapping!D:F,2,FALSE),\"Cpte à créer dans Mapping\")),\"Cpte à reclasser\"))","v":""}]
[{"$f":"IF(ISBLANK(Import!E278),\"\",Import!E278)","v":""},{"$f":"IF(ISBLANK(Import!E278),\"\",(IFERROR(VLOOKUP(Import!C278,Mapping!C:F,1,FALSE),\"HF, à reclasser\")))","v":""},{"$f":"IF(ISBLANK(Import!E278),\"\",IF(B275=(LEFT(A275,3)),(IFERROR(VLOOKUP(Import!B278,Mapping!D:F,2,FALSE),\"Cpte à créer dans Mapping\")),\"Cpte à reclasser\"))","v":""}]
[{"$f":"IF(ISBLANK(Import!E279),\"\",Import!E279)","v":""},{"$f":"IF(ISBLANK(Import!E279),\"\",(IFERROR(VLOOKUP(Import!C279,Mapping!C:F,1,FALSE),\"HF, à reclasser\")))","v":""},{"$f":"IF(ISBLANK(Import!E279),\"\",IF(B276=(LEFT(A276,3)),(IFERROR(VLOOKUP(Import!B279,Mapping!D:F,2,FALSE),\"Cpte à créer dans Mapping\")),\"Cpte à reclasser\"))","v":""}]
[{"$f":"IF(ISBLANK(Import!E280),\"\",Import!E280)","v":""},{"$f":"IF(ISBLANK(Import!E280),\"\",(IFERROR(VLOOKUP(Import!C280,Mapping!C:F,1,FALSE),\"HF, à reclasser\")))","v":""},{"$f":"IF(ISBLANK(Import!E280),\"\",IF(B277=(LEFT(A277,3)),(IFERROR(VLOOKUP(Import!B280,Mapping!D:F,2,FALSE),\"Cpte à créer dans Mapping\")),\"Cpte à reclasser\"))","v":""}]
[{"$f":"IF(ISBLANK(Import!E281),\"\",Import!E281)","v":""},{"$f":"IF(ISBLANK(Import!E281),\"\",(IFERROR(VLOOKUP(Import!C281,Mapping!C:F,1,FALSE),\"HF, à reclasser\")))","v":""},{"$f":"IF(ISBLANK(Import!E281),\"\",IF(B278=(LEFT(A278,3)),(IFERROR(VLOOKUP(Import!B281,Mapping!D:F,2,FALSE),\"Cpte à créer dans Mapping\")),\"Cpte à reclasser\"))","v":""}]
[{"$f":"IF(ISBLANK(Import!E282),\"\",Import!E282)","v":""},{"$f":"IF(ISBLANK(Import!E282),\"\",(IFERROR(VLOOKUP(Import!C282,Mapping!C:F,1,FALSE),\"HF, à reclasser\")))","v":""},{"$f":"IF(ISBLANK(Import!E282),\"\",IF(B279=(LEFT(A279,3)),(IFERROR(VLOOKUP(Import!B282,Mapping!D:F,2,FALSE),\"Cpte à créer dans Mapping\")),\"Cpte à reclasser\"))","v":""}]
[{"$f":"IF(ISBLANK(Import!E283),\"\",Import!E283)","v":""},{"$f":"IF(ISBLANK(Import!E283),\"\",(IFERROR(VLOOKUP(Import!C283,Mapping!C:F,1,FALSE),\"HF, à reclasser\")))","v":""},{"$f":"IF(ISBLANK(Import!E283),\"\",IF(B280=(LEFT(A280,3)),(IFERROR(VLOOKUP(Import!B283,Mapping!D:F,2,FALSE),\"Cpte à créer dans Mapping\")),\"Cpte à reclasser\"))","v":""}]
[{"$f":"IF(ISBLANK(Import!E284),\"\",Import!E284)","v":""},{"$f":"IF(ISBLANK(Import!E284),\"\",(IFERROR(VLOOKUP(Import!C284,Mapping!C:F,1,FALSE),\"HF, à reclasser\")))","v":""},{"$f":"IF(ISBLANK(Import!E284),\"\",IF(B281=(LEFT(A281,3)),(IFERROR(VLOOKUP(Import!B284,Mapping!D:F,2,FALSE),\"Cpte à créer dans Mapping\")),\"Cpte à reclasser\"))","v":""}]
[{"$f":"IF(ISBLANK(Import!E285),\"\",Import!E285)","v":""},{"$f":"IF(ISBLANK(Import!E285),\"\",(IFERROR(VLOOKUP(Import!C285,Mapping!C:F,1,FALSE),\"HF, à reclasser\")))","v":""},{"$f":"IF(ISBLANK(Import!E285),\"\",IF(B282=(LEFT(A282,3)),(IFERROR(VLOOKUP(Import!B285,Mapping!D:F,2,FALSE),\"Cpte à créer dans Mapping\")),\"Cpte à reclasser\"))","v":""}]
[{"$f":"IF(ISBLANK(Import!E286),\"\",Import!E286)","v":""},{"$f":"IF(ISBLANK(Import!E286),\"\",(IFERROR(VLOOKUP(Import!C286,Mapping!C:F,1,FALSE),\"HF, à reclasser\")))","v":""},{"$f":"IF(ISBLANK(Import!E286),\"\",IF(B283=(LEFT(A283,3)),(IFERROR(VLOOKUP(Import!B286,Mapping!D:F,2,FALSE),\"Cpte à créer dans Mapping\")),\"Cpte à reclasser\"))","v":""}]
[{"$f":"IF(ISBLANK(Import!E287),\"\",Import!E287)","v":""},{"$f":"IF(ISBLANK(Import!E287),\"\",(IFERROR(VLOOKUP(Import!C287,Mapping!C:F,1,FALSE),\"HF, à reclasser\")))","v":""},{"$f":"IF(ISBLANK(Import!E287),\"\",IF(B284=(LEFT(A284,3)),(IFERROR(VLOOKUP(Import!B287,Mapping!D:F,2,FALSE),\"Cpte à créer dans Mapping\")),\"Cpte à reclasser\"))","v":""}]
[{"$f":"IF(ISBLANK(Import!E288),\"\",Import!E288)","v":""},{"$f":"IF(ISBLANK(Import!E288),\"\",(IFERROR(VLOOKUP(Import!C288,Mapping!C:F,1,FALSE),\"HF, à reclasser\")))","v":""},{"$f":"IF(ISBLANK(Import!E288),\"\",IF(B285=(LEFT(A285,3)),(IFERROR(VLOOKUP(Import!B288,Mapping!D:F,2,FALSE),\"Cpte à créer dans Mapping\")),\"Cpte à reclasser\"))","v":""}]
[{"$f":"IF(ISBLANK(Import!E289),\"\",Import!E289)","v":""},{"$f":"IF(ISBLANK(Import!E289),\"\",(IFERROR(VLOOKUP(Import!C289,Mapping!C:F,1,FALSE),\"HF, à reclasser\")))","v":""},{"$f":"IF(ISBLANK(Import!E289),\"\",IF(B286=(LEFT(A286,3)),(IFERROR(VLOOKUP(Import!B289,Mapping!D:F,2,FALSE),\"Cpte à créer dans Mapping\")),\"Cpte à reclasser\"))","v":""}]
[{"$f":"IF(ISBLANK(Import!E290),\"\",Import!E290)","v":""},{"$f":"IF(ISBLANK(Import!E290),\"\",(IFERROR(VLOOKUP(Import!C290,Mapping!C:F,1,FALSE),\"HF, à reclasser\")))","v":""},{"$f":"IF(ISBLANK(Import!E290),\"\",IF(B287=(LEFT(A287,3)),(IFERROR(VLOOKUP(Import!B290,Mapping!D:F,2,FALSE),\"Cpte à créer dans Mapping\")),\"Cpte à reclasser\"))","v":""}]
[{"$f":"IF(ISBLANK(Import!E291),\"\",Import!E291)","v":""},{"$f":"IF(ISBLANK(Import!E291),\"\",(IFERROR(VLOOKUP(Import!C291,Mapping!C:F,1,FALSE),\"HF, à reclasser\")))","v":""},{"$f":"IF(ISBLANK(Import!E291),\"\",IF(B288=(LEFT(A288,3)),(IFERROR(VLOOKUP(Import!B291,Mapping!D:F,2,FALSE),\"Cpte à créer dans Mapping\")),\"Cpte à reclasser\"))","v":""}]
[{"$f":"IF(ISBLANK(Import!E292),\"\",Import!E292)","v":""},{"$f":"IF(ISBLANK(Import!E292),\"\",(IFERROR(VLOOKUP(Import!C292,Mapping!C:F,1,FALSE),\"HF, à reclasser\")))","v":""},{"$f":"IF(ISBLANK(Import!E292),\"\",IF(B289=(LEFT(A289,3)),(IFERROR(VLOOKUP(Import!B292,Mapping!D:F,2,FALSE),\"Cpte à créer dans Mapping\")),\"Cpte à reclasser\"))","v":""}]
[{"$f":"IF(ISBLANK(Import!E293),\"\",Import!E293)","v":""},{"$f":"IF(ISBLANK(Import!E293),\"\",(IFERROR(VLOOKUP(Import!C293,Mapping!C:F,1,FALSE),\"HF, à reclasser\")))","v":""},{"$f":"IF(ISBLANK(Import!E293),\"\",IF(B290=(LEFT(A290,3)),(IFERROR(VLOOKUP(Import!B293,Mapping!D:F,2,FALSE),\"Cpte à créer dans Mapping\")),\"Cpte à reclasser\"))","v":""}]
[{"$f":"IF(ISBLANK(Import!E294),\"\",Import!E294)","v":""},{"$f":"IF(ISBLANK(Import!E294),\"\",(IFERROR(VLOOKUP(Import!C294,Mapping!C:F,1,FALSE),\"HF, à reclasser\")))","v":""},{"$f":"IF(ISBLANK(Import!E294),\"\",IF(B291=(LEFT(A291,3)),(IFERROR(VLOOKUP(Import!B294,Mapping!D:F,2,FALSE),\"Cpte à créer dans Mapping\")),\"Cpte à reclasser\"))","v":""}]
[{"$f":"IF(ISBLANK(Import!E295),\"\",Import!E295)","v":""},{"$f":"IF(ISBLANK(Import!E295),\"\",(IFERROR(VLOOKUP(Import!C295,Mapping!C:F,1,FALSE),\"HF, à reclasser\")))","v":""},{"$f":"IF(ISBLANK(Import!E295),\"\",IF(B292=(LEFT(A292,3)),(IFERROR(VLOOKUP(Import!B295,Mapping!D:F,2,FALSE),\"Cpte à créer dans Mapping\")),\"Cpte à reclasser\"))","v":""}]
[{"$f":"IF(ISBLANK(Import!E296),\"\",Import!E296)","v":""},{"$f":"IF(ISBLANK(Import!E296),\"\",(IFERROR(VLOOKUP(Import!C296,Mapping!C:F,1,FALSE),\"HF, à reclasser\")))","v":""},{"$f":"IF(ISBLANK(Import!E296),\"\",IF(B293=(LEFT(A293,3)),(IFERROR(VLOOKUP(Import!B296,Mapping!D:F,2,FALSE),\"Cpte à créer dans Mapping\")),\"Cpte à reclasser\"))","v":""}]
[{"$f":"IF(ISBLANK(Import!E297),\"\",Import!E297)","v":""},{"$f":"IF(ISBLANK(Import!E297),\"\",(IFERROR(VLOOKUP(Import!C297,Mapping!C:F,1,FALSE),\"HF, à reclasser\")))","v":""},{"$f":"IF(ISBLANK(Import!E297),\"\",IF(B294=(LEFT(A294,3)),(IFERROR(VLOOKUP(Import!B297,Mapping!D:F,2,FALSE),\"Cpte à créer dans Mapping\")),\"Cpte à reclasser\"))","v":""}]
[{"$f":"IF(ISBLANK(Import!E298),\"\",Import!E298)","v":""},{"$f":"IF(ISBLANK(Import!E298),\"\",(IFERROR(VLOOKUP(Import!C298,Mapping!C:F,1,FALSE),\"HF, à reclasser\")))","v":""},{"$f":"IF(ISBLANK(Import!E298),\"\",IF(B295=(LEFT(A295,3)),(IFERROR(VLOOKUP(Import!B298,Mapping!D:F,2,FALSE),\"Cpte à créer dans Mapping\")),\"Cpte à reclasser\"))","v":""}]
[{"$f":"IF(ISBLANK(Import!E299),\"\",Import!E299)","v":""},{"$f":"IF(ISBLANK(Import!E299),\"\",(IFERROR(VLOOKUP(Import!C299,Mapping!C:F,1,FALSE),\"HF, à reclasser\")))","v":""},{"$f":"IF(ISBLANK(Import!E299),\"\",IF(B296=(LEFT(A296,3)),(IFERROR(VLOOKUP(Import!B299,Mapping!D:F,2,FALSE),\"Cpte à créer dans Mapping\")),\"Cpte à reclasser\"))","v":""}]
[{"$f":"IF(ISBLANK(Import!E300),\"\",Import!E300)","v":""},{"$f":"IF(ISBLANK(Import!E300),\"\",(IFERROR(VLOOKUP(Import!C300,Mapping!C:F,1,FALSE),\"HF, à reclasser\")))","v":""},{"$f":"IF(ISBLANK(Import!E300),\"\",IF(B297=(LEFT(A297,3)),(IFERROR(VLOOKUP(Import!B300,Mapping!D:F,2,FALSE),\"Cpte à créer dans Mapping\")),\"Cpte à reclasser\"))","v":""}]
[{"$f":"IF(ISBLANK(Import!E301),\"\",Import!E301)","v":""},{"$f":"IF(ISBLANK(Import!E301),\"\",(IFERROR(VLOOKUP(Import!C301,Mapping!C:F,1,FALSE),\"HF, à reclasser\")))","v":""},{"$f":"IF(ISBLANK(Import!E301),\"\",IF(B298=(LEFT(A298,3)),(IFERROR(VLOOKUP(Import!B301,Mapping!D:F,2,FALSE),\"Cpte à créer dans Mapping\")),\"Cpte à reclasser\"))","v":""}]
[{"$f":"IF(ISBLANK(Import!E302),\"\",Import!E302)","v":""},{"$f":"IF(ISBLANK(Import!E302),\"\",(IFERROR(VLOOKUP(Import!C302,Mapping!C:F,1,FALSE),\"HF, à reclasser\")))","v":""},{"$f":"IF(ISBLANK(Import!E302),\"\",IF(B299=(LEFT(A299,3)),(IFERROR(VLOOKUP(Import!B302,Mapping!D:F,2,FALSE),\"Cpte à créer dans Mapping\")),\"Cpte à reclasser\"))","v":""}]
[{"$f":"IF(ISBLANK(Import!E303),\"\",Import!E303)","v":""},{"$f":"IF(ISBLANK(Import!E303),\"\",(IFERROR(VLOOKUP(Import!C303,Mapping!C:F,1,FALSE),\"HF, à reclasser\")))","v":""},{"$f":"IF(ISBLANK(Import!E303),\"\",IF(B300=(LEFT(A300,3)),(IFERROR(VLOOKUP(Import!B303,Mapping!D:F,2,FALSE),\"Cpte à créer dans Mapping\")),\"Cpte à reclasser\"))","v":""}]
[{"$f":"IF(ISBLANK(Import!E304),\"\",Import!E304)","v":""},{"$f":"IF(ISBLANK(Import!E304),\"\",(IFERROR(VLOOKUP(Import!C304,Mapping!C:F,1,FALSE),\"HF, à reclasser\")))","v":""},{"$f":"IF(ISBLANK(Import!E304),\"\",IF(B301=(LEFT(A301,3)),(IFERROR(VLOOKUP(Import!B304,Mapping!D:F,2,FALSE),\"Cpte à créer dans Mapping\")),\"Cpte à reclasser\"))","v":""}]
[{"$f":"IF(ISBLANK(Import!E305),\"\",Import!E305)","v":""},{"$f":"IF(ISBLANK(Import!E305),\"\",(IFERROR(VLOOKUP(Import!C305,Mapping!C:F,1,FALSE),\"HF, à reclasser\")))","v":""},{"$f":"IF(ISBLANK(Import!E305),\"\",IF(B302=(LEFT(A302,3)),(IFERROR(VLOOKUP(Import!B305,Mapping!D:F,2,FALSE),\"Cpte à créer dans Mapping\")),\"Cpte à reclasser\"))","v":""}]
[{"$f":"IF(ISBLANK(Import!E306),\"\",Import!E306)","v":""},{"$f":"IF(ISBLANK(Import!E306),\"\",(IFERROR(VLOOKUP(Import!C306,Mapping!C:F,1,FALSE),\"HF, à reclasser\")))","v":""},{"$f":"IF(ISBLANK(Import!E306),\"\",IF(B303=(LEFT(A303,3)),(IFERROR(VLOOKUP(Import!B306,Mapping!D:F,2,FALSE),\"Cpte à créer dans Mapping\")),\"Cpte à reclasser\"))","v":""}]
[{"$f":"IF(ISBLANK(Import!E307),\"\",Import!E307)","v":""},{"$f":"IF(ISBLANK(Import!E307),\"\",(IFERROR(VLOOKUP(Import!C307,Mapping!C:F,1,FALSE),\"HF, à reclasser\")))","v":""},{"$f":"IF(ISBLANK(Import!E307),\"\",IF(B304=(LEFT(A304,3)),(IFERROR(VLOOKUP(Import!B307,Mapping!D:F,2,FALSE),\"Cpte à créer dans Mapping\")),\"Cpte à reclasser\"))","v":""}]
[{"$f":"IF(ISBLANK(Import!E308),\"\",Import!E308)","v":""},{"$f":"IF(ISBLANK(Import!E308),\"\",(IFERROR(VLOOKUP(Import!C308,Mapping!C:F,1,FALSE),\"HF, à reclasser\")))","v":""},{"$f":"IF(ISBLANK(Import!E308),\"\",IF(B305=(LEFT(A305,3)),(IFERROR(VLOOKUP(Import!B308,Mapping!D:F,2,FALSE),\"Cpte à créer dans Mapping\")),\"Cpte à reclasser\"))","v":""}]
[{"$f":"IF(ISBLANK(Import!E309),\"\",Import!E309)","v":""},{"$f":"IF(ISBLANK(Import!E309),\"\",(IFERROR(VLOOKUP(Import!C309,Mapping!C:F,1,FALSE),\"HF, à reclasser\")))","v":""},{"$f":"IF(ISBLANK(Import!E309),\"\",IF(B306=(LEFT(A306,3)),(IFERROR(VLOOKUP(Import!B309,Mapping!D:F,2,FALSE),\"Cpte à créer dans Mapping\")),\"Cpte à reclasser\"))","v":""}]
[{"$f":"IF(ISBLANK(Import!E310),\"\",Import!E310)","v":""},{"$f":"IF(ISBLANK(Import!E310),\"\",(IFERROR(VLOOKUP(Import!C310,Mapping!C:F,1,FALSE),\"HF, à reclasser\")))","v":""},{"$f":"IF(ISBLANK(Import!E310),\"\",IF(B307=(LEFT(A307,3)),(IFERROR(VLOOKUP(Import!B310,Mapping!D:F,2,FALSE),\"Cpte à créer dans Mapping\")),\"Cpte à reclasser\"))","v":""}]
[{"$f":"IF(ISBLANK(Import!E311),\"\",Import!E311)","v":""},{"$f":"IF(ISBLANK(Import!E311),\"\",(IFERROR(VLOOKUP(Import!C311,Mapping!C:F,1,FALSE),\"HF, à reclasser\")))","v":""},{"$f":"IF(ISBLANK(Import!E311),\"\",IF(B308=(LEFT(A308,3)),(IFERROR(VLOOKUP(Import!B311,Mapping!D:F,2,FALSE),\"Cpte à créer dans Mapping\")),\"Cpte à reclasser\"))","v":""}]
[{"$f":"IF(ISBLANK(Import!E312),\"\",Import!E312)","v":""},{"$f":"IF(ISBLANK(Import!E312),\"\",(IFERROR(VLOOKUP(Import!C312,Mapping!C:F,1,FALSE),\"HF, à reclasser\")))","v":""},{"$f":"IF(ISBLANK(Import!E312),\"\",IF(B309=(LEFT(A309,3)),(IFERROR(VLOOKUP(Import!B312,Mapping!D:F,2,FALSE),\"Cpte à créer dans Mapping\")),\"Cpte à reclasser\"))","v":""}]
[{"$f":"IF(ISBLANK(Import!E313),\"\",Import!E313)","v":""},{"$f":"IF(ISBLANK(Import!E313),\"\",(IFERROR(VLOOKUP(Import!C313,Mapping!C:F,1,FALSE),\"HF, à reclasser\")))","v":""},{"$f":"IF(ISBLANK(Import!E313),\"\",IF(B310=(LEFT(A310,3)),(IFERROR(VLOOKUP(Import!B313,Mapping!D:F,2,FALSE),\"Cpte à créer dans Mapping\")),\"Cpte à reclasser\"))","v":""}]
[{"$f":"IF(ISBLANK(Import!E314),\"\",Import!E314)","v":""},{"$f":"IF(ISBLANK(Import!E314),\"\",(IFERROR(VLOOKUP(Import!C314,Mapping!C:F,1,FALSE),\"HF, à reclasser\")))","v":""},{"$f":"IF(ISBLANK(Import!E314),\"\",IF(B311=(LEFT(A311,3)),(IFERROR(VLOOKUP(Import!B314,Mapping!D:F,2,FALSE),\"Cpte à créer dans Mapping\")),\"Cpte à reclasser\"))","v":""}]
[{"$f":"IF(ISBLANK(Import!E315),\"\",Import!E315)","v":""},{"$f":"IF(ISBLANK(Import!E315),\"\",(IFERROR(VLOOKUP(Import!C315,Mapping!C:F,1,FALSE),\"HF, à reclasser\")))","v":""},{"$f":"IF(ISBLANK(Import!E315),\"\",IF(B312=(LEFT(A312,3)),(IFERROR(VLOOKUP(Import!B315,Mapping!D:F,2,FALSE),\"Cpte à créer dans Mapping\")),\"Cpte à reclasser\"))","v":""}]
[{"$f":"IF(ISBLANK(Import!E316),\"\",Import!E316)","v":""},{"$f":"IF(ISBLANK(Import!E316),\"\",(IFERROR(VLOOKUP(Import!C316,Mapping!C:F,1,FALSE),\"HF, à reclasser\")))","v":""},{"$f":"IF(ISBLANK(Import!E316),\"\",IF(B313=(LEFT(A313,3)),(IFERROR(VLOOKUP(Import!B316,Mapping!D:F,2,FALSE),\"Cpte à créer dans Mapping\")),\"Cpte à reclasser\"))","v":""}]
[{"$f":"IF(ISBLANK(Import!E317),\"\",Import!E317)","v":""},{"$f":"IF(ISBLANK(Import!E317),\"\",(IFERROR(VLOOKUP(Import!C317,Mapping!C:F,1,FALSE),\"HF, à reclasser\")))","v":""},{"$f":"IF(ISBLANK(Import!E317),\"\",IF(B314=(LEFT(A314,3)),(IFERROR(VLOOKUP(Import!B317,Mapping!D:F,2,FALSE),\"Cpte à créer dans Mapping\")),\"Cpte à reclasser\"))","v":""}]
[{"$f":"IF(ISBLANK(Import!E318),\"\",Import!E318)","v":""},{"$f":"IF(ISBLANK(Import!E318),\"\",(IFERROR(VLOOKUP(Import!C318,Mapping!C:F,1,FALSE),\"HF, à reclasser\")))","v":""},{"$f":"IF(ISBLANK(Import!E318),\"\",IF(B315=(LEFT(A315,3)),(IFERROR(VLOOKUP(Import!B318,Mapping!D:F,2,FALSE),\"Cpte à créer dans Mapping\")),\"Cpte à reclasser\"))","v":""}]
[{"$f":"IF(ISBLANK(Import!E319),\"\",Import!E319)","v":""},{"$f":"IF(ISBLANK(Import!E319),\"\",(IFERROR(VLOOKUP(Import!C319,Mapping!C:F,1,FALSE),\"HF, à reclasser\")))","v":""},{"$f":"IF(ISBLANK(Import!E319),\"\",IF(B316=(LEFT(A316,3)),(IFERROR(VLOOKUP(Import!B319,Mapping!D:F,2,FALSE),\"Cpte à créer dans Mapping\")),\"Cpte à reclasser\"))","v":""}]
[{"$f":"IF(ISBLANK(Import!E320),\"\",Import!E320)","v":""},{"$f":"IF(ISBLANK(Import!E320),\"\",(IFERROR(VLOOKUP(Import!C320,Mapping!C:F,1,FALSE),\"HF, à reclasser\")))","v":""},{"$f":"IF(ISBLANK(Import!E320),\"\",IF(B317=(LEFT(A317,3)),(IFERROR(VLOOKUP(Import!B320,Mapping!D:F,2,FALSE),\"Cpte à créer dans Mapping\")),\"Cpte à reclasser\"))","v":""}]
[{"$f":"IF(ISBLANK(Import!E321),\"\",Import!E321)","v":""},{"$f":"IF(ISBLANK(Import!E321),\"\",(IFERROR(VLOOKUP(Import!C321,Mapping!C:F,1,FALSE),\"HF, à reclasser\")))","v":""},{"$f":"IF(ISBLANK(Import!E321),\"\",IF(B318=(LEFT(A318,3)),(IFERROR(VLOOKUP(Import!B321,Mapping!D:F,2,FALSE),\"Cpte à créer dans Mapping\")),\"Cpte à reclasser\"))","v":""}]
[{"$f":"IF(ISBLANK(Import!E322),\"\",Import!E322)","v":""},{"$f":"IF(ISBLANK(Import!E322),\"\",(IFERROR(VLOOKUP(Import!C322,Mapping!C:F,1,FALSE),\"HF, à reclasser\")))","v":""},{"$f":"IF(ISBLANK(Import!E322),\"\",IF(B319=(LEFT(A319,3)),(IFERROR(VLOOKUP(Import!B322,Mapping!D:F,2,FALSE),\"Cpte à créer dans Mapping\")),\"Cpte à reclasser\"))","v":""}]
[{"$f":"IF(ISBLANK(Import!E323),\"\",Import!E323)","v":""},{"$f":"IF(ISBLANK(Import!E323),\"\",(IFERROR(VLOOKUP(Import!C323,Mapping!C:F,1,FALSE),\"HF, à reclasser\")))","v":""},{"$f":"IF(ISBLANK(Import!E323),\"\",IF(B320=(LEFT(A320,3)),(IFERROR(VLOOKUP(Import!B323,Mapping!D:F,2,FALSE),\"Cpte à créer dans Mapping\")),\"Cpte à reclasser\"))","v":""}]
[{"$f":"IF(ISBLANK(Import!E324),\"\",Import!E324)","v":""},{"$f":"IF(ISBLANK(Import!E324),\"\",(IFERROR(VLOOKUP(Import!C324,Mapping!C:F,1,FALSE),\"HF, à reclasser\")))","v":""},{"$f":"IF(ISBLANK(Import!E324),\"\",IF(B321=(LEFT(A321,3)),(IFERROR(VLOOKUP(Import!B324,Mapping!D:F,2,FALSE),\"Cpte à créer dans Mapping\")),\"Cpte à reclasser\"))","v":""}]
[{"$f":"IF(ISBLANK(Import!E325),\"\",Import!E325)","v":""},{"$f":"IF(ISBLANK(Import!E325),\"\",(IFERROR(VLOOKUP(Import!C325,Mapping!C:F,1,FALSE),\"HF, à reclasser\")))","v":""},{"$f":"IF(ISBLANK(Import!E325),\"\",IF(B322=(LEFT(A322,3)),(IFERROR(VLOOKUP(Import!B325,Mapping!D:F,2,FALSE),\"Cpte à créer dans Mapping\")),\"Cpte à reclasser\"))","v":""}]
[{"$f":"IF(ISBLANK(Import!E326),\"\",Import!E326)","v":""},{"$f":"IF(ISBLANK(Import!E326),\"\",(IFERROR(VLOOKUP(Import!C326,Mapping!C:F,1,FALSE),\"HF, à reclasser\")))","v":""},{"$f":"IF(ISBLANK(Import!E326),\"\",IF(B323=(LEFT(A323,3)),(IFERROR(VLOOKUP(Import!B326,Mapping!D:F,2,FALSE),\"Cpte à créer dans Mapping\")),\"Cpte à reclasser\"))","v":""}]
[{"$f":"IF(ISBLANK(Import!E327),\"\",Import!E327)","v":""},{"$f":"IF(ISBLANK(Import!E327),\"\",(IFERROR(VLOOKUP(Import!C327,Mapping!C:F,1,FALSE),\"HF, à reclasser\")))","v":""},{"$f":"IF(ISBLANK(Import!E327),\"\",IF(B324=(LEFT(A324,3)),(IFERROR(VLOOKUP(Import!B327,Mapping!D:F,2,FALSE),\"Cpte à créer dans Mapping\")),\"Cpte à reclasser\"))","v":""}]
[{"$f":"IF(ISBLANK(Import!E328),\"\",Import!E328)","v":""},{"$f":"IF(ISBLANK(Import!E328),\"\",(IFERROR(VLOOKUP(Import!C328,Mapping!C:F,1,FALSE),\"HF, à reclasser\")))","v":""},{"$f":"IF(ISBLANK(Import!E328),\"\",IF(B325=(LEFT(A325,3)),(IFERROR(VLOOKUP(Import!B328,Mapping!D:F,2,FALSE),\"Cpte à créer dans Mapping\")),\"Cpte à reclasser\"))","v":""}]
[{"$f":"IF(ISBLANK(Import!E329),\"\",Import!E329)","v":""},{"$f":"IF(ISBLANK(Import!E329),\"\",(IFERROR(VLOOKUP(Import!C329,Mapping!C:F,1,FALSE),\"HF, à reclasser\")))","v":""},{"$f":"IF(ISBLANK(Import!E329),\"\",IF(B326=(LEFT(A326,3)),(IFERROR(VLOOKUP(Import!B329,Mapping!D:F,2,FALSE),\"Cpte à créer dans Mapping\")),\"Cpte à reclasser\"))","v":""}]
[{"$f":"IF(ISBLANK(Import!E330),\"\",Import!E330)","v":""},{"$f":"IF(ISBLANK(Import!E330),\"\",(IFERROR(VLOOKUP(Import!C330,Mapping!C:F,1,FALSE),\"HF, à reclasser\")))","v":""},{"$f":"IF(ISBLANK(Import!E330),\"\",IF(B327=(LEFT(A327,3)),(IFERROR(VLOOKUP(Import!B330,Mapping!D:F,2,FALSE),\"Cpte à créer dans Mapping\")),\"Cpte à reclasser\"))","v":""}]
[{"$f":"IF(ISBLANK(Import!E331),\"\",Import!E331)","v":""},{"$f":"IF(ISBLANK(Import!E331),\"\",(IFERROR(VLOOKUP(Import!C331,Mapping!C:F,1,FALSE),\"HF, à reclasser\")))","v":""},{"$f":"IF(ISBLANK(Import!E331),\"\",IF(B328=(LEFT(A328,3)),(IFERROR(VLOOKUP(Import!B331,Mapping!D:F,2,FALSE),\"Cpte à créer dans Mapping\")),\"Cpte à reclasser\"))","v":""}]
[{"$f":"IF(ISBLANK(Import!E332),\"\",Import!E332)","v":""},{"$f":"IF(ISBLANK(Import!E332),\"\",(IFERROR(VLOOKUP(Import!C332,Mapping!C:F,1,FALSE),\"HF, à reclasser\")))","v":""},{"$f":"IF(ISBLANK(Import!E332),\"\",IF(B329=(LEFT(A329,3)),(IFERROR(VLOOKUP(Import!B332,Mapping!D:F,2,FALSE),\"Cpte à créer dans Mapping\")),\"Cpte à reclasser\"))","v":""}]
[{"$f":"IF(ISBLANK(Import!E333),\"\",Import!E333)","v":""},{"$f":"IF(ISBLANK(Import!E333),\"\",(IFERROR(VLOOKUP(Import!C333,Mapping!C:F,1,FALSE),\"HF, à reclasser\")))","v":""},{"$f":"IF(ISBLANK(Import!E333),\"\",IF(B330=(LEFT(A330,3)),(IFERROR(VLOOKUP(Import!B333,Mapping!D:F,2,FALSE),\"Cpte à créer dans Mapping\")),\"Cpte à reclasser\"))","v":""}]
[{"$f":"IF(ISBLANK(Import!E334),\"\",Import!E334)","v":""},{"$f":"IF(ISBLANK(Import!E334),\"\",(IFERROR(VLOOKUP(Import!C334,Mapping!C:F,1,FALSE),\"HF, à reclasser\")))","v":""},{"$f":"IF(ISBLANK(Import!E334),\"\",IF(B331=(LEFT(A331,3)),(IFERROR(VLOOKUP(Import!B334,Mapping!D:F,2,FALSE),\"Cpte à créer dans Mapping\")),\"Cpte à reclasser\"))","v":""}]
[{"$f":"IF(ISBLANK(Import!E335),\"\",Import!E335)","v":""},{"$f":"IF(ISBLANK(Import!E335),\"\",(IFERROR(VLOOKUP(Import!C335,Mapping!C:F,1,FALSE),\"HF, à reclasser\")))","v":""},{"$f":"IF(ISBLANK(Import!E335),\"\",IF(B332=(LEFT(A332,3)),(IFERROR(VLOOKUP(Import!B335,Mapping!D:F,2,FALSE),\"Cpte à créer dans Mapping\")),\"Cpte à reclasser\"))","v":""}]
[{"$f":"IF(ISBLANK(Import!E336),\"\",Import!E336)","v":""},{"$f":"IF(ISBLANK(Import!E336),\"\",(IFERROR(VLOOKUP(Import!C336,Mapping!C:F,1,FALSE),\"HF, à reclasser\")))","v":""},{"$f":"IF(ISBLANK(Import!E336),\"\",IF(B333=(LEFT(A333,3)),(IFERROR(VLOOKUP(Import!B336,Mapping!D:F,2,FALSE),\"Cpte à créer dans Mapping\")),\"Cpte à reclasser\"))","v":""}]
[{"$f":"IF(ISBLANK(Import!E337),\"\",Import!E337)","v":""},{"$f":"IF(ISBLANK(Import!E337),\"\",(IFERROR(VLOOKUP(Import!C337,Mapping!C:F,1,FALSE),\"HF, à reclasser\")))","v":""},{"$f":"IF(ISBLANK(Import!E337),\"\",IF(B334=(LEFT(A334,3)),(IFERROR(VLOOKUP(Import!B337,Mapping!D:F,2,FALSE),\"Cpte à créer dans Mapping\")),\"Cpte à reclasser\"))","v":""}]
[{"$f":"IF(ISBLANK(Import!E338),\"\",Import!E338)","v":""},{"$f":"IF(ISBLANK(Import!E338),\"\",(IFERROR(VLOOKUP(Import!C338,Mapping!C:F,1,FALSE),\"HF, à reclasser\")))","v":""},{"$f":"IF(ISBLANK(Import!E338),\"\",IF(B335=(LEFT(A335,3)),(IFERROR(VLOOKUP(Import!B338,Mapping!D:F,2,FALSE),\"Cpte à créer dans Mapping\")),\"Cpte à reclasser\"))","v":""}]
[{"$f":"IF(ISBLANK(Import!E339),\"\",Import!E339)","v":""},{"$f":"IF(ISBLANK(Import!E339),\"\",(IFERROR(VLOOKUP(Import!C339,Mapping!C:F,1,FALSE),\"HF, à reclasser\")))","v":""},{"$f":"IF(ISBLANK(Import!E339),\"\",IF(B336=(LEFT(A336,3)),(IFERROR(VLOOKUP(Import!B339,Mapping!D:F,2,FALSE),\"Cpte à créer dans Mapping\")),\"Cpte à reclasser\"))","v":""}]
[{"$f":"IF(ISBLANK(Import!E340),\"\",Import!E340)","v":""},{"$f":"IF(ISBLANK(Import!E340),\"\",(IFERROR(VLOOKUP(Import!C340,Mapping!C:F,1,FALSE),\"HF, à reclasser\")))","v":""},{"$f":"IF(ISBLANK(Import!E340),\"\",IF(B337=(LEFT(A337,3)),(IFERROR(VLOOKUP(Import!B340,Mapping!D:F,2,FALSE),\"Cpte à créer dans Mapping\")),\"Cpte à reclasser\"))","v":""}]
[{"$f":"IF(ISBLANK(Import!E341),\"\",Import!E341)","v":""},{"$f":"IF(ISBLANK(Import!E341),\"\",(IFERROR(VLOOKUP(Import!C341,Mapping!C:F,1,FALSE),\"HF, à reclasser\")))","v":""},{"$f":"IF(ISBLANK(Import!E341),\"\",IF(B338=(LEFT(A338,3)),(IFERROR(VLOOKUP(Import!B341,Mapping!D:F,2,FALSE),\"Cpte à créer dans Mapping\")),\"Cpte à reclasser\"))","v":""}]
[{"$f":"IF(ISBLANK(Import!E342),\"\",Import!E342)","v":""},{"$f":"IF(ISBLANK(Import!E342),\"\",(IFERROR(VLOOKUP(Import!C342,Mapping!C:F,1,FALSE),\"HF, à reclasser\")))","v":""},{"$f":"IF(ISBLANK(Import!E342),\"\",IF(B339=(LEFT(A339,3)),(IFERROR(VLOOKUP(Import!B342,Mapping!D:F,2,FALSE),\"Cpte à créer dans Mapping\")),\"Cpte à reclasser\"))","v":""}]
[{"$f":"IF(ISBLANK(Import!E343),\"\",Import!E343)","v":""},{"$f":"IF(ISBLANK(Import!E343),\"\",(IFERROR(VLOOKUP(Import!C343,Mapping!C:F,1,FALSE),\"HF, à reclasser\")))","v":""},{"$f":"IF(ISBLANK(Import!E343),\"\",IF(B340=(LEFT(A340,3)),(IFERROR(VLOOKUP(Import!B343,Mapping!D:F,2,FALSE),\"Cpte à créer dans Mapping\")),\"Cpte à reclasser\"))","v":""}]
[{"$f":"IF(ISBLANK(Import!E344),\"\",Import!E344)","v":""},{"$f":"IF(ISBLANK(Import!E344),\"\",(IFERROR(VLOOKUP(Import!C344,Mapping!C:F,1,FALSE),\"HF, à reclasser\")))","v":""},{"$f":"IF(ISBLANK(Import!E344),\"\",IF(B341=(LEFT(A341,3)),(IFERROR(VLOOKUP(Import!B344,Mapping!D:F,2,FALSE),\"Cpte à créer dans Mapping\")),\"Cpte à reclasser\"))","v":""}]
[{"$f":"IF(ISBLANK(Import!E345),\"\",Import!E345)","v":""},{"$f":"IF(ISBLANK(Import!E345),\"\",(IFERROR(VLOOKUP(Import!C345,Mapping!C:F,1,FALSE),\"HF, à reclasser\")))","v":""},{"$f":"IF(ISBLANK(Import!E345),\"\",IF(B342=(LEFT(A342,3)),(IFERROR(VLOOKUP(Import!B345,Mapping!D:F,2,FALSE),\"Cpte à créer dans Mapping\")),\"Cpte à reclasser\"))","v":""}]
[{"$f":"IF(ISBLANK(Import!E346),\"\",Import!E346)","v":""},{"$f":"IF(ISBLANK(Import!E346),\"\",(IFERROR(VLOOKUP(Import!C346,Mapping!C:F,1,FALSE),\"HF, à reclasser\")))","v":""},{"$f":"IF(ISBLANK(Import!E346),\"\",IF(B343=(LEFT(A343,3)),(IFERROR(VLOOKUP(Import!B346,Mapping!D:F,2,FALSE),\"Cpte à créer dans Mapping\")),\"Cpte à reclasser\"))","v":""}]
[{"$f":"IF(ISBLANK(Import!E347),\"\",Import!E347)","v":""},{"$f":"IF(ISBLANK(Import!E347),\"\",(IFERROR(VLOOKUP(Import!C347,Mapping!C:F,1,FALSE),\"HF, à reclasser\")))","v":""},{"$f":"IF(ISBLANK(Import!E347),\"\",IF(B344=(LEFT(A344,3)),(IFERROR(VLOOKUP(Import!B347,Mapping!D:F,2,FALSE),\"Cpte à créer dans Mapping\")),\"Cpte à reclasser\"))","v":""}]
[{"$f":"IF(ISBLANK(Import!E348),\"\",Import!E348)","v":""},{"$f":"IF(ISBLANK(Import!E348),\"\",(IFERROR(VLOOKUP(Import!C348,Mapping!C:F,1,FALSE),\"HF, à reclasser\")))","v":""},{"$f":"IF(ISBLANK(Import!E348),\"\",IF(B345=(LEFT(A345,3)),(IFERROR(VLOOKUP(Import!B348,Mapping!D:F,2,FALSE),\"Cpte à créer dans Mapping\")),\"Cpte à reclasser\"))","v":""}]
[{"$f":"IF(ISBLANK(Import!E349),\"\",Import!E349)","v":""},{"$f":"IF(ISBLANK(Import!E349),\"\",(IFERROR(VLOOKUP(Import!C349,Mapping!C:F,1,FALSE),\"HF, à reclasser\")))","v":""},{"$f":"IF(ISBLANK(Import!E349),\"\",IF(B346=(LEFT(A346,3)),(IFERROR(VLOOKUP(Import!B349,Mapping!D:F,2,FALSE),\"Cpte à créer dans Mapping\")),\"Cpte à reclasser\"))","v":""}]
[{"$f":"IF(ISBLANK(Import!E350),\"\",Import!E350)","v":""},{"$f":"IF(ISBLANK(Import!E350),\"\",(IFERROR(VLOOKUP(Import!C350,Mapping!C:F,1,FALSE),\"HF, à reclasser\")))","v":""},{"$f":"IF(ISBLANK(Import!E350),\"\",IF(B347=(LEFT(A347,3)),(IFERROR(VLOOKUP(Import!B350,Mapping!D:F,2,FALSE),\"Cpte à créer dans Mapping\")),\"Cpte à reclasser\"))","v":""}]
[{"$f":"IF(ISBLANK(Import!E351),\"\",Import!E351)","v":""},{"$f":"IF(ISBLANK(Import!E351),\"\",(IFERROR(VLOOKUP(Import!C351,Mapping!C:F,1,FALSE),\"HF, à reclasser\")))","v":""},{"$f":"IF(ISBLANK(Import!E351),\"\",IF(B348=(LEFT(A348,3)),(IFERROR(VLOOKUP(Import!B351,Mapping!D:F,2,FALSE),\"Cpte à créer dans Mapping\")),\"Cpte à reclasser\"))","v":""}]
[{"$f":"IF(ISBLANK(Import!E352),\"\",Import!E352)","v":""},{"$f":"IF(ISBLANK(Import!E352),\"\",(IFERROR(VLOOKUP(Import!C352,Mapping!C:F,1,FALSE),\"HF, à reclasser\")))","v":""},{"$f":"IF(ISBLANK(Import!E352),\"\",IF(B349=(LEFT(A349,3)),(IFERROR(VLOOKUP(Import!B352,Mapping!D:F,2,FALSE),\"Cpte à créer dans Mapping\")),\"Cpte à reclasser\"))","v":""}]
[{"$f":"IF(ISBLANK(Import!E353),\"\",Import!E353)","v":""},{"$f":"IF(ISBLANK(Import!E353),\"\",(IFERROR(VLOOKUP(Import!C353,Mapping!C:F,1,FALSE),\"HF, à reclasser\")))","v":""},{"$f":"IF(ISBLANK(Import!E353),\"\",IF(B350=(LEFT(A350,3)),(IFERROR(VLOOKUP(Import!B353,Mapping!D:F,2,FALSE),\"Cpte à créer dans Mapping\")),\"Cpte à reclasser\"))","v":""}]
[{"$f":"IF(ISBLANK(Import!E354),\"\",Import!E354)","v":""},{"$f":"IF(ISBLANK(Import!E354),\"\",(IFERROR(VLOOKUP(Import!C354,Mapping!C:F,1,FALSE),\"HF, à reclasser\")))","v":""},{"$f":"IF(ISBLANK(Import!E354),\"\",IF(B351=(LEFT(A351,3)),(IFERROR(VLOOKUP(Import!B354,Mapping!D:F,2,FALSE),\"Cpte à créer dans Mapping\")),\"Cpte à reclasser\"))","v":""}]
[{"$f":"IF(ISBLANK(Import!E355),\"\",Import!E355)","v":""},{"$f":"IF(ISBLANK(Import!E355),\"\",(IFERROR(VLOOKUP(Import!C355,Mapping!C:F,1,FALSE),\"HF, à reclasser\")))","v":""},{"$f":"IF(ISBLANK(Import!E355),\"\",IF(B352=(LEFT(A352,3)),(IFERROR(VLOOKUP(Import!B355,Mapping!D:F,2,FALSE),\"Cpte à créer dans Mapping\")),\"Cpte à reclasser\"))","v":""}]
[{"$f":"IF(ISBLANK(Import!E356),\"\",Import!E356)","v":""},{"$f":"IF(ISBLANK(Import!E356),\"\",(IFERROR(VLOOKUP(Import!C356,Mapping!C:F,1,FALSE),\"HF, à reclasser\")))","v":""},{"$f":"IF(ISBLANK(Import!E356),\"\",IF(B353=(LEFT(A353,3)),(IFERROR(VLOOKUP(Import!B356,Mapping!D:F,2,FALSE),\"Cpte à créer dans Mapping\")),\"Cpte à reclasser\"))","v":""}]
[{"$f":"IF(ISBLANK(Import!E357),\"\",Import!E357)","v":""},{"$f":"IF(ISBLANK(Import!E357),\"\",(IFERROR(VLOOKUP(Import!C357,Mapping!C:F,1,FALSE),\"HF, à reclasser\")))","v":""},{"$f":"IF(ISBLANK(Import!E357),\"\",IF(B354=(LEFT(A354,3)),(IFERROR(VLOOKUP(Import!B357,Mapping!D:F,2,FALSE),\"Cpte à créer dans Mapping\")),\"Cpte à reclasser\"))","v":""}]
[{"$f":"IF(ISBLANK(Import!E358),\"\",Import!E358)","v":""},{"$f":"IF(ISBLANK(Import!E358),\"\",(IFERROR(VLOOKUP(Import!C358,Mapping!C:F,1,FALSE),\"HF, à reclasser\")))","v":""},{"$f":"IF(ISBLANK(Import!E358),\"\",IF(B355=(LEFT(A355,3)),(IFERROR(VLOOKUP(Import!B358,Mapping!D:F,2,FALSE),\"Cpte à créer dans Mapping\")),\"Cpte à reclasser\"))","v":""}]
[{"$f":"IF(ISBLANK(Import!E359),\"\",Import!E359)","v":""},{"$f":"IF(ISBLANK(Import!E359),\"\",(IFERROR(VLOOKUP(Import!C359,Mapping!C:F,1,FALSE),\"HF, à reclasser\")))","v":""},{"$f":"IF(ISBLANK(Import!E359),\"\",IF(B356=(LEFT(A356,3)),(IFERROR(VLOOKUP(Import!B359,Mapping!D:F,2,FALSE),\"Cpte à créer dans Mapping\")),\"Cpte à reclasser\"))","v":""}]
[{"$f":"IF(ISBLANK(Import!E360),\"\",Import!E360)","v":""},{"$f":"IF(ISBLANK(Import!E360),\"\",(IFERROR(VLOOKUP(Import!C360,Mapping!C:F,1,FALSE),\"HF, à reclasser\")))","v":""},{"$f":"IF(ISBLANK(Import!E360),\"\",IF(B357=(LEFT(A357,3)),(IFERROR(VLOOKUP(Import!B360,Mapping!D:F,2,FALSE),\"Cpte à créer dans Mapping\")),\"Cpte à reclasser\"))","v":""}]
[{"$f":"IF(ISBLANK(Import!E361),\"\",Import!E361)","v":""},{"$f":"IF(ISBLANK(Import!E361),\"\",(IFERROR(VLOOKUP(Import!C361,Mapping!C:F,1,FALSE),\"HF, à reclasser\")))","v":""},{"$f":"IF(ISBLANK(Import!E361),\"\",IF(B358=(LEFT(A358,3)),(IFERROR(VLOOKUP(Import!B361,Mapping!D:F,2,FALSE),\"Cpte à créer dans Mapping\")),\"Cpte à reclasser\"))","v":""}]
[{"$f":"IF(ISBLANK(Import!E362),\"\",Import!E362)","v":""},{"$f":"IF(ISBLANK(Import!E362),\"\",(IFERROR(VLOOKUP(Import!C362,Mapping!C:F,1,FALSE),\"HF, à reclasser\")))","v":""},{"$f":"IF(ISBLANK(Import!E362),\"\",IF(B359=(LEFT(A359,3)),(IFERROR(VLOOKUP(Import!B362,Mapping!D:F,2,FALSE),\"Cpte à créer dans Mapping\")),\"Cpte à reclasser\"))","v":""}]
[{"$f":"IF(ISBLANK(Import!E363),\"\",Import!E363)","v":""},{"$f":"IF(ISBLANK(Import!E363),\"\",(IFERROR(VLOOKUP(Import!C363,Mapping!C:F,1,FALSE),\"HF, à reclasser\")))","v":""},{"$f":"IF(ISBLANK(Import!E363),\"\",IF(B360=(LEFT(A360,3)),(IFERROR(VLOOKUP(Import!B363,Mapping!D:F,2,FALSE),\"Cpte à créer dans Mapping\")),\"Cpte à reclasser\"))","v":""}]
[{"$f":"IF(ISBLANK(Import!E364),\"\",Import!E364)","v":""},{"$f":"IF(ISBLANK(Import!E364),\"\",(IFERROR(VLOOKUP(Import!C364,Mapping!C:F,1,FALSE),\"HF, à reclasser\")))","v":""},{"$f":"IF(ISBLANK(Import!E364),\"\",IF(B361=(LEFT(A361,3)),(IFERROR(VLOOKUP(Import!B364,Mapping!D:F,2,FALSE),\"Cpte à créer dans Mapping\")),\"Cpte à reclasser\"))","v":""}]
[{"$f":"IF(ISBLANK(Import!E365),\"\",Import!E365)","v":""},{"$f":"IF(ISBLANK(Import!E365),\"\",(IFERROR(VLOOKUP(Import!C365,Mapping!C:F,1,FALSE),\"HF, à reclasser\")))","v":""},{"$f":"IF(ISBLANK(Import!E365),\"\",IF(B362=(LEFT(A362,3)),(IFERROR(VLOOKUP(Import!B365,Mapping!D:F,2,FALSE),\"Cpte à créer dans Mapping\")),\"Cpte à reclasser\"))","v":""}]
[{"$f":"IF(ISBLANK(Import!E366),\"\",Import!E366)","v":""},{"$f":"IF(ISBLANK(Import!E366),\"\",(IFERROR(VLOOKUP(Import!C366,Mapping!C:F,1,FALSE),\"HF, à reclasser\")))","v":""},{"$f":"IF(ISBLANK(Import!E366),\"\",IF(B363=(LEFT(A363,3)),(IFERROR(VLOOKUP(Import!B366,Mapping!D:F,2,FALSE),\"Cpte à créer dans Mapping\")),\"Cpte à reclasser\"))","v":""}]
[{"$f":"IF(ISBLANK(Import!E367),\"\",Import!E367)","v":""},{"$f":"IF(ISBLANK(Import!E367),\"\",(IFERROR(VLOOKUP(Import!C367,Mapping!C:F,1,FALSE),\"HF, à reclasser\")))","v":""},{"$f":"IF(ISBLANK(Import!E367),\"\",IF(B364=(LEFT(A364,3)),(IFERROR(VLOOKUP(Import!B367,Mapping!D:F,2,FALSE),\"Cpte à créer dans Mapping\")),\"Cpte à reclasser\"))","v":""}]
[{"$f":"IF(ISBLANK(Import!E368),\"\",Import!E368)","v":""},{"$f":"IF(ISBLANK(Import!E368),\"\",(IFERROR(VLOOKUP(Import!C368,Mapping!C:F,1,FALSE),\"HF, à reclasser\")))","v":""},{"$f":"IF(ISBLANK(Import!E368),\"\",IF(B365=(LEFT(A365,3)),(IFERROR(VLOOKUP(Import!B368,Mapping!D:F,2,FALSE),\"Cpte à créer dans Mapping\")),\"Cpte à reclasser\"))","v":""}]
[{"$f":"IF(ISBLANK(Import!E369),\"\",Import!E369)","v":""},{"$f":"IF(ISBLANK(Import!E369),\"\",(IFERROR(VLOOKUP(Import!C369,Mapping!C:F,1,FALSE),\"HF, à reclasser\")))","v":""},{"$f":"IF(ISBLANK(Import!E369),\"\",IF(B366=(LEFT(A366,3)),(IFERROR(VLOOKUP(Import!B369,Mapping!D:F,2,FALSE),\"Cpte à créer dans Mapping\")),\"Cpte à reclasser\"))","v":""}]
[{"$f":"IF(ISBLANK(Import!E370),\"\",Import!E370)","v":""},{"$f":"IF(ISBLANK(Import!E370),\"\",(IFERROR(VLOOKUP(Import!C370,Mapping!C:F,1,FALSE),\"HF, à reclasser\")))","v":""},{"$f":"IF(ISBLANK(Import!E370),\"\",IF(B367=(LEFT(A367,3)),(IFERROR(VLOOKUP(Import!B370,Mapping!D:F,2,FALSE),\"Cpte à créer dans Mapping\")),\"Cpte à reclasser\"))","v":""}]
[{"$f":"IF(ISBLANK(Import!E371),\"\",Import!E371)","v":""},{"$f":"IF(ISBLANK(Import!E371),\"\",(IFERROR(VLOOKUP(Import!C371,Mapping!C:F,1,FALSE),\"HF, à reclasser\")))","v":""},{"$f":"IF(ISBLANK(Import!E371),\"\",IF(B368=(LEFT(A368,3)),(IFERROR(VLOOKUP(Import!B371,Mapping!D:F,2,FALSE),\"Cpte à créer dans Mapping\")),\"Cpte à reclasser\"))","v":""}]
[{"$f":"IF(ISBLANK(Import!E372),\"\",Import!E372)","v":""},{"$f":"IF(ISBLANK(Import!E372),\"\",(IFERROR(VLOOKUP(Import!C372,Mapping!C:F,1,FALSE),\"HF, à reclasser\")))","v":""},{"$f":"IF(ISBLANK(Import!E372),\"\",IF(B369=(LEFT(A369,3)),(IFERROR(VLOOKUP(Import!B372,Mapping!D:F,2,FALSE),\"Cpte à créer dans Mapping\")),\"Cpte à reclasser\"))","v":""}]
[{"$f":"IF(ISBLANK(Import!E373),\"\",Import!E373)","v":""},{"$f":"IF(ISBLANK(Import!E373),\"\",(IFERROR(VLOOKUP(Import!C373,Mapping!C:F,1,FALSE),\"HF, à reclasser\")))","v":""},{"$f":"IF(ISBLANK(Import!E373),\"\",IF(B370=(LEFT(A370,3)),(IFERROR(VLOOKUP(Import!B373,Mapping!D:F,2,FALSE),\"Cpte à créer dans Mapping\")),\"Cpte à reclasser\"))","v":""}]
[{"$f":"IF(ISBLANK(Import!E374),\"\",Import!E374)","v":""},{"$f":"IF(ISBLANK(Import!E374),\"\",(IFERROR(VLOOKUP(Import!C374,Mapping!C:F,1,FALSE),\"HF, à reclasser\")))","v":""},{"$f":"IF(ISBLANK(Import!E374),\"\",IF(B371=(LEFT(A371,3)),(IFERROR(VLOOKUP(Import!B374,Mapping!D:F,2,FALSE),\"Cpte à créer dans Mapping\")),\"Cpte à reclasser\"))","v":""}]
[{"$f":"IF(ISBLANK(Import!E375),\"\",Import!E375)","v":""},{"$f":"IF(ISBLANK(Import!E375),\"\",(IFERROR(VLOOKUP(Import!C375,Mapping!C:F,1,FALSE),\"HF, à reclasser\")))","v":""},{"$f":"IF(ISBLANK(Import!E375),\"\",IF(B372=(LEFT(A372,3)),(IFERROR(VLOOKUP(Import!B375,Mapping!D:F,2,FALSE),\"Cpte à créer dans Mapping\")),\"Cpte à reclasser\"))","v":""}]
[{"$f":"IF(ISBLANK(Import!E376),\"\",Import!E376)","v":""},{"$f":"IF(ISBLANK(Import!E376),\"\",(IFERROR(VLOOKUP(Import!C376,Mapping!C:F,1,FALSE),\"HF, à reclasser\")))","v":""},{"$f":"IF(ISBLANK(Import!E376),\"\",IF(B373=(LEFT(A373,3)),(IFERROR(VLOOKUP(Import!B376,Mapping!D:F,2,FALSE),\"Cpte à créer dans Mapping\")),\"Cpte à reclasser\"))","v":""}]
[{"$f":"IF(ISBLANK(Import!E377),\"\",Import!E377)","v":""},{"$f":"IF(ISBLANK(Import!E377),\"\",(IFERROR(VLOOKUP(Import!C377,Mapping!C:F,1,FALSE),\"HF, à reclasser\")))","v":""},{"$f":"IF(ISBLANK(Import!E377),\"\",IF(B374=(LEFT(A374,3)),(IFERROR(VLOOKUP(Import!B377,Mapping!D:F,2,FALSE),\"Cpte à créer dans Mapping\")),\"Cpte à reclasser\"))","v":""}]
[{"$f":"IF(ISBLANK(Import!E378),\"\",Import!E378)","v":""},{"$f":"IF(ISBLANK(Import!E378),\"\",(IFERROR(VLOOKUP(Import!C378,Mapping!C:F,1,FALSE),\"HF, à reclasser\")))","v":""},{"$f":"IF(ISBLANK(Import!E378),\"\",IF(B375=(LEFT(A375,3)),(IFERROR(VLOOKUP(Import!B378,Mapping!D:F,2,FALSE),\"Cpte à créer dans Mapping\")),\"Cpte à reclasser\"))","v":""}]
[{"$f":"IF(ISBLANK(Import!E379),\"\",Import!E379)","v":""},{"$f":"IF(ISBLANK(Import!E379),\"\",(IFERROR(VLOOKUP(Import!C379,Mapping!C:F,1,FALSE),\"HF, à reclasser\")))","v":""},{"$f":"IF(ISBLANK(Import!E379),\"\",IF(B376=(LEFT(A376,3)),(IFERROR(VLOOKUP(Import!B379,Mapping!D:F,2,FALSE),\"Cpte à créer dans Mapping\")),\"Cpte à reclasser\"))","v":""}]
[{"$f":"IF(ISBLANK(Import!E380),\"\",Import!E380)","v":""},{"$f":"IF(ISBLANK(Import!E380),\"\",(IFERROR(VLOOKUP(Import!C380,Mapping!C:F,1,FALSE),\"HF, à reclasser\")))","v":""},{"$f":"IF(ISBLANK(Import!E380),\"\",IF(B377=(LEFT(A377,3)),(IFERROR(VLOOKUP(Import!B380,Mapping!D:F,2,FALSE),\"Cpte à créer dans Mapping\")),\"Cpte à reclasser\"))","v":""}]
[{"$f":"IF(ISBLANK(Import!E381),\"\",Import!E381)","v":""},{"$f":"IF(ISBLANK(Import!E381),\"\",(IFERROR(VLOOKUP(Import!C381,Mapping!C:F,1,FALSE),\"HF, à reclasser\")))","v":""},{"$f":"IF(ISBLANK(Import!E381),\"\",IF(B378=(LEFT(A378,3)),(IFERROR(VLOOKUP(Import!B381,Mapping!D:F,2,FALSE),\"Cpte à créer dans Mapping\")),\"Cpte à reclasser\"))","v":""}]
[{"$f":"IF(ISBLANK(Import!E382),\"\",Import!E382)","v":""},{"$f":"IF(ISBLANK(Import!E382),\"\",(IFERROR(VLOOKUP(Import!C382,Mapping!C:F,1,FALSE),\"HF, à reclasser\")))","v":""},{"$f":"IF(ISBLANK(Import!E382),\"\",IF(B379=(LEFT(A379,3)),(IFERROR(VLOOKUP(Import!B382,Mapping!D:F,2,FALSE),\"Cpte à créer dans Mapping\")),\"Cpte à reclasser\"))","v":""}]
[{"$f":"IF(ISBLANK(Import!E383),\"\",Import!E383)","v":""},{"$f":"IF(ISBLANK(Import!E383),\"\",(IFERROR(VLOOKUP(Import!C383,Mapping!C:F,1,FALSE),\"HF, à reclasser\")))","v":""},{"$f":"IF(ISBLANK(Import!E383),\"\",IF(B380=(LEFT(A380,3)),(IFERROR(VLOOKUP(Import!B383,Mapping!D:F,2,FALSE),\"Cpte à créer dans Mapping\")),\"Cpte à reclasser\"))","v":""}]
[{"$f":"IF(ISBLANK(Import!E384),\"\",Import!E384)","v":""},{"$f":"IF(ISBLANK(Import!E384),\"\",(IFERROR(VLOOKUP(Import!C384,Mapping!C:F,1,FALSE),\"HF, à reclasser\")))","v":""},{"$f":"IF(ISBLANK(Import!E384),\"\",IF(B381=(LEFT(A381,3)),(IFERROR(VLOOKUP(Import!B384,Mapping!D:F,2,FALSE),\"Cpte à créer dans Mapping\")),\"Cpte à reclasser\"))","v":""}]
[{"$f":"IF(ISBLANK(Import!E385),\"\",Import!E385)","v":""},{"$f":"IF(ISBLANK(Import!E385),\"\",(IFERROR(VLOOKUP(Import!C385,Mapping!C:F,1,FALSE),\"HF, à reclasser\")))","v":""},{"$f":"IF(ISBLANK(Import!E385),\"\",IF(B382=(LEFT(A382,3)),(IFERROR(VLOOKUP(Import!B385,Mapping!D:F,2,FALSE),\"Cpte à créer dans Mapping\")),\"Cpte à reclasser\"))","v":""}]
[{"$f":"IF(ISBLANK(Import!E386),\"\",Import!E386)","v":""},{"$f":"IF(ISBLANK(Import!E386),\"\",(IFERROR(VLOOKUP(Import!C386,Mapping!C:F,1,FALSE),\"HF, à reclasser\")))","v":""},{"$f":"IF(ISBLANK(Import!E386),\"\",IF(B383=(LEFT(A383,3)),(IFERROR(VLOOKUP(Import!B386,Mapping!D:F,2,FALSE),\"Cpte à créer dans Mapping\")),\"Cpte à reclasser\"))","v":""}]
[{"$f":"IF(ISBLANK(Import!E387),\"\",Import!E387)","v":""},{"$f":"IF(ISBLANK(Import!E387),\"\",(IFERROR(VLOOKUP(Import!C387,Mapping!C:F,1,FALSE),\"HF, à reclasser\")))","v":""},{"$f":"IF(ISBLANK(Import!E387),\"\",IF(B384=(LEFT(A384,3)),(IFERROR(VLOOKUP(Import!B387,Mapping!D:F,2,FALSE),\"Cpte à créer dans Mapping\")),\"Cpte à reclasser\"))","v":""}]
[{"$f":"IF(ISBLANK(Import!E388),\"\",Import!E388)","v":""},{"$f":"IF(ISBLANK(Import!E388),\"\",(IFERROR(VLOOKUP(Import!C388,Mapping!C:F,1,FALSE),\"HF, à reclasser\")))","v":""},{"$f":"IF(ISBLANK(Import!E388),\"\",IF(B385=(LEFT(A385,3)),(IFERROR(VLOOKUP(Import!B388,Mapping!D:F,2,FALSE),\"Cpte à créer dans Mapping\")),\"Cpte à reclasser\"))","v":""}]
[{"$f":"IF(ISBLANK(Import!E389),\"\",Import!E389)","v":""},{"$f":"IF(ISBLANK(Import!E389),\"\",(IFERROR(VLOOKUP(Import!C389,Mapping!C:F,1,FALSE),\"HF, à reclasser\")))","v":""},{"$f":"IF(ISBLANK(Import!E389),\"\",IF(B386=(LEFT(A386,3)),(IFERROR(VLOOKUP(Import!B389,Mapping!D:F,2,FALSE),\"Cpte à créer dans Mapping\")),\"Cpte à reclasser\"))","v":""}]
[{"$f":"IF(ISBLANK(Import!E390),\"\",Import!E390)","v":""},{"$f":"IF(ISBLANK(Import!E390),\"\",(IFERROR(VLOOKUP(Import!C390,Mapping!C:F,1,FALSE),\"HF, à reclasser\")))","v":""},{"$f":"IF(ISBLANK(Import!E390),\"\",IF(B387=(LEFT(A387,3)),(IFERROR(VLOOKUP(Import!B390,Mapping!D:F,2,FALSE),\"Cpte à créer dans Mapping\")),\"Cpte à reclasser\"))","v":""}]
[{"$f":"IF(ISBLANK(Import!E391),\"\",Import!E391)","v":""},{"$f":"IF(ISBLANK(Import!E391),\"\",(IFERROR(VLOOKUP(Import!C391,Mapping!C:F,1,FALSE),\"HF, à reclasser\")))","v":""},{"$f":"IF(ISBLANK(Import!E391),\"\",IF(B388=(LEFT(A388,3)),(IFERROR(VLOOKUP(Import!B391,Mapping!D:F,2,FALSE),\"Cpte à créer dans Mapping\")),\"Cpte à reclasser\"))","v":""}]
[{"$f":"IF(ISBLANK(Import!E392),\"\",Import!E392)","v":""},{"$f":"IF(ISBLANK(Import!E392),\"\",(IFERROR(VLOOKUP(Import!C392,Mapping!C:F,1,FALSE),\"HF, à reclasser\")))","v":""},{"$f":"IF(ISBLANK(Import!E392),\"\",IF(B389=(LEFT(A389,3)),(IFERROR(VLOOKUP(Import!B392,Mapping!D:F,2,FALSE),\"Cpte à créer dans Mapping\")),\"Cpte à reclasser\"))","v":""}]
[{"$f":"IF(ISBLANK(Import!E393),\"\",Import!E393)","v":""},{"$f":"IF(ISBLANK(Import!E393),\"\",(IFERROR(VLOOKUP(Import!C393,Mapping!C:F,1,FALSE),\"HF, à reclasser\")))","v":""},{"$f":"IF(ISBLANK(Import!E393),\"\",IF(B390=(LEFT(A390,3)),(IFERROR(VLOOKUP(Import!B393,Mapping!D:F,2,FALSE),\"Cpte à créer dans Mapping\")),\"Cpte à reclasser\"))","v":""}]
[{"$f":"IF(ISBLANK(Import!E394),\"\",Import!E394)","v":""},{"$f":"IF(ISBLANK(Import!E394),\"\",(IFERROR(VLOOKUP(Import!C394,Mapping!C:F,1,FALSE),\"HF, à reclasser\")))","v":""},{"$f":"IF(ISBLANK(Import!E394),\"\",IF(B391=(LEFT(A391,3)),(IFERROR(VLOOKUP(Import!B394,Mapping!D:F,2,FALSE),\"Cpte à créer dans Mapping\")),\"Cpte à reclasser\"))","v":""}]
[{"$f":"IF(ISBLANK(Import!E395),\"\",Import!E395)","v":""},{"$f":"IF(ISBLANK(Import!E395),\"\",(IFERROR(VLOOKUP(Import!C395,Mapping!C:F,1,FALSE),\"HF, à reclasser\")))","v":""},{"$f":"IF(ISBLANK(Import!E395),\"\",IF(B392=(LEFT(A392,3)),(IFERROR(VLOOKUP(Import!B395,Mapping!D:F,2,FALSE),\"Cpte à créer dans Mapping\")),\"Cpte à reclasser\"))","v":""}]
[{"$f":"IF(ISBLANK(Import!E396),\"\",Import!E396)","v":""},{"$f":"IF(ISBLANK(Import!E396),\"\",(IFERROR(VLOOKUP(Import!C396,Mapping!C:F,1,FALSE),\"HF, à reclasser\")))","v":""},{"$f":"IF(ISBLANK(Import!E396),\"\",IF(B393=(LEFT(A393,3)),(IFERROR(VLOOKUP(Import!B396,Mapping!D:F,2,FALSE),\"Cpte à créer dans Mapping\")),\"Cpte à reclasser\"))","v":""}]
[{"$f":"IF(ISBLANK(Import!E397),\"\",Import!E397)","v":""},{"$f":"IF(ISBLANK(Import!E397),\"\",(IFERROR(VLOOKUP(Import!C397,Mapping!C:F,1,FALSE),\"HF, à reclasser\")))","v":""},{"$f":"IF(ISBLANK(Import!E397),\"\",IF(B394=(LEFT(A394,3)),(IFERROR(VLOOKUP(Import!B397,Mapping!D:F,2,FALSE),\"Cpte à créer dans Mapping\")),\"Cpte à reclasser\"))","v":""}]
[{"$f":"IF(ISBLANK(Import!E398),\"\",Import!E398)","v":""},{"$f":"IF(ISBLANK(Import!E398),\"\",(IFERROR(VLOOKUP(Import!C398,Mapping!C:F,1,FALSE),\"HF, à reclasser\")))","v":""},{"$f":"IF(ISBLANK(Import!E398),\"\",IF(B395=(LEFT(A395,3)),(IFERROR(VLOOKUP(Import!B398,Mapping!D:F,2,FALSE),\"Cpte à créer dans Mapping\")),\"Cpte à reclasser\"))","v":""}]
[{"$f":"IF(ISBLANK(Import!E399),\"\",Import!E399)","v":""},{"$f":"IF(ISBLANK(Import!E399),\"\",(IFERROR(VLOOKUP(Import!C399,Mapping!C:F,1,FALSE),\"HF, à reclasser\")))","v":""},{"$f":"IF(ISBLANK(Import!E399),\"\",IF(B396=(LEFT(A396,3)),(IFERROR(VLOOKUP(Import!B399,Mapping!D:F,2,FALSE),\"Cpte à créer dans Mapping\")),\"Cpte à reclasser\"))","v":""}]
[{"$f":"IF(ISBLANK(Import!E400),\"\",Import!E400)","v":""},{"$f":"IF(ISBLANK(Import!E400),\"\",(IFERROR(VLOOKUP(Import!C400,Mapping!C:F,1,FALSE),\"HF, à reclasser\")))","v":""},{"$f":"IF(ISBLANK(Import!E400),\"\",IF(B397=(LEFT(A397,3)),(IFERROR(VLOOKUP(Import!B400,Mapping!D:F,2,FALSE),\"Cpte à créer dans Mapping\")),\"Cpte à reclasser\"))","v":""}]
[{"$f":"IF(ISBLANK(Import!E401),\"\",Import!E401)","v":""},{"$f":"IF(ISBLANK(Import!E401),\"\",(IFERROR(VLOOKUP(Import!C401,Mapping!C:F,1,FALSE),\"HF, à reclasser\")))","v":""},{"$f":"IF(ISBLANK(Import!E401),\"\",IF(B398=(LEFT(A398,3)),(IFERROR(VLOOKUP(Import!B401,Mapping!D:F,2,FALSE),\"Cpte à créer dans Mapping\")),\"Cpte à reclasser\"))","v":""}]
[{"$f":"IF(ISBLANK(Import!E402),\"\",Import!E402)","v":""},{"$f":"IF(ISBLANK(Import!E402),\"\",(IFERROR(VLOOKUP(Import!C402,Mapping!C:F,1,FALSE),\"HF, à reclasser\")))","v":""},{"$f":"IF(ISBLANK(Import!E402),\"\",IF(B399=(LEFT(A399,3)),(IFERROR(VLOOKUP(Import!B402,Mapping!D:F,2,FALSE),\"Cpte à créer dans Mapping\")),\"Cpte à reclasser\"))","v":""}]
[{"$f":"IF(ISBLANK(Import!E403),\"\",Import!E403)","v":""},{"$f":"IF(ISBLANK(Import!E403),\"\",(IFERROR(VLOOKUP(Import!C403,Mapping!C:F,1,FALSE),\"HF, à reclasser\")))","v":""},{"$f":"IF(ISBLANK(Import!E403),\"\",IF(B400=(LEFT(A400,3)),(IFERROR(VLOOKUP(Import!B403,Mapping!D:F,2,FALSE),\"Cpte à créer dans Mapping\")),\"Cpte à reclasser\"))","v":""}]
[{"$f":"IF(ISBLANK(Import!E404),\"\",Import!E404)","v":""},{"$f":"IF(ISBLANK(Import!E404),\"\",(IFERROR(VLOOKUP(Import!C404,Mapping!C:F,1,FALSE),\"HF, à reclasser\")))","v":""},{"$f":"IF(ISBLANK(Import!E404),\"\",IF(B401=(LEFT(A401,3)),(IFERROR(VLOOKUP(Import!B404,Mapping!D:F,2,FALSE),\"Cpte à créer dans Mapping\")),\"Cpte à reclasser\"))","v":""}]
[{"$f":"IF(ISBLANK(Import!E405),\"\",Import!E405)","v":""},{"$f":"IF(ISBLANK(Import!E405),\"\",(IFERROR(VLOOKUP(Import!C405,Mapping!C:F,1,FALSE),\"HF, à reclasser\")))","v":""},{"$f":"IF(ISBLANK(Import!E405),\"\",IF(B402=(LEFT(A402,3)),(IFERROR(VLOOKUP(Import!B405,Mapping!D:F,2,FALSE),\"Cpte à créer dans Mapping\")),\"Cpte à reclasser\"))","v":""}]
[{"$f":"IF(ISBLANK(Import!E406),\"\",Import!E406)","v":""},{"$f":"IF(ISBLANK(Import!E406),\"\",(IFERROR(VLOOKUP(Import!C406,Mapping!C:F,1,FALSE),\"HF, à reclasser\")))","v":""},{"$f":"IF(ISBLANK(Import!E406),\"\",IF(B403=(LEFT(A403,3)),(IFERROR(VLOOKUP(Import!B406,Mapping!D:F,2,FALSE),\"Cpte à créer dans Mapping\")),\"Cpte à reclasser\"))","v":""}]
[{"$f":"IF(ISBLANK(Import!E407),\"\",Import!E407)","v":""},{"$f":"IF(ISBLANK(Import!E407),\"\",(IFERROR(VLOOKUP(Import!C407,Mapping!C:F,1,FALSE),\"HF, à reclasser\")))","v":""},{"$f":"IF(ISBLANK(Import!E407),\"\",IF(B404=(LEFT(A404,3)),(IFERROR(VLOOKUP(Import!B407,Mapping!D:F,2,FALSE),\"Cpte à créer dans Mapping\")),\"Cpte à reclasser\"))","v":""}]
[{"$f":"IF(ISBLANK(Import!E408),\"\",Import!E408)","v":""},{"$f":"IF(ISBLANK(Import!E408),\"\",(IFERROR(VLOOKUP(Import!C408,Mapping!C:F,1,FALSE),\"HF, à reclasser\")))","v":""},{"$f":"IF(ISBLANK(Import!E408),\"\",IF(B405=(LEFT(A405,3)),(IFERROR(VLOOKUP(Import!B408,Mapping!D:F,2,FALSE),\"Cpte à créer dans Mapping\")),\"Cpte à reclasser\"))","v":""}]
[{"$f":"IF(ISBLANK(Import!E409),\"\",Import!E409)","v":""},{"$f":"IF(ISBLANK(Import!E409),\"\",(IFERROR(VLOOKUP(Import!C409,Mapping!C:F,1,FALSE),\"HF, à reclasser\")))","v":""},{"$f":"IF(ISBLANK(Import!E409),\"\",IF(B406=(LEFT(A406,3)),(IFERROR(VLOOKUP(Import!B409,Mapping!D:F,2,FALSE),\"Cpte à créer dans Mapping\")),\"Cpte à reclasser\"))","v":""}]
[{"$f":"IF(ISBLANK(Import!E410),\"\",Import!E410)","v":""},{"$f":"IF(ISBLANK(Import!E410),\"\",(IFERROR(VLOOKUP(Import!C410,Mapping!C:F,1,FALSE),\"HF, à reclasser\")))","v":""},{"$f":"IF(ISBLANK(Import!E410),\"\",IF(B407=(LEFT(A407,3)),(IFERROR(VLOOKUP(Import!B410,Mapping!D:F,2,FALSE),\"Cpte à créer dans Mapping\")),\"Cpte à reclasser\"))","v":""}]
[{"$f":"IF(ISBLANK(Import!E411),\"\",Import!E411)","v":""},{"$f":"IF(ISBLANK(Import!E411),\"\",(IFERROR(VLOOKUP(Import!C411,Mapping!C:F,1,FALSE),\"HF, à reclasser\")))","v":""},{"$f":"IF(ISBLANK(Import!E411),\"\",IF(B408=(LEFT(A408,3)),(IFERROR(VLOOKUP(Import!B411,Mapping!D:F,2,FALSE),\"Cpte à créer dans Mapping\")),\"Cpte à reclasser\"))","v":""}]
[{"$f":"IF(ISBLANK(Import!E412),\"\",Import!E412)","v":""},{"$f":"IF(ISBLANK(Import!E412),\"\",(IFERROR(VLOOKUP(Import!C412,Mapping!C:F,1,FALSE),\"HF, à reclasser\")))","v":""},{"$f":"IF(ISBLANK(Import!E412),\"\",IF(B409=(LEFT(A409,3)),(IFERROR(VLOOKUP(Import!B412,Mapping!D:F,2,FALSE),\"Cpte à créer dans Mapping\")),\"Cpte à reclasser\"))","v":""}]
[{"$f":"IF(ISBLANK(Import!E413),\"\",Import!E413)","v":""},{"$f":"IF(ISBLANK(Import!E413),\"\",(IFERROR(VLOOKUP(Import!C413,Mapping!C:F,1,FALSE),\"HF, à reclasser\")))","v":""},{"$f":"IF(ISBLANK(Import!E413),\"\",IF(B410=(LEFT(A410,3)),(IFERROR(VLOOKUP(Import!B413,Mapping!D:F,2,FALSE),\"Cpte à créer dans Mapping\")),\"Cpte à reclasser\"))","v":""}]
[{"$f":"IF(ISBLANK(Import!E414),\"\",Import!E414)","v":""},{"$f":"IF(ISBLANK(Import!E414),\"\",(IFERROR(VLOOKUP(Import!C414,Mapping!C:F,1,FALSE),\"HF, à reclasser\")))","v":""},{"$f":"IF(ISBLANK(Import!E414),\"\",IF(B411=(LEFT(A411,3)),(IFERROR(VLOOKUP(Import!B414,Mapping!D:F,2,FALSE),\"Cpte à créer dans Mapping\")),\"Cpte à reclasser\"))","v":""}]
[{"$f":"IF(ISBLANK(Import!E415),\"\",Import!E415)","v":""},{"$f":"IF(ISBLANK(Import!E415),\"\",(IFERROR(VLOOKUP(Import!C415,Mapping!C:F,1,FALSE),\"HF, à reclasser\")))","v":""},{"$f":"IF(ISBLANK(Import!E415),\"\",IF(B412=(LEFT(A412,3)),(IFERROR(VLOOKUP(Import!B415,Mapping!D:F,2,FALSE),\"Cpte à créer dans Mapping\")),\"Cpte à reclasser\"))","v":""}]
[{"$f":"IF(ISBLANK(Import!E416),\"\",Import!E416)","v":""},{"$f":"IF(ISBLANK(Import!E416),\"\",(IFERROR(VLOOKUP(Import!C416,Mapping!C:F,1,FALSE),\"HF, à reclasser\")))","v":""},{"$f":"IF(ISBLANK(Import!E416),\"\",IF(B413=(LEFT(A413,3)),(IFERROR(VLOOKUP(Import!B416,Mapping!D:F,2,FALSE),\"Cpte à créer dans Mapping\")),\"Cpte à reclasser\"))","v":""}]
[{"$f":"IF(ISBLANK(Import!E417),\"\",Import!E417)","v":""},{"$f":"IF(ISBLANK(Import!E417),\"\",(IFERROR(VLOOKUP(Import!C417,Mapping!C:F,1,FALSE),\"HF, à reclasser\")))","v":""},{"$f":"IF(ISBLANK(Import!E417),\"\",IF(B414=(LEFT(A414,3)),(IFERROR(VLOOKUP(Import!B417,Mapping!D:F,2,FALSE),\"Cpte à créer dans Mapping\")),\"Cpte à reclasser\"))","v":""}]
[{"$f":"IF(ISBLANK(Import!E418),\"\",Import!E418)","v":""},{"$f":"IF(ISBLANK(Import!E418),\"\",(IFERROR(VLOOKUP(Import!C418,Mapping!C:F,1,FALSE),\"HF, à reclasser\")))","v":""},{"$f":"IF(ISBLANK(Import!E418),\"\",IF(B415=(LEFT(A415,3)),(IFERROR(VLOOKUP(Import!B418,Mapping!D:F,2,FALSE),\"Cpte à créer dans Mapping\")),\"Cpte à reclasser\"))","v":""}]
[{"$f":"IF(ISBLANK(Import!E419),\"\",Import!E419)","v":""},{"$f":"IF(ISBLANK(Import!E419),\"\",(IFERROR(VLOOKUP(Import!C419,Mapping!C:F,1,FALSE),\"HF, à reclasser\")))","v":""},{"$f":"IF(ISBLANK(Import!E419),\"\",IF(B416=(LEFT(A416,3)),(IFERROR(VLOOKUP(Import!B419,Mapping!D:F,2,FALSE),\"Cpte à créer dans Mapping\")),\"Cpte à reclasser\"))","v":""}]
[{"$f":"IF(ISBLANK(Import!E420),\"\",Import!E420)","v":""},{"$f":"IF(ISBLANK(Import!E420),\"\",(IFERROR(VLOOKUP(Import!C420,Mapping!C:F,1,FALSE),\"HF, à reclasser\")))","v":""},{"$f":"IF(ISBLANK(Import!E420),\"\",IF(B417=(LEFT(A417,3)),(IFERROR(VLOOKUP(Import!B420,Mapping!D:F,2,FALSE),\"Cpte à créer dans Mapping\")),\"Cpte à reclasser\"))","v":""}]
[{"$f":"IF(ISBLANK(Import!E421),\"\",Import!E421)","v":""},{"$f":"IF(ISBLANK(Import!E421),\"\",(IFERROR(VLOOKUP(Import!C421,Mapping!C:F,1,FALSE),\"HF, à reclasser\")))","v":""},{"$f":"IF(ISBLANK(Import!E421),\"\",IF(B418=(LEFT(A418,3)),(IFERROR(VLOOKUP(Import!B421,Mapping!D:F,2,FALSE),\"Cpte à créer dans Mapping\")),\"Cpte à reclasser\"))","v":""}]
[{"$f":"IF(ISBLANK(Import!E422),\"\",Import!E422)","v":""},{"$f":"IF(ISBLANK(Import!E422),\"\",(IFERROR(VLOOKUP(Import!C422,Mapping!C:F,1,FALSE),\"HF, à reclasser\")))","v":""},{"$f":"IF(ISBLANK(Import!E422),\"\",IF(B419=(LEFT(A419,3)),(IFERROR(VLOOKUP(Import!B422,Mapping!D:F,2,FALSE),\"Cpte à créer dans Mapping\")),\"Cpte à reclasser\"))","v":""}]
[{"$f":"IF(ISBLANK(Import!E423),\"\",Import!E423)","v":""},{"$f":"IF(ISBLANK(Import!E423),\"\",(IFERROR(VLOOKUP(Import!C423,Mapping!C:F,1,FALSE),\"HF, à reclasser\")))","v":""},{"$f":"IF(ISBLANK(Import!E423),\"\",IF(B420=(LEFT(A420,3)),(IFERROR(VLOOKUP(Import!B423,Mapping!D:F,2,FALSE),\"Cpte à créer dans Mapping\")),\"Cpte à reclasser\"))","v":""}]
[{"$f":"IF(ISBLANK(Import!E424),\"\",Import!E424)","v":""},{"$f":"IF(ISBLANK(Import!E424),\"\",(IFERROR(VLOOKUP(Import!C424,Mapping!C:F,1,FALSE),\"HF, à reclasser\")))","v":""},{"$f":"IF(ISBLANK(Import!E424),\"\",IF(B421=(LEFT(A421,3)),(IFERROR(VLOOKUP(Import!B424,Mapping!D:F,2,FALSE),\"Cpte à créer dans Mapping\")),\"Cpte à reclasser\"))","v":""}]
[{"$f":"IF(ISBLANK(Import!E425),\"\",Import!E425)","v":""},{"$f":"IF(ISBLANK(Import!E425),\"\",(IFERROR(VLOOKUP(Import!C425,Mapping!C:F,1,FALSE),\"HF, à reclasser\")))","v":""},{"$f":"IF(ISBLANK(Import!E425),\"\",IF(B422=(LEFT(A422,3)),(IFERROR(VLOOKUP(Import!B425,Mapping!D:F,2,FALSE),\"Cpte à créer dans Mapping\")),\"Cpte à reclasser\"))","v":""}]
[{"$f":"IF(ISBLANK(Import!E426),\"\",Import!E426)","v":""},{"$f":"IF(ISBLANK(Import!E426),\"\",(IFERROR(VLOOKUP(Import!C426,Mapping!C:F,1,FALSE),\"HF, à reclasser\")))","v":""},{"$f":"IF(ISBLANK(Import!E426),\"\",IF(B423=(LEFT(A423,3)),(IFERROR(VLOOKUP(Import!B426,Mapping!D:F,2,FALSE),\"Cpte à créer dans Mapping\")),\"Cpte à reclasser\"))","v":""}]
[{"$f":"IF(ISBLANK(Import!E427),\"\",Import!E427)","v":""},{"$f":"IF(ISBLANK(Import!E427),\"\",(IFERROR(VLOOKUP(Import!C427,Mapping!C:F,1,FALSE),\"HF, à reclasser\")))","v":""},{"$f":"IF(ISBLANK(Import!E427),\"\",IF(B424=(LEFT(A424,3)),(IFERROR(VLOOKUP(Import!B427,Mapping!D:F,2,FALSE),\"Cpte à créer dans Mapping\")),\"Cpte à reclasser\"))","v":""}]
[{"$f":"IF(ISBLANK(Import!E428),\"\",Import!E428)","v":""},{"$f":"IF(ISBLANK(Import!E428),\"\",(IFERROR(VLOOKUP(Import!C428,Mapping!C:F,1,FALSE),\"HF, à reclasser\")))","v":""},{"$f":"IF(ISBLANK(Import!E428),\"\",IF(B425=(LEFT(A425,3)),(IFERROR(VLOOKUP(Import!B428,Mapping!D:F,2,FALSE),\"Cpte à créer dans Mapping\")),\"Cpte à reclasser\"))","v":""}]
[{"$f":"IF(ISBLANK(Import!E429),\"\",Import!E429)","v":""},{"$f":"IF(ISBLANK(Import!E429),\"\",(IFERROR(VLOOKUP(Import!C429,Mapping!C:F,1,FALSE),\"HF, à reclasser\")))","v":""},{"$f":"IF(ISBLANK(Import!E429),\"\",IF(B426=(LEFT(A426,3)),(IFERROR(VLOOKUP(Import!B429,Mapping!D:F,2,FALSE),\"Cpte à créer dans Mapping\")),\"Cpte à reclasser\"))","v":""}]
[{"$f":"IF(ISBLANK(Import!E430),\"\",Import!E430)","v":""},{"$f":"IF(ISBLANK(Import!E430),\"\",(IFERROR(VLOOKUP(Import!C430,Mapping!C:F,1,FALSE),\"HF, à reclasser\")))","v":""},{"$f":"IF(ISBLANK(Import!E430),\"\",IF(B427=(LEFT(A427,3)),(IFERROR(VLOOKUP(Import!B430,Mapping!D:F,2,FALSE),\"Cpte à créer dans Mapping\")),\"Cpte à reclasser\"))","v":""}]
[{"$f":"IF(ISBLANK(Import!E431),\"\",Import!E431)","v":""},{"$f":"IF(ISBLANK(Import!E431),\"\",(IFERROR(VLOOKUP(Import!C431,Mapping!C:F,1,FALSE),\"HF, à reclasser\")))","v":""},{"$f":"IF(ISBLANK(Import!E431),\"\",IF(B428=(LEFT(A428,3)),(IFERROR(VLOOKUP(Import!B431,Mapping!D:F,2,FALSE),\"Cpte à créer dans Mapping\")),\"Cpte à reclasser\"))","v":""}]
[{"$f":"IF(ISBLANK(Import!E432),\"\",Import!E432)","v":""},{"$f":"IF(ISBLANK(Import!E432),\"\",(IFERROR(VLOOKUP(Import!C432,Mapping!C:F,1,FALSE),\"HF, à reclasser\")))","v":""},{"$f":"IF(ISBLANK(Import!E432),\"\",IF(B429=(LEFT(A429,3)),(IFERROR(VLOOKUP(Import!B432,Mapping!D:F,2,FALSE),\"Cpte à créer dans Mapping\")),\"Cpte à reclasser\"))","v":""}]
[{"$f":"IF(ISBLANK(Import!E433),\"\",Import!E433)","v":""},{"$f":"IF(ISBLANK(Import!E433),\"\",(IFERROR(VLOOKUP(Import!C433,Mapping!C:F,1,FALSE),\"HF, à reclasser\")))","v":""},{"$f":"IF(ISBLANK(Import!E433),\"\",IF(B430=(LEFT(A430,3)),(IFERROR(VLOOKUP(Import!B433,Mapping!D:F,2,FALSE),\"Cpte à créer dans Mapping\")),\"Cpte à reclasser\"))","v":""}]
[{"$f":"IF(ISBLANK(Import!E434),\"\",Import!E434)","v":""},{"$f":"IF(ISBLANK(Import!E434),\"\",(IFERROR(VLOOKUP(Import!C434,Mapping!C:F,1,FALSE),\"HF, à reclasser\")))","v":""},{"$f":"IF(ISBLANK(Import!E434),\"\",IF(B431=(LEFT(A431,3)),(IFERROR(VLOOKUP(Import!B434,Mapping!D:F,2,FALSE),\"Cpte à créer dans Mapping\")),\"Cpte à reclasser\"))","v":""}]
[{"$f":"IF(ISBLANK(Import!E435),\"\",Import!E435)","v":""},{"$f":"IF(ISBLANK(Import!E435),\"\",(IFERROR(VLOOKUP(Import!C435,Mapping!C:F,1,FALSE),\"HF, à reclasser\")))","v":""},{"$f":"IF(ISBLANK(Import!E435),\"\",IF(B432=(LEFT(A432,3)),(IFERROR(VLOOKUP(Import!B435,Mapping!D:F,2,FALSE),\"Cpte à créer dans Mapping\")),\"Cpte à reclasser\"))","v":""}]
[{"$f":"IF(ISBLANK(Import!E436),\"\",Import!E436)","v":""},{"$f":"IF(ISBLANK(Import!E436),\"\",(IFERROR(VLOOKUP(Import!C436,Mapping!C:F,1,FALSE),\"HF, à reclasser\")))","v":""},{"$f":"IF(ISBLANK(Import!E436),\"\",IF(B433=(LEFT(A433,3)),(IFERROR(VLOOKUP(Import!B436,Mapping!D:F,2,FALSE),\"Cpte à créer dans Mapping\")),\"Cpte à reclasser\"))","v":""}]
[{"$f":"IF(ISBLANK(Import!E437),\"\",Import!E437)","v":""},{"$f":"IF(ISBLANK(Import!E437),\"\",(IFERROR(VLOOKUP(Import!C437,Mapping!C:F,1,FALSE),\"HF, à reclasser\")))","v":""},{"$f":"IF(ISBLANK(Import!E437),\"\",IF(B434=(LEFT(A434,3)),(IFERROR(VLOOKUP(Import!B437,Mapping!D:F,2,FALSE),\"Cpte à créer dans Mapping\")),\"Cpte à reclasser\"))","v":""}]
[{"$f":"IF(ISBLANK(Import!E438),\"\",Import!E438)","v":""},{"$f":"IF(ISBLANK(Import!E438),\"\",(IFERROR(VLOOKUP(Import!C438,Mapping!C:F,1,FALSE),\"HF, à reclasser\")))","v":""},{"$f":"IF(ISBLANK(Import!E438),\"\",IF(B435=(LEFT(A435,3)),(IFERROR(VLOOKUP(Import!B438,Mapping!D:F,2,FALSE),\"Cpte à créer dans Mapping\")),\"Cpte à reclasser\"))","v":""}]
[{"$f":"IF(ISBLANK(Import!E439),\"\",Import!E439)","v":""},{"$f":"IF(ISBLANK(Import!E439),\"\",(IFERROR(VLOOKUP(Import!C439,Mapping!C:F,1,FALSE),\"HF, à reclasser\")))","v":""},{"$f":"IF(ISBLANK(Import!E439),\"\",IF(B436=(LEFT(A436,3)),(IFERROR(VLOOKUP(Import!B439,Mapping!D:F,2,FALSE),\"Cpte à créer dans Mapping\")),\"Cpte à reclasser\"))","v":""}]
[{"$f":"IF(ISBLANK(Import!E440),\"\",Import!E440)","v":""},{"$f":"IF(ISBLANK(Import!E440),\"\",(IFERROR(VLOOKUP(Import!C440,Mapping!C:F,1,FALSE),\"HF, à reclasser\")))","v":""},{"$f":"IF(ISBLANK(Import!E440),\"\",IF(B437=(LEFT(A437,3)),(IFERROR(VLOOKUP(Import!B440,Mapping!D:F,2,FALSE),\"Cpte à créer dans Mapping\")),\"Cpte à reclasser\"))","v":""}]
[{"$f":"IF(ISBLANK(Import!E441),\"\",Import!E441)","v":""},{"$f":"IF(ISBLANK(Import!E441),\"\",(IFERROR(VLOOKUP(Import!C441,Mapping!C:F,1,FALSE),\"HF, à reclasser\")))","v":""},{"$f":"IF(ISBLANK(Import!E441),\"\",IF(B438=(LEFT(A438,3)),(IFERROR(VLOOKUP(Import!B441,Mapping!D:F,2,FALSE),\"Cpte à créer dans Mapping\")),\"Cpte à reclasser\"))","v":""}]
[{"$f":"IF(ISBLANK(Import!E442),\"\",Import!E442)","v":""},{"$f":"IF(ISBLANK(Import!E442),\"\",(IFERROR(VLOOKUP(Import!C442,Mapping!C:F,1,FALSE),\"HF, à reclasser\")))","v":""},{"$f":"IF(ISBLANK(Import!E442),\"\",IF(B439=(LEFT(A439,3)),(IFERROR(VLOOKUP(Import!B442,Mapping!D:F,2,FALSE),\"Cpte à créer dans Mapping\")),\"Cpte à reclasser\"))","v":""}]
[{"$f":"IF(ISBLANK(Import!E443),\"\",Import!E443)","v":""},{"$f":"IF(ISBLANK(Import!E443),\"\",(IFERROR(VLOOKUP(Import!C443,Mapping!C:F,1,FALSE),\"HF, à reclasser\")))","v":""},{"$f":"IF(ISBLANK(Import!E443),\"\",IF(B440=(LEFT(A440,3)),(IFERROR(VLOOKUP(Import!B443,Mapping!D:F,2,FALSE),\"Cpte à créer dans Mapping\")),\"Cpte à reclasser\"))","v":""}]
[{"$f":"IF(ISBLANK(Import!E444),\"\",Import!E444)","v":""},{"$f":"IF(ISBLANK(Import!E444),\"\",(IFERROR(VLOOKUP(Import!C444,Mapping!C:F,1,FALSE),\"HF, à reclasser\")))","v":""},{"$f":"IF(ISBLANK(Import!E444),\"\",IF(B441=(LEFT(A441,3)),(IFERROR(VLOOKUP(Import!B444,Mapping!D:F,2,FALSE),\"Cpte à créer dans Mapping\")),\"Cpte à reclasser\"))","v":""}]
[{"$f":"IF(ISBLANK(Import!E445),\"\",Import!E445)","v":""},{"$f":"IF(ISBLANK(Import!E445),\"\",(IFERROR(VLOOKUP(Import!C445,Mapping!C:F,1,FALSE),\"HF, à reclasser\")))","v":""},{"$f":"IF(ISBLANK(Import!E445),\"\",IF(B442=(LEFT(A442,3)),(IFERROR(VLOOKUP(Import!B445,Mapping!D:F,2,FALSE),\"Cpte à créer dans Mapping\")),\"Cpte à reclasser\"))","v":""}]
[{"$f":"IF(ISBLANK(Import!E446),\"\",Import!E446)","v":""},{"$f":"IF(ISBLANK(Import!E446),\"\",(IFERROR(VLOOKUP(Import!C446,Mapping!C:F,1,FALSE),\"HF, à reclasser\")))","v":""},{"$f":"IF(ISBLANK(Import!E446),\"\",IF(B443=(LEFT(A443,3)),(IFERROR(VLOOKUP(Import!B446,Mapping!D:F,2,FALSE),\"Cpte à créer dans Mapping\")),\"Cpte à reclasser\"))","v":""}]
[{"$f":"IF(ISBLANK(Import!E447),\"\",Import!E447)","v":""},{"$f":"IF(ISBLANK(Import!E447),\"\",(IFERROR(VLOOKUP(Import!C447,Mapping!C:F,1,FALSE),\"HF, à reclasser\")))","v":""},{"$f":"IF(ISBLANK(Import!E447),\"\",IF(B444=(LEFT(A444,3)),(IFERROR(VLOOKUP(Import!B447,Mapping!D:F,2,FALSE),\"Cpte à créer dans Mapping\")),\"Cpte à reclasser\"))","v":""}]
[{"$f":"IF(ISBLANK(Import!E448),\"\",Import!E448)","v":""},{"$f":"IF(ISBLANK(Import!E448),\"\",(IFERROR(VLOOKUP(Import!C448,Mapping!C:F,1,FALSE),\"HF, à reclasser\")))","v":""},{"$f":"IF(ISBLANK(Import!E448),\"\",IF(B445=(LEFT(A445,3)),(IFERROR(VLOOKUP(Import!B448,Mapping!D:F,2,FALSE),\"Cpte à créer dans Mapping\")),\"Cpte à reclasser\"))","v":""}]
[{"$f":"IF(ISBLANK(Import!E449),\"\",Import!E449)","v":""},{"$f":"IF(ISBLANK(Import!E449),\"\",(IFERROR(VLOOKUP(Import!C449,Mapping!C:F,1,FALSE),\"HF, à reclasser\")))","v":""},{"$f":"IF(ISBLANK(Import!E449),\"\",IF(B446=(LEFT(A446,3)),(IFERROR(VLOOKUP(Import!B449,Mapping!D:F,2,FALSE),\"Cpte à créer dans Mapping\")),\"Cpte à reclasser\"))","v":""}]
[{"$f":"IF(ISBLANK(Import!E450),\"\",Import!E450)","v":""},{"$f":"IF(ISBLANK(Import!E450),\"\",(IFERROR(VLOOKUP(Import!C450,Mapping!C:F,1,FALSE),\"HF, à reclasser\")))","v":""},{"$f":"IF(ISBLANK(Import!E450),\"\",IF(B447=(LEFT(A447,3)),(IFERROR(VLOOKUP(Import!B450,Mapping!D:F,2,FALSE),\"Cpte à créer dans Mapping\")),\"Cpte à reclasser\"))","v":""}]
[{"$f":"IF(ISBLANK(Import!E451),\"\",Import!E451)","v":""},{"$f":"IF(ISBLANK(Import!E451),\"\",(IFERROR(VLOOKUP(Import!C451,Mapping!C:F,1,FALSE),\"HF, à reclasser\")))","v":""},{"$f":"IF(ISBLANK(Import!E451),\"\",IF(B448=(LEFT(A448,3)),(IFERROR(VLOOKUP(Import!B451,Mapping!D:F,2,FALSE),\"Cpte à créer dans Mapping\")),\"Cpte à reclasser\"))","v":""}]
[{"$f":"IF(ISBLANK(Import!E452),\"\",Import!E452)","v":""},{"$f":"IF(ISBLANK(Import!E452),\"\",(IFERROR(VLOOKUP(Import!C452,Mapping!C:F,1,FALSE),\"HF, à reclasser\")))","v":""},{"$f":"IF(ISBLANK(Import!E452),\"\",IF(B449=(LEFT(A449,3)),(IFERROR(VLOOKUP(Import!B452,Mapping!D:F,2,FALSE),\"Cpte à créer dans Mapping\")),\"Cpte à reclasser\"))","v":""}]
[{"$f":"IF(ISBLANK(Import!E453),\"\",Import!E453)","v":""},{"$f":"IF(ISBLANK(Import!E453),\"\",(IFERROR(VLOOKUP(Import!C453,Mapping!C:F,1,FALSE),\"HF, à reclasser\")))","v":""},{"$f":"IF(ISBLANK(Import!E453),\"\",IF(B450=(LEFT(A450,3)),(IFERROR(VLOOKUP(Import!B453,Mapping!D:F,2,FALSE),\"Cpte à créer dans Mapping\")),\"Cpte à reclasser\"))","v":""}]
[{"$f":"IF(ISBLANK(Import!E454),\"\",Import!E454)","v":""},{"$f":"IF(ISBLANK(Import!E454),\"\",(IFERROR(VLOOKUP(Import!C454,Mapping!C:F,1,FALSE),\"HF, à reclasser\")))","v":""},{"$f":"IF(ISBLANK(Import!E454),\"\",IF(B451=(LEFT(A451,3)),(IFERROR(VLOOKUP(Import!B454,Mapping!D:F,2,FALSE),\"Cpte à créer dans Mapping\")),\"Cpte à reclasser\"))","v":""}]
[{"$f":"IF(ISBLANK(Import!E455),\"\",Import!E455)","v":""},{"$f":"IF(ISBLANK(Import!E455),\"\",(IFERROR(VLOOKUP(Import!C455,Mapping!C:F,1,FALSE),\"HF, à reclasser\")))","v":""},{"$f":"IF(ISBLANK(Import!E455),\"\",IF(B452=(LEFT(A452,3)),(IFERROR(VLOOKUP(Import!B455,Mapping!D:F,2,FALSE),\"Cpte à créer dans Mapping\")),\"Cpte à reclasser\"))","v":""}]
[{"$f":"IF(ISBLANK(Import!E456),\"\",Import!E456)","v":""},{"$f":"IF(ISBLANK(Import!E456),\"\",(IFERROR(VLOOKUP(Import!C456,Mapping!C:F,1,FALSE),\"HF, à reclasser\")))","v":""},{"$f":"IF(ISBLANK(Import!E456),\"\",IF(B453=(LEFT(A453,3)),(IFERROR(VLOOKUP(Import!B456,Mapping!D:F,2,FALSE),\"Cpte à créer dans Mapping\")),\"Cpte à reclasser\"))","v":""}]
[{"$f":"IF(ISBLANK(Import!E457),\"\",Import!E457)","v":""},{"$f":"IF(ISBLANK(Import!E457),\"\",(IFERROR(VLOOKUP(Import!C457,Mapping!C:F,1,FALSE),\"HF, à reclasser\")))","v":""},{"$f":"IF(ISBLANK(Import!E457),\"\",IF(B454=(LEFT(A454,3)),(IFERROR(VLOOKUP(Import!B457,Mapping!D:F,2,FALSE),\"Cpte à créer dans Mapping\")),\"Cpte à reclasser\"))","v":""}]
[{"$f":"IF(ISBLANK(Import!E458),\"\",Import!E458)","v":""},{"$f":"IF(ISBLANK(Import!E458),\"\",(IFERROR(VLOOKUP(Import!C458,Mapping!C:F,1,FALSE),\"HF, à reclasser\")))","v":""},{"$f":"IF(ISBLANK(Import!E458),\"\",IF(B455=(LEFT(A455,3)),(IFERROR(VLOOKUP(Import!B458,Mapping!D:F,2,FALSE),\"Cpte à créer dans Mapping\")),\"Cpte à reclasser\"))","v":""}]
[{"$f":"IF(ISBLANK(Import!E459),\"\",Import!E459)","v":""},{"$f":"IF(ISBLANK(Import!E459),\"\",(IFERROR(VLOOKUP(Import!C459,Mapping!C:F,1,FALSE),\"HF, à reclasser\")))","v":""},{"$f":"IF(ISBLANK(Import!E459),\"\",IF(B456=(LEFT(A456,3)),(IFERROR(VLOOKUP(Import!B459,Mapping!D:F,2,FALSE),\"Cpte à créer dans Mapping\")),\"Cpte à reclasser\"))","v":""}]
[{"$f":"IF(ISBLANK(Import!E460),\"\",Import!E460)","v":""},{"$f":"IF(ISBLANK(Import!E460),\"\",(IFERROR(VLOOKUP(Import!C460,Mapping!C:F,1,FALSE),\"HF, à reclasser\")))","v":""},{"$f":"IF(ISBLANK(Import!E460),\"\",IF(B457=(LEFT(A457,3)),(IFERROR(VLOOKUP(Import!B460,Mapping!D:F,2,FALSE),\"Cpte à créer dans Mapping\")),\"Cpte à reclasser\"))","v":""}]
[{"$f":"IF(ISBLANK(Import!E461),\"\",Import!E461)","v":""},{"$f":"IF(ISBLANK(Import!E461),\"\",(IFERROR(VLOOKUP(Import!C461,Mapping!C:F,1,FALSE),\"HF, à reclasser\")))","v":""},{"$f":"IF(ISBLANK(Import!E461),\"\",IF(B458=(LEFT(A458,3)),(IFERROR(VLOOKUP(Import!B461,Mapping!D:F,2,FALSE),\"Cpte à créer dans Mapping\")),\"Cpte à reclasser\"))","v":""}]
[{"$f":"IF(ISBLANK(Import!E462),\"\",Import!E462)","v":""},{"$f":"IF(ISBLANK(Import!E462),\"\",(IFERROR(VLOOKUP(Import!C462,Mapping!C:F,1,FALSE),\"HF, à reclasser\")))","v":""},{"$f":"IF(ISBLANK(Import!E462),\"\",IF(B459=(LEFT(A459,3)),(IFERROR(VLOOKUP(Import!B462,Mapping!D:F,2,FALSE),\"Cpte à créer dans Mapping\")),\"Cpte à reclasser\"))","v":""}]
[{"$f":"IF(ISBLANK(Import!E463),\"\",Import!E463)","v":""},{"$f":"IF(ISBLANK(Import!E463),\"\",(IFERROR(VLOOKUP(Import!C463,Mapping!C:F,1,FALSE),\"HF, à reclasser\")))","v":""},{"$f":"IF(ISBLANK(Import!E463),\"\",IF(B460=(LEFT(A460,3)),(IFERROR(VLOOKUP(Import!B463,Mapping!D:F,2,FALSE),\"Cpte à créer dans Mapping\")),\"Cpte à reclasser\"))","v":""}]
[{"$f":"IF(ISBLANK(Import!E464),\"\",Import!E464)","v":""},{"$f":"IF(ISBLANK(Import!E464),\"\",(IFERROR(VLOOKUP(Import!C464,Mapping!C:F,1,FALSE),\"HF, à reclasser\")))","v":""},{"$f":"IF(ISBLANK(Import!E464),\"\",IF(B461=(LEFT(A461,3)),(IFERROR(VLOOKUP(Import!B464,Mapping!D:F,2,FALSE),\"Cpte à créer dans Mapping\")),\"Cpte à reclasser\"))","v":""}]
[{"$f":"IF(ISBLANK(Import!E465),\"\",Import!E465)","v":""},{"$f":"IF(ISBLANK(Import!E465),\"\",(IFERROR(VLOOKUP(Import!C465,Mapping!C:F,1,FALSE),\"HF, à reclasser\")))","v":""},{"$f":"IF(ISBLANK(Import!E465),\"\",IF(B462=(LEFT(A462,3)),(IFERROR(VLOOKUP(Import!B465,Mapping!D:F,2,FALSE),\"Cpte à créer dans Mapping\")),\"Cpte à reclasser\"))","v":""}]
[{"$f":"IF(ISBLANK(Import!E466),\"\",Import!E466)","v":""},{"$f":"IF(ISBLANK(Import!E466),\"\",(IFERROR(VLOOKUP(Import!C466,Mapping!C:F,1,FALSE),\"HF, à reclasser\")))","v":""},{"$f":"IF(ISBLANK(Import!E466),\"\",IF(B463=(LEFT(A463,3)),(IFERROR(VLOOKUP(Import!B466,Mapping!D:F,2,FALSE),\"Cpte à créer dans Mapping\")),\"Cpte à reclasser\"))","v":""}]
[{"$f":"IF(ISBLANK(Import!E467),\"\",Import!E467)","v":""},{"$f":"IF(ISBLANK(Import!E467),\"\",(IFERROR(VLOOKUP(Import!C467,Mapping!C:F,1,FALSE),\"HF, à reclasser\")))","v":""},{"$f":"IF(ISBLANK(Import!E467),\"\",IF(B464=(LEFT(A464,3)),(IFERROR(VLOOKUP(Import!B467,Mapping!D:F,2,FALSE),\"Cpte à créer dans Mapping\")),\"Cpte à reclasser\"))","v":""}]
[{"$f":"IF(ISBLANK(Import!E468),\"\",Import!E468)","v":""},{"$f":"IF(ISBLANK(Import!E468),\"\",(IFERROR(VLOOKUP(Import!C468,Mapping!C:F,1,FALSE),\"HF, à reclasser\")))","v":""},{"$f":"IF(ISBLANK(Import!E468),\"\",IF(B465=(LEFT(A465,3)),(IFERROR(VLOOKUP(Import!B468,Mapping!D:F,2,FALSE),\"Cpte à créer dans Mapping\")),\"Cpte à reclasser\"))","v":""}]
[{"$f":"IF(ISBLANK(Import!E469),\"\",Import!E469)","v":""},{"$f":"IF(ISBLANK(Import!E469),\"\",(IFERROR(VLOOKUP(Import!C469,Mapping!C:F,1,FALSE),\"HF, à reclasser\")))","v":""},{"$f":"IF(ISBLANK(Import!E469),\"\",IF(B466=(LEFT(A466,3)),(IFERROR(VLOOKUP(Import!B469,Mapping!D:F,2,FALSE),\"Cpte à créer dans Mapping\")),\"Cpte à reclasser\"))","v":""}]
[{"$f":"IF(ISBLANK(Import!E470),\"\",Import!E470)","v":""},{"$f":"IF(ISBLANK(Import!E470),\"\",(IFERROR(VLOOKUP(Import!C470,Mapping!C:F,1,FALSE),\"HF, à reclasser\")))","v":""},{"$f":"IF(ISBLANK(Import!E470),\"\",IF(B467=(LEFT(A467,3)),(IFERROR(VLOOKUP(Import!B470,Mapping!D:F,2,FALSE),\"Cpte à créer dans Mapping\")),\"Cpte à reclasser\"))","v":""}]
[{"$f":"IF(ISBLANK(Import!E471),\"\",Import!E471)","v":""},{"$f":"IF(ISBLANK(Import!E471),\"\",(IFERROR(VLOOKUP(Import!C471,Mapping!C:F,1,FALSE),\"HF, à reclasser\")))","v":""},{"$f":"IF(ISBLANK(Import!E471),\"\",IF(B468=(LEFT(A468,3)),(IFERROR(VLOOKUP(Import!B471,Mapping!D:F,2,FALSE),\"Cpte à créer dans Mapping\")),\"Cpte à reclasser\"))","v":""}]
[{"$f":"IF(ISBLANK(Import!E472),\"\",Import!E472)","v":""},{"$f":"IF(ISBLANK(Import!E472),\"\",(IFERROR(VLOOKUP(Import!C472,Mapping!C:F,1,FALSE),\"HF, à reclasser\")))","v":""},{"$f":"IF(ISBLANK(Import!E472),\"\",IF(B469=(LEFT(A469,3)),(IFERROR(VLOOKUP(Import!B472,Mapping!D:F,2,FALSE),\"Cpte à créer dans Mapping\")),\"Cpte à reclasser\"))","v":""}]
[{"$f":"IF(ISBLANK(Import!E473),\"\",Import!E473)","v":""},{"$f":"IF(ISBLANK(Import!E473),\"\",(IFERROR(VLOOKUP(Import!C473,Mapping!C:F,1,FALSE),\"HF, à reclasser\")))","v":""},{"$f":"IF(ISBLANK(Import!E473),\"\",IF(B470=(LEFT(A470,3)),(IFERROR(VLOOKUP(Import!B473,Mapping!D:F,2,FALSE),\"Cpte à créer dans Mapping\")),\"Cpte à reclasser\"))","v":""}]
[{"$f":"IF(ISBLANK(Import!E474),\"\",Import!E474)","v":""},{"$f":"IF(ISBLANK(Import!E474),\"\",(IFERROR(VLOOKUP(Import!C474,Mapping!C:F,1,FALSE),\"HF, à reclasser\")))","v":""},{"$f":"IF(ISBLANK(Import!E474),\"\",IF(B471=(LEFT(A471,3)),(IFERROR(VLOOKUP(Import!B474,Mapping!D:F,2,FALSE),\"Cpte à créer dans Mapping\")),\"Cpte à reclasser\"))","v":""}]
[{"$f":"IF(ISBLANK(Import!E475),\"\",Import!E475)","v":""},{"$f":"IF(ISBLANK(Import!E475),\"\",(IFERROR(VLOOKUP(Import!C475,Mapping!C:F,1,FALSE),\"HF, à reclasser\")))","v":""},{"$f":"IF(ISBLANK(Import!E475),\"\",IF(B472=(LEFT(A472,3)),(IFERROR(VLOOKUP(Import!B475,Mapping!D:F,2,FALSE),\"Cpte à créer dans Mapping\")),\"Cpte à reclasser\"))","v":""}]
[{"$f":"IF(ISBLANK(Import!E476),\"\",Import!E476)","v":""},{"$f":"IF(ISBLANK(Import!E476),\"\",(IFERROR(VLOOKUP(Import!C476,Mapping!C:F,1,FALSE),\"HF, à reclasser\")))","v":""},{"$f":"IF(ISBLANK(Import!E476),\"\",IF(B473=(LEFT(A473,3)),(IFERROR(VLOOKUP(Import!B476,Mapping!D:F,2,FALSE),\"Cpte à créer dans Mapping\")),\"Cpte à reclasser\"))","v":""}]
[{"$f":"IF(ISBLANK(Import!E477),\"\",Import!E477)","v":""},{"$f":"IF(ISBLANK(Import!E477),\"\",(IFERROR(VLOOKUP(Import!C477,Mapping!C:F,1,FALSE),\"HF, à reclasser\")))","v":""},{"$f":"IF(ISBLANK(Import!E477),\"\",IF(B474=(LEFT(A474,3)),(IFERROR(VLOOKUP(Import!B477,Mapping!D:F,2,FALSE),\"Cpte à créer dans Mapping\")),\"Cpte à reclasser\"))","v":""}]
[{"$f":"IF(ISBLANK(Import!E478),\"\",Import!E478)","v":""},{"$f":"IF(ISBLANK(Import!E478),\"\",(IFERROR(VLOOKUP(Import!C478,Mapping!C:F,1,FALSE),\"HF, à reclasser\")))","v":""},{"$f":"IF(ISBLANK(Import!E478),\"\",IF(B475=(LEFT(A475,3)),(IFERROR(VLOOKUP(Import!B478,Mapping!D:F,2,FALSE),\"Cpte à créer dans Mapping\")),\"Cpte à reclasser\"))","v":""}]
[{"$f":"IF(ISBLANK(Import!E479),\"\",Import!E479)","v":""},{"$f":"IF(ISBLANK(Import!E479),\"\",(IFERROR(VLOOKUP(Import!C479,Mapping!C:F,1,FALSE),\"HF, à reclasser\")))","v":""},{"$f":"IF(ISBLANK(Import!E479),\"\",IF(B476=(LEFT(A476,3)),(IFERROR(VLOOKUP(Import!B479,Mapping!D:F,2,FALSE),\"Cpte à créer dans Mapping\")),\"Cpte à reclasser\"))","v":""}]
[{"$f":"IF(ISBLANK(Import!E480),\"\",Import!E480)","v":""},{"$f":"IF(ISBLANK(Import!E480),\"\",(IFERROR(VLOOKUP(Import!C480,Mapping!C:F,1,FALSE),\"HF, à reclasser\")))","v":""},{"$f":"IF(ISBLANK(Import!E480),\"\",IF(B477=(LEFT(A477,3)),(IFERROR(VLOOKUP(Import!B480,Mapping!D:F,2,FALSE),\"Cpte à créer dans Mapping\")),\"Cpte à reclasser\"))","v":""}]
[{"$f":"IF(ISBLANK(Import!E481),\"\",Import!E481)","v":""},{"$f":"IF(ISBLANK(Import!E481),\"\",(IFERROR(VLOOKUP(Import!C481,Mapping!C:F,1,FALSE),\"HF, à reclasser\")))","v":""},{"$f":"IF(ISBLANK(Import!E481),\"\",IF(B478=(LEFT(A478,3)),(IFERROR(VLOOKUP(Import!B481,Mapping!D:F,2,FALSE),\"Cpte à créer dans Mapping\")),\"Cpte à reclasser\"))","v":""}]
[{"$f":"IF(ISBLANK(Import!E482),\"\",Import!E482)","v":""},{"$f":"IF(ISBLANK(Import!E482),\"\",(IFERROR(VLOOKUP(Import!C482,Mapping!C:F,1,FALSE),\"HF, à reclasser\")))","v":""},{"$f":"IF(ISBLANK(Import!E482),\"\",IF(B479=(LEFT(A479,3)),(IFERROR(VLOOKUP(Import!B482,Mapping!D:F,2,FALSE),\"Cpte à créer dans Mapping\")),\"Cpte à reclasser\"))","v":""}]
[{"$f":"IF(ISBLANK(Import!E483),\"\",Import!E483)","v":""},{"$f":"IF(ISBLANK(Import!E483),\"\",(IFERROR(VLOOKUP(Import!C483,Mapping!C:F,1,FALSE),\"HF, à reclasser\")))","v":""},{"$f":"IF(ISBLANK(Import!E483),\"\",IF(B480=(LEFT(A480,3)),(IFERROR(VLOOKUP(Import!B483,Mapping!D:F,2,FALSE),\"Cpte à créer dans Mapping\")),\"Cpte à reclasser\"))","v":""}]
[{"$f":"IF(ISBLANK(Import!E484),\"\",Import!E484)","v":""},{"$f":"IF(ISBLANK(Import!E484),\"\",(IFERROR(VLOOKUP(Import!C484,Mapping!C:F,1,FALSE),\"HF, à reclasser\")))","v":""},{"$f":"IF(ISBLANK(Import!E484),\"\",IF(B481=(LEFT(A481,3)),(IFERROR(VLOOKUP(Import!B484,Mapping!D:F,2,FALSE),\"Cpte à créer dans Mapping\")),\"Cpte à reclasser\"))","v":""}]
[{"$f":"IF(ISBLANK(Import!E485),\"\",Import!E485)","v":""},{"$f":"IF(ISBLANK(Import!E485),\"\",(IFERROR(VLOOKUP(Import!C485,Mapping!C:F,1,FALSE),\"HF, à reclasser\")))","v":""},{"$f":"IF(ISBLANK(Import!E485),\"\",IF(B482=(LEFT(A482,3)),(IFERROR(VLOOKUP(Import!B485,Mapping!D:F,2,FALSE),\"Cpte à créer dans Mapping\")),\"Cpte à reclasser\"))","v":""}]
[{"$f":"IF(ISBLANK(Import!E486),\"\",Import!E486)","v":""},{"$f":"IF(ISBLANK(Import!E486),\"\",(IFERROR(VLOOKUP(Import!C486,Mapping!C:F,1,FALSE),\"HF, à reclasser\")))","v":""},{"$f":"IF(ISBLANK(Import!E486),\"\",IF(B483=(LEFT(A483,3)),(IFERROR(VLOOKUP(Import!B486,Mapping!D:F,2,FALSE),\"Cpte à créer dans Mapping\")),\"Cpte à reclasser\"))","v":""}]
[{"$f":"IF(ISBLANK(Import!E487),\"\",Import!E487)","v":""},{"$f":"IF(ISBLANK(Import!E487),\"\",(IFERROR(VLOOKUP(Import!C487,Mapping!C:F,1,FALSE),\"HF, à reclasser\")))","v":""},{"$f":"IF(ISBLANK(Import!E487),\"\",IF(B484=(LEFT(A484,3)),(IFERROR(VLOOKUP(Import!B487,Mapping!D:F,2,FALSE),\"Cpte à créer dans Mapping\")),\"Cpte à reclasser\"))","v":""}]
[{"$f":"IF(ISBLANK(Import!E488),\"\",Import!E488)","v":""},{"$f":"IF(ISBLANK(Import!E488),\"\",(IFERROR(VLOOKUP(Import!C488,Mapping!C:F,1,FALSE),\"HF, à reclasser\")))","v":""},{"$f":"IF(ISBLANK(Import!E488),\"\",IF(B485=(LEFT(A485,3)),(IFERROR(VLOOKUP(Import!B488,Mapping!D:F,2,FALSE),\"Cpte à créer dans Mapping\")),\"Cpte à reclasser\"))","v":""}]
[{"$f":"IF(ISBLANK(Import!E489),\"\",Import!E489)","v":""},{"$f":"IF(ISBLANK(Import!E489),\"\",(IFERROR(VLOOKUP(Import!C489,Mapping!C:F,1,FALSE),\"HF, à reclasser\")))","v":""},{"$f":"IF(ISBLANK(Import!E489),\"\",IF(B486=(LEFT(A486,3)),(IFERROR(VLOOKUP(Import!B489,Mapping!D:F,2,FALSE),\"Cpte à créer dans Mapping\")),\"Cpte à reclasser\"))","v":""}]
[{"$f":"IF(ISBLANK(Import!E490),\"\",Import!E490)","v":""},{"$f":"IF(ISBLANK(Import!E490),\"\",(IFERROR(VLOOKUP(Import!C490,Mapping!C:F,1,FALSE),\"HF, à reclasser\")))","v":""},{"$f":"IF(ISBLANK(Import!E490),\"\",IF(B487=(LEFT(A487,3)),(IFERROR(VLOOKUP(Import!B490,Mapping!D:F,2,FALSE),\"Cpte à créer dans Mapping\")),\"Cpte à reclasser\"))","v":""}]
[{"$f":"IF(ISBLANK(Import!E491),\"\",Import!E491)","v":""},{"$f":"IF(ISBLANK(Import!E491),\"\",(IFERROR(VLOOKUP(Import!C491,Mapping!C:F,1,FALSE),\"HF, à reclasser\")))","v":""},{"$f":"IF(ISBLANK(Import!E491),\"\",IF(B488=(LEFT(A488,3)),(IFERROR(VLOOKUP(Import!B491,Mapping!D:F,2,FALSE),\"Cpte à créer dans Mapping\")),\"Cpte à reclasser\"))","v":""}]
[{"$f":"IF(ISBLANK(Import!E492),\"\",Import!E492)","v":""},{"$f":"IF(ISBLANK(Import!E492),\"\",(IFERROR(VLOOKUP(Import!C492,Mapping!C:F,1,FALSE),\"HF, à reclasser\")))","v":""},{"$f":"IF(ISBLANK(Import!E492),\"\",IF(B489=(LEFT(A489,3)),(IFERROR(VLOOKUP(Import!B492,Mapping!D:F,2,FALSE),\"Cpte à créer dans Mapping\")),\"Cpte à reclasser\"))","v":""}]
[{"$f":"IF(ISBLANK(Import!E493),\"\",Import!E493)","v":""},{"$f":"IF(ISBLANK(Import!E493),\"\",(IFERROR(VLOOKUP(Import!C493,Mapping!C:F,1,FALSE),\"HF, à reclasser\")))","v":""},{"$f":"IF(ISBLANK(Import!E493),\"\",IF(B490=(LEFT(A490,3)),(IFERROR(VLOOKUP(Import!B493,Mapping!D:F,2,FALSE),\"Cpte à créer dans Mapping\")),\"Cpte à reclasser\"))","v":""}]
[{"$f":"IF(ISBLANK(Import!E494),\"\",Import!E494)","v":""},{"$f":"IF(ISBLANK(Import!E494),\"\",(IFERROR(VLOOKUP(Import!C494,Mapping!C:F,1,FALSE),\"HF, à reclasser\")))","v":""},{"$f":"IF(ISBLANK(Import!E494),\"\",IF(B491=(LEFT(A491,3)),(IFERROR(VLOOKUP(Import!B494,Mapping!D:F,2,FALSE),\"Cpte à créer dans Mapping\")),\"Cpte à reclasser\"))","v":""}]
[{"$f":"IF(ISBLANK(Import!E495),\"\",Import!E495)","v":""},{"$f":"IF(ISBLANK(Import!E495),\"\",(IFERROR(VLOOKUP(Import!C495,Mapping!C:F,1,FALSE),\"HF, à reclasser\")))","v":""},{"$f":"IF(ISBLANK(Import!E495),\"\",IF(B492=(LEFT(A492,3)),(IFERROR(VLOOKUP(Import!B495,Mapping!D:F,2,FALSE),\"Cpte à créer dans Mapping\")),\"Cpte à reclasser\"))","v":""}]
[{"$f":"IF(ISBLANK(Import!E496),\"\",Import!E496)","v":""},{"$f":"IF(ISBLANK(Import!E496),\"\",(IFERROR(VLOOKUP(Import!C496,Mapping!C:F,1,FALSE),\"HF, à reclasser\")))","v":""},{"$f":"IF(ISBLANK(Import!E496),\"\",IF(B493=(LEFT(A493,3)),(IFERROR(VLOOKUP(Import!B496,Mapping!D:F,2,FALSE),\"Cpte à créer dans Mapping\")),\"Cpte à reclasser\"))","v":""}]
[{"$f":"IF(ISBLANK(Import!E497),\"\",Import!E497)","v":""},{"$f":"IF(ISBLANK(Import!E497),\"\",(IFERROR(VLOOKUP(Import!C497,Mapping!C:F,1,FALSE),\"HF, à reclasser\")))","v":""},{"$f":"IF(ISBLANK(Import!E497),\"\",IF(B494=(LEFT(A494,3)),(IFERROR(VLOOKUP(Import!B497,Mapping!D:F,2,FALSE),\"Cpte à créer dans Mapping\")),\"Cpte à reclasser\"))","v":""}]
[{"$f":"IF(ISBLANK(Import!E498),\"\",Import!E498)","v":""},{"$f":"IF(ISBLANK(Import!E498),\"\",(IFERROR(VLOOKUP(Import!C498,Mapping!C:F,1,FALSE),\"HF, à reclasser\")))","v":""},{"$f":"IF(ISBLANK(Import!E498),\"\",IF(B495=(LEFT(A495,3)),(IFERROR(VLOOKUP(Import!B498,Mapping!D:F,2,FALSE),\"Cpte à créer dans Mapping\")),\"Cpte à reclasser\"))","v":""}]
[{"$f":"IF(ISBLANK(Import!E499),\"\",Import!E499)","v":""},{"$f":"IF(ISBLANK(Import!E499),\"\",(IFERROR(VLOOKUP(Import!C499,Mapping!C:F,1,FALSE),\"HF, à reclasser\")))","v":""},{"$f":"IF(ISBLANK(Import!E499),\"\",IF(B496=(LEFT(A496,3)),(IFERROR(VLOOKUP(Import!B499,Mapping!D:F,2,FALSE),\"Cpte à créer dans Mapping\")),\"Cpte à reclasser\"))","v":""}]
[{"$f":"IF(ISBLANK(Import!E500),\"\",Import!E500)","v":""},{"$f":"IF(ISBLANK(Import!E500),\"\",(IFERROR(VLOOKUP(Import!C500,Mapping!C:F,1,FALSE),\"HF, à reclasser\")))","v":""},{"$f":"IF(ISBLANK(Import!E500),\"\",IF(B497=(LEFT(A497,3)),(IFERROR(VLOOKUP(Import!B500,Mapping!D:F,2,FALSE),\"Cpte à créer dans Mapping\")),\"Cpte à reclasser\"))","v":""}]
[{"$f":"IF(ISBLANK(Import!E501),\"\",Import!E501)","v":""},{"$f":"IF(ISBLANK(Import!E501),\"\",(IFERROR(VLOOKUP(Import!C501,Mapping!C:F,1,FALSE),\"HF, à reclasser\")))","v":""},{"$f":"IF(ISBLANK(Import!E501),\"\",IF(B498=(LEFT(A498,3)),(IFERROR(VLOOKUP(Import!B501,Mapping!D:F,2,FALSE),\"Cpte à créer dans Mapping\")),\"Cpte à reclasser\"))","v":""}]
[{"$f":"IF(ISBLANK(Import!E502),\"\",Import!E502)","v":""},{"$f":"IF(ISBLANK(Import!E502),\"\",(IFERROR(VLOOKUP(Import!C502,Mapping!C:F,1,FALSE),\"HF, à reclasser\")))","v":""},{"$f":"IF(ISBLANK(Import!E502),\"\",IF(B499=(LEFT(A499,3)),(IFERROR(VLOOKUP(Import!B502,Mapping!D:F,2,FALSE),\"Cpte à créer dans Mapping\")),\"Cpte à reclasser\"))","v":""}]
[{"$f":"IF(ISBLANK(Import!E503),\"\",Import!E503)","v":""},{"$f":"IF(ISBLANK(Import!E503),\"\",(IFERROR(VLOOKUP(Import!C503,Mapping!C:F,1,FALSE),\"HF, à reclasser\")))","v":""},{"$f":"IF(ISBLANK(Import!E503),\"\",IF(B500=(LEFT(A500,3)),(IFERROR(VLOOKUP(Import!B503,Mapping!D:F,2,FALSE),\"Cpte à créer dans Mapping\")),\"Cpte à reclasser\"))","v":""}]
[{"$f":"IF(ISBLANK(Import!E504),\"\",Import!E504)","v":""},{"$f":"IF(ISBLANK(Import!E504),\"\",(IFERROR(VLOOKUP(Import!C504,Mapping!C:F,1,FALSE),\"HF, à reclasser\")))","v":""},{"$f":"IF(ISBLANK(Import!E504),\"\",IF(B501=(LEFT(A501,3)),(IFERROR(VLOOKUP(Import!B504,Mapping!D:F,2,FALSE),\"Cpte à créer dans Mapping\")),\"Cpte à reclasser\"))","v":""}]
[{"$f":"IF(ISBLANK(Import!E505),\"\",Import!E505)","v":""},{"$f":"IF(ISBLANK(Import!E505),\"\",(IFERROR(VLOOKUP(Import!C505,Mapping!C:F,1,FALSE),\"HF, à reclasser\")))","v":""},{"$f":"IF(ISBLANK(Import!E505),\"\",IF(B502=(LEFT(A502,3)),(IFERROR(VLOOKUP(Import!B505,Mapping!D:F,2,FALSE),\"Cpte à créer dans Mapping\")),\"Cpte à reclasser\"))","v":""}]
[{"$f":"IF(ISBLANK(Import!E506),\"\",Import!E506)","v":""},{"$f":"IF(ISBLANK(Import!E506),\"\",(IFERROR(VLOOKUP(Import!C506,Mapping!C:F,1,FALSE),\"HF, à reclasser\")))","v":""},{"$f":"IF(ISBLANK(Import!E506),\"\",IF(B503=(LEFT(A503,3)),(IFERROR(VLOOKUP(Import!B506,Mapping!D:F,2,FALSE),\"Cpte à créer dans Mapping\")),\"Cpte à reclasser\"))","v":""}]
[{"$f":"IF(ISBLANK(Import!E507),\"\",Import!E507)","v":""},{"$f":"IF(ISBLANK(Import!E507),\"\",(IFERROR(VLOOKUP(Import!C507,Mapping!C:F,1,FALSE),\"HF, à reclasser\")))","v":""},{"$f":"IF(ISBLANK(Import!E507),\"\",IF(B504=(LEFT(A504,3)),(IFERROR(VLOOKUP(Import!B507,Mapping!D:F,2,FALSE),\"Cpte à créer dans Mapping\")),\"Cpte à reclasser\"))","v":""}]
[{"$f":"IF(ISBLANK(Import!E508),\"\",Import!E508)","v":""},{"$f":"IF(ISBLANK(Import!E508),\"\",(IFERROR(VLOOKUP(Import!C508,Mapping!C:F,1,FALSE),\"HF, à reclasser\")))","v":""},{"$f":"IF(ISBLANK(Import!E508),\"\",IF(B505=(LEFT(A505,3)),(IFERROR(VLOOKUP(Import!B508,Mapping!D:F,2,FALSE),\"Cpte à créer dans Mapping\")),\"Cpte à reclasser\"))","v":""}]
[{"$f":"IF(ISBLANK(Import!E509),\"\",Import!E509)","v":""},{"$f":"IF(ISBLANK(Import!E509),\"\",(IFERROR(VLOOKUP(Import!C509,Mapping!C:F,1,FALSE),\"HF, à reclasser\")))","v":""},{"$f":"IF(ISBLANK(Import!E509),\"\",IF(B506=(LEFT(A506,3)),(IFERROR(VLOOKUP(Import!B509,Mapping!D:F,2,FALSE),\"Cpte à créer dans Mapping\")),\"Cpte à reclasser\"))","v":""}]
[{"$f":"IF(ISBLANK(Import!E510),\"\",Import!E510)","v":""},{"$f":"IF(ISBLANK(Import!E510),\"\",(IFERROR(VLOOKUP(Import!C510,Mapping!C:F,1,FALSE),\"HF, à reclasser\")))","v":""},{"$f":"IF(ISBLANK(Import!E510),\"\",IF(B507=(LEFT(A507,3)),(IFERROR(VLOOKUP(Import!B510,Mapping!D:F,2,FALSE),\"Cpte à créer dans Mapping\")),\"Cpte à reclasser\"))","v":""}]
[{"$f":"IF(ISBLANK(Import!E511),\"\",Import!E511)","v":""},{"$f":"IF(ISBLANK(Import!E511),\"\",(IFERROR(VLOOKUP(Import!C511,Mapping!C:F,1,FALSE),\"HF, à reclasser\")))","v":""},{"$f":"IF(ISBLANK(Import!E511),\"\",IF(B508=(LEFT(A508,3)),(IFERROR(VLOOKUP(Import!B511,Mapping!D:F,2,FALSE),\"Cpte à créer dans Mapping\")),\"Cpte à reclasser\"))","v":""}]
[{"$f":"IF(ISBLANK(Import!E512),\"\",Import!E512)","v":""},{"$f":"IF(ISBLANK(Import!E512),\"\",(IFERROR(VLOOKUP(Import!C512,Mapping!C:F,1,FALSE),\"HF, à reclasser\")))","v":""},{"$f":"IF(ISBLANK(Import!E512),\"\",IF(B509=(LEFT(A509,3)),(IFERROR(VLOOKUP(Import!B512,Mapping!D:F,2,FALSE),\"Cpte à créer dans Mapping\")),\"Cpte à reclasser\"))","v":""}]
[{"$f":"IF(ISBLANK(Import!E513),\"\",Import!E513)","v":""},{"$f":"IF(ISBLANK(Import!E513),\"\",(IFERROR(VLOOKUP(Import!C513,Mapping!C:F,1,FALSE),\"HF, à reclasser\")))","v":""},{"$f":"IF(ISBLANK(Import!E513),\"\",IF(B510=(LEFT(A510,3)),(IFERROR(VLOOKUP(Import!B513,Mapping!D:F,2,FALSE),\"Cpte à créer dans Mapping\")),\"Cpte à reclasser\"))","v":""}]
[{"$f":"IF(ISBLANK(Import!E514),\"\",Import!E514)","v":""},{"$f":"IF(ISBLANK(Import!E514),\"\",(IFERROR(VLOOKUP(Import!C514,Mapping!C:F,1,FALSE),\"HF, à reclasser\")))","v":""},{"$f":"IF(ISBLANK(Import!E514),\"\",IF(B511=(LEFT(A511,3)),(IFERROR(VLOOKUP(Import!B514,Mapping!D:F,2,FALSE),\"Cpte à créer dans Mapping\")),\"Cpte à reclasser\"))","v":""}]
[{"$f":"IF(ISBLANK(Import!E515),\"\",Import!E515)","v":""},{"$f":"IF(ISBLANK(Import!E515),\"\",(IFERROR(VLOOKUP(Import!C515,Mapping!C:F,1,FALSE),\"HF, à reclasser\")))","v":""},{"$f":"IF(ISBLANK(Import!E515),\"\",IF(B512=(LEFT(A512,3)),(IFERROR(VLOOKUP(Import!B515,Mapping!D:F,2,FALSE),\"Cpte à créer dans Mapping\")),\"Cpte à reclasser\"))","v":""}]
[{"$f":"IF(ISBLANK(Import!E516),\"\",Import!E516)","v":""},{"$f":"IF(ISBLANK(Import!E516),\"\",(IFERROR(VLOOKUP(Import!C516,Mapping!C:F,1,FALSE),\"HF, à reclasser\")))","v":""},{"$f":"IF(ISBLANK(Import!E516),\"\",IF(B513=(LEFT(A513,3)),(IFERROR(VLOOKUP(Import!B516,Mapping!D:F,2,FALSE),\"Cpte à créer dans Mapping\")),\"Cpte à reclasser\"))","v":""}]
[{"$f":"IF(ISBLANK(Import!E517),\"\",Import!E517)","v":""},{"$f":"IF(ISBLANK(Import!E517),\"\",(IFERROR(VLOOKUP(Import!C517,Mapping!C:F,1,FALSE),\"HF, à reclasser\")))","v":""},{"$f":"IF(ISBLANK(Import!E517),\"\",IF(B514=(LEFT(A514,3)),(IFERROR(VLOOKUP(Import!B517,Mapping!D:F,2,FALSE),\"Cpte à créer dans Mapping\")),\"Cpte à reclasser\"))","v":""}]
[{"$f":"IF(ISBLANK(Import!E518),\"\",Import!E518)","v":""},{"$f":"IF(ISBLANK(Import!E518),\"\",(IFERROR(VLOOKUP(Import!C518,Mapping!C:F,1,FALSE),\"HF, à reclasser\")))","v":""},{"$f":"IF(ISBLANK(Import!E518),\"\",IF(B515=(LEFT(A515,3)),(IFERROR(VLOOKUP(Import!B518,Mapping!D:F,2,FALSE),\"Cpte à créer dans Mapping\")),\"Cpte à reclasser\"))","v":""}]
[{"$f":"IF(ISBLANK(Import!E519),\"\",Import!E519)","v":""},{"$f":"IF(ISBLANK(Import!E519),\"\",(IFERROR(VLOOKUP(Import!C519,Mapping!C:F,1,FALSE),\"HF, à reclasser\")))","v":""},{"$f":"IF(ISBLANK(Import!E519),\"\",IF(B516=(LEFT(A516,3)),(IFERROR(VLOOKUP(Import!B519,Mapping!D:F,2,FALSE),\"Cpte à créer dans Mapping\")),\"Cpte à reclasser\"))","v":""}]
[{"$f":"IF(ISBLANK(Import!E520),\"\",Import!E520)","v":""},{"$f":"IF(ISBLANK(Import!E520),\"\",(IFERROR(VLOOKUP(Import!C520,Mapping!C:F,1,FALSE),\"HF, à reclasser\")))","v":""},{"$f":"IF(ISBLANK(Import!E520),\"\",IF(B517=(LEFT(A517,3)),(IFERROR(VLOOKUP(Import!B520,Mapping!D:F,2,FALSE),\"Cpte à créer dans Mapping\")),\"Cpte à reclasser\"))","v":""}]
[{"$f":"IF(ISBLANK(Import!E521),\"\",Import!E521)","v":""},{"$f":"IF(ISBLANK(Import!E521),\"\",(IFERROR(VLOOKUP(Import!C521,Mapping!C:F,1,FALSE),\"HF, à reclasser\")))","v":""},{"$f":"IF(ISBLANK(Import!E521),\"\",IF(B518=(LEFT(A518,3)),(IFERROR(VLOOKUP(Import!B521,Mapping!D:F,2,FALSE),\"Cpte à créer dans Mapping\")),\"Cpte à reclasser\"))","v":""}]
[{"$f":"IF(ISBLANK(Import!E522),\"\",Import!E522)","v":""},{"$f":"IF(ISBLANK(Import!E522),\"\",(IFERROR(VLOOKUP(Import!C522,Mapping!C:F,1,FALSE),\"HF, à reclasser\")))","v":""},{"$f":"IF(ISBLANK(Import!E522),\"\",IF(B519=(LEFT(A519,3)),(IFERROR(VLOOKUP(Import!B522,Mapping!D:F,2,FALSE),\"Cpte à créer dans Mapping\")),\"Cpte à reclasser\"))","v":""}]
[{"$f":"IF(ISBLANK(Import!E523),\"\",Import!E523)","v":""},{"$f":"IF(ISBLANK(Import!E523),\"\",(IFERROR(VLOOKUP(Import!C523,Mapping!C:F,1,FALSE),\"HF, à reclasser\")))","v":""},{"$f":"IF(ISBLANK(Import!E523),\"\",IF(B520=(LEFT(A520,3)),(IFERROR(VLOOKUP(Import!B523,Mapping!D:F,2,FALSE),\"Cpte à créer dans Mapping\")),\"Cpte à reclasser\"))","v":""}]
[{"$f":"IF(ISBLANK(Import!E524),\"\",Import!E524)","v":""},{"$f":"IF(ISBLANK(Import!E524),\"\",(IFERROR(VLOOKUP(Import!C524,Mapping!C:F,1,FALSE),\"HF, à reclasser\")))","v":""},{"$f":"IF(ISBLANK(Import!E524),\"\",IF(B521=(LEFT(A521,3)),(IFERROR(VLOOKUP(Import!B524,Mapping!D:F,2,FALSE),\"Cpte à créer dans Mapping\")),\"Cpte à reclasser\"))","v":""}]
[{"$f":"IF(ISBLANK(Import!E525),\"\",Import!E525)","v":""},{"$f":"IF(ISBLANK(Import!E525),\"\",(IFERROR(VLOOKUP(Import!C525,Mapping!C:F,1,FALSE),\"HF, à reclasser\")))","v":""},{"$f":"IF(ISBLANK(Import!E525),\"\",IF(B522=(LEFT(A522,3)),(IFERROR(VLOOKUP(Import!B525,Mapping!D:F,2,FALSE),\"Cpte à créer dans Mapping\")),\"Cpte à reclasser\"))","v":""}]
[{"$f":"IF(ISBLANK(Import!E526),\"\",Import!E526)","v":""},{"$f":"IF(ISBLANK(Import!E526),\"\",(IFERROR(VLOOKUP(Import!C526,Mapping!C:F,1,FALSE),\"HF, à reclasser\")))","v":""},{"$f":"IF(ISBLANK(Import!E526),\"\",IF(B523=(LEFT(A523,3)),(IFERROR(VLOOKUP(Import!B526,Mapping!D:F,2,FALSE),\"Cpte à créer dans Mapping\")),\"Cpte à reclasser\"))","v":""}]
[{"$f":"IF(ISBLANK(Import!E527),\"\",Import!E527)","v":""},{"$f":"IF(ISBLANK(Import!E527),\"\",(IFERROR(VLOOKUP(Import!C527,Mapping!C:F,1,FALSE),\"HF, à reclasser\")))","v":""},{"$f":"IF(ISBLANK(Import!E527),\"\",IF(B524=(LEFT(A524,3)),(IFERROR(VLOOKUP(Import!B527,Mapping!D:F,2,FALSE),\"Cpte à créer dans Mapping\")),\"Cpte à reclasser\"))","v":""}]
[{"$f":"IF(ISBLANK(Import!E528),\"\",Import!E528)","v":""},{"$f":"IF(ISBLANK(Import!E528),\"\",(IFERROR(VLOOKUP(Import!C528,Mapping!C:F,1,FALSE),\"HF, à reclasser\")))","v":""},{"$f":"IF(ISBLANK(Import!E528),\"\",IF(B525=(LEFT(A525,3)),(IFERROR(VLOOKUP(Import!B528,Mapping!D:F,2,FALSE),\"Cpte à créer dans Mapping\")),\"Cpte à reclasser\"))","v":""}]
[{"$f":"IF(ISBLANK(Import!E529),\"\",Import!E529)","v":""},{"$f":"IF(ISBLANK(Import!E529),\"\",(IFERROR(VLOOKUP(Import!C529,Mapping!C:F,1,FALSE),\"HF, à reclasser\")))","v":""},{"$f":"IF(ISBLANK(Import!E529),\"\",IF(B526=(LEFT(A526,3)),(IFERROR(VLOOKUP(Import!B529,Mapping!D:F,2,FALSE),\"Cpte à créer dans Mapping\")),\"Cpte à reclasser\"))","v":""}]
[{"$f":"IF(ISBLANK(Import!E530),\"\",Import!E530)","v":""},{"$f":"IF(ISBLANK(Import!E530),\"\",(IFERROR(VLOOKUP(Import!C530,Mapping!C:F,1,FALSE),\"HF, à reclasser\")))","v":""},{"$f":"IF(ISBLANK(Import!E530),\"\",IF(B527=(LEFT(A527,3)),(IFERROR(VLOOKUP(Import!B530,Mapping!D:F,2,FALSE),\"Cpte à créer dans Mapping\")),\"Cpte à reclasser\"))","v":""}]
[{"$f":"IF(ISBLANK(Import!E531),\"\",Import!E531)","v":""},{"$f":"IF(ISBLANK(Import!E531),\"\",(IFERROR(VLOOKUP(Import!C531,Mapping!C:F,1,FALSE),\"HF, à reclasser\")))","v":""},{"$f":"IF(ISBLANK(Import!E531),\"\",IF(B528=(LEFT(A528,3)),(IFERROR(VLOOKUP(Import!B531,Mapping!D:F,2,FALSE),\"Cpte à créer dans Mapping\")),\"Cpte à reclasser\"))","v":""}]
[{"$f":"IF(ISBLANK(Import!E532),\"\",Import!E532)","v":""},{"$f":"IF(ISBLANK(Import!E532),\"\",(IFERROR(VLOOKUP(Import!C532,Mapping!C:F,1,FALSE),\"HF, à reclasser\")))","v":""},{"$f":"IF(ISBLANK(Import!E532),\"\",IF(B529=(LEFT(A529,3)),(IFERROR(VLOOKUP(Import!B532,Mapping!D:F,2,FALSE),\"Cpte à créer dans Mapping\")),\"Cpte à reclasser\"))","v":""}]
[{"$f":"IF(ISBLANK(Import!E533),\"\",Import!E533)","v":""},{"$f":"IF(ISBLANK(Import!E533),\"\",(IFERROR(VLOOKUP(Import!C533,Mapping!C:F,1,FALSE),\"HF, à reclasser\")))","v":""},{"$f":"IF(ISBLANK(Import!E533),\"\",IF(B530=(LEFT(A530,3)),(IFERROR(VLOOKUP(Import!B533,Mapping!D:F,2,FALSE),\"Cpte à créer dans Mapping\")),\"Cpte à reclasser\"))","v":""}]
[{"$f":"IF(ISBLANK(Import!E534),\"\",Import!E534)","v":""},{"$f":"IF(ISBLANK(Import!E534),\"\",(IFERROR(VLOOKUP(Import!C534,Mapping!C:F,1,FALSE),\"HF, à reclasser\")))","v":""},{"$f":"IF(ISBLANK(Import!E534),\"\",IF(B531=(LEFT(A531,3)),(IFERROR(VLOOKUP(Import!B534,Mapping!D:F,2,FALSE),\"Cpte à créer dans Mapping\")),\"Cpte à reclasser\"))","v":""}]
[{"$f":"IF(ISBLANK(Import!E535),\"\",Import!E535)","v":""},{"$f":"IF(ISBLANK(Import!E535),\"\",(IFERROR(VLOOKUP(Import!C535,Mapping!C:F,1,FALSE),\"HF, à reclasser\")))","v":""},{"$f":"IF(ISBLANK(Import!E535),\"\",IF(B532=(LEFT(A532,3)),(IFERROR(VLOOKUP(Import!B535,Mapping!D:F,2,FALSE),\"Cpte à créer dans Mapping\")),\"Cpte à reclasser\"))","v":""}]
[{"$f":"IF(ISBLANK(Import!E536),\"\",Import!E536)","v":""},{"$f":"IF(ISBLANK(Import!E536),\"\",(IFERROR(VLOOKUP(Import!C536,Mapping!C:F,1,FALSE),\"HF, à reclasser\")))","v":""},{"$f":"IF(ISBLANK(Import!E536),\"\",IF(B533=(LEFT(A533,3)),(IFERROR(VLOOKUP(Import!B536,Mapping!D:F,2,FALSE),\"Cpte à créer dans Mapping\")),\"Cpte à reclasser\"))","v":""}]
[{"$f":"IF(ISBLANK(Import!E537),\"\",Import!E537)","v":""},{"$f":"IF(ISBLANK(Import!E537),\"\",(IFERROR(VLOOKUP(Import!C537,Mapping!C:F,1,FALSE),\"HF, à reclasser\")))","v":""},{"$f":"IF(ISBLANK(Import!E537),\"\",IF(B534=(LEFT(A534,3)),(IFERROR(VLOOKUP(Import!B537,Mapping!D:F,2,FALSE),\"Cpte à créer dans Mapping\")),\"Cpte à reclasser\"))","v":""}]
[{"$f":"IF(ISBLANK(Import!E538),\"\",Import!E538)","v":""},{"$f":"IF(ISBLANK(Import!E538),\"\",(IFERROR(VLOOKUP(Import!C538,Mapping!C:F,1,FALSE),\"HF, à reclasser\")))","v":""},{"$f":"IF(ISBLANK(Import!E538),\"\",IF(B535=(LEFT(A535,3)),(IFERROR(VLOOKUP(Import!B538,Mapping!D:F,2,FALSE),\"Cpte à créer dans Mapping\")),\"Cpte à reclasser\"))","v":""}]
[{"$f":"IF(ISBLANK(Import!E539),\"\",Import!E539)","v":""},{"$f":"IF(ISBLANK(Import!E539),\"\",(IFERROR(VLOOKUP(Import!C539,Mapping!C:F,1,FALSE),\"HF, à reclasser\")))","v":""},{"$f":"IF(ISBLANK(Import!E539),\"\",IF(B536=(LEFT(A536,3)),(IFERROR(VLOOKUP(Import!B539,Mapping!D:F,2,FALSE),\"Cpte à créer dans Mapping\")),\"Cpte à reclasser\"))","v":""}]
[{"$f":"IF(ISBLANK(Import!E540),\"\",Import!E540)","v":""},{"$f":"IF(ISBLANK(Import!E540),\"\",(IFERROR(VLOOKUP(Import!C540,Mapping!C:F,1,FALSE),\"HF, à reclasser\")))","v":""},{"$f":"IF(ISBLANK(Import!E540),\"\",IF(B537=(LEFT(A537,3)),(IFERROR(VLOOKUP(Import!B540,Mapping!D:F,2,FALSE),\"Cpte à créer dans Mapping\")),\"Cpte à reclasser\"))","v":""}]
[{"$f":"IF(ISBLANK(Import!E541),\"\",Import!E541)","v":""},{"$f":"IF(ISBLANK(Import!E541),\"\",(IFERROR(VLOOKUP(Import!C541,Mapping!C:F,1,FALSE),\"HF, à reclasser\")))","v":""},{"$f":"IF(ISBLANK(Import!E541),\"\",IF(B538=(LEFT(A538,3)),(IFERROR(VLOOKUP(Import!B541,Mapping!D:F,2,FALSE),\"Cpte à créer dans Mapping\")),\"Cpte à reclasser\"))","v":""}]
[{"$f":"IF(ISBLANK(Import!E542),\"\",Import!E542)","v":""},{"$f":"IF(ISBLANK(Import!E542),\"\",(IFERROR(VLOOKUP(Import!C542,Mapping!C:F,1,FALSE),\"HF, à reclasser\")))","v":""},{"$f":"IF(ISBLANK(Import!E542),\"\",IF(B539=(LEFT(A539,3)),(IFERROR(VLOOKUP(Import!B542,Mapping!D:F,2,FALSE),\"Cpte à créer dans Mapping\")),\"Cpte à reclasser\"))","v":""}]
[{"$f":"IF(ISBLANK(Import!E543),\"\",Import!E543)","v":""},{"$f":"IF(ISBLANK(Import!E543),\"\",(IFERROR(VLOOKUP(Import!C543,Mapping!C:F,1,FALSE),\"HF, à reclasser\")))","v":""},{"$f":"IF(ISBLANK(Import!E543),\"\",IF(B540=(LEFT(A540,3)),(IFERROR(VLOOKUP(Import!B543,Mapping!D:F,2,FALSE),\"Cpte à créer dans Mapping\")),\"Cpte à reclasser\"))","v":""}]
[{"$f":"IF(ISBLANK(Import!E544),\"\",Import!E544)","v":""},{"$f":"IF(ISBLANK(Import!E544),\"\",(IFERROR(VLOOKUP(Import!C544,Mapping!C:F,1,FALSE),\"HF, à reclasser\")))","v":""},{"$f":"IF(ISBLANK(Import!E544),\"\",IF(B541=(LEFT(A541,3)),(IFERROR(VLOOKUP(Import!B544,Mapping!D:F,2,FALSE),\"Cpte à créer dans Mapping\")),\"Cpte à reclasser\"))","v":""}]
[{"$f":"IF(ISBLANK(Import!E545),\"\",Import!E545)","v":""},{"$f":"IF(ISBLANK(Import!E545),\"\",(IFERROR(VLOOKUP(Import!C545,Mapping!C:F,1,FALSE),\"HF, à reclasser\")))","v":""},{"$f":"IF(ISBLANK(Import!E545),\"\",IF(B542=(LEFT(A542,3)),(IFERROR(VLOOKUP(Import!B545,Mapping!D:F,2,FALSE),\"Cpte à créer dans Mapping\")),\"Cpte à reclasser\"))","v":""}]
[{"$f":"IF(ISBLANK(Import!E546),\"\",Import!E546)","v":""},{"$f":"IF(ISBLANK(Import!E546),\"\",(IFERROR(VLOOKUP(Import!C546,Mapping!C:F,1,FALSE),\"HF, à reclasser\")))","v":""},{"$f":"IF(ISBLANK(Import!E546),\"\",IF(B543=(LEFT(A543,3)),(IFERROR(VLOOKUP(Import!B546,Mapping!D:F,2,FALSE),\"Cpte à créer dans Mapping\")),\"Cpte à reclasser\"))","v":""}]
[{"$f":"IF(ISBLANK(Import!E547),\"\",Import!E547)","v":""},{"$f":"IF(ISBLANK(Import!E547),\"\",(IFERROR(VLOOKUP(Import!C547,Mapping!C:F,1,FALSE),\"HF, à reclasser\")))","v":""},{"$f":"IF(ISBLANK(Import!E547),\"\",IF(B544=(LEFT(A544,3)),(IFERROR(VLOOKUP(Import!B547,Mapping!D:F,2,FALSE),\"Cpte à créer dans Mapping\")),\"Cpte à reclasser\"))","v":""}]
[{"$f":"IF(ISBLANK(Import!E548),\"\",Import!E548)","v":""},{"$f":"IF(ISBLANK(Import!E548),\"\",(IFERROR(VLOOKUP(Import!C548,Mapping!C:F,1,FALSE),\"HF, à reclasser\")))","v":""},{"$f":"IF(ISBLANK(Import!E548),\"\",IF(B545=(LEFT(A545,3)),(IFERROR(VLOOKUP(Import!B548,Mapping!D:F,2,FALSE),\"Cpte à créer dans Mapping\")),\"Cpte à reclasser\"))","v":""}]
[{"$f":"IF(ISBLANK(Import!E549),\"\",Import!E549)","v":""},{"$f":"IF(ISBLANK(Import!E549),\"\",(IFERROR(VLOOKUP(Import!C549,Mapping!C:F,1,FALSE),\"HF, à reclasser\")))","v":""},{"$f":"IF(ISBLANK(Import!E549),\"\",IF(B546=(LEFT(A546,3)),(IFERROR(VLOOKUP(Import!B549,Mapping!D:F,2,FALSE),\"Cpte à créer dans Mapping\")),\"Cpte à reclasser\"))","v":""}]
[{"$f":"IF(ISBLANK(Import!E550),\"\",Import!E550)","v":""},{"$f":"IF(ISBLANK(Import!E550),\"\",(IFERROR(VLOOKUP(Import!C550,Mapping!C:F,1,FALSE),\"HF, à reclasser\")))","v":""},{"$f":"IF(ISBLANK(Import!E550),\"\",IF(B547=(LEFT(A547,3)),(IFERROR(VLOOKUP(Import!B550,Mapping!D:F,2,FALSE),\"Cpte à créer dans Mapping\")),\"Cpte à reclasser\"))","v":""}]
[{"$f":"IF(ISBLANK(Import!E551),\"\",Import!E551)","v":""},{"$f":"IF(ISBLANK(Import!E551),\"\",(IFERROR(VLOOKUP(Import!C551,Mapping!C:F,1,FALSE),\"HF, à reclasser\")))","v":""},{"$f":"IF(ISBLANK(Import!E551),\"\",IF(B548=(LEFT(A548,3)),(IFERROR(VLOOKUP(Import!B551,Mapping!D:F,2,FALSE),\"Cpte à créer dans Mapping\")),\"Cpte à reclasser\"))","v":""}]
[{"$f":"IF(ISBLANK(Import!E552),\"\",Import!E552)","v":""},{"$f":"IF(ISBLANK(Import!E552),\"\",(IFERROR(VLOOKUP(Import!C552,Mapping!C:F,1,FALSE),\"HF, à reclasser\")))","v":""},{"$f":"IF(ISBLANK(Import!E552),\"\",IF(B549=(LEFT(A549,3)),(IFERROR(VLOOKUP(Import!B552,Mapping!D:F,2,FALSE),\"Cpte à créer dans Mapping\")),\"Cpte à reclasser\"))","v":""}]
[{"$f":"IF(ISBLANK(Import!E553),\"\",Import!E553)","v":""},{"$f":"IF(ISBLANK(Import!E553),\"\",(IFERROR(VLOOKUP(Import!C553,Mapping!C:F,1,FALSE),\"HF, à reclasser\")))","v":""},{"$f":"IF(ISBLANK(Import!E553),\"\",IF(B550=(LEFT(A550,3)),(IFERROR(VLOOKUP(Import!B553,Mapping!D:F,2,FALSE),\"Cpte à créer dans Mapping\")),\"Cpte à reclasser\"))","v":""}]
[{"$f":"IF(ISBLANK(Import!E554),\"\",Import!E554)","v":""},{"$f":"IF(ISBLANK(Import!E554),\"\",(IFERROR(VLOOKUP(Import!C554,Mapping!C:F,1,FALSE),\"HF, à reclasser\")))","v":""},{"$f":"IF(ISBLANK(Import!E554),\"\",IF(B551=(LEFT(A551,3)),(IFERROR(VLOOKUP(Import!B554,Mapping!D:F,2,FALSE),\"Cpte à créer dans Mapping\")),\"Cpte à reclasser\"))","v":""}]
[{"$f":"IF(ISBLANK(Import!E555),\"\",Import!E555)","v":""},{"$f":"IF(ISBLANK(Import!E555),\"\",(IFERROR(VLOOKUP(Import!C555,Mapping!C:F,1,FALSE),\"HF, à reclasser\")))","v":""},{"$f":"IF(ISBLANK(Import!E555),\"\",IF(B552=(LEFT(A552,3)),(IFERROR(VLOOKUP(Import!B555,Mapping!D:F,2,FALSE),\"Cpte à créer dans Mapping\")),\"Cpte à reclasser\"))","v":""}]
[{"$f":"IF(ISBLANK(Import!E556),\"\",Import!E556)","v":""},{"$f":"IF(ISBLANK(Import!E556),\"\",(IFERROR(VLOOKUP(Import!C556,Mapping!C:F,1,FALSE),\"HF, à reclasser\")))","v":""},{"$f":"IF(ISBLANK(Import!E556),\"\",IF(B553=(LEFT(A553,3)),(IFERROR(VLOOKUP(Import!B556,Mapping!D:F,2,FALSE),\"Cpte à créer dans Mapping\")),\"Cpte à reclasser\"))","v":""}]
[{"$f":"IF(ISBLANK(Import!E557),\"\",Import!E557)","v":""},{"$f":"IF(ISBLANK(Import!E557),\"\",(IFERROR(VLOOKUP(Import!C557,Mapping!C:F,1,FALSE),\"HF, à reclasser\")))","v":""},{"$f":"IF(ISBLANK(Import!E557),\"\",IF(B554=(LEFT(A554,3)),(IFERROR(VLOOKUP(Import!B557,Mapping!D:F,2,FALSE),\"Cpte à créer dans Mapping\")),\"Cpte à reclasser\"))","v":""}]
[{"$f":"IF(ISBLANK(Import!E558),\"\",Import!E558)","v":""},{"$f":"IF(ISBLANK(Import!E558),\"\",(IFERROR(VLOOKUP(Import!C558,Mapping!C:F,1,FALSE),\"HF, à reclasser\")))","v":""},{"$f":"IF(ISBLANK(Import!E558),\"\",IF(B555=(LEFT(A555,3)),(IFERROR(VLOOKUP(Import!B558,Mapping!D:F,2,FALSE),\"Cpte à créer dans Mapping\")),\"Cpte à reclasser\"))","v":""}]
[{"$f":"IF(ISBLANK(Import!E559),\"\",Import!E559)","v":""},{"$f":"IF(ISBLANK(Import!E559),\"\",(IFERROR(VLOOKUP(Import!C559,Mapping!C:F,1,FALSE),\"HF, à reclasser\")))","v":""},{"$f":"IF(ISBLANK(Import!E559),\"\",IF(B556=(LEFT(A556,3)),(IFERROR(VLOOKUP(Import!B559,Mapping!D:F,2,FALSE),\"Cpte à créer dans Mapping\")),\"Cpte à reclasser\"))","v":""}]
[{"$f":"IF(ISBLANK(Import!E560),\"\",Import!E560)","v":""},{"$f":"IF(ISBLANK(Import!E560),\"\",(IFERROR(VLOOKUP(Import!C560,Mapping!C:F,1,FALSE),\"HF, à reclasser\")))","v":""},{"$f":"IF(ISBLANK(Import!E560),\"\",IF(B557=(LEFT(A557,3)),(IFERROR(VLOOKUP(Import!B560,Mapping!D:F,2,FALSE),\"Cpte à créer dans Mapping\")),\"Cpte à reclasser\"))","v":""}]
[{"$f":"IF(ISBLANK(Import!E561),\"\",Import!E561)","v":""},{"$f":"IF(ISBLANK(Import!E561),\"\",(IFERROR(VLOOKUP(Import!C561,Mapping!C:F,1,FALSE),\"HF, à reclasser\")))","v":""},{"$f":"IF(ISBLANK(Import!E561),\"\",IF(B558=(LEFT(A558,3)),(IFERROR(VLOOKUP(Import!B561,Mapping!D:F,2,FALSE),\"Cpte à créer dans Mapping\")),\"Cpte à reclasser\"))","v":""}]
[{"$f":"IF(ISBLANK(Import!E562),\"\",Import!E562)","v":""},{"$f":"IF(ISBLANK(Import!E562),\"\",(IFERROR(VLOOKUP(Import!C562,Mapping!C:F,1,FALSE),\"HF, à reclasser\")))","v":""},{"$f":"IF(ISBLANK(Import!E562),\"\",IF(B559=(LEFT(A559,3)),(IFERROR(VLOOKUP(Import!B562,Mapping!D:F,2,FALSE),\"Cpte à créer dans Mapping\")),\"Cpte à reclasser\"))","v":""}]
[{"$f":"IF(ISBLANK(Import!E563),\"\",Import!E563)","v":""},{"$f":"IF(ISBLANK(Import!E563),\"\",(IFERROR(VLOOKUP(Import!C563,Mapping!C:F,1,FALSE),\"HF, à reclasser\")))","v":""},{"$f":"IF(ISBLANK(Import!E563),\"\",IF(B560=(LEFT(A560,3)),(IFERROR(VLOOKUP(Import!B563,Mapping!D:F,2,FALSE),\"Cpte à créer dans Mapping\")),\"Cpte à reclasser\"))","v":""}]
[{"$f":"IF(ISBLANK(Import!E564),\"\",Import!E564)","v":""},{"$f":"IF(ISBLANK(Import!E564),\"\",(IFERROR(VLOOKUP(Import!C564,Mapping!C:F,1,FALSE),\"HF, à reclasser\")))","v":""},{"$f":"IF(ISBLANK(Import!E564),\"\",IF(B561=(LEFT(A561,3)),(IFERROR(VLOOKUP(Import!B564,Mapping!D:F,2,FALSE),\"Cpte à créer dans Mapping\")),\"Cpte à reclasser\"))","v":""}]
[{"$f":"IF(ISBLANK(Import!E565),\"\",Import!E565)","v":""},{"$f":"IF(ISBLANK(Import!E565),\"\",(IFERROR(VLOOKUP(Import!C565,Mapping!C:F,1,FALSE),\"HF, à reclasser\")))","v":""},{"$f":"IF(ISBLANK(Import!E565),\"\",IF(B562=(LEFT(A562,3)),(IFERROR(VLOOKUP(Import!B565,Mapping!D:F,2,FALSE),\"Cpte à créer dans Mapping\")),\"Cpte à reclasser\"))","v":""}]
[{"$f":"IF(ISBLANK(Import!E566),\"\",Import!E566)","v":""},{"$f":"IF(ISBLANK(Import!E566),\"\",(IFERROR(VLOOKUP(Import!C566,Mapping!C:F,1,FALSE),\"HF, à reclasser\")))","v":""},{"$f":"IF(ISBLANK(Import!E566),\"\",IF(B563=(LEFT(A563,3)),(IFERROR(VLOOKUP(Import!B566,Mapping!D:F,2,FALSE),\"Cpte à créer dans Mapping\")),\"Cpte à reclasser\"))","v":""}]
[{"$f":"IF(ISBLANK(Import!E567),\"\",Import!E567)","v":""},{"$f":"IF(ISBLANK(Import!E567),\"\",(IFERROR(VLOOKUP(Import!C567,Mapping!C:F,1,FALSE),\"HF, à reclasser\")))","v":""},{"$f":"IF(ISBLANK(Import!E567),\"\",IF(B564=(LEFT(A564,3)),(IFERROR(VLOOKUP(Import!B567,Mapping!D:F,2,FALSE),\"Cpte à créer dans Mapping\")),\"Cpte à reclasser\"))","v":""}]
[{"$f":"IF(ISBLANK(Import!E568),\"\",Import!E568)","v":""},{"$f":"IF(ISBLANK(Import!E568),\"\",(IFERROR(VLOOKUP(Import!C568,Mapping!C:F,1,FALSE),\"HF, à reclasser\")))","v":""},{"$f":"IF(ISBLANK(Import!E568),\"\",IF(B565=(LEFT(A565,3)),(IFERROR(VLOOKUP(Import!B568,Mapping!D:F,2,FALSE),\"Cpte à créer dans Mapping\")),\"Cpte à reclasser\"))","v":""}]
[{"$f":"IF(ISBLANK(Import!E569),\"\",Import!E569)","v":""},{"$f":"IF(ISBLANK(Import!E569),\"\",(IFERROR(VLOOKUP(Import!C569,Mapping!C:F,1,FALSE),\"HF, à reclasser\")))","v":""},{"$f":"IF(ISBLANK(Import!E569),\"\",IF(B566=(LEFT(A566,3)),(IFERROR(VLOOKUP(Import!B569,Mapping!D:F,2,FALSE),\"Cpte à créer dans Mapping\")),\"Cpte à reclasser\"))","v":""}]
[{"$f":"IF(ISBLANK(Import!E570),\"\",Import!E570)","v":""},{"$f":"IF(ISBLANK(Import!E570),\"\",(IFERROR(VLOOKUP(Import!C570,Mapping!C:F,1,FALSE),\"HF, à reclasser\")))","v":""},{"$f":"IF(ISBLANK(Import!E570),\"\",IF(B567=(LEFT(A567,3)),(IFERROR(VLOOKUP(Import!B570,Mapping!D:F,2,FALSE),\"Cpte à créer dans Mapping\")),\"Cpte à reclasser\"))","v":""}]
[{"$f":"IF(ISBLANK(Import!E571),\"\",Import!E571)","v":""},{"$f":"IF(ISBLANK(Import!E571),\"\",(IFERROR(VLOOKUP(Import!C571,Mapping!C:F,1,FALSE),\"HF, à reclasser\")))","v":""},{"$f":"IF(ISBLANK(Import!E571),\"\",IF(B568=(LEFT(A568,3)),(IFERROR(VLOOKUP(Import!B571,Mapping!D:F,2,FALSE),\"Cpte à créer dans Mapping\")),\"Cpte à reclasser\"))","v":""}]
[{"$f":"IF(ISBLANK(Import!E572),\"\",Import!E572)","v":""},{"$f":"IF(ISBLANK(Import!E572),\"\",(IFERROR(VLOOKUP(Import!C572,Mapping!C:F,1,FALSE),\"HF, à reclasser\")))","v":""},{"$f":"IF(ISBLANK(Import!E572),\"\",IF(B569=(LEFT(A569,3)),(IFERROR(VLOOKUP(Import!B572,Mapping!D:F,2,FALSE),\"Cpte à créer dans Mapping\")),\"Cpte à reclasser\"))","v":""}]
[{"$f":"IF(ISBLANK(Import!E573),\"\",Import!E573)","v":""},{"$f":"IF(ISBLANK(Import!E573),\"\",(IFERROR(VLOOKUP(Import!C573,Mapping!C:F,1,FALSE),\"HF, à reclasser\")))","v":""},{"$f":"IF(ISBLANK(Import!E573),\"\",IF(B570=(LEFT(A570,3)),(IFERROR(VLOOKUP(Import!B573,Mapping!D:F,2,FALSE),\"Cpte à créer dans Mapping\")),\"Cpte à reclasser\"))","v":""}]
[{"$f":"IF(ISBLANK(Import!E574),\"\",Import!E574)","v":""},{"$f":"IF(ISBLANK(Import!E574),\"\",(IFERROR(VLOOKUP(Import!C574,Mapping!C:F,1,FALSE),\"HF, à reclasser\")))","v":""},{"$f":"IF(ISBLANK(Import!E574),\"\",IF(B571=(LEFT(A571,3)),(IFERROR(VLOOKUP(Import!B574,Mapping!D:F,2,FALSE),\"Cpte à créer dans Mapping\")),\"Cpte à reclasser\"))","v":""}]
[{"$f":"IF(ISBLANK(Import!E575),\"\",Import!E575)","v":""},{"$f":"IF(ISBLANK(Import!E575),\"\",(IFERROR(VLOOKUP(Import!C575,Mapping!C:F,1,FALSE),\"HF, à reclasser\")))","v":""},{"$f":"IF(ISBLANK(Import!E575),\"\",IF(B572=(LEFT(A572,3)),(IFERROR(VLOOKUP(Import!B575,Mapping!D:F,2,FALSE),\"Cpte à créer dans Mapping\")),\"Cpte à reclasser\"))","v":""}]
[{"$f":"IF(ISBLANK(Import!E576),\"\",Import!E576)","v":""},{"$f":"IF(ISBLANK(Import!E576),\"\",(IFERROR(VLOOKUP(Import!C576,Mapping!C:F,1,FALSE),\"HF, à reclasser\")))","v":""},{"$f":"IF(ISBLANK(Import!E576),\"\",IF(B573=(LEFT(A573,3)),(IFERROR(VLOOKUP(Import!B576,Mapping!D:F,2,FALSE),\"Cpte à créer dans Mapping\")),\"Cpte à reclasser\"))","v":""}]
[{"$f":"IF(ISBLANK(Import!E577),\"\",Import!E577)","v":""},{"$f":"IF(ISBLANK(Import!E577),\"\",(IFERROR(VLOOKUP(Import!C577,Mapping!C:F,1,FALSE),\"HF, à reclasser\")))","v":""},{"$f":"IF(ISBLANK(Import!E577),\"\",IF(B574=(LEFT(A574,3)),(IFERROR(VLOOKUP(Import!B577,Mapping!D:F,2,FALSE),\"Cpte à créer dans Mapping\")),\"Cpte à reclasser\"))","v":""}]
[{"$f":"IF(ISBLANK(Import!E578),\"\",Import!E578)","v":""},{"$f":"IF(ISBLANK(Import!E578),\"\",(IFERROR(VLOOKUP(Import!C578,Mapping!C:F,1,FALSE),\"HF, à reclasser\")))","v":""},{"$f":"IF(ISBLANK(Import!E578),\"\",IF(B575=(LEFT(A575,3)),(IFERROR(VLOOKUP(Import!B578,Mapping!D:F,2,FALSE),\"Cpte à créer dans Mapping\")),\"Cpte à reclasser\"))","v":""}]
[{"$f":"IF(ISBLANK(Import!E579),\"\",Import!E579)","v":""},{"$f":"IF(ISBLANK(Import!E579),\"\",(IFERROR(VLOOKUP(Import!C579,Mapping!C:F,1,FALSE),\"HF, à reclasser\")))","v":""},{"$f":"IF(ISBLANK(Import!E579),\"\",IF(B576=(LEFT(A576,3)),(IFERROR(VLOOKUP(Import!B579,Mapping!D:F,2,FALSE),\"Cpte à créer dans Mapping\")),\"Cpte à reclasser\"))","v":""}]
[{"$f":"IF(ISBLANK(Import!E580),\"\",Import!E580)","v":""},{"$f":"IF(ISBLANK(Import!E580),\"\",(IFERROR(VLOOKUP(Import!C580,Mapping!C:F,1,FALSE),\"HF, à reclasser\")))","v":""},{"$f":"IF(ISBLANK(Import!E580),\"\",IF(B577=(LEFT(A577,3)),(IFERROR(VLOOKUP(Import!B580,Mapping!D:F,2,FALSE),\"Cpte à créer dans Mapping\")),\"Cpte à reclasser\"))","v":""}]
[{"$f":"IF(ISBLANK(Import!E581),\"\",Import!E581)","v":""},{"$f":"IF(ISBLANK(Import!E581),\"\",(IFERROR(VLOOKUP(Import!C581,Mapping!C:F,1,FALSE),\"HF, à reclasser\")))","v":""},{"$f":"IF(ISBLANK(Import!E581),\"\",IF(B578=(LEFT(A578,3)),(IFERROR(VLOOKUP(Import!B581,Mapping!D:F,2,FALSE),\"Cpte à créer dans Mapping\")),\"Cpte à reclasser\"))","v":""}]
[{"$f":"IF(ISBLANK(Import!E582),\"\",Import!E582)","v":""},{"$f":"IF(ISBLANK(Import!E582),\"\",(IFERROR(VLOOKUP(Import!C582,Mapping!C:F,1,FALSE),\"HF, à reclasser\")))","v":""},{"$f":"IF(ISBLANK(Import!E582),\"\",IF(B579=(LEFT(A579,3)),(IFERROR(VLOOKUP(Import!B582,Mapping!D:F,2,FALSE),\"Cpte à créer dans Mapping\")),\"Cpte à reclasser\"))","v":""}]
[{"$f":"IF(ISBLANK(Import!E583),\"\",Import!E583)","v":""},{"$f":"IF(ISBLANK(Import!E583),\"\",(IFERROR(VLOOKUP(Import!C583,Mapping!C:F,1,FALSE),\"HF, à reclasser\")))","v":""},{"$f":"IF(ISBLANK(Import!E583),\"\",IF(B580=(LEFT(A580,3)),(IFERROR(VLOOKUP(Import!B583,Mapping!D:F,2,FALSE),\"Cpte à créer dans Mapping\")),\"Cpte à reclasser\"))","v":""}]
[{"$f":"IF(ISBLANK(Import!E584),\"\",Import!E584)","v":""},{"$f":"IF(ISBLANK(Import!E584),\"\",(IFERROR(VLOOKUP(Import!C584,Mapping!C:F,1,FALSE),\"HF, à reclasser\")))","v":""},{"$f":"IF(ISBLANK(Import!E584),\"\",IF(B581=(LEFT(A581,3)),(IFERROR(VLOOKUP(Import!B584,Mapping!D:F,2,FALSE),\"Cpte à créer dans Mapping\")),\"Cpte à reclasser\"))","v":""}]
[{"$f":"IF(ISBLANK(Import!E585),\"\",Import!E585)","v":""},{"$f":"IF(ISBLANK(Import!E585),\"\",(IFERROR(VLOOKUP(Import!C585,Mapping!C:F,1,FALSE),\"HF, à reclasser\")))","v":""},{"$f":"IF(ISBLANK(Import!E585),\"\",IF(B582=(LEFT(A582,3)),(IFERROR(VLOOKUP(Import!B585,Mapping!D:F,2,FALSE),\"Cpte à créer dans Mapping\")),\"Cpte à reclasser\"))","v":""}]
[{"$f":"IF(ISBLANK(Import!E586),\"\",Import!E586)","v":""},{"$f":"IF(ISBLANK(Import!E586),\"\",(IFERROR(VLOOKUP(Import!C586,Mapping!C:F,1,FALSE),\"HF, à reclasser\")))","v":""},{"$f":"IF(ISBLANK(Import!E586),\"\",IF(B583=(LEFT(A583,3)),(IFERROR(VLOOKUP(Import!B586,Mapping!D:F,2,FALSE),\"Cpte à créer dans Mapping\")),\"Cpte à reclasser\"))","v":""}]
[{"$f":"IF(ISBLANK(Import!E587),\"\",Import!E587)","v":""},{"$f":"IF(ISBLANK(Import!E587),\"\",(IFERROR(VLOOKUP(Import!C587,Mapping!C:F,1,FALSE),\"HF, à reclasser\")))","v":""},{"$f":"IF(ISBLANK(Import!E587),\"\",IF(B584=(LEFT(A584,3)),(IFERROR(VLOOKUP(Import!B587,Mapping!D:F,2,FALSE),\"Cpte à créer dans Mapping\")),\"Cpte à reclasser\"))","v":""}]
[{"$f":"IF(ISBLANK(Import!E588),\"\",Import!E588)","v":""},{"$f":"IF(ISBLANK(Import!E588),\"\",(IFERROR(VLOOKUP(Import!C588,Mapping!C:F,1,FALSE),\"HF, à reclasser\")))","v":""},{"$f":"IF(ISBLANK(Import!E588),\"\",IF(B585=(LEFT(A585,3)),(IFERROR(VLOOKUP(Import!B588,Mapping!D:F,2,FALSE),\"Cpte à créer dans Mapping\")),\"Cpte à reclasser\"))","v":""}]
[{"$f":"IF(ISBLANK(Import!E589),\"\",Import!E589)","v":""},{"$f":"IF(ISBLANK(Import!E589),\"\",(IFERROR(VLOOKUP(Import!C589,Mapping!C:F,1,FALSE),\"HF, à reclasser\")))","v":""},{"$f":"IF(ISBLANK(Import!E589),\"\",IF(B586=(LEFT(A586,3)),(IFERROR(VLOOKUP(Import!B589,Mapping!D:F,2,FALSE),\"Cpte à créer dans Mapping\")),\"Cpte à reclasser\"))","v":""}]
[{"$f":"IF(ISBLANK(Import!E590),\"\",Import!E590)","v":""},{"$f":"IF(ISBLANK(Import!E590),\"\",(IFERROR(VLOOKUP(Import!C590,Mapping!C:F,1,FALSE),\"HF, à reclasser\")))","v":""},{"$f":"IF(ISBLANK(Import!E590),\"\",IF(B587=(LEFT(A587,3)),(IFERROR(VLOOKUP(Import!B590,Mapping!D:F,2,FALSE),\"Cpte à créer dans Mapping\")),\"Cpte à reclasser\"))","v":""}]
[{"$f":"IF(ISBLANK(Import!E591),\"\",Import!E591)","v":""},{"$f":"IF(ISBLANK(Import!E591),\"\",(IFERROR(VLOOKUP(Import!C591,Mapping!C:F,1,FALSE),\"HF, à reclasser\")))","v":""},{"$f":"IF(ISBLANK(Import!E591),\"\",IF(B588=(LEFT(A588,3)),(IFERROR(VLOOKUP(Import!B591,Mapping!D:F,2,FALSE),\"Cpte à créer dans Mapping\")),\"Cpte à reclasser\"))","v":""}]
[{"$f":"IF(ISBLANK(Import!E592),\"\",Import!E592)","v":""},{"$f":"IF(ISBLANK(Import!E592),\"\",(IFERROR(VLOOKUP(Import!C592,Mapping!C:F,1,FALSE),\"HF, à reclasser\")))","v":""},{"$f":"IF(ISBLANK(Import!E592),\"\",IF(B589=(LEFT(A589,3)),(IFERROR(VLOOKUP(Import!B592,Mapping!D:F,2,FALSE),\"Cpte à créer dans Mapping\")),\"Cpte à reclasser\"))","v":""}]
[{"$f":"IF(ISBLANK(Import!E593),\"\",Import!E593)","v":""},{"$f":"IF(ISBLANK(Import!E593),\"\",(IFERROR(VLOOKUP(Import!C593,Mapping!C:F,1,FALSE),\"HF, à reclasser\")))","v":""},{"$f":"IF(ISBLANK(Import!E593),\"\",IF(B590=(LEFT(A590,3)),(IFERROR(VLOOKUP(Import!B593,Mapping!D:F,2,FALSE),\"Cpte à créer dans Mapping\")),\"Cpte à reclasser\"))","v":""}]
[{"$f":"IF(ISBLANK(Import!E594),\"\",Import!E594)","v":""},{"$f":"IF(ISBLANK(Import!E594),\"\",(IFERROR(VLOOKUP(Import!C594,Mapping!C:F,1,FALSE),\"HF, à reclasser\")))","v":""},{"$f":"IF(ISBLANK(Import!E594),\"\",IF(B591=(LEFT(A591,3)),(IFERROR(VLOOKUP(Import!B594,Mapping!D:F,2,FALSE),\"Cpte à créer dans Mapping\")),\"Cpte à reclasser\"))","v":""}]
[{"$f":"IF(ISBLANK(Import!E595),\"\",Import!E595)","v":""},{"$f":"IF(ISBLANK(Import!E595),\"\",(IFERROR(VLOOKUP(Import!C595,Mapping!C:F,1,FALSE),\"HF, à reclasser\")))","v":""},{"$f":"IF(ISBLANK(Import!E595),\"\",IF(B592=(LEFT(A592,3)),(IFERROR(VLOOKUP(Import!B595,Mapping!D:F,2,FALSE),\"Cpte à créer dans Mapping\")),\"Cpte à reclasser\"))","v":""}]
[{"$f":"IF(ISBLANK(Import!E596),\"\",Import!E596)","v":""},{"$f":"IF(ISBLANK(Import!E596),\"\",(IFERROR(VLOOKUP(Import!C596,Mapping!C:F,1,FALSE),\"HF, à reclasser\")))","v":""},{"$f":"IF(ISBLANK(Import!E596),\"\",IF(B593=(LEFT(A593,3)),(IFERROR(VLOOKUP(Import!B596,Mapping!D:F,2,FALSE),\"Cpte à créer dans Mapping\")),\"Cpte à reclasser\"))","v":""}]
[{"$f":"IF(ISBLANK(Import!E597),\"\",Import!E597)","v":""},{"$f":"IF(ISBLANK(Import!E597),\"\",(IFERROR(VLOOKUP(Import!C597,Mapping!C:F,1,FALSE),\"HF, à reclasser\")))","v":""},{"$f":"IF(ISBLANK(Import!E597),\"\",IF(B594=(LEFT(A594,3)),(IFERROR(VLOOKUP(Import!B597,Mapping!D:F,2,FALSE),\"Cpte à créer dans Mapping\")),\"Cpte à reclasser\"))","v":""}]
[{"$f":"IF(ISBLANK(Import!E598),\"\",Import!E598)","v":""},{"$f":"IF(ISBLANK(Import!E598),\"\",(IFERROR(VLOOKUP(Import!C598,Mapping!C:F,1,FALSE),\"HF, à reclasser\")))","v":""},{"$f":"IF(ISBLANK(Import!E598),\"\",IF(B595=(LEFT(A595,3)),(IFERROR(VLOOKUP(Import!B598,Mapping!D:F,2,FALSE),\"Cpte à créer dans Mapping\")),\"Cpte à reclasser\"))","v":""}]
[{"$f":"IF(ISBLANK(Import!E599),\"\",Import!E599)","v":""},{"$f":"IF(ISBLANK(Import!E599),\"\",(IFERROR(VLOOKUP(Import!C599,Mapping!C:F,1,FALSE),\"HF, à reclasser\")))","v":""},{"$f":"IF(ISBLANK(Import!E599),\"\",IF(B596=(LEFT(A596,3)),(IFERROR(VLOOKUP(Import!B599,Mapping!D:F,2,FALSE),\"Cpte à créer dans Mapping\")),\"Cpte à reclasser\"))","v":""}]
[{"$f":"IF(ISBLANK(Import!E600),\"\",Import!E600)","v":""},{"$f":"IF(ISBLANK(Import!E600),\"\",(IFERROR(VLOOKUP(Import!C600,Mapping!C:F,1,FALSE),\"HF, à reclasser\")))","v":""},{"$f":"IF(ISBLANK(Import!E600),\"\",IF(B597=(LEFT(A597,3)),(IFERROR(VLOOKUP(Import!B600,Mapping!D:F,2,FALSE),\"Cpte à créer dans Mapping\")),\"Cpte à reclasser\"))","v":""}]
[{"$f":"IF(ISBLANK(Import!E601),\"\",Import!E601)","v":""},{"$f":"IF(ISBLANK(Import!E601),\"\",(IFERROR(VLOOKUP(Import!C601,Mapping!C:F,1,FALSE),\"HF, à reclasser\")))","v":""},{"$f":"IF(ISBLANK(Import!E601),\"\",IF(B598=(LEFT(A598,3)),(IFERROR(VLOOKUP(Import!B601,Mapping!D:F,2,FALSE),\"Cpte à créer dans Mapping\")),\"Cpte à reclasser\"))","v":""}]
[{"$f":"IF(ISBLANK(Import!E602),\"\",Import!E602)","v":""},{"$f":"IF(ISBLANK(Import!E602),\"\",(IFERROR(VLOOKUP(Import!C602,Mapping!C:F,1,FALSE),\"HF, à reclasser\")))","v":""},{"$f":"IF(ISBLANK(Import!E602),\"\",IF(B599=(LEFT(A599,3)),(IFERROR(VLOOKUP(Import!B602,Mapping!D:F,2,FALSE),\"Cpte à créer dans Mapping\")),\"Cpte à reclasser\"))","v":""}]
[{"$f":"IF(ISBLANK(Import!E603),\"\",Import!E603)","v":""},{"$f":"IF(ISBLANK(Import!E603),\"\",(IFERROR(VLOOKUP(Import!C603,Mapping!C:F,1,FALSE),\"HF, à reclasser\")))","v":""},{"$f":"IF(ISBLANK(Import!E603),\"\",IF(B600=(LEFT(A600,3)),(IFERROR(VLOOKUP(Import!B603,Mapping!D:F,2,FALSE),\"Cpte à créer dans Mapping\")),\"Cpte à reclasser\"))","v":""}]
[{"$f":"IF(ISBLANK(Import!E604),\"\",Import!E604)","v":""},{"$f":"IF(ISBLANK(Import!E604),\"\",(IFERROR(VLOOKUP(Import!C604,Mapping!C:F,1,FALSE),\"HF, à reclasser\")))","v":""},{"$f":"IF(ISBLANK(Import!E604),\"\",IF(B601=(LEFT(A601,3)),(IFERROR(VLOOKUP(Import!B604,Mapping!D:F,2,FALSE),\"Cpte à créer dans Mapping\")),\"Cpte à reclasser\"))","v":""}]
[{"$f":"IF(ISBLANK(Import!E605),\"\",Import!E605)","v":""},{"$f":"IF(ISBLANK(Import!E605),\"\",(IFERROR(VLOOKUP(Import!C605,Mapping!C:F,1,FALSE),\"HF, à reclasser\")))","v":""},{"$f":"IF(ISBLANK(Import!E605),\"\",IF(B602=(LEFT(A602,3)),(IFERROR(VLOOKUP(Import!B605,Mapping!D:F,2,FALSE),\"Cpte à créer dans Mapping\")),\"Cpte à reclasser\"))","v":""}]
[{"$f":"IF(ISBLANK(Import!E606),\"\",Import!E606)","v":""},{"$f":"IF(ISBLANK(Import!E606),\"\",(IFERROR(VLOOKUP(Import!C606,Mapping!C:F,1,FALSE),\"HF, à reclasser\")))","v":""},{"$f":"IF(ISBLANK(Import!E606),\"\",IF(B603=(LEFT(A603,3)),(IFERROR(VLOOKUP(Import!B606,Mapping!D:F,2,FALSE),\"Cpte à créer dans Mapping\")),\"Cpte à reclasser\"))","v":""}]
[{"$f":"IF(ISBLANK(Import!E607),\"\",Import!E607)","v":""},{"$f":"IF(ISBLANK(Import!E607),\"\",(IFERROR(VLOOKUP(Import!C607,Mapping!C:F,1,FALSE),\"HF, à reclasser\")))","v":""},{"$f":"IF(ISBLANK(Import!E607),\"\",IF(B604=(LEFT(A604,3)),(IFERROR(VLOOKUP(Import!B607,Mapping!D:F,2,FALSE),\"Cpte à créer dans Mapping\")),\"Cpte à reclasser\"))","v":""}]
[{"$f":"IF(ISBLANK(Import!E608),\"\",Import!E608)","v":""},{"$f":"IF(ISBLANK(Import!E608),\"\",(IFERROR(VLOOKUP(Import!C608,Mapping!C:F,1,FALSE),\"HF, à reclasser\")))","v":""},{"$f":"IF(ISBLANK(Import!E608),\"\",IF(B605=(LEFT(A605,3)),(IFERROR(VLOOKUP(Import!B608,Mapping!D:F,2,FALSE),\"Cpte à créer dans Mapping\")),\"Cpte à reclasser\"))","v":""}]
[{"$f":"IF(ISBLANK(Import!E609),\"\",Import!E609)","v":""},{"$f":"IF(ISBLANK(Import!E609),\"\",(IFERROR(VLOOKUP(Import!C609,Mapping!C:F,1,FALSE),\"HF, à reclasser\")))","v":""},{"$f":"IF(ISBLANK(Import!E609),\"\",IF(B606=(LEFT(A606,3)),(IFERROR(VLOOKUP(Import!B609,Mapping!D:F,2,FALSE),\"Cpte à créer dans Mapping\")),\"Cpte à reclasser\"))","v":""}]
[{"$f":"IF(ISBLANK(Import!E610),\"\",Import!E610)","v":""},{"$f":"IF(ISBLANK(Import!E610),\"\",(IFERROR(VLOOKUP(Import!C610,Mapping!C:F,1,FALSE),\"HF, à reclasser\")))","v":""},{"$f":"IF(ISBLANK(Import!E610),\"\",IF(B607=(LEFT(A607,3)),(IFERROR(VLOOKUP(Import!B610,Mapping!D:F,2,FALSE),\"Cpte à créer dans Mapping\")),\"Cpte à reclasser\"))","v":""}]
[{"$f":"IF(ISBLANK(Import!E611),\"\",Import!E611)","v":""},{"$f":"IF(ISBLANK(Import!E611),\"\",(IFERROR(VLOOKUP(Import!C611,Mapping!C:F,1,FALSE),\"HF, à reclasser\")))","v":""},{"$f":"IF(ISBLANK(Import!E611),\"\",IF(B608=(LEFT(A608,3)),(IFERROR(VLOOKUP(Import!B611,Mapping!D:F,2,FALSE),\"Cpte à créer dans Mapping\")),\"Cpte à reclasser\"))","v":""}]
[{"$f":"IF(ISBLANK(Import!E612),\"\",Import!E612)","v":""},{"$f":"IF(ISBLANK(Import!E612),\"\",(IFERROR(VLOOKUP(Import!C612,Mapping!C:F,1,FALSE),\"HF, à reclasser\")))","v":""},{"$f":"IF(ISBLANK(Import!E612),\"\",IF(B609=(LEFT(A609,3)),(IFERROR(VLOOKUP(Import!B612,Mapping!D:F,2,FALSE),\"Cpte à créer dans Mapping\")),\"Cpte à reclasser\"))","v":""}]
[{"$f":"IF(ISBLANK(Import!E613),\"\",Import!E613)","v":""},{"$f":"IF(ISBLANK(Import!E613),\"\",(IFERROR(VLOOKUP(Import!C613,Mapping!C:F,1,FALSE),\"HF, à reclasser\")))","v":""},{"$f":"IF(ISBLANK(Import!E613),\"\",IF(B610=(LEFT(A610,3)),(IFERROR(VLOOKUP(Import!B613,Mapping!D:F,2,FALSE),\"Cpte à créer dans Mapping\")),\"Cpte à reclasser\"))","v":""}]
[{"$f":"IF(ISBLANK(Import!E614),\"\",Import!E614)","v":""},{"$f":"IF(ISBLANK(Import!E614),\"\",(IFERROR(VLOOKUP(Import!C614,Mapping!C:F,1,FALSE),\"HF, à reclasser\")))","v":""},{"$f":"IF(ISBLANK(Import!E614),\"\",IF(B611=(LEFT(A611,3)),(IFERROR(VLOOKUP(Import!B614,Mapping!D:F,2,FALSE),\"Cpte à créer dans Mapping\")),\"Cpte à reclasser\"))","v":""}]
[{"$f":"IF(ISBLANK(Import!E615),\"\",Import!E615)","v":""},{"$f":"IF(ISBLANK(Import!E615),\"\",(IFERROR(VLOOKUP(Import!C615,Mapping!C:F,1,FALSE),\"HF, à reclasser\")))","v":""},{"$f":"IF(ISBLANK(Import!E615),\"\",IF(B612=(LEFT(A612,3)),(IFERROR(VLOOKUP(Import!B615,Mapping!D:F,2,FALSE),\"Cpte à créer dans Mapping\")),\"Cpte à reclasser\"))","v":""}]
[{"$f":"IF(ISBLANK(Import!E616),\"\",Import!E616)","v":""},{"$f":"IF(ISBLANK(Import!E616),\"\",(IFERROR(VLOOKUP(Import!C616,Mapping!C:F,1,FALSE),\"HF, à reclasser\")))","v":""},{"$f":"IF(ISBLANK(Import!E616),\"\",IF(B613=(LEFT(A613,3)),(IFERROR(VLOOKUP(Import!B616,Mapping!D:F,2,FALSE),\"Cpte à créer dans Mapping\")),\"Cpte à reclasser\"))","v":""}]
[{"$f":"IF(ISBLANK(Import!E617),\"\",Import!E617)","v":""},{"$f":"IF(ISBLANK(Import!E617),\"\",(IFERROR(VLOOKUP(Import!C617,Mapping!C:F,1,FALSE),\"HF, à reclasser\")))","v":""},{"$f":"IF(ISBLANK(Import!E617),\"\",IF(B614=(LEFT(A614,3)),(IFERROR(VLOOKUP(Import!B617,Mapping!D:F,2,FALSE),\"Cpte à créer dans Mapping\")),\"Cpte à reclasser\"))","v":""}]
[{"$f":"IF(ISBLANK(Import!E618),\"\",Import!E618)","v":""},{"$f":"IF(ISBLANK(Import!E618),\"\",(IFERROR(VLOOKUP(Import!C618,Mapping!C:F,1,FALSE),\"HF, à reclasser\")))","v":""},{"$f":"IF(ISBLANK(Import!E618),\"\",IF(B615=(LEFT(A615,3)),(IFERROR(VLOOKUP(Import!B618,Mapping!D:F,2,FALSE),\"Cpte à créer dans Mapping\")),\"Cpte à reclasser\"))","v":""}]
[{"$f":"IF(ISBLANK(Import!E619),\"\",Import!E619)","v":""},{"$f":"IF(ISBLANK(Import!E619),\"\",(IFERROR(VLOOKUP(Import!C619,Mapping!C:F,1,FALSE),\"HF, à reclasser\")))","v":""},{"$f":"IF(ISBLANK(Import!E619),\"\",IF(B616=(LEFT(A616,3)),(IFERROR(VLOOKUP(Import!B619,Mapping!D:F,2,FALSE),\"Cpte à créer dans Mapping\")),\"Cpte à reclasser\"))","v":""}]
[{"$f":"IF(ISBLANK(Import!E620),\"\",Import!E620)","v":""},{"$f":"IF(ISBLANK(Import!E620),\"\",(IFERROR(VLOOKUP(Import!C620,Mapping!C:F,1,FALSE),\"HF, à reclasser\")))","v":""},{"$f":"IF(ISBLANK(Import!E620),\"\",IF(B617=(LEFT(A617,3)),(IFERROR(VLOOKUP(Import!B620,Mapping!D:F,2,FALSE),\"Cpte à créer dans Mapping\")),\"Cpte à reclasser\"))","v":""}]
[{"$f":"IF(ISBLANK(Import!E621),\"\",Import!E621)","v":""},{"$f":"IF(ISBLANK(Import!E621),\"\",(IFERROR(VLOOKUP(Import!C621,Mapping!C:F,1,FALSE),\"HF, à reclasser\")))","v":""},{"$f":"IF(ISBLANK(Import!E621),\"\",IF(B618=(LEFT(A618,3)),(IFERROR(VLOOKUP(Import!B621,Mapping!D:F,2,FALSE),\"Cpte à créer dans Mapping\")),\"Cpte à reclasser\"))","v":""}]
[{"$f":"IF(ISBLANK(Import!E622),\"\",Import!E622)","v":""},{"$f":"IF(ISBLANK(Import!E622),\"\",(IFERROR(VLOOKUP(Import!C622,Mapping!C:F,1,FALSE),\"HF, à reclasser\")))","v":""},{"$f":"IF(ISBLANK(Import!E622),\"\",IF(B619=(LEFT(A619,3)),(IFERROR(VLOOKUP(Import!B622,Mapping!D:F,2,FALSE),\"Cpte à créer dans Mapping\")),\"Cpte à reclasser\"))","v":""}]
[{"$f":"IF(ISBLANK(Import!E623),\"\",Import!E623)","v":""},{"$f":"IF(ISBLANK(Import!E623),\"\",(IFERROR(VLOOKUP(Import!C623,Mapping!C:F,1,FALSE),\"HF, à reclasser\")))","v":""},{"$f":"IF(ISBLANK(Import!E623),\"\",IF(B620=(LEFT(A620,3)),(IFERROR(VLOOKUP(Import!B623,Mapping!D:F,2,FALSE),\"Cpte à créer dans Mapping\")),\"Cpte à reclasser\"))","v":""}]
[{"$f":"IF(ISBLANK(Import!E624),\"\",Import!E624)","v":""},{"$f":"IF(ISBLANK(Import!E624),\"\",(IFERROR(VLOOKUP(Import!C624,Mapping!C:F,1,FALSE),\"HF, à reclasser\")))","v":""},{"$f":"IF(ISBLANK(Import!E624),\"\",IF(B621=(LEFT(A621,3)),(IFERROR(VLOOKUP(Import!B624,Mapping!D:F,2,FALSE),\"Cpte à créer dans Mapping\")),\"Cpte à reclasser\"))","v":""}]
[{"$f":"IF(ISBLANK(Import!E625),\"\",Import!E625)","v":""},{"$f":"IF(ISBLANK(Import!E625),\"\",(IFERROR(VLOOKUP(Import!C625,Mapping!C:F,1,FALSE),\"HF, à reclasser\")))","v":""},{"$f":"IF(ISBLANK(Import!E625),\"\",IF(B622=(LEFT(A622,3)),(IFERROR(VLOOKUP(Import!B625,Mapping!D:F,2,FALSE),\"Cpte à créer dans Mapping\")),\"Cpte à reclasser\"))","v":""}]
[{"$f":"IF(ISBLANK(Import!E626),\"\",Import!E626)","v":""},{"$f":"IF(ISBLANK(Import!E626),\"\",(IFERROR(VLOOKUP(Import!C626,Mapping!C:F,1,FALSE),\"HF, à reclasser\")))","v":""},{"$f":"IF(ISBLANK(Import!E626),\"\",IF(B623=(LEFT(A623,3)),(IFERROR(VLOOKUP(Import!B626,Mapping!D:F,2,FALSE),\"Cpte à créer dans Mapping\")),\"Cpte à reclasser\"))","v":""}]
[{"$f":"IF(ISBLANK(Import!E627),\"\",Import!E627)","v":""},{"$f":"IF(ISBLANK(Import!E627),\"\",(IFERROR(VLOOKUP(Import!C627,Mapping!C:F,1,FALSE),\"HF, à reclasser\")))","v":""},{"$f":"IF(ISBLANK(Import!E627),\"\",IF(B624=(LEFT(A624,3)),(IFERROR(VLOOKUP(Import!B627,Mapping!D:F,2,FALSE),\"Cpte à créer dans Mapping\")),\"Cpte à reclasser\"))","v":""}]
[{"$f":"IF(ISBLANK(Import!E628),\"\",Import!E628)","v":""},{"$f":"IF(ISBLANK(Import!E628),\"\",(IFERROR(VLOOKUP(Import!C628,Mapping!C:F,1,FALSE),\"HF, à reclasser\")))","v":""},{"$f":"IF(ISBLANK(Import!E628),\"\",IF(B625=(LEFT(A625,3)),(IFERROR(VLOOKUP(Import!B628,Mapping!D:F,2,FALSE),\"Cpte à créer dans Mapping\")),\"Cpte à reclasser\"))","v":""}]
[{"$f":"IF(ISBLANK(Import!E629),\"\",Import!E629)","v":""},{"$f":"IF(ISBLANK(Import!E629),\"\",(IFERROR(VLOOKUP(Import!C629,Mapping!C:F,1,FALSE),\"HF, à reclasser\")))","v":""},{"$f":"IF(ISBLANK(Import!E629),\"\",IF(B626=(LEFT(A626,3)),(IFERROR(VLOOKUP(Import!B629,Mapping!D:F,2,FALSE),\"Cpte à créer dans Mapping\")),\"Cpte à reclasser\"))","v":""}]
[{"$f":"IF(ISBLANK(Import!E630),\"\",Import!E630)","v":""},{"$f":"IF(ISBLANK(Import!E630),\"\",(IFERROR(VLOOKUP(Import!C630,Mapping!C:F,1,FALSE),\"HF, à reclasser\")))","v":""},{"$f":"IF(ISBLANK(Import!E630),\"\",IF(B627=(LEFT(A627,3)),(IFERROR(VLOOKUP(Import!B630,Mapping!D:F,2,FALSE),\"Cpte à créer dans Mapping\")),\"Cpte à reclasser\"))","v":""}]
[{"$f":"IF(ISBLANK(Import!E631),\"\",Import!E631)","v":""},{"$f":"IF(ISBLANK(Import!E631),\"\",(IFERROR(VLOOKUP(Import!C631,Mapping!C:F,1,FALSE),\"HF, à reclasser\")))","v":""},{"$f":"IF(ISBLANK(Import!E631),\"\",IF(B628=(LEFT(A628,3)),(IFERROR(VLOOKUP(Import!B631,Mapping!D:F,2,FALSE),\"Cpte à créer dans Mapping\")),\"Cpte à reclasser\"))","v":""}]
[{"$f":"IF(ISBLANK(Import!E632),\"\",Import!E632)","v":""},{"$f":"IF(ISBLANK(Import!E632),\"\",(IFERROR(VLOOKUP(Import!C632,Mapping!C:F,1,FALSE),\"HF, à reclasser\")))","v":""},{"$f":"IF(ISBLANK(Import!E632),\"\",IF(B629=(LEFT(A629,3)),(IFERROR(VLOOKUP(Import!B632,Mapping!D:F,2,FALSE),\"Cpte à créer dans Mapping\")),\"Cpte à reclasser\"))","v":""}]
[{"$f":"IF(ISBLANK(Import!E633),\"\",Import!E633)","v":""},{"$f":"IF(ISBLANK(Import!E633),\"\",(IFERROR(VLOOKUP(Import!C633,Mapping!C:F,1,FALSE),\"HF, à reclasser\")))","v":""},{"$f":"IF(ISBLANK(Import!E633),\"\",IF(B630=(LEFT(A630,3)),(IFERROR(VLOOKUP(Import!B633,Mapping!D:F,2,FALSE),\"Cpte à créer dans Mapping\")),\"Cpte à reclasser\"))","v":""}]
[{"$f":"IF(ISBLANK(Import!E634),\"\",Import!E634)","v":""},{"$f":"IF(ISBLANK(Import!E634),\"\",(IFERROR(VLOOKUP(Import!C634,Mapping!C:F,1,FALSE),\"HF, à reclasser\")))","v":""},{"$f":"IF(ISBLANK(Import!E634),\"\",IF(B631=(LEFT(A631,3)),(IFERROR(VLOOKUP(Import!B634,Mapping!D:F,2,FALSE),\"Cpte à créer dans Mapping\")),\"Cpte à reclasser\"))","v":""}]
[{"$f":"IF(ISBLANK(Import!E635),\"\",Import!E635)","v":""},{"$f":"IF(ISBLANK(Import!E635),\"\",(IFERROR(VLOOKUP(Import!C635,Mapping!C:F,1,FALSE),\"HF, à reclasser\")))","v":""},{"$f":"IF(ISBLANK(Import!E635),\"\",IF(B632=(LEFT(A632,3)),(IFERROR(VLOOKUP(Import!B635,Mapping!D:F,2,FALSE),\"Cpte à créer dans Mapping\")),\"Cpte à reclasser\"))","v":""}]
[{"$f":"IF(ISBLANK(Import!E636),\"\",Import!E636)","v":""},{"$f":"IF(ISBLANK(Import!E636),\"\",(IFERROR(VLOOKUP(Import!C636,Mapping!C:F,1,FALSE),\"HF, à reclasser\")))","v":""},{"$f":"IF(ISBLANK(Import!E636),\"\",IF(B633=(LEFT(A633,3)),(IFERROR(VLOOKUP(Import!B636,Mapping!D:F,2,FALSE),\"Cpte à créer dans Mapping\")),\"Cpte à reclasser\"))","v":""}]
[{"$f":"IF(ISBLANK(Import!E637),\"\",Import!E637)","v":""},{"$f":"IF(ISBLANK(Import!E637),\"\",(IFERROR(VLOOKUP(Import!C637,Mapping!C:F,1,FALSE),\"HF, à reclasser\")))","v":""},{"$f":"IF(ISBLANK(Import!E637),\"\",IF(B634=(LEFT(A634,3)),(IFERROR(VLOOKUP(Import!B637,Mapping!D:F,2,FALSE),\"Cpte à créer dans Mapping\")),\"Cpte à reclasser\"))","v":""}]
[{"$f":"IF(ISBLANK(Import!E638),\"\",Import!E638)","v":""},{"$f":"IF(ISBLANK(Import!E638),\"\",(IFERROR(VLOOKUP(Import!C638,Mapping!C:F,1,FALSE),\"HF, à reclasser\")))","v":""},{"$f":"IF(ISBLANK(Import!E638),\"\",IF(B635=(LEFT(A635,3)),(IFERROR(VLOOKUP(Import!B638,Mapping!D:F,2,FALSE),\"Cpte à créer dans Mapping\")),\"Cpte à reclasser\"))","v":""}]
[{"$f":"IF(ISBLANK(Import!E639),\"\",Import!E639)","v":""},{"$f":"IF(ISBLANK(Import!E639),\"\",(IFERROR(VLOOKUP(Import!C639,Mapping!C:F,1,FALSE),\"HF, à reclasser\")))","v":""},{"$f":"IF(ISBLANK(Import!E639),\"\",IF(B636=(LEFT(A636,3)),(IFERROR(VLOOKUP(Import!B639,Mapping!D:F,2,FALSE),\"Cpte à créer dans Mapping\")),\"Cpte à reclasser\"))","v":""}]
[{"$f":"IF(ISBLANK(Import!E640),\"\",Import!E640)","v":""},{"$f":"IF(ISBLANK(Import!E640),\"\",(IFERROR(VLOOKUP(Import!C640,Mapping!C:F,1,FALSE),\"HF, à reclasser\")))","v":""},{"$f":"IF(ISBLANK(Import!E640),\"\",IF(B637=(LEFT(A637,3)),(IFERROR(VLOOKUP(Import!B640,Mapping!D:F,2,FALSE),\"Cpte à créer dans Mapping\")),\"Cpte à reclasser\"))","v":""}]
[{"$f":"IF(ISBLANK(Import!E641),\"\",Import!E641)","v":""},{"$f":"IF(ISBLANK(Import!E641),\"\",(IFERROR(VLOOKUP(Import!C641,Mapping!C:F,1,FALSE),\"HF, à reclasser\")))","v":""},{"$f":"IF(ISBLANK(Import!E641),\"\",IF(B638=(LEFT(A638,3)),(IFERROR(VLOOKUP(Import!B641,Mapping!D:F,2,FALSE),\"Cpte à créer dans Mapping\")),\"Cpte à reclasser\"))","v":""}]
[{"$f":"IF(ISBLANK(Import!E642),\"\",Import!E642)","v":""},{"$f":"IF(ISBLANK(Import!E642),\"\",(IFERROR(VLOOKUP(Import!C642,Mapping!C:F,1,FALSE),\"HF, à reclasser\")))","v":""},{"$f":"IF(ISBLANK(Import!E642),\"\",IF(B639=(LEFT(A639,3)),(IFERROR(VLOOKUP(Import!B642,Mapping!D:F,2,FALSE),\"Cpte à créer dans Mapping\")),\"Cpte à reclasser\"))","v":""}]
[{"$f":"IF(ISBLANK(Import!E643),\"\",Import!E643)","v":""},{"$f":"IF(ISBLANK(Import!E643),\"\",(IFERROR(VLOOKUP(Import!C643,Mapping!C:F,1,FALSE),\"HF, à reclasser\")))","v":""},{"$f":"IF(ISBLANK(Import!E643),\"\",IF(B640=(LEFT(A640,3)),(IFERROR(VLOOKUP(Import!B643,Mapping!D:F,2,FALSE),\"Cpte à créer dans Mapping\")),\"Cpte à reclasser\"))","v":""}]
[{"$f":"IF(ISBLANK(Import!E644),\"\",Import!E644)","v":""},{"$f":"IF(ISBLANK(Import!E644),\"\",(IFERROR(VLOOKUP(Import!C644,Mapping!C:F,1,FALSE),\"HF, à reclasser\")))","v":""},{"$f":"IF(ISBLANK(Import!E644),\"\",IF(B641=(LEFT(A641,3)),(IFERROR(VLOOKUP(Import!B644,Mapping!D:F,2,FALSE),\"Cpte à créer dans Mapping\")),\"Cpte à reclasser\"))","v":""}]
[{"$f":"IF(ISBLANK(Import!E645),\"\",Import!E645)","v":""},{"$f":"IF(ISBLANK(Import!E645),\"\",(IFERROR(VLOOKUP(Import!C645,Mapping!C:F,1,FALSE),\"HF, à reclasser\")))","v":""},{"$f":"IF(ISBLANK(Import!E645),\"\",IF(B642=(LEFT(A642,3)),(IFERROR(VLOOKUP(Import!B645,Mapping!D:F,2,FALSE),\"Cpte à créer dans Mapping\")),\"Cpte à reclasser\"))","v":""}]
[{"$f":"IF(ISBLANK(Import!E646),\"\",Import!E646)","v":""},{"$f":"IF(ISBLANK(Import!E646),\"\",(IFERROR(VLOOKUP(Import!C646,Mapping!C:F,1,FALSE),\"HF, à reclasser\")))","v":""},{"$f":"IF(ISBLANK(Import!E646),\"\",IF(B643=(LEFT(A643,3)),(IFERROR(VLOOKUP(Import!B646,Mapping!D:F,2,FALSE),\"Cpte à créer dans Mapping\")),\"Cpte à reclasser\"))","v":""}]
[{"$f":"IF(ISBLANK(Import!E647),\"\",Import!E647)","v":""},{"$f":"IF(ISBLANK(Import!E647),\"\",(IFERROR(VLOOKUP(Import!C647,Mapping!C:F,1,FALSE),\"HF, à reclasser\")))","v":""},{"$f":"IF(ISBLANK(Import!E647),\"\",IF(B644=(LEFT(A644,3)),(IFERROR(VLOOKUP(Import!B647,Mapping!D:F,2,FALSE),\"Cpte à créer dans Mapping\")),\"Cpte à reclasser\"))","v":""}]
[{"$f":"IF(ISBLANK(Import!E648),\"\",Import!E648)","v":""},{"$f":"IF(ISBLANK(Import!E648),\"\",(IFERROR(VLOOKUP(Import!C648,Mapping!C:F,1,FALSE),\"HF, à reclasser\")))","v":""},{"$f":"IF(ISBLANK(Import!E648),\"\",IF(B645=(LEFT(A645,3)),(IFERROR(VLOOKUP(Import!B648,Mapping!D:F,2,FALSE),\"Cpte à créer dans Mapping\")),\"Cpte à reclasser\"))","v":""}]
[{"$f":"IF(ISBLANK(Import!E649),\"\",Import!E649)","v":""},{"$f":"IF(ISBLANK(Import!E649),\"\",(IFERROR(VLOOKUP(Import!C649,Mapping!C:F,1,FALSE),\"HF, à reclasser\")))","v":""},{"$f":"IF(ISBLANK(Import!E649),\"\",IF(B646=(LEFT(A646,3)),(IFERROR(VLOOKUP(Import!B649,Mapping!D:F,2,FALSE),\"Cpte à créer dans Mapping\")),\"Cpte à reclasser\"))","v":""}]
[{"$f":"IF(ISBLANK(Import!E650),\"\",Import!E650)","v":""},{"$f":"IF(ISBLANK(Import!E650),\"\",(IFERROR(VLOOKUP(Import!C650,Mapping!C:F,1,FALSE),\"HF, à reclasser\")))","v":""},{"$f":"IF(ISBLANK(Import!E650),\"\",IF(B647=(LEFT(A647,3)),(IFERROR(VLOOKUP(Import!B650,Mapping!D:F,2,FALSE),\"Cpte à créer dans Mapping\")),\"Cpte à reclasser\"))","v":""}]
[{"$f":"IF(ISBLANK(Import!E651),\"\",Import!E651)","v":""},{"$f":"IF(ISBLANK(Import!E651),\"\",(IFERROR(VLOOKUP(Import!C651,Mapping!C:F,1,FALSE),\"HF, à reclasser\")))","v":""},{"$f":"IF(ISBLANK(Import!E651),\"\",IF(B648=(LEFT(A648,3)),(IFERROR(VLOOKUP(Import!B651,Mapping!D:F,2,FALSE),\"Cpte à créer dans Mapping\")),\"Cpte à reclasser\"))","v":""}]
[{"$f":"IF(ISBLANK(Import!E652),\"\",Import!E652)","v":""},{"$f":"IF(ISBLANK(Import!E652),\"\",(IFERROR(VLOOKUP(Import!C652,Mapping!C:F,1,FALSE),\"HF, à reclasser\")))","v":""},{"$f":"IF(ISBLANK(Import!E652),\"\",IF(B649=(LEFT(A649,3)),(IFERROR(VLOOKUP(Import!B652,Mapping!D:F,2,FALSE),\"Cpte à créer dans Mapping\")),\"Cpte à reclasser\"))","v":""}]
[{"$f":"IF(ISBLANK(Import!E653),\"\",Import!E653)","v":""},{"$f":"IF(ISBLANK(Import!E653),\"\",(IFERROR(VLOOKUP(Import!C653,Mapping!C:F,1,FALSE),\"HF, à reclasser\")))","v":""},{"$f":"IF(ISBLANK(Import!E653),\"\",IF(B650=(LEFT(A650,3)),(IFERROR(VLOOKUP(Import!B653,Mapping!D:F,2,FALSE),\"Cpte à créer dans Mapping\")),\"Cpte à reclasser\"))","v":""}]
[{"$f":"IF(ISBLANK(Import!E654),\"\",Import!E654)","v":""},{"$f":"IF(ISBLANK(Import!E654),\"\",(IFERROR(VLOOKUP(Import!C654,Mapping!C:F,1,FALSE),\"HF, à reclasser\")))","v":""},{"$f":"IF(ISBLANK(Import!E654),\"\",IF(B651=(LEFT(A651,3)),(IFERROR(VLOOKUP(Import!B654,Mapping!D:F,2,FALSE),\"Cpte à créer dans Mapping\")),\"Cpte à reclasser\"))","v":""}]
[{"$f":"IF(ISBLANK(Import!E655),\"\",Import!E655)","v":""},{"$f":"IF(ISBLANK(Import!E655),\"\",(IFERROR(VLOOKUP(Import!C655,Mapping!C:F,1,FALSE),\"HF, à reclasser\")))","v":""},{"$f":"IF(ISBLANK(Import!E655),\"\",IF(B652=(LEFT(A652,3)),(IFERROR(VLOOKUP(Import!B655,Mapping!D:F,2,FALSE),\"Cpte à créer dans Mapping\")),\"Cpte à reclasser\"))","v":""}]
[{"$f":"IF(ISBLANK(Import!E656),\"\",Import!E656)","v":""},{"$f":"IF(ISBLANK(Import!E656),\"\",(IFERROR(VLOOKUP(Import!C656,Mapping!C:F,1,FALSE),\"HF, à reclasser\")))","v":""},{"$f":"IF(ISBLANK(Import!E656),\"\",IF(B653=(LEFT(A653,3)),(IFERROR(VLOOKUP(Import!B656,Mapping!D:F,2,FALSE),\"Cpte à créer dans Mapping\")),\"Cpte à reclasser\"))","v":""}]
[{"$f":"IF(ISBLANK(Import!E657),\"\",Import!E657)","v":""},{"$f":"IF(ISBLANK(Import!E657),\"\",(IFERROR(VLOOKUP(Import!C657,Mapping!C:F,1,FALSE),\"HF, à reclasser\")))","v":""},{"$f":"IF(ISBLANK(Import!E657),\"\",IF(B654=(LEFT(A654,3)),(IFERROR(VLOOKUP(Import!B657,Mapping!D:F,2,FALSE),\"Cpte à créer dans Mapping\")),\"Cpte à reclasser\"))","v":""}]
[{"$f":"IF(ISBLANK(Import!E658),\"\",Import!E658)","v":""},{"$f":"IF(ISBLANK(Import!E658),\"\",(IFERROR(VLOOKUP(Import!C658,Mapping!C:F,1,FALSE),\"HF, à reclasser\")))","v":""},{"$f":"IF(ISBLANK(Import!E658),\"\",IF(B655=(LEFT(A655,3)),(IFERROR(VLOOKUP(Import!B658,Mapping!D:F,2,FALSE),\"Cpte à créer dans Mapping\")),\"Cpte à reclasser\"))","v":""}]
[{"$f":"IF(ISBLANK(Import!E659),\"\",Import!E659)","v":""},{"$f":"IF(ISBLANK(Import!E659),\"\",(IFERROR(VLOOKUP(Import!C659,Mapping!C:F,1,FALSE),\"HF, à reclasser\")))","v":""},{"$f":"IF(ISBLANK(Import!E659),\"\",IF(B656=(LEFT(A656,3)),(IFERROR(VLOOKUP(Import!B659,Mapping!D:F,2,FALSE),\"Cpte à créer dans Mapping\")),\"Cpte à reclasser\"))","v":""}]
[{"$f":"IF(ISBLANK(Import!E660),\"\",Import!E660)","v":""},{"$f":"IF(ISBLANK(Import!E660),\"\",(IFERROR(VLOOKUP(Import!C660,Mapping!C:F,1,FALSE),\"HF, à reclasser\")))","v":""},{"$f":"IF(ISBLANK(Import!E660),\"\",IF(B657=(LEFT(A657,3)),(IFERROR(VLOOKUP(Import!B660,Mapping!D:F,2,FALSE),\"Cpte à créer dans Mapping\")),\"Cpte à reclasser\"))","v":""}]
[{"$f":"IF(ISBLANK(Import!E661),\"\",Import!E661)","v":""},{"$f":"IF(ISBLANK(Import!E661),\"\",(IFERROR(VLOOKUP(Import!C661,Mapping!C:F,1,FALSE),\"HF, à reclasser\")))","v":""},{"$f":"IF(ISBLANK(Import!E661),\"\",IF(B658=(LEFT(A658,3)),(IFERROR(VLOOKUP(Import!B661,Mapping!D:F,2,FALSE),\"Cpte à créer dans Mapping\")),\"Cpte à reclasser\"))","v":""}]
[{"$f":"IF(ISBLANK(Import!E662),\"\",Import!E662)","v":""},{"$f":"IF(ISBLANK(Import!E662),\"\",(IFERROR(VLOOKUP(Import!C662,Mapping!C:F,1,FALSE),\"HF, à reclasser\")))","v":""},{"$f":"IF(ISBLANK(Import!E662),\"\",IF(B659=(LEFT(A659,3)),(IFERROR(VLOOKUP(Import!B662,Mapping!D:F,2,FALSE),\"Cpte à créer dans Mapping\")),\"Cpte à reclasser\"))","v":""}]
[{"$f":"IF(ISBLANK(Import!E663),\"\",Import!E663)","v":""},{"$f":"IF(ISBLANK(Import!E663),\"\",(IFERROR(VLOOKUP(Import!C663,Mapping!C:F,1,FALSE),\"HF, à reclasser\")))","v":""},{"$f":"IF(ISBLANK(Import!E663),\"\",IF(B660=(LEFT(A660,3)),(IFERROR(VLOOKUP(Import!B663,Mapping!D:F,2,FALSE),\"Cpte à créer dans Mapping\")),\"Cpte à reclasser\"))","v":""}]
[{"$f":"IF(ISBLANK(Import!E664),\"\",Import!E664)","v":""},{"$f":"IF(ISBLANK(Import!E664),\"\",(IFERROR(VLOOKUP(Import!C664,Mapping!C:F,1,FALSE),\"HF, à reclasser\")))","v":""},{"$f":"IF(ISBLANK(Import!E664),\"\",IF(B661=(LEFT(A661,3)),(IFERROR(VLOOKUP(Import!B664,Mapping!D:F,2,FALSE),\"Cpte à créer dans Mapping\")),\"Cpte à reclasser\"))","v":""}]
[{"$f":"IF(ISBLANK(Import!E665),\"\",Import!E665)","v":""},{"$f":"IF(ISBLANK(Import!E665),\"\",(IFERROR(VLOOKUP(Import!C665,Mapping!C:F,1,FALSE),\"HF, à reclasser\")))","v":""},{"$f":"IF(ISBLANK(Import!E665),\"\",IF(B662=(LEFT(A662,3)),(IFERROR(VLOOKUP(Import!B665,Mapping!D:F,2,FALSE),\"Cpte à créer dans Mapping\")),\"Cpte à reclasser\"))","v":""}]
[{"$f":"IF(ISBLANK(Import!E666),\"\",Import!E666)","v":""},{"$f":"IF(ISBLANK(Import!E666),\"\",(IFERROR(VLOOKUP(Import!C666,Mapping!C:F,1,FALSE),\"HF, à reclasser\")))","v":""},{"$f":"IF(ISBLANK(Import!E666),\"\",IF(B663=(LEFT(A663,3)),(IFERROR(VLOOKUP(Import!B666,Mapping!D:F,2,FALSE),\"Cpte à créer dans Mapping\")),\"Cpte à reclasser\"))","v":""}]
[{"$f":"IF(ISBLANK(Import!E667),\"\",Import!E667)","v":""},{"$f":"IF(ISBLANK(Import!E667),\"\",(IFERROR(VLOOKUP(Import!C667,Mapping!C:F,1,FALSE),\"HF, à reclasser\")))","v":""},{"$f":"IF(ISBLANK(Import!E667),\"\",IF(B664=(LEFT(A664,3)),(IFERROR(VLOOKUP(Import!B667,Mapping!D:F,2,FALSE),\"Cpte à créer dans Mapping\")),\"Cpte à reclasser\"))","v":""}]
[{"$f":"IF(ISBLANK(Import!E668),\"\",Import!E668)","v":""},{"$f":"IF(ISBLANK(Import!E668),\"\",(IFERROR(VLOOKUP(Import!C668,Mapping!C:F,1,FALSE),\"HF, à reclasser\")))","v":""},{"$f":"IF(ISBLANK(Import!E668),\"\",IF(B665=(LEFT(A665,3)),(IFERROR(VLOOKUP(Import!B668,Mapping!D:F,2,FALSE),\"Cpte à créer dans Mapping\")),\"Cpte à reclasser\"))","v":""}]
[{"$f":"IF(ISBLANK(Import!E669),\"\",Import!E669)","v":""},{"$f":"IF(ISBLANK(Import!E669),\"\",(IFERROR(VLOOKUP(Import!C669,Mapping!C:F,1,FALSE),\"HF, à reclasser\")))","v":""},{"$f":"IF(ISBLANK(Import!E669),\"\",IF(B666=(LEFT(A666,3)),(IFERROR(VLOOKUP(Import!B669,Mapping!D:F,2,FALSE),\"Cpte à créer dans Mapping\")),\"Cpte à reclasser\"))","v":""}]
[{"$f":"IF(ISBLANK(Import!E670),\"\",Import!E670)","v":""},{"$f":"IF(ISBLANK(Import!E670),\"\",(IFERROR(VLOOKUP(Import!C670,Mapping!C:F,1,FALSE),\"HF, à reclasser\")))","v":""},{"$f":"IF(ISBLANK(Import!E670),\"\",IF(B667=(LEFT(A667,3)),(IFERROR(VLOOKUP(Import!B670,Mapping!D:F,2,FALSE),\"Cpte à créer dans Mapping\")),\"Cpte à reclasser\"))","v":""}]
[{"$f":"IF(ISBLANK(Import!E671),\"\",Import!E671)","v":""},{"$f":"IF(ISBLANK(Import!E671),\"\",(IFERROR(VLOOKUP(Import!C671,Mapping!C:F,1,FALSE),\"HF, à reclasser\")))","v":""},{"$f":"IF(ISBLANK(Import!E671),\"\",IF(B668=(LEFT(A668,3)),(IFERROR(VLOOKUP(Import!B671,Mapping!D:F,2,FALSE),\"Cpte à créer dans Mapping\")),\"Cpte à reclasser\"))","v":""}]
[{"$f":"IF(ISBLANK(Import!E672),\"\",Import!E672)","v":""},{"$f":"IF(ISBLANK(Import!E672),\"\",(IFERROR(VLOOKUP(Import!C672,Mapping!C:F,1,FALSE),\"HF, à reclasser\")))","v":""},{"$f":"IF(ISBLANK(Import!E672),\"\",IF(B669=(LEFT(A669,3)),(IFERROR(VLOOKUP(Import!B672,Mapping!D:F,2,FALSE),\"Cpte à créer dans Mapping\")),\"Cpte à reclasser\"))","v":""}]
[{"$f":"IF(ISBLANK(Import!E673),\"\",Import!E673)","v":""},{"$f":"IF(ISBLANK(Import!E673),\"\",(IFERROR(VLOOKUP(Import!C673,Mapping!C:F,1,FALSE),\"HF, à reclasser\")))","v":""},{"$f":"IF(ISBLANK(Import!E673),\"\",IF(B670=(LEFT(A670,3)),(IFERROR(VLOOKUP(Import!B673,Mapping!D:F,2,FALSE),\"Cpte à créer dans Mapping\")),\"Cpte à reclasser\"))","v":""}]
[{"$f":"IF(ISBLANK(Import!E674),\"\",Import!E674)","v":""},{"$f":"IF(ISBLANK(Import!E674),\"\",(IFERROR(VLOOKUP(Import!C674,Mapping!C:F,1,FALSE),\"HF, à reclasser\")))","v":""},{"$f":"IF(ISBLANK(Import!E674),\"\",IF(B671=(LEFT(A671,3)),(IFERROR(VLOOKUP(Import!B674,Mapping!D:F,2,FALSE),\"Cpte à créer dans Mapping\")),\"Cpte à reclasser\"))","v":""}]
[{"$f":"IF(ISBLANK(Import!E675),\"\",Import!E675)","v":""},{"$f":"IF(ISBLANK(Import!E675),\"\",(IFERROR(VLOOKUP(Import!C675,Mapping!C:F,1,FALSE),\"HF, à reclasser\")))","v":""},{"$f":"IF(ISBLANK(Import!E675),\"\",IF(B672=(LEFT(A672,3)),(IFERROR(VLOOKUP(Import!B675,Mapping!D:F,2,FALSE),\"Cpte à créer dans Mapping\")),\"Cpte à reclasser\"))","v":""}]
[{"$f":"IF(ISBLANK(Import!E676),\"\",Import!E676)","v":""},{"$f":"IF(ISBLANK(Import!E676),\"\",(IFERROR(VLOOKUP(Import!C676,Mapping!C:F,1,FALSE),\"HF, à reclasser\")))","v":""},{"$f":"IF(ISBLANK(Import!E676),\"\",IF(B673=(LEFT(A673,3)),(IFERROR(VLOOKUP(Import!B676,Mapping!D:F,2,FALSE),\"Cpte à créer dans Mapping\")),\"Cpte à reclasser\"))","v":""}]
[{"$f":"IF(ISBLANK(Import!E677),\"\",Import!E677)","v":""},{"$f":"IF(ISBLANK(Import!E677),\"\",(IFERROR(VLOOKUP(Import!C677,Mapping!C:F,1,FALSE),\"HF, à reclasser\")))","v":""},{"$f":"IF(ISBLANK(Import!E677),\"\",IF(B674=(LEFT(A674,3)),(IFERROR(VLOOKUP(Import!B677,Mapping!D:F,2,FALSE),\"Cpte à créer dans Mapping\")),\"Cpte à reclasser\"))","v":""}]
[{"$f":"IF(ISBLANK(Import!E678),\"\",Import!E678)","v":""},{"$f":"IF(ISBLANK(Import!E678),\"\",(IFERROR(VLOOKUP(Import!C678,Mapping!C:F,1,FALSE),\"HF, à reclasser\")))","v":""},{"$f":"IF(ISBLANK(Import!E678),\"\",IF(B675=(LEFT(A675,3)),(IFERROR(VLOOKUP(Import!B678,Mapping!D:F,2,FALSE),\"Cpte à créer dans Mapping\")),\"Cpte à reclasser\"))","v":""}]
[{"$f":"IF(ISBLANK(Import!E679),\"\",Import!E679)","v":""},{"$f":"IF(ISBLANK(Import!E679),\"\",(IFERROR(VLOOKUP(Import!C679,Mapping!C:F,1,FALSE),\"HF, à reclasser\")))","v":""},{"$f":"IF(ISBLANK(Import!E679),\"\",IF(B676=(LEFT(A676,3)),(IFERROR(VLOOKUP(Import!B679,Mapping!D:F,2,FALSE),\"Cpte à créer dans Mapping\")),\"Cpte à reclasser\"))","v":""}]
[{"$f":"IF(ISBLANK(Import!E680),\"\",Import!E680)","v":""},{"$f":"IF(ISBLANK(Import!E680),\"\",(IFERROR(VLOOKUP(Import!C680,Mapping!C:F,1,FALSE),\"HF, à reclasser\")))","v":""},{"$f":"IF(ISBLANK(Import!E680),\"\",IF(B677=(LEFT(A677,3)),(IFERROR(VLOOKUP(Import!B680,Mapping!D:F,2,FALSE),\"Cpte à créer dans Mapping\")),\"Cpte à reclasser\"))","v":""}]
[{"$f":"IF(ISBLANK(Import!E681),\"\",Import!E681)","v":""},{"$f":"IF(ISBLANK(Import!E681),\"\",(IFERROR(VLOOKUP(Import!C681,Mapping!C:F,1,FALSE),\"HF, à reclasser\")))","v":""},{"$f":"IF(ISBLANK(Import!E681),\"\",IF(B678=(LEFT(A678,3)),(IFERROR(VLOOKUP(Import!B681,Mapping!D:F,2,FALSE),\"Cpte à créer dans Mapping\")),\"Cpte à reclasser\"))","v":""}]
[{"$f":"IF(ISBLANK(Import!E682),\"\",Import!E682)","v":""},{"$f":"IF(ISBLANK(Import!E682),\"\",(IFERROR(VLOOKUP(Import!C682,Mapping!C:F,1,FALSE),\"HF, à reclasser\")))","v":""},{"$f":"IF(ISBLANK(Import!E682),\"\",IF(B679=(LEFT(A679,3)),(IFERROR(VLOOKUP(Import!B682,Mapping!D:F,2,FALSE),\"Cpte à créer dans Mapping\")),\"Cpte à reclasser\"))","v":""}]
[{"$f":"IF(ISBLANK(Import!E683),\"\",Import!E683)","v":""},{"$f":"IF(ISBLANK(Import!E683),\"\",(IFERROR(VLOOKUP(Import!C683,Mapping!C:F,1,FALSE),\"HF, à reclasser\")))","v":""},{"$f":"IF(ISBLANK(Import!E683),\"\",IF(B680=(LEFT(A680,3)),(IFERROR(VLOOKUP(Import!B683,Mapping!D:F,2,FALSE),\"Cpte à créer dans Mapping\")),\"Cpte à reclasser\"))","v":""}]
[{"$f":"IF(ISBLANK(Import!E684),\"\",Import!E684)","v":""},{"$f":"IF(ISBLANK(Import!E684),\"\",(IFERROR(VLOOKUP(Import!C684,Mapping!C:F,1,FALSE),\"HF, à reclasser\")))","v":""},{"$f":"IF(ISBLANK(Import!E684),\"\",IF(B681=(LEFT(A681,3)),(IFERROR(VLOOKUP(Import!B684,Mapping!D:F,2,FALSE),\"Cpte à créer dans Mapping\")),\"Cpte à reclasser\"))","v":""}]
[{"$f":"IF(ISBLANK(Import!E685),\"\",Import!E685)","v":""},{"$f":"IF(ISBLANK(Import!E685),\"\",(IFERROR(VLOOKUP(Import!C685,Mapping!C:F,1,FALSE),\"HF, à reclasser\")))","v":""},{"$f":"IF(ISBLANK(Import!E685),\"\",IF(B682=(LEFT(A682,3)),(IFERROR(VLOOKUP(Import!B685,Mapping!D:F,2,FALSE),\"Cpte à créer dans Mapping\")),\"Cpte à reclasser\"))","v":""}]
[{"$f":"IF(ISBLANK(Import!E686),\"\",Import!E686)","v":""},{"$f":"IF(ISBLANK(Import!E686),\"\",(IFERROR(VLOOKUP(Import!C686,Mapping!C:F,1,FALSE),\"HF, à reclasser\")))","v":""},{"$f":"IF(ISBLANK(Import!E686),\"\",IF(B683=(LEFT(A683,3)),(IFERROR(VLOOKUP(Import!B686,Mapping!D:F,2,FALSE),\"Cpte à créer dans Mapping\")),\"Cpte à reclasser\"))","v":""}]
[{"$f":"IF(ISBLANK(Import!E687),\"\",Import!E687)","v":""},{"$f":"IF(ISBLANK(Import!E687),\"\",(IFERROR(VLOOKUP(Import!C687,Mapping!C:F,1,FALSE),\"HF, à reclasser\")))","v":""},{"$f":"IF(ISBLANK(Import!E687),\"\",IF(B684=(LEFT(A684,3)),(IFERROR(VLOOKUP(Import!B687,Mapping!D:F,2,FALSE),\"Cpte à créer dans Mapping\")),\"Cpte à reclasser\"))","v":""}]
[{"$f":"IF(ISBLANK(Import!E688),\"\",Import!E688)","v":""},{"$f":"IF(ISBLANK(Import!E688),\"\",(IFERROR(VLOOKUP(Import!C688,Mapping!C:F,1,FALSE),\"HF, à reclasser\")))","v":""},{"$f":"IF(ISBLANK(Import!E688),\"\",IF(B685=(LEFT(A685,3)),(IFERROR(VLOOKUP(Import!B688,Mapping!D:F,2,FALSE),\"Cpte à créer dans Mapping\")),\"Cpte à reclasser\"))","v":""}]
[{"$f":"IF(ISBLANK(Import!E689),\"\",Import!E689)","v":""},{"$f":"IF(ISBLANK(Import!E689),\"\",(IFERROR(VLOOKUP(Import!C689,Mapping!C:F,1,FALSE),\"HF, à reclasser\")))","v":""},{"$f":"IF(ISBLANK(Import!E689),\"\",IF(B686=(LEFT(A686,3)),(IFERROR(VLOOKUP(Import!B689,Mapping!D:F,2,FALSE),\"Cpte à créer dans Mapping\")),\"Cpte à reclasser\"))","v":""}]
[{"$f":"IF(ISBLANK(Import!E690),\"\",Import!E690)","v":""},{"$f":"IF(ISBLANK(Import!E690),\"\",(IFERROR(VLOOKUP(Import!C690,Mapping!C:F,1,FALSE),\"HF, à reclasser\")))","v":""},{"$f":"IF(ISBLANK(Import!E690),\"\",IF(B687=(LEFT(A687,3)),(IFERROR(VLOOKUP(Import!B690,Mapping!D:F,2,FALSE),\"Cpte à créer dans Mapping\")),\"Cpte à reclasser\"))","v":""}]
[{"$f":"IF(ISBLANK(Import!E691),\"\",Import!E691)","v":""},{"$f":"IF(ISBLANK(Import!E691),\"\",(IFERROR(VLOOKUP(Import!C691,Mapping!C:F,1,FALSE),\"HF, à reclasser\")))","v":""},{"$f":"IF(ISBLANK(Import!E691),\"\",IF(B688=(LEFT(A688,3)),(IFERROR(VLOOKUP(Import!B691,Mapping!D:F,2,FALSE),\"Cpte à créer dans Mapping\")),\"Cpte à reclasser\"))","v":""}]
[{"$f":"IF(ISBLANK(Import!E692),\"\",Import!E692)","v":""},{"$f":"IF(ISBLANK(Import!E692),\"\",(IFERROR(VLOOKUP(Import!C692,Mapping!C:F,1,FALSE),\"HF, à reclasser\")))","v":""},{"$f":"IF(ISBLANK(Import!E692),\"\",IF(B689=(LEFT(A689,3)),(IFERROR(VLOOKUP(Import!B692,Mapping!D:F,2,FALSE),\"Cpte à créer dans Mapping\")),\"Cpte à reclasser\"))","v":""}]
[{"$f":"IF(ISBLANK(Import!E693),\"\",Import!E693)","v":""},{"$f":"IF(ISBLANK(Import!E693),\"\",(IFERROR(VLOOKUP(Import!C693,Mapping!C:F,1,FALSE),\"HF, à reclasser\")))","v":""},{"$f":"IF(ISBLANK(Import!E693),\"\",IF(B690=(LEFT(A690,3)),(IFERROR(VLOOKUP(Import!B693,Mapping!D:F,2,FALSE),\"Cpte à créer dans Mapping\")),\"Cpte à reclasser\"))","v":""}]
[{"$f":"IF(ISBLANK(Import!E694),\"\",Import!E694)","v":""},{"$f":"IF(ISBLANK(Import!E694),\"\",(IFERROR(VLOOKUP(Import!C694,Mapping!C:F,1,FALSE),\"HF, à reclasser\")))","v":""},{"$f":"IF(ISBLANK(Import!E694),\"\",IF(B691=(LEFT(A691,3)),(IFERROR(VLOOKUP(Import!B694,Mapping!D:F,2,FALSE),\"Cpte à créer dans Mapping\")),\"Cpte à reclasser\"))","v":""}]
[{"$f":"IF(ISBLANK(Import!E695),\"\",Import!E695)","v":""},{"$f":"IF(ISBLANK(Import!E695),\"\",(IFERROR(VLOOKUP(Import!C695,Mapping!C:F,1,FALSE),\"HF, à reclasser\")))","v":""},{"$f":"IF(ISBLANK(Import!E695),\"\",IF(B692=(LEFT(A692,3)),(IFERROR(VLOOKUP(Import!B695,Mapping!D:F,2,FALSE),\"Cpte à créer dans Mapping\")),\"Cpte à reclasser\"))","v":""}]
[{"$f":"IF(ISBLANK(Import!E696),\"\",Import!E696)","v":""},{"$f":"IF(ISBLANK(Import!E696),\"\",(IFERROR(VLOOKUP(Import!C696,Mapping!C:F,1,FALSE),\"HF, à reclasser\")))","v":""},{"$f":"IF(ISBLANK(Import!E696),\"\",IF(B693=(LEFT(A693,3)),(IFERROR(VLOOKUP(Import!B696,Mapping!D:F,2,FALSE),\"Cpte à créer dans Mapping\")),\"Cpte à reclasser\"))","v":""}]
[{"$f":"IF(ISBLANK(Import!E697),\"\",Import!E697)","v":""},{"$f":"IF(ISBLANK(Import!E697),\"\",(IFERROR(VLOOKUP(Import!C697,Mapping!C:F,1,FALSE),\"HF, à reclasser\")))","v":""},{"$f":"IF(ISBLANK(Import!E697),\"\",IF(B694=(LEFT(A694,3)),(IFERROR(VLOOKUP(Import!B697,Mapping!D:F,2,FALSE),\"Cpte à créer dans Mapping\")),\"Cpte à reclasser\"))","v":""}]
[{"$f":"IF(ISBLANK(Import!E698),\"\",Import!E698)","v":""},{"$f":"IF(ISBLANK(Import!E698),\"\",(IFERROR(VLOOKUP(Import!C698,Mapping!C:F,1,FALSE),\"HF, à reclasser\")))","v":""},{"$f":"IF(ISBLANK(Import!E698),\"\",IF(B695=(LEFT(A695,3)),(IFERROR(VLOOKUP(Import!B698,Mapping!D:F,2,FALSE),\"Cpte à créer dans Mapping\")),\"Cpte à reclasser\"))","v":""}]
[{"$f":"IF(ISBLANK(Import!E699),\"\",Import!E699)","v":""},{"$f":"IF(ISBLANK(Import!E699),\"\",(IFERROR(VLOOKUP(Import!C699,Mapping!C:F,1,FALSE),\"HF, à reclasser\")))","v":""},{"$f":"IF(ISBLANK(Import!E699),\"\",IF(B696=(LEFT(A696,3)),(IFERROR(VLOOKUP(Import!B699,Mapping!D:F,2,FALSE),\"Cpte à créer dans Mapping\")),\"Cpte à reclasser\"))","v":""}]
[{"$f":"IF(ISBLANK(Import!E700),\"\",Import!E700)","v":""},{"$f":"IF(ISBLANK(Import!E700),\"\",(IFERROR(VLOOKUP(Import!C700,Mapping!C:F,1,FALSE),\"HF, à reclasser\")))","v":""},{"$f":"IF(ISBLANK(Import!E700),\"\",IF(B697=(LEFT(A697,3)),(IFERROR(VLOOKUP(Import!B700,Mapping!D:F,2,FALSE),\"Cpte à créer dans Mapping\")),\"Cpte à reclasser\"))","v":""}]
[{"$f":"IF(ISBLANK(Import!E701),\"\",Import!E701)","v":""},{"$f":"IF(ISBLANK(Import!E701),\"\",(IFERROR(VLOOKUP(Import!C701,Mapping!C:F,1,FALSE),\"HF, à reclasser\")))","v":""},{"$f":"IF(ISBLANK(Import!E701),\"\",IF(B698=(LEFT(A698,3)),(IFERROR(VLOOKUP(Import!B701,Mapping!D:F,2,FALSE),\"Cpte à créer dans Mapping\")),\"Cpte à reclasser\"))","v":""}]
[{"$f":"IF(ISBLANK(Import!E702),\"\",Import!E702)","v":""},{"$f":"IF(ISBLANK(Import!E702),\"\",(IFERROR(VLOOKUP(Import!C702,Mapping!C:F,1,FALSE),\"HF, à reclasser\")))","v":""},{"$f":"IF(ISBLANK(Import!E702),\"\",IF(B699=(LEFT(A699,3)),(IFERROR(VLOOKUP(Import!B702,Mapping!D:F,2,FALSE),\"Cpte à créer dans Mapping\")),\"Cpte à reclasser\"))","v":""}]
[{"$f":"IF(ISBLANK(Import!E703),\"\",Import!E703)","v":""},{"$f":"IF(ISBLANK(Import!E703),\"\",(IFERROR(VLOOKUP(Import!C703,Mapping!C:F,1,FALSE),\"HF, à reclasser\")))","v":""},{"$f":"IF(ISBLANK(Import!E703),\"\",IF(B700=(LEFT(A700,3)),(IFERROR(VLOOKUP(Import!B703,Mapping!D:F,2,FALSE),\"Cpte à créer dans Mapping\")),\"Cpte à reclasser\"))","v":""}]
[{"$f":"IF(ISBLANK(Import!E704),\"\",Import!E704)","v":""},{"$f":"IF(ISBLANK(Import!E704),\"\",(IFERROR(VLOOKUP(Import!C704,Mapping!C:F,1,FALSE),\"HF, à reclasser\")))","v":""},{"$f":"IF(ISBLANK(Import!E704),\"\",IF(B701=(LEFT(A701,3)),(IFERROR(VLOOKUP(Import!B704,Mapping!D:F,2,FALSE),\"Cpte à créer dans Mapping\")),\"Cpte à reclasser\"))","v":""}]
[{"$f":"IF(ISBLANK(Import!E705),\"\",Import!E705)","v":""},{"$f":"IF(ISBLANK(Import!E705),\"\",(IFERROR(VLOOKUP(Import!C705,Mapping!C:F,1,FALSE),\"HF, à reclasser\")))","v":""},{"$f":"IF(ISBLANK(Import!E705),\"\",IF(B702=(LEFT(A702,3)),(IFERROR(VLOOKUP(Import!B705,Mapping!D:F,2,FALSE),\"Cpte à créer dans Mapping\")),\"Cpte à reclasser\"))","v":""}]
[{"$f":"IF(ISBLANK(Import!E706),\"\",Import!E706)","v":""},{"$f":"IF(ISBLANK(Import!E706),\"\",(IFERROR(VLOOKUP(Import!C706,Mapping!C:F,1,FALSE),\"HF, à reclasser\")))","v":""},{"$f":"IF(ISBLANK(Import!E706),\"\",IF(B703=(LEFT(A703,3)),(IFERROR(VLOOKUP(Import!B706,Mapping!D:F,2,FALSE),\"Cpte à créer dans Mapping\")),\"Cpte à reclasser\"))","v":""}]
[{"$f":"IF(ISBLANK(Import!E707),\"\",Import!E707)","v":""},{"$f":"IF(ISBLANK(Import!E707),\"\",(IFERROR(VLOOKUP(Import!C707,Mapping!C:F,1,FALSE),\"HF, à reclasser\")))","v":""},{"$f":"IF(ISBLANK(Import!E707),\"\",IF(B704=(LEFT(A704,3)),(IFERROR(VLOOKUP(Import!B707,Mapping!D:F,2,FALSE),\"Cpte à créer dans Mapping\")),\"Cpte à reclasser\"))","v":""}]
[{"$f":"IF(ISBLANK(Import!E708),\"\",Import!E708)","v":""},{"$f":"IF(ISBLANK(Import!E708),\"\",(IFERROR(VLOOKUP(Import!C708,Mapping!C:F,1,FALSE),\"HF, à reclasser\")))","v":""},{"$f":"IF(ISBLANK(Import!E708),\"\",IF(B705=(LEFT(A705,3)),(IFERROR(VLOOKUP(Import!B708,Mapping!D:F,2,FALSE),\"Cpte à créer dans Mapping\")),\"Cpte à reclasser\"))","v":""}]
[{"$f":"IF(ISBLANK(Import!E709),\"\",Import!E709)","v":""},{"$f":"IF(ISBLANK(Import!E709),\"\",(IFERROR(VLOOKUP(Import!C709,Mapping!C:F,1,FALSE),\"HF, à reclasser\")))","v":""},{"$f":"IF(ISBLANK(Import!E709),\"\",IF(B706=(LEFT(A706,3)),(IFERROR(VLOOKUP(Import!B709,Mapping!D:F,2,FALSE),\"Cpte à créer dans Mapping\")),\"Cpte à reclasser\"))","v":""}]
[{"$f":"IF(ISBLANK(Import!E710),\"\",Import!E710)","v":""},{"$f":"IF(ISBLANK(Import!E710),\"\",(IFERROR(VLOOKUP(Import!C710,Mapping!C:F,1,FALSE),\"HF, à reclasser\")))","v":""},{"$f":"IF(ISBLANK(Import!E710),\"\",IF(B707=(LEFT(A707,3)),(IFERROR(VLOOKUP(Import!B710,Mapping!D:F,2,FALSE),\"Cpte à créer dans Mapping\")),\"Cpte à reclasser\"))","v":""}]
[{"$f":"IF(ISBLANK(Import!E711),\"\",Import!E711)","v":""},{"$f":"IF(ISBLANK(Import!E711),\"\",(IFERROR(VLOOKUP(Import!C711,Mapping!C:F,1,FALSE),\"HF, à reclasser\")))","v":""},{"$f":"IF(ISBLANK(Import!E711),\"\",IF(B708=(LEFT(A708,3)),(IFERROR(VLOOKUP(Import!B711,Mapping!D:F,2,FALSE),\"Cpte à créer dans Mapping\")),\"Cpte à reclasser\"))","v":""}]
[{"$f":"IF(ISBLANK(Import!E712),\"\",Import!E712)","v":""},{"$f":"IF(ISBLANK(Import!E712),\"\",(IFERROR(VLOOKUP(Import!C712,Mapping!C:F,1,FALSE),\"HF, à reclasser\")))","v":""},{"$f":"IF(ISBLANK(Import!E712),\"\",IF(B709=(LEFT(A709,3)),(IFERROR(VLOOKUP(Import!B712,Mapping!D:F,2,FALSE),\"Cpte à créer dans Mapping\")),\"Cpte à reclasser\"))","v":""}]
[{"$f":"IF(ISBLANK(Import!E713),\"\",Import!E713)","v":""},{"$f":"IF(ISBLANK(Import!E713),\"\",(IFERROR(VLOOKUP(Import!C713,Mapping!C:F,1,FALSE),\"HF, à reclasser\")))","v":""},{"$f":"IF(ISBLANK(Import!E713),\"\",IF(B710=(LEFT(A710,3)),(IFERROR(VLOOKUP(Import!B713,Mapping!D:F,2,FALSE),\"Cpte à créer dans Mapping\")),\"Cpte à reclasser\"))","v":""}]
[{"$f":"IF(ISBLANK(Import!E714),\"\",Import!E714)","v":""},{"$f":"IF(ISBLANK(Import!E714),\"\",(IFERROR(VLOOKUP(Import!C714,Mapping!C:F,1,FALSE),\"HF, à reclasser\")))","v":""},{"$f":"IF(ISBLANK(Import!E714),\"\",IF(B711=(LEFT(A711,3)),(IFERROR(VLOOKUP(Import!B714,Mapping!D:F,2,FALSE),\"Cpte à créer dans Mapping\")),\"Cpte à reclasser\"))","v":""}]
[{"$f":"IF(ISBLANK(Import!E715),\"\",Import!E715)","v":""},{"$f":"IF(ISBLANK(Import!E715),\"\",(IFERROR(VLOOKUP(Import!C715,Mapping!C:F,1,FALSE),\"HF, à reclasser\")))","v":""},{"$f":"IF(ISBLANK(Import!E715),\"\",IF(B712=(LEFT(A712,3)),(IFERROR(VLOOKUP(Import!B715,Mapping!D:F,2,FALSE),\"Cpte à créer dans Mapping\")),\"Cpte à reclasser\"))","v":""}]
[{"$f":"IF(ISBLANK(Import!E716),\"\",Import!E716)","v":""},{"$f":"IF(ISBLANK(Import!E716),\"\",(IFERROR(VLOOKUP(Import!C716,Mapping!C:F,1,FALSE),\"HF, à reclasser\")))","v":""},{"$f":"IF(ISBLANK(Import!E716),\"\",IF(B713=(LEFT(A713,3)),(IFERROR(VLOOKUP(Import!B716,Mapping!D:F,2,FALSE),\"Cpte à créer dans Mapping\")),\"Cpte à reclasser\"))","v":""}]
[{"$f":"IF(ISBLANK(Import!E717),\"\",Import!E717)","v":""},{"$f":"IF(ISBLANK(Import!E717),\"\",(IFERROR(VLOOKUP(Import!C717,Mapping!C:F,1,FALSE),\"HF, à reclasser\")))","v":""},{"$f":"IF(ISBLANK(Import!E717),\"\",IF(B714=(LEFT(A714,3)),(IFERROR(VLOOKUP(Import!B717,Mapping!D:F,2,FALSE),\"Cpte à créer dans Mapping\")),\"Cpte à reclasser\"))","v":""}]
[{"$f":"IF(ISBLANK(Import!E718),\"\",Import!E718)","v":""},{"$f":"IF(ISBLANK(Import!E718),\"\",(IFERROR(VLOOKUP(Import!C718,Mapping!C:F,1,FALSE),\"HF, à reclasser\")))","v":""},{"$f":"IF(ISBLANK(Import!E718),\"\",IF(B715=(LEFT(A715,3)),(IFERROR(VLOOKUP(Import!B718,Mapping!D:F,2,FALSE),\"Cpte à créer dans Mapping\")),\"Cpte à reclasser\"))","v":""}]
[{"$f":"IF(ISBLANK(Import!E719),\"\",Import!E719)","v":""},{"$f":"IF(ISBLANK(Import!E719),\"\",(IFERROR(VLOOKUP(Import!C719,Mapping!C:F,1,FALSE),\"HF, à reclasser\")))","v":""},{"$f":"IF(ISBLANK(Import!E719),\"\",IF(B716=(LEFT(A716,3)),(IFERROR(VLOOKUP(Import!B719,Mapping!D:F,2,FALSE),\"Cpte à créer dans Mapping\")),\"Cpte à reclasser\"))","v":""}]
[{"$f":"IF(ISBLANK(Import!E720),\"\",Import!E720)","v":""},{"$f":"IF(ISBLANK(Import!E720),\"\",(IFERROR(VLOOKUP(Import!C720,Mapping!C:F,1,FALSE),\"HF, à reclasser\")))","v":""},{"$f":"IF(ISBLANK(Import!E720),\"\",IF(B717=(LEFT(A717,3)),(IFERROR(VLOOKUP(Import!B720,Mapping!D:F,2,FALSE),\"Cpte à créer dans Mapping\")),\"Cpte à reclasser\"))","v":""}]
[{"$f":"IF(ISBLANK(Import!E721),\"\",Import!E721)","v":""},{"$f":"IF(ISBLANK(Import!E721),\"\",(IFERROR(VLOOKUP(Import!C721,Mapping!C:F,1,FALSE),\"HF, à reclasser\")))","v":""},{"$f":"IF(ISBLANK(Import!E721),\"\",IF(B718=(LEFT(A718,3)),(IFERROR(VLOOKUP(Import!B721,Mapping!D:F,2,FALSE),\"Cpte à créer dans Mapping\")),\"Cpte à reclasser\"))","v":""}]
[{"$f":"IF(ISBLANK(Import!E722),\"\",Import!E722)","v":""},{"$f":"IF(ISBLANK(Import!E722),\"\",(IFERROR(VLOOKUP(Import!C722,Mapping!C:F,1,FALSE),\"HF, à reclasser\")))","v":""},{"$f":"IF(ISBLANK(Import!E722),\"\",IF(B719=(LEFT(A719,3)),(IFERROR(VLOOKUP(Import!B722,Mapping!D:F,2,FALSE),\"Cpte à créer dans Mapping\")),\"Cpte à reclasser\"))","v":""}]
[{"$f":"IF(ISBLANK(Import!E723),\"\",Import!E723)","v":""},{"$f":"IF(ISBLANK(Import!E723),\"\",(IFERROR(VLOOKUP(Import!C723,Mapping!C:F,1,FALSE),\"HF, à reclasser\")))","v":""},{"$f":"IF(ISBLANK(Import!E723),\"\",IF(B720=(LEFT(A720,3)),(IFERROR(VLOOKUP(Import!B723,Mapping!D:F,2,FALSE),\"Cpte à créer dans Mapping\")),\"Cpte à reclasser\"))","v":""}]
[{"$f":"IF(ISBLANK(Import!E724),\"\",Import!E724)","v":""},{"$f":"IF(ISBLANK(Import!E724),\"\",(IFERROR(VLOOKUP(Import!C724,Mapping!C:F,1,FALSE),\"HF, à reclasser\")))","v":""},{"$f":"IF(ISBLANK(Import!E724),\"\",IF(B721=(LEFT(A721,3)),(IFERROR(VLOOKUP(Import!B724,Mapping!D:F,2,FALSE),\"Cpte à créer dans Mapping\")),\"Cpte à reclasser\"))","v":""}]
[{"$f":"IF(ISBLANK(Import!E725),\"\",Import!E725)","v":""},{"$f":"IF(ISBLANK(Import!E725),\"\",(IFERROR(VLOOKUP(Import!C725,Mapping!C:F,1,FALSE),\"HF, à reclasser\")))","v":""},{"$f":"IF(ISBLANK(Import!E725),\"\",IF(B722=(LEFT(A722,3)),(IFERROR(VLOOKUP(Import!B725,Mapping!D:F,2,FALSE),\"Cpte à créer dans Mapping\")),\"Cpte à reclasser\"))","v":""}]
[{"$f":"IF(ISBLANK(Import!E726),\"\",Import!E726)","v":""},{"$f":"IF(ISBLANK(Import!E726),\"\",(IFERROR(VLOOKUP(Import!C726,Mapping!C:F,1,FALSE),\"HF, à reclasser\")))","v":""},{"$f":"IF(ISBLANK(Import!E726),\"\",IF(B723=(LEFT(A723,3)),(IFERROR(VLOOKUP(Import!B726,Mapping!D:F,2,FALSE),\"Cpte à créer dans Mapping\")),\"Cpte à reclasser\"))","v":""}]
[{"$f":"IF(ISBLANK(Import!E727),\"\",Import!E727)","v":""},{"$f":"IF(ISBLANK(Import!E727),\"\",(IFERROR(VLOOKUP(Import!C727,Mapping!C:F,1,FALSE),\"HF, à reclasser\")))","v":""},{"$f":"IF(ISBLANK(Import!E727),\"\",IF(B724=(LEFT(A724,3)),(IFERROR(VLOOKUP(Import!B727,Mapping!D:F,2,FALSE),\"Cpte à créer dans Mapping\")),\"Cpte à reclasser\"))","v":""}]
[{"$f":"IF(ISBLANK(Import!E728),\"\",Import!E728)","v":""},{"$f":"IF(ISBLANK(Import!E728),\"\",(IFERROR(VLOOKUP(Import!C728,Mapping!C:F,1,FALSE),\"HF, à reclasser\")))","v":""},{"$f":"IF(ISBLANK(Import!E728),\"\",IF(B725=(LEFT(A725,3)),(IFERROR(VLOOKUP(Import!B728,Mapping!D:F,2,FALSE),\"Cpte à créer dans Mapping\")),\"Cpte à reclasser\"))","v":""}]
[{"$f":"IF(ISBLANK(Import!E729),\"\",Import!E729)","v":""},{"$f":"IF(ISBLANK(Import!E729),\"\",(IFERROR(VLOOKUP(Import!C729,Mapping!C:F,1,FALSE),\"HF, à reclasser\")))","v":""},{"$f":"IF(ISBLANK(Import!E729),\"\",IF(B726=(LEFT(A726,3)),(IFERROR(VLOOKUP(Import!B729,Mapping!D:F,2,FALSE),\"Cpte à créer dans Mapping\")),\"Cpte à reclasser\"))","v":""}]
[{"$f":"IF(ISBLANK(Import!E730),\"\",Import!E730)","v":""},{"$f":"IF(ISBLANK(Import!E730),\"\",(IFERROR(VLOOKUP(Import!C730,Mapping!C:F,1,FALSE),\"HF, à reclasser\")))","v":""},{"$f":"IF(ISBLANK(Import!E730),\"\",IF(B727=(LEFT(A727,3)),(IFERROR(VLOOKUP(Import!B730,Mapping!D:F,2,FALSE),\"Cpte à créer dans Mapping\")),\"Cpte à reclasser\"))","v":""}]
[{"$f":"IF(ISBLANK(Import!E731),\"\",Import!E731)","v":""},{"$f":"IF(ISBLANK(Import!E731),\"\",(IFERROR(VLOOKUP(Import!C731,Mapping!C:F,1,FALSE),\"HF, à reclasser\")))","v":""},{"$f":"IF(ISBLANK(Import!E731),\"\",IF(B728=(LEFT(A728,3)),(IFERROR(VLOOKUP(Import!B731,Mapping!D:F,2,FALSE),\"Cpte à créer dans Mapping\")),\"Cpte à reclasser\"))","v":""}]
[{"$f":"IF(ISBLANK(Import!E732),\"\",Import!E732)","v":""},{"$f":"IF(ISBLANK(Import!E732),\"\",(IFERROR(VLOOKUP(Import!C732,Mapping!C:F,1,FALSE),\"HF, à reclasser\")))","v":""},{"$f":"IF(ISBLANK(Import!E732),\"\",IF(B729=(LEFT(A729,3)),(IFERROR(VLOOKUP(Import!B732,Mapping!D:F,2,FALSE),\"Cpte à créer dans Mapping\")),\"Cpte à reclasser\"))","v":""}]
[{"$f":"IF(ISBLANK(Import!E733),\"\",Import!E733)","v":""},{"$f":"IF(ISBLANK(Import!E733),\"\",(IFERROR(VLOOKUP(Import!C733,Mapping!C:F,1,FALSE),\"HF, à reclasser\")))","v":""},{"$f":"IF(ISBLANK(Import!E733),\"\",IF(B730=(LEFT(A730,3)),(IFERROR(VLOOKUP(Import!B733,Mapping!D:F,2,FALSE),\"Cpte à créer dans Mapping\")),\"Cpte à reclasser\"))","v":""}]
[{"$f":"IF(ISBLANK(Import!E734),\"\",Import!E734)","v":""},{"$f":"IF(ISBLANK(Import!E734),\"\",(IFERROR(VLOOKUP(Import!C734,Mapping!C:F,1,FALSE),\"HF, à reclasser\")))","v":""},{"$f":"IF(ISBLANK(Import!E734),\"\",IF(B731=(LEFT(A731,3)),(IFERROR(VLOOKUP(Import!B734,Mapping!D:F,2,FALSE),\"Cpte à créer dans Mapping\")),\"Cpte à reclasser\"))","v":""}]
[{"$f":"IF(ISBLANK(Import!E735),\"\",Import!E735)","v":""},{"$f":"IF(ISBLANK(Import!E735),\"\",(IFERROR(VLOOKUP(Import!C735,Mapping!C:F,1,FALSE),\"HF, à reclasser\")))","v":""},{"$f":"IF(ISBLANK(Import!E735),\"\",IF(B732=(LEFT(A732,3)),(IFERROR(VLOOKUP(Import!B735,Mapping!D:F,2,FALSE),\"Cpte à créer dans Mapping\")),\"Cpte à reclasser\"))","v":""}]
[{"$f":"IF(ISBLANK(Import!E736),\"\",Import!E736)","v":""},{"$f":"IF(ISBLANK(Import!E736),\"\",(IFERROR(VLOOKUP(Import!C736,Mapping!C:F,1,FALSE),\"HF, à reclasser\")))","v":""},{"$f":"IF(ISBLANK(Import!E736),\"\",IF(B733=(LEFT(A733,3)),(IFERROR(VLOOKUP(Import!B736,Mapping!D:F,2,FALSE),\"Cpte à créer dans Mapping\")),\"Cpte à reclasser\"))","v":""}]
[{"$f":"IF(ISBLANK(Import!E737),\"\",Import!E737)","v":""},{"$f":"IF(ISBLANK(Import!E737),\"\",(IFERROR(VLOOKUP(Import!C737,Mapping!C:F,1,FALSE),\"HF, à reclasser\")))","v":""},{"$f":"IF(ISBLANK(Import!E737),\"\",IF(B734=(LEFT(A734,3)),(IFERROR(VLOOKUP(Import!B737,Mapping!D:F,2,FALSE),\"Cpte à créer dans Mapping\")),\"Cpte à reclasser\"))","v":""}]
[{"$f":"IF(ISBLANK(Import!E738),\"\",Import!E738)","v":""},{"$f":"IF(ISBLANK(Import!E738),\"\",(IFERROR(VLOOKUP(Import!C738,Mapping!C:F,1,FALSE),\"HF, à reclasser\")))","v":""},{"$f":"IF(ISBLANK(Import!E738),\"\",IF(B735=(LEFT(A735,3)),(IFERROR(VLOOKUP(Import!B738,Mapping!D:F,2,FALSE),\"Cpte à créer dans Mapping\")),\"Cpte à reclasser\"))","v":""}]
[{"$f":"IF(ISBLANK(Import!E739),\"\",Import!E739)","v":""},{"$f":"IF(ISBLANK(Import!E739),\"\",(IFERROR(VLOOKUP(Import!C739,Mapping!C:F,1,FALSE),\"HF, à reclasser\")))","v":""},{"$f":"IF(ISBLANK(Import!E739),\"\",IF(B736=(LEFT(A736,3)),(IFERROR(VLOOKUP(Import!B739,Mapping!D:F,2,FALSE),\"Cpte à créer dans Mapping\")),\"Cpte à reclasser\"))","v":""}]
[{"$f":"IF(ISBLANK(Import!E740),\"\",Import!E740)","v":""},{"$f":"IF(ISBLANK(Import!E740),\"\",(IFERROR(VLOOKUP(Import!C740,Mapping!C:F,1,FALSE),\"HF, à reclasser\")))","v":""},{"$f":"IF(ISBLANK(Import!E740),\"\",IF(B737=(LEFT(A737,3)),(IFERROR(VLOOKUP(Import!B740,Mapping!D:F,2,FALSE),\"Cpte à créer dans Mapping\")),\"Cpte à reclasser\"))","v":""}]
[{"$f":"IF(ISBLANK(Import!E741),\"\",Import!E741)","v":""},{"$f":"IF(ISBLANK(Import!E741),\"\",(IFERROR(VLOOKUP(Import!C741,Mapping!C:F,1,FALSE),\"HF, à reclasser\")))","v":""},{"$f":"IF(ISBLANK(Import!E741),\"\",IF(B738=(LEFT(A738,3)),(IFERROR(VLOOKUP(Import!B741,Mapping!D:F,2,FALSE),\"Cpte à créer dans Mapping\")),\"Cpte à reclasser\"))","v":""}]
[{"$f":"IF(ISBLANK(Import!E742),\"\",Import!E742)","v":""},{"$f":"IF(ISBLANK(Import!E742),\"\",(IFERROR(VLOOKUP(Import!C742,Mapping!C:F,1,FALSE),\"HF, à reclasser\")))","v":""},{"$f":"IF(ISBLANK(Import!E742),\"\",IF(B739=(LEFT(A739,3)),(IFERROR(VLOOKUP(Import!B742,Mapping!D:F,2,FALSE),\"Cpte à créer dans Mapping\")),\"Cpte à reclasser\"))","v":""}]
[{"$f":"IF(ISBLANK(Import!E743),\"\",Import!E743)","v":""},{"$f":"IF(ISBLANK(Import!E743),\"\",(IFERROR(VLOOKUP(Import!C743,Mapping!C:F,1,FALSE),\"HF, à reclasser\")))","v":""},{"$f":"IF(ISBLANK(Import!E743),\"\",IF(B740=(LEFT(A740,3)),(IFERROR(VLOOKUP(Import!B743,Mapping!D:F,2,FALSE),\"Cpte à créer dans Mapping\")),\"Cpte à reclasser\"))","v":""}]
[{"$f":"IF(ISBLANK(Import!E744),\"\",Import!E744)","v":""},{"$f":"IF(ISBLANK(Import!E744),\"\",(IFERROR(VLOOKUP(Import!C744,Mapping!C:F,1,FALSE),\"HF, à reclasser\")))","v":""},{"$f":"IF(ISBLANK(Import!E744),\"\",IF(B741=(LEFT(A741,3)),(IFERROR(VLOOKUP(Import!B744,Mapping!D:F,2,FALSE),\"Cpte à créer dans Mapping\")),\"Cpte à reclasser\"))","v":""}]
[{"$f":"IF(ISBLANK(Import!E745),\"\",Import!E745)","v":""},{"$f":"IF(ISBLANK(Import!E745),\"\",(IFERROR(VLOOKUP(Import!C745,Mapping!C:F,1,FALSE),\"HF, à reclasser\")))","v":""},{"$f":"IF(ISBLANK(Import!E745),\"\",IF(B742=(LEFT(A742,3)),(IFERROR(VLOOKUP(Import!B745,Mapping!D:F,2,FALSE),\"Cpte à créer dans Mapping\")),\"Cpte à reclasser\"))","v":""}]
[{"$f":"IF(ISBLANK(Import!E746),\"\",Import!E746)","v":""},{"$f":"IF(ISBLANK(Import!E746),\"\",(IFERROR(VLOOKUP(Import!C746,Mapping!C:F,1,FALSE),\"HF, à reclasser\")))","v":""},{"$f":"IF(ISBLANK(Import!E746),\"\",IF(B743=(LEFT(A743,3)),(IFERROR(VLOOKUP(Import!B746,Mapping!D:F,2,FALSE),\"Cpte à créer dans Mapping\")),\"Cpte à reclasser\"))","v":""}]
[{"$f":"IF(ISBLANK(Import!E747),\"\",Import!E747)","v":""},{"$f":"IF(ISBLANK(Import!E747),\"\",(IFERROR(VLOOKUP(Import!C747,Mapping!C:F,1,FALSE),\"HF, à reclasser\")))","v":""},{"$f":"IF(ISBLANK(Import!E747),\"\",IF(B744=(LEFT(A744,3)),(IFERROR(VLOOKUP(Import!B747,Mapping!D:F,2,FALSE),\"Cpte à créer dans Mapping\")),\"Cpte à reclasser\"))","v":""}]
[{"$f":"IF(ISBLANK(Import!E748),\"\",Import!E748)","v":""},{"$f":"IF(ISBLANK(Import!E748),\"\",(IFERROR(VLOOKUP(Import!C748,Mapping!C:F,1,FALSE),\"HF, à reclasser\")))","v":""},{"$f":"IF(ISBLANK(Import!E748),\"\",IF(B745=(LEFT(A745,3)),(IFERROR(VLOOKUP(Import!B748,Mapping!D:F,2,FALSE),\"Cpte à créer dans Mapping\")),\"Cpte à reclasser\"))","v":""}]
[{"$f":"IF(ISBLANK(Import!E749),\"\",Import!E749)","v":""},{"$f":"IF(ISBLANK(Import!E749),\"\",(IFERROR(VLOOKUP(Import!C749,Mapping!C:F,1,FALSE),\"HF, à reclasser\")))","v":""},{"$f":"IF(ISBLANK(Import!E749),\"\",IF(B746=(LEFT(A746,3)),(IFERROR(VLOOKUP(Import!B749,Mapping!D:F,2,FALSE),\"Cpte à créer dans Mapping\")),\"Cpte à reclasser\"))","v":""}]
[{"$f":"IF(ISBLANK(Import!E750),\"\",Import!E750)","v":""},{"$f":"IF(ISBLANK(Import!E750),\"\",(IFERROR(VLOOKUP(Import!C750,Mapping!C:F,1,FALSE),\"HF, à reclasser\")))","v":""},{"$f":"IF(ISBLANK(Import!E750),\"\",IF(B747=(LEFT(A747,3)),(IFERROR(VLOOKUP(Import!B750,Mapping!D:F,2,FALSE),\"Cpte à créer dans Mapping\")),\"Cpte à reclasser\"))","v":""}]
[{"$f":"IF(ISBLANK(Import!E751),\"\",Import!E751)","v":""},{"$f":"IF(ISBLANK(Import!E751),\"\",(IFERROR(VLOOKUP(Import!C751,Mapping!C:F,1,FALSE),\"HF, à reclasser\")))","v":""},{"$f":"IF(ISBLANK(Import!E751),\"\",IF(B748=(LEFT(A748,3)),(IFERROR(VLOOKUP(Import!B751,Mapping!D:F,2,FALSE),\"Cpte à créer dans Mapping\")),\"Cpte à reclasser\"))","v":""}]
[{"$f":"IF(ISBLANK(Import!E752),\"\",Import!E752)","v":""},{"$f":"IF(ISBLANK(Import!E752),\"\",(IFERROR(VLOOKUP(Import!C752,Mapping!C:F,1,FALSE),\"HF, à reclasser\")))","v":""},{"$f":"IF(ISBLANK(Import!E752),\"\",IF(B749=(LEFT(A749,3)),(IFERROR(VLOOKUP(Import!B752,Mapping!D:F,2,FALSE),\"Cpte à créer dans Mapping\")),\"Cpte à reclasser\"))","v":""}]
[{"$f":"IF(ISBLANK(Import!E753),\"\",Import!E753)","v":""},{"$f":"IF(ISBLANK(Import!E753),\"\",(IFERROR(VLOOKUP(Import!C753,Mapping!C:F,1,FALSE),\"HF, à reclasser\")))","v":""},{"$f":"IF(ISBLANK(Import!E753),\"\",IF(B750=(LEFT(A750,3)),(IFERROR(VLOOKUP(Import!B753,Mapping!D:F,2,FALSE),\"Cpte à créer dans Mapping\")),\"Cpte à reclasser\"))","v":""}]
[{"$f":"IF(ISBLANK(Import!E754),\"\",Import!E754)","v":""},{"$f":"IF(ISBLANK(Import!E754),\"\",(IFERROR(VLOOKUP(Import!C754,Mapping!C:F,1,FALSE),\"HF, à reclasser\")))","v":""},{"$f":"IF(ISBLANK(Import!E754),\"\",IF(B751=(LEFT(A751,3)),(IFERROR(VLOOKUP(Import!B754,Mapping!D:F,2,FALSE),\"Cpte à créer dans Mapping\")),\"Cpte à reclasser\"))","v":""}]
[{"$f":"IF(ISBLANK(Import!E755),\"\",Import!E755)","v":""},{"$f":"IF(ISBLANK(Import!E755),\"\",(IFERROR(VLOOKUP(Import!C755,Mapping!C:F,1,FALSE),\"HF, à reclasser\")))","v":""},{"$f":"IF(ISBLANK(Import!E755),\"\",IF(B752=(LEFT(A752,3)),(IFERROR(VLOOKUP(Import!B755,Mapping!D:F,2,FALSE),\"Cpte à créer dans Mapping\")),\"Cpte à reclasser\"))","v":""}]
[{"$f":"IF(ISBLANK(Import!E756),\"\",Import!E756)","v":""},{"$f":"IF(ISBLANK(Import!E756),\"\",(IFERROR(VLOOKUP(Import!C756,Mapping!C:F,1,FALSE),\"HF, à reclasser\")))","v":""},{"$f":"IF(ISBLANK(Import!E756),\"\",IF(B753=(LEFT(A753,3)),(IFERROR(VLOOKUP(Import!B756,Mapping!D:F,2,FALSE),\"Cpte à créer dans Mapping\")),\"Cpte à reclasser\"))","v":""}]
[{"$f":"IF(ISBLANK(Import!E757),\"\",Import!E757)","v":""},{"$f":"IF(ISBLANK(Import!E757),\"\",(IFERROR(VLOOKUP(Import!C757,Mapping!C:F,1,FALSE),\"HF, à reclasser\")))","v":""},{"$f":"IF(ISBLANK(Import!E757),\"\",IF(B754=(LEFT(A754,3)),(IFERROR(VLOOKUP(Import!B757,Mapping!D:F,2,FALSE),\"Cpte à créer dans Mapping\")),\"Cpte à reclasser\"))","v":""}]
[{"$f":"IF(ISBLANK(Import!E758),\"\",Import!E758)","v":""},{"$f":"IF(ISBLANK(Import!E758),\"\",(IFERROR(VLOOKUP(Import!C758,Mapping!C:F,1,FALSE),\"HF, à reclasser\")))","v":""},{"$f":"IF(ISBLANK(Import!E758),\"\",IF(B755=(LEFT(A755,3)),(IFERROR(VLOOKUP(Import!B758,Mapping!D:F,2,FALSE),\"Cpte à créer dans Mapping\")),\"Cpte à reclasser\"))","v":""}]
[{"$f":"IF(ISBLANK(Import!E759),\"\",Import!E759)","v":""},{"$f":"IF(ISBLANK(Import!E759),\"\",(IFERROR(VLOOKUP(Import!C759,Mapping!C:F,1,FALSE),\"HF, à reclasser\")))","v":""},{"$f":"IF(ISBLANK(Import!E759),\"\",IF(B756=(LEFT(A756,3)),(IFERROR(VLOOKUP(Import!B759,Mapping!D:F,2,FALSE),\"Cpte à créer dans Mapping\")),\"Cpte à reclasser\"))","v":""}]
[{"$f":"IF(ISBLANK(Import!E760),\"\",Import!E760)","v":""},{"$f":"IF(ISBLANK(Import!E760),\"\",(IFERROR(VLOOKUP(Import!C760,Mapping!C:F,1,FALSE),\"HF, à reclasser\")))","v":""},{"$f":"IF(ISBLANK(Import!E760),\"\",IF(B757=(LEFT(A757,3)),(IFERROR(VLOOKUP(Import!B760,Mapping!D:F,2,FALSE),\"Cpte à créer dans Mapping\")),\"Cpte à reclasser\"))","v":""}]
[{"$f":"IF(ISBLANK(Import!E761),\"\",Import!E761)","v":""},{"$f":"IF(ISBLANK(Import!E761),\"\",(IFERROR(VLOOKUP(Import!C761,Mapping!C:F,1,FALSE),\"HF, à reclasser\")))","v":""},{"$f":"IF(ISBLANK(Import!E761),\"\",IF(B758=(LEFT(A758,3)),(IFERROR(VLOOKUP(Import!B761,Mapping!D:F,2,FALSE),\"Cpte à créer dans Mapping\")),\"Cpte à reclasser\"))","v":""}]
[{"$f":"IF(ISBLANK(Import!E762),\"\",Import!E762)","v":""},{"$f":"IF(ISBLANK(Import!E762),\"\",(IFERROR(VLOOKUP(Import!C762,Mapping!C:F,1,FALSE),\"HF, à reclasser\")))","v":""},{"$f":"IF(ISBLANK(Import!E762),\"\",IF(B759=(LEFT(A759,3)),(IFERROR(VLOOKUP(Import!B762,Mapping!D:F,2,FALSE),\"Cpte à créer dans Mapping\")),\"Cpte à reclasser\"))","v":""}]
[{"$f":"IF(ISBLANK(Import!E763),\"\",Import!E763)","v":""},{"$f":"IF(ISBLANK(Import!E763),\"\",(IFERROR(VLOOKUP(Import!C763,Mapping!C:F,1,FALSE),\"HF, à reclasser\")))","v":""},{"$f":"IF(ISBLANK(Import!E763),\"\",IF(B760=(LEFT(A760,3)),(IFERROR(VLOOKUP(Import!B763,Mapping!D:F,2,FALSE),\"Cpte à créer dans Mapping\")),\"Cpte à reclasser\"))","v":""}]
[{"$f":"IF(ISBLANK(Import!E764),\"\",Import!E764)","v":""},{"$f":"IF(ISBLANK(Import!E764),\"\",(IFERROR(VLOOKUP(Import!C764,Mapping!C:F,1,FALSE),\"HF, à reclasser\")))","v":""},{"$f":"IF(ISBLANK(Import!E764),\"\",IF(B761=(LEFT(A761,3)),(IFERROR(VLOOKUP(Import!B764,Mapping!D:F,2,FALSE),\"Cpte à créer dans Mapping\")),\"Cpte à reclasser\"))","v":""}]
[{"$f":"IF(ISBLANK(Import!E765),\"\",Import!E765)","v":""},{"$f":"IF(ISBLANK(Import!E765),\"\",(IFERROR(VLOOKUP(Import!C765,Mapping!C:F,1,FALSE),\"HF, à reclasser\")))","v":""},{"$f":"IF(ISBLANK(Import!E765),\"\",IF(B762=(LEFT(A762,3)),(IFERROR(VLOOKUP(Import!B765,Mapping!D:F,2,FALSE),\"Cpte à créer dans Mapping\")),\"Cpte à reclasser\"))","v":""}]
[{"$f":"IF(ISBLANK(Import!E766),\"\",Import!E766)","v":""},{"$f":"IF(ISBLANK(Import!E766),\"\",(IFERROR(VLOOKUP(Import!C766,Mapping!C:F,1,FALSE),\"HF, à reclasser\")))","v":""},{"$f":"IF(ISBLANK(Import!E766),\"\",IF(B763=(LEFT(A763,3)),(IFERROR(VLOOKUP(Import!B766,Mapping!D:F,2,FALSE),\"Cpte à créer dans Mapping\")),\"Cpte à reclasser\"))","v":""}]
[{"$f":"IF(ISBLANK(Import!E767),\"\",Import!E767)","v":""},{"$f":"IF(ISBLANK(Import!E767),\"\",(IFERROR(VLOOKUP(Import!C767,Mapping!C:F,1,FALSE),\"HF, à reclasser\")))","v":""},{"$f":"IF(ISBLANK(Import!E767),\"\",IF(B764=(LEFT(A764,3)),(IFERROR(VLOOKUP(Import!B767,Mapping!D:F,2,FALSE),\"Cpte à créer dans Mapping\")),\"Cpte à reclasser\"))","v":""}]
[{"$f":"IF(ISBLANK(Import!E768),\"\",Import!E768)","v":""},{"$f":"IF(ISBLANK(Import!E768),\"\",(IFERROR(VLOOKUP(Import!C768,Mapping!C:F,1,FALSE),\"HF, à reclasser\")))","v":""},{"$f":"IF(ISBLANK(Import!E768),\"\",IF(B765=(LEFT(A765,3)),(IFERROR(VLOOKUP(Import!B768,Mapping!D:F,2,FALSE),\"Cpte à créer dans Mapping\")),\"Cpte à reclasser\"))","v":""}]
[{"$f":"IF(ISBLANK(Import!E769),\"\",Import!E769)","v":""},{"$f":"IF(ISBLANK(Import!E769),\"\",(IFERROR(VLOOKUP(Import!C769,Mapping!C:F,1,FALSE),\"HF, à reclasser\")))","v":""},{"$f":"IF(ISBLANK(Import!E769),\"\",IF(B766=(LEFT(A766,3)),(IFERROR(VLOOKUP(Import!B769,Mapping!D:F,2,FALSE),\"Cpte à créer dans Mapping\")),\"Cpte à reclasser\"))","v":""}]
[{"$f":"IF(ISBLANK(Import!E770),\"\",Import!E770)","v":""},{"$f":"IF(ISBLANK(Import!E770),\"\",(IFERROR(VLOOKUP(Import!C770,Mapping!C:F,1,FALSE),\"HF, à reclasser\")))","v":""},{"$f":"IF(ISBLANK(Import!E770),\"\",IF(B767=(LEFT(A767,3)),(IFERROR(VLOOKUP(Import!B770,Mapping!D:F,2,FALSE),\"Cpte à créer dans Mapping\")),\"Cpte à reclasser\"))","v":""}]
[{"$f":"IF(ISBLANK(Import!E771),\"\",Import!E771)","v":""},{"$f":"IF(ISBLANK(Import!E771),\"\",(IFERROR(VLOOKUP(Import!C771,Mapping!C:F,1,FALSE),\"HF, à reclasser\")))","v":""},{"$f":"IF(ISBLANK(Import!E771),\"\",IF(B768=(LEFT(A768,3)),(IFERROR(VLOOKUP(Import!B771,Mapping!D:F,2,FALSE),\"Cpte à créer dans Mapping\")),\"Cpte à reclasser\"))","v":""}]
[{"$f":"IF(ISBLANK(Import!E772),\"\",Import!E772)","v":""},{"$f":"IF(ISBLANK(Import!E772),\"\",(IFERROR(VLOOKUP(Import!C772,Mapping!C:F,1,FALSE),\"HF, à reclasser\")))","v":""},{"$f":"IF(ISBLANK(Import!E772),\"\",IF(B769=(LEFT(A769,3)),(IFERROR(VLOOKUP(Import!B772,Mapping!D:F,2,FALSE),\"Cpte à créer dans Mapping\")),\"Cpte à reclasser\"))","v":""}]
[{"$f":"IF(ISBLANK(Import!E773),\"\",Import!E773)","v":""},{"$f":"IF(ISBLANK(Import!E773),\"\",(IFERROR(VLOOKUP(Import!C773,Mapping!C:F,1,FALSE),\"HF, à reclasser\")))","v":""},{"$f":"IF(ISBLANK(Import!E773),\"\",IF(B770=(LEFT(A770,3)),(IFERROR(VLOOKUP(Import!B773,Mapping!D:F,2,FALSE),\"Cpte à créer dans Mapping\")),\"Cpte à reclasser\"))","v":""}]
[{"$f":"IF(ISBLANK(Import!E774),\"\",Import!E774)","v":""},{"$f":"IF(ISBLANK(Import!E774),\"\",(IFERROR(VLOOKUP(Import!C774,Mapping!C:F,1,FALSE),\"HF, à reclasser\")))","v":""},{"$f":"IF(ISBLANK(Import!E774),\"\",IF(B771=(LEFT(A771,3)),(IFERROR(VLOOKUP(Import!B774,Mapping!D:F,2,FALSE),\"Cpte à créer dans Mapping\")),\"Cpte à reclasser\"))","v":""}]
[{"$f":"IF(ISBLANK(Import!E775),\"\",Import!E775)","v":""},{"$f":"IF(ISBLANK(Import!E775),\"\",(IFERROR(VLOOKUP(Import!C775,Mapping!C:F,1,FALSE),\"HF, à reclasser\")))","v":""},{"$f":"IF(ISBLANK(Import!E775),\"\",IF(B772=(LEFT(A772,3)),(IFERROR(VLOOKUP(Import!B775,Mapping!D:F,2,FALSE),\"Cpte à créer dans Mapping\")),\"Cpte à reclasser\"))","v":""}]
[{"$f":"IF(ISBLANK(Import!E776),\"\",Import!E776)","v":""},{"$f":"IF(ISBLANK(Import!E776),\"\",(IFERROR(VLOOKUP(Import!C776,Mapping!C:F,1,FALSE),\"HF, à reclasser\")))","v":""},{"$f":"IF(ISBLANK(Import!E776),\"\",IF(B773=(LEFT(A773,3)),(IFERROR(VLOOKUP(Import!B776,Mapping!D:F,2,FALSE),\"Cpte à créer dans Mapping\")),\"Cpte à reclasser\"))","v":""}]
[{"$f":"IF(ISBLANK(Import!E777),\"\",Import!E777)","v":""},{"$f":"IF(ISBLANK(Import!E777),\"\",(IFERROR(VLOOKUP(Import!C777,Mapping!C:F,1,FALSE),\"HF, à reclasser\")))","v":""},{"$f":"IF(ISBLANK(Import!E777),\"\",IF(B774=(LEFT(A774,3)),(IFERROR(VLOOKUP(Import!B777,Mapping!D:F,2,FALSE),\"Cpte à créer dans Mapping\")),\"Cpte à reclasser\"))","v":""}]
[{"$f":"IF(ISBLANK(Import!E778),\"\",Import!E778)","v":""},{"$f":"IF(ISBLANK(Import!E778),\"\",(IFERROR(VLOOKUP(Import!C778,Mapping!C:F,1,FALSE),\"HF, à reclasser\")))","v":""},{"$f":"IF(ISBLANK(Import!E778),\"\",IF(B775=(LEFT(A775,3)),(IFERROR(VLOOKUP(Import!B778,Mapping!D:F,2,FALSE),\"Cpte à créer dans Mapping\")),\"Cpte à reclasser\"))","v":""}]
[{"$f":"IF(ISBLANK(Import!E779),\"\",Import!E779)","v":""},{"$f":"IF(ISBLANK(Import!E779),\"\",(IFERROR(VLOOKUP(Import!C779,Mapping!C:F,1,FALSE),\"HF, à reclasser\")))","v":""},{"$f":"IF(ISBLANK(Import!E779),\"\",IF(B776=(LEFT(A776,3)),(IFERROR(VLOOKUP(Import!B779,Mapping!D:F,2,FALSE),\"Cpte à créer dans Mapping\")),\"Cpte à reclasser\"))","v":""}]
[{"$f":"IF(ISBLANK(Import!E780),\"\",Import!E780)","v":""},{"$f":"IF(ISBLANK(Import!E780),\"\",(IFERROR(VLOOKUP(Import!C780,Mapping!C:F,1,FALSE),\"HF, à reclasser\")))","v":""},{"$f":"IF(ISBLANK(Import!E780),\"\",IF(B777=(LEFT(A777,3)),(IFERROR(VLOOKUP(Import!B780,Mapping!D:F,2,FALSE),\"Cpte à créer dans Mapping\")),\"Cpte à reclasser\"))","v":""}]
[{"$f":"IF(ISBLANK(Import!E781),\"\",Import!E781)","v":""},{"$f":"IF(ISBLANK(Import!E781),\"\",(IFERROR(VLOOKUP(Import!C781,Mapping!C:F,1,FALSE),\"HF, à reclasser\")))","v":""},{"$f":"IF(ISBLANK(Import!E781),\"\",IF(B778=(LEFT(A778,3)),(IFERROR(VLOOKUP(Import!B781,Mapping!D:F,2,FALSE),\"Cpte à créer dans Mapping\")),\"Cpte à reclasser\"))","v":""}]
[{"$f":"IF(ISBLANK(Import!E782),\"\",Import!E782)","v":""},{"$f":"IF(ISBLANK(Import!E782),\"\",(IFERROR(VLOOKUP(Import!C782,Mapping!C:F,1,FALSE),\"HF, à reclasser\")))","v":""},{"$f":"IF(ISBLANK(Import!E782),\"\",IF(B779=(LEFT(A779,3)),(IFERROR(VLOOKUP(Import!B782,Mapping!D:F,2,FALSE),\"Cpte à créer dans Mapping\")),\"Cpte à reclasser\"))","v":""}]
[{"$f":"IF(ISBLANK(Import!E783),\"\",Import!E783)","v":""},{"$f":"IF(ISBLANK(Import!E783),\"\",(IFERROR(VLOOKUP(Import!C783,Mapping!C:F,1,FALSE),\"HF, à reclasser\")))","v":""},{"$f":"IF(ISBLANK(Import!E783),\"\",IF(B780=(LEFT(A780,3)),(IFERROR(VLOOKUP(Import!B783,Mapping!D:F,2,FALSE),\"Cpte à créer dans Mapping\")),\"Cpte à reclasser\"))","v":""}]
[{"$f":"IF(ISBLANK(Import!E784),\"\",Import!E784)","v":""},{"$f":"IF(ISBLANK(Import!E784),\"\",(IFERROR(VLOOKUP(Import!C784,Mapping!C:F,1,FALSE),\"HF, à reclasser\")))","v":""},{"$f":"IF(ISBLANK(Import!E784),\"\",IF(B781=(LEFT(A781,3)),(IFERROR(VLOOKUP(Import!B784,Mapping!D:F,2,FALSE),\"Cpte à créer dans Mapping\")),\"Cpte à reclasser\"))","v":""}]
[{"$f":"IF(ISBLANK(Import!E785),\"\",Import!E785)","v":""},{"$f":"IF(ISBLANK(Import!E785),\"\",(IFERROR(VLOOKUP(Import!C785,Mapping!C:F,1,FALSE),\"HF, à reclasser\")))","v":""},{"$f":"IF(ISBLANK(Import!E785),\"\",IF(B782=(LEFT(A782,3)),(IFERROR(VLOOKUP(Import!B785,Mapping!D:F,2,FALSE),\"Cpte à créer dans Mapping\")),\"Cpte à reclasser\"))","v":""}]
[{"$f":"IF(ISBLANK(Import!E786),\"\",Import!E786)","v":""},{"$f":"IF(ISBLANK(Import!E786),\"\",(IFERROR(VLOOKUP(Import!C786,Mapping!C:F,1,FALSE),\"HF, à reclasser\")))","v":""},{"$f":"IF(ISBLANK(Import!E786),\"\",IF(B783=(LEFT(A783,3)),(IFERROR(VLOOKUP(Import!B786,Mapping!D:F,2,FALSE),\"Cpte à créer dans Mapping\")),\"Cpte à reclasser\"))","v":""}]
[{"$f":"IF(ISBLANK(Import!E787),\"\",Import!E787)","v":""},{"$f":"IF(ISBLANK(Import!E787),\"\",(IFERROR(VLOOKUP(Import!C787,Mapping!C:F,1,FALSE),\"HF, à reclasser\")))","v":""},{"$f":"IF(ISBLANK(Import!E787),\"\",IF(B784=(LEFT(A784,3)),(IFERROR(VLOOKUP(Import!B787,Mapping!D:F,2,FALSE),\"Cpte à créer dans Mapping\")),\"Cpte à reclasser\"))","v":""}]
[{"$f":"IF(ISBLANK(Import!E788),\"\",Import!E788)","v":""},{"$f":"IF(ISBLANK(Import!E788),\"\",(IFERROR(VLOOKUP(Import!C788,Mapping!C:F,1,FALSE),\"HF, à reclasser\")))","v":""},{"$f":"IF(ISBLANK(Import!E788),\"\",IF(B785=(LEFT(A785,3)),(IFERROR(VLOOKUP(Import!B788,Mapping!D:F,2,FALSE),\"Cpte à créer dans Mapping\")),\"Cpte à reclasser\"))","v":""}]
[{"$f":"IF(ISBLANK(Import!E789),\"\",Import!E789)","v":""},{"$f":"IF(ISBLANK(Import!E789),\"\",(IFERROR(VLOOKUP(Import!C789,Mapping!C:F,1,FALSE),\"HF, à reclasser\")))","v":""},{"$f":"IF(ISBLANK(Import!E789),\"\",IF(B786=(LEFT(A786,3)),(IFERROR(VLOOKUP(Import!B789,Mapping!D:F,2,FALSE),\"Cpte à créer dans Mapping\")),\"Cpte à reclasser\"))","v":""}]
[{"$f":"IF(ISBLANK(Import!E790),\"\",Import!E790)","v":""},{"$f":"IF(ISBLANK(Import!E790),\"\",(IFERROR(VLOOKUP(Import!C790,Mapping!C:F,1,FALSE),\"HF, à reclasser\")))","v":""},{"$f":"IF(ISBLANK(Import!E790),\"\",IF(B787=(LEFT(A787,3)),(IFERROR(VLOOKUP(Import!B790,Mapping!D:F,2,FALSE),\"Cpte à créer dans Mapping\")),\"Cpte à reclasser\"))","v":""}]
[{"$f":"IF(ISBLANK(Import!E791),\"\",Import!E791)","v":""},{"$f":"IF(ISBLANK(Import!E791),\"\",(IFERROR(VLOOKUP(Import!C791,Mapping!C:F,1,FALSE),\"HF, à reclasser\")))","v":""},{"$f":"IF(ISBLANK(Import!E791),\"\",IF(B788=(LEFT(A788,3)),(IFERROR(VLOOKUP(Import!B791,Mapping!D:F,2,FALSE),\"Cpte à créer dans Mapping\")),\"Cpte à reclasser\"))","v":""}]
[{"$f":"IF(ISBLANK(Import!E792),\"\",Import!E792)","v":""},{"$f":"IF(ISBLANK(Import!E792),\"\",(IFERROR(VLOOKUP(Import!C792,Mapping!C:F,1,FALSE),\"HF, à reclasser\")))","v":""},{"$f":"IF(ISBLANK(Import!E792),\"\",IF(B789=(LEFT(A789,3)),(IFERROR(VLOOKUP(Import!B792,Mapping!D:F,2,FALSE),\"Cpte à créer dans Mapping\")),\"Cpte à reclasser\"))","v":""}]
[{"$f":"IF(ISBLANK(Import!E793),\"\",Import!E793)","v":""},{"$f":"IF(ISBLANK(Import!E793),\"\",(IFERROR(VLOOKUP(Import!C793,Mapping!C:F,1,FALSE),\"HF, à reclasser\")))","v":""},{"$f":"IF(ISBLANK(Import!E793),\"\",IF(B790=(LEFT(A790,3)),(IFERROR(VLOOKUP(Import!B793,Mapping!D:F,2,FALSE),\"Cpte à créer dans Mapping\")),\"Cpte à reclasser\"))","v":""}]
[{"$f":"IF(ISBLANK(Import!E794),\"\",Import!E794)","v":""},{"$f":"IF(ISBLANK(Import!E794),\"\",(IFERROR(VLOOKUP(Import!C794,Mapping!C:F,1,FALSE),\"HF, à reclasser\")))","v":""},{"$f":"IF(ISBLANK(Import!E794),\"\",IF(B791=(LEFT(A791,3)),(IFERROR(VLOOKUP(Import!B794,Mapping!D:F,2,FALSE),\"Cpte à créer dans Mapping\")),\"Cpte à reclasser\"))","v":""}]
[{"$f":"IF(ISBLANK(Import!E795),\"\",Import!E795)","v":""},{"$f":"IF(ISBLANK(Import!E795),\"\",(IFERROR(VLOOKUP(Import!C795,Mapping!C:F,1,FALSE),\"HF, à reclasser\")))","v":""},{"$f":"IF(ISBLANK(Import!E795),\"\",IF(B792=(LEFT(A792,3)),(IFERROR(VLOOKUP(Import!B795,Mapping!D:F,2,FALSE),\"Cpte à créer dans Mapping\")),\"Cpte à reclasser\"))","v":""}]
[{"$f":"IF(ISBLANK(Import!E796),\"\",Import!E796)","v":""},{"$f":"IF(ISBLANK(Import!E796),\"\",(IFERROR(VLOOKUP(Import!C796,Mapping!C:F,1,FALSE),\"HF, à reclasser\")))","v":""},{"$f":"IF(ISBLANK(Import!E796),\"\",IF(B793=(LEFT(A793,3)),(IFERROR(VLOOKUP(Import!B796,Mapping!D:F,2,FALSE),\"Cpte à créer dans Mapping\")),\"Cpte à reclasser\"))","v":""}]
[{"$f":"IF(ISBLANK(Import!E797),\"\",Import!E797)","v":""},{"$f":"IF(ISBLANK(Import!E797),\"\",(IFERROR(VLOOKUP(Import!C797,Mapping!C:F,1,FALSE),\"HF, à reclasser\")))","v":""},{"$f":"IF(ISBLANK(Import!E797),\"\",IF(B794=(LEFT(A794,3)),(IFERROR(VLOOKUP(Import!B797,Mapping!D:F,2,FALSE),\"Cpte à créer dans Mapping\")),\"Cpte à reclasser\"))","v":""}]
[{"$f":"IF(ISBLANK(Import!E798),\"\",Import!E798)","v":""},{"$f":"IF(ISBLANK(Import!E798),\"\",(IFERROR(VLOOKUP(Import!C798,Mapping!C:F,1,FALSE),\"HF, à reclasser\")))","v":""},{"$f":"IF(ISBLANK(Import!E798),\"\",IF(B795=(LEFT(A795,3)),(IFERROR(VLOOKUP(Import!B798,Mapping!D:F,2,FALSE),\"Cpte à créer dans Mapping\")),\"Cpte à reclasser\"))","v":""}]
[{"$f":"IF(ISBLANK(Import!E799),\"\",Import!E799)","v":""},{"$f":"IF(ISBLANK(Import!E799),\"\",(IFERROR(VLOOKUP(Import!C799,Mapping!C:F,1,FALSE),\"HF, à reclasser\")))","v":""},{"$f":"IF(ISBLANK(Import!E799),\"\",IF(B796=(LEFT(A796,3)),(IFERROR(VLOOKUP(Import!B799,Mapping!D:F,2,FALSE),\"Cpte à créer dans Mapping\")),\"Cpte à reclasser\"))","v":""}]
[{"$f":"IF(ISBLANK(Import!E800),\"\",Import!E800)","v":""},{"$f":"IF(ISBLANK(Import!E800),\"\",(IFERROR(VLOOKUP(Import!C800,Mapping!C:F,1,FALSE),\"HF, à reclasser\")))","v":""},{"$f":"IF(ISBLANK(Import!E800),\"\",IF(B797=(LEFT(A797,3)),(IFERROR(VLOOKUP(Import!B800,Mapping!D:F,2,FALSE),\"Cpte à créer dans Mapping\")),\"Cpte à reclasser\"))","v":""}]
[{"$f":"IF(ISBLANK(Import!E801),\"\",Import!E801)","v":""},{"$f":"IF(ISBLANK(Import!E801),\"\",(IFERROR(VLOOKUP(Import!C801,Mapping!C:F,1,FALSE),\"HF, à reclasser\")))","v":""},{"$f":"IF(ISBLANK(Import!E801),\"\",IF(B798=(LEFT(A798,3)),(IFERROR(VLOOKUP(Import!B801,Mapping!D:F,2,FALSE),\"Cpte à créer dans Mapping\")),\"Cpte à reclasser\"))","v":""}]
[{"$f":"IF(ISBLANK(Import!E802),\"\",Import!E802)","v":""},{"$f":"IF(ISBLANK(Import!E802),\"\",(IFERROR(VLOOKUP(Import!C802,Mapping!C:F,1,FALSE),\"HF, à reclasser\")))","v":""},{"$f":"IF(ISBLANK(Import!E802),\"\",IF(B799=(LEFT(A799,3)),(IFERROR(VLOOKUP(Import!B802,Mapping!D:F,2,FALSE),\"Cpte à créer dans Mapping\")),\"Cpte à reclasser\"))","v":""}]
[{"$f":"IF(ISBLANK(Import!E803),\"\",Import!E803)","v":""},{"$f":"IF(ISBLANK(Import!E803),\"\",(IFERROR(VLOOKUP(Import!C803,Mapping!C:F,1,FALSE),\"HF, à reclasser\")))","v":""},{"$f":"IF(ISBLANK(Import!E803),\"\",IF(B800=(LEFT(A800,3)),(IFERROR(VLOOKUP(Import!B803,Mapping!D:F,2,FALSE),\"Cpte à créer dans Mapping\")),\"Cpte à reclasser\"))","v":""}]
[{"$f":"IF(ISBLANK(Import!E804),\"\",Import!E804)","v":""},{"$f":"IF(ISBLANK(Import!E804),\"\",(IFERROR(VLOOKUP(Import!C804,Mapping!C:F,1,FALSE),\"HF, à reclasser\")))","v":""},{"$f":"IF(ISBLANK(Import!E804),\"\",IF(B801=(LEFT(A801,3)),(IFERROR(VLOOKUP(Import!B804,Mapping!D:F,2,FALSE),\"Cpte à créer dans Mapping\")),\"Cpte à reclasser\"))","v":""}]
[{"$f":"IF(ISBLANK(Import!E805),\"\",Import!E805)","v":""},{"$f":"IF(ISBLANK(Import!E805),\"\",(IFERROR(VLOOKUP(Import!C805,Mapping!C:F,1,FALSE),\"HF, à reclasser\")))","v":""},{"$f":"IF(ISBLANK(Import!E805),\"\",IF(B802=(LEFT(A802,3)),(IFERROR(VLOOKUP(Import!B805,Mapping!D:F,2,FALSE),\"Cpte à créer dans Mapping\")),\"Cpte à reclasser\"))","v":""}]
[{"$f":"IF(ISBLANK(Import!E806),\"\",Import!E806)","v":""},{"$f":"IF(ISBLANK(Import!E806),\"\",(IFERROR(VLOOKUP(Import!C806,Mapping!C:F,1,FALSE),\"HF, à reclasser\")))","v":""},{"$f":"IF(ISBLANK(Import!E806),\"\",IF(B803=(LEFT(A803,3)),(IFERROR(VLOOKUP(Import!B806,Mapping!D:F,2,FALSE),\"Cpte à créer dans Mapping\")),\"Cpte à reclasser\"))","v":""}]
[{"$f":"IF(ISBLANK(Import!E807),\"\",Import!E807)","v":""},{"$f":"IF(ISBLANK(Import!E807),\"\",(IFERROR(VLOOKUP(Import!C807,Mapping!C:F,1,FALSE),\"HF, à reclasser\")))","v":""},{"$f":"IF(ISBLANK(Import!E807),\"\",IF(B804=(LEFT(A804,3)),(IFERROR(VLOOKUP(Import!B807,Mapping!D:F,2,FALSE),\"Cpte à créer dans Mapping\")),\"Cpte à reclasser\"))","v":""}]
[{"$f":"IF(ISBLANK(Import!E808),\"\",Import!E808)","v":""},{"$f":"IF(ISBLANK(Import!E808),\"\",(IFERROR(VLOOKUP(Import!C808,Mapping!C:F,1,FALSE),\"HF, à reclasser\")))","v":""},{"$f":"IF(ISBLANK(Import!E808),\"\",IF(B805=(LEFT(A805,3)),(IFERROR(VLOOKUP(Import!B808,Mapping!D:F,2,FALSE),\"Cpte à créer dans Mapping\")),\"Cpte à reclasser\"))","v":""}]
[{"$f":"IF(ISBLANK(Import!E809),\"\",Import!E809)","v":""},{"$f":"IF(ISBLANK(Import!E809),\"\",(IFERROR(VLOOKUP(Import!C809,Mapping!C:F,1,FALSE),\"HF, à reclasser\")))","v":""},{"$f":"IF(ISBLANK(Import!E809),\"\",IF(B806=(LEFT(A806,3)),(IFERROR(VLOOKUP(Import!B809,Mapping!D:F,2,FALSE),\"Cpte à créer dans Mapping\")),\"Cpte à reclasser\"))","v":""}]
[{"$f":"IF(ISBLANK(Import!E810),\"\",Import!E810)","v":""},{"$f":"IF(ISBLANK(Import!E810),\"\",(IFERROR(VLOOKUP(Import!C810,Mapping!C:F,1,FALSE),\"HF, à reclasser\")))","v":""},{"$f":"IF(ISBLANK(Import!E810),\"\",IF(B807=(LEFT(A807,3)),(IFERROR(VLOOKUP(Import!B810,Mapping!D:F,2,FALSE),\"Cpte à créer dans Mapping\")),\"Cpte à reclasser\"))","v":""}]
[{"$f":"IF(ISBLANK(Import!E811),\"\",Import!E811)","v":""},{"$f":"IF(ISBLANK(Import!E811),\"\",(IFERROR(VLOOKUP(Import!C811,Mapping!C:F,1,FALSE),\"HF, à reclasser\")))","v":""},{"$f":"IF(ISBLANK(Import!E811),\"\",IF(B808=(LEFT(A808,3)),(IFERROR(VLOOKUP(Import!B811,Mapping!D:F,2,FALSE),\"Cpte à créer dans Mapping\")),\"Cpte à reclasser\"))","v":""}]
[{"$f":"IF(ISBLANK(Import!E812),\"\",Import!E812)","v":""},{"$f":"IF(ISBLANK(Import!E812),\"\",(IFERROR(VLOOKUP(Import!C812,Mapping!C:F,1,FALSE),\"HF, à reclasser\")))","v":""},{"$f":"IF(ISBLANK(Import!E812),\"\",IF(B809=(LEFT(A809,3)),(IFERROR(VLOOKUP(Import!B812,Mapping!D:F,2,FALSE),\"Cpte à créer dans Mapping\")),\"Cpte à reclasser\"))","v":""}]
[{"$f":"IF(ISBLANK(Import!E813),\"\",Import!E813)","v":""},{"$f":"IF(ISBLANK(Import!E813),\"\",(IFERROR(VLOOKUP(Import!C813,Mapping!C:F,1,FALSE),\"HF, à reclasser\")))","v":""},{"$f":"IF(ISBLANK(Import!E813),\"\",IF(B810=(LEFT(A810,3)),(IFERROR(VLOOKUP(Import!B813,Mapping!D:F,2,FALSE),\"Cpte à créer dans Mapping\")),\"Cpte à reclasser\"))","v":""}]
[{"$f":"IF(ISBLANK(Import!E814),\"\",Import!E814)","v":""},{"$f":"IF(ISBLANK(Import!E814),\"\",(IFERROR(VLOOKUP(Import!C814,Mapping!C:F,1,FALSE),\"HF, à reclasser\")))","v":""},{"$f":"IF(ISBLANK(Import!E814),\"\",IF(B811=(LEFT(A811,3)),(IFERROR(VLOOKUP(Import!B814,Mapping!D:F,2,FALSE),\"Cpte à créer dans Mapping\")),\"Cpte à reclasser\"))","v":""}]
[{"$f":"IF(ISBLANK(Import!E815),\"\",Import!E815)","v":""},{"$f":"IF(ISBLANK(Import!E815),\"\",(IFERROR(VLOOKUP(Import!C815,Mapping!C:F,1,FALSE),\"HF, à reclasser\")))","v":""},{"$f":"IF(ISBLANK(Import!E815),\"\",IF(B812=(LEFT(A812,3)),(IFERROR(VLOOKUP(Import!B815,Mapping!D:F,2,FALSE),\"Cpte à créer dans Mapping\")),\"Cpte à reclasser\"))","v":""}]
[{"$f":"IF(ISBLANK(Import!E816),\"\",Import!E816)","v":""},{"$f":"IF(ISBLANK(Import!E816),\"\",(IFERROR(VLOOKUP(Import!C816,Mapping!C:F,1,FALSE),\"HF, à reclasser\")))","v":""},{"$f":"IF(ISBLANK(Import!E816),\"\",IF(B813=(LEFT(A813,3)),(IFERROR(VLOOKUP(Import!B816,Mapping!D:F,2,FALSE),\"Cpte à créer dans Mapping\")),\"Cpte à reclasser\"))","v":""}]
[{"$f":"IF(ISBLANK(Import!E817),\"\",Import!E817)","v":""},{"$f":"IF(ISBLANK(Import!E817),\"\",(IFERROR(VLOOKUP(Import!C817,Mapping!C:F,1,FALSE),\"HF, à reclasser\")))","v":""},{"$f":"IF(ISBLANK(Import!E817),\"\",IF(B814=(LEFT(A814,3)),(IFERROR(VLOOKUP(Import!B817,Mapping!D:F,2,FALSE),\"Cpte à créer dans Mapping\")),\"Cpte à reclasser\"))","v":""}]
[{"$f":"IF(ISBLANK(Import!E818),\"\",Import!E818)","v":""},{"$f":"IF(ISBLANK(Import!E818),\"\",(IFERROR(VLOOKUP(Import!C818,Mapping!C:F,1,FALSE),\"HF, à reclasser\")))","v":""},{"$f":"IF(ISBLANK(Import!E818),\"\",IF(B815=(LEFT(A815,3)),(IFERROR(VLOOKUP(Import!B818,Mapping!D:F,2,FALSE),\"Cpte à créer dans Mapping\")),\"Cpte à reclasser\"))","v":""}]
[{"$f":"IF(ISBLANK(Import!E819),\"\",Import!E819)","v":""},{"$f":"IF(ISBLANK(Import!E819),\"\",(IFERROR(VLOOKUP(Import!C819,Mapping!C:F,1,FALSE),\"HF, à reclasser\")))","v":""},{"$f":"IF(ISBLANK(Import!E819),\"\",IF(B816=(LEFT(A816,3)),(IFERROR(VLOOKUP(Import!B819,Mapping!D:F,2,FALSE),\"Cpte à créer dans Mapping\")),\"Cpte à reclasser\"))","v":""}]
[{"$f":"IF(ISBLANK(Import!E820),\"\",Import!E820)","v":""},{"$f":"IF(ISBLANK(Import!E820),\"\",(IFERROR(VLOOKUP(Import!C820,Mapping!C:F,1,FALSE),\"HF, à reclasser\")))","v":""},{"$f":"IF(ISBLANK(Import!E820),\"\",IF(B817=(LEFT(A817,3)),(IFERROR(VLOOKUP(Import!B820,Mapping!D:F,2,FALSE),\"Cpte à créer dans Mapping\")),\"Cpte à reclasser\"))","v":""}]
[{"$f":"IF(ISBLANK(Import!E821),\"\",Import!E821)","v":""},{"$f":"IF(ISBLANK(Import!E821),\"\",(IFERROR(VLOOKUP(Import!C821,Mapping!C:F,1,FALSE),\"HF, à reclasser\")))","v":""},{"$f":"IF(ISBLANK(Import!E821),\"\",IF(B818=(LEFT(A818,3)),(IFERROR(VLOOKUP(Import!B821,Mapping!D:F,2,FALSE),\"Cpte à créer dans Mapping\")),\"Cpte à reclasser\"))","v":""}]
[{"$f":"IF(ISBLANK(Import!E822),\"\",Import!E822)","v":""},{"$f":"IF(ISBLANK(Import!E822),\"\",(IFERROR(VLOOKUP(Import!C822,Mapping!C:F,1,FALSE),\"HF, à reclasser\")))","v":""},{"$f":"IF(ISBLANK(Import!E822),\"\",IF(B819=(LEFT(A819,3)),(IFERROR(VLOOKUP(Import!B822,Mapping!D:F,2,FALSE),\"Cpte à créer dans Mapping\")),\"Cpte à reclasser\"))","v":""}]
[{"$f":"IF(ISBLANK(Import!E823),\"\",Import!E823)","v":""},{"$f":"IF(ISBLANK(Import!E823),\"\",(IFERROR(VLOOKUP(Import!C823,Mapping!C:F,1,FALSE),\"HF, à reclasser\")))","v":""},{"$f":"IF(ISBLANK(Import!E823),\"\",IF(B820=(LEFT(A820,3)),(IFERROR(VLOOKUP(Import!B823,Mapping!D:F,2,FALSE),\"Cpte à créer dans Mapping\")),\"Cpte à reclasser\"))","v":""}]
[{"$f":"IF(ISBLANK(Import!E824),\"\",Import!E824)","v":""},{"$f":"IF(ISBLANK(Import!E824),\"\",(IFERROR(VLOOKUP(Import!C824,Mapping!C:F,1,FALSE),\"HF, à reclasser\")))","v":""},{"$f":"IF(ISBLANK(Import!E824),\"\",IF(B821=(LEFT(A821,3)),(IFERROR(VLOOKUP(Import!B824,Mapping!D:F,2,FALSE),\"Cpte à créer dans Mapping\")),\"Cpte à reclasser\"))","v":""}]
[{"$f":"IF(ISBLANK(Import!E825),\"\",Import!E825)","v":""},{"$f":"IF(ISBLANK(Import!E825),\"\",(IFERROR(VLOOKUP(Import!C825,Mapping!C:F,1,FALSE),\"HF, à reclasser\")))","v":""},{"$f":"IF(ISBLANK(Import!E825),\"\",IF(B822=(LEFT(A822,3)),(IFERROR(VLOOKUP(Import!B825,Mapping!D:F,2,FALSE),\"Cpte à créer dans Mapping\")),\"Cpte à reclasser\"))","v":""}]
[{"$f":"IF(ISBLANK(Import!E826),\"\",Import!E826)","v":""},{"$f":"IF(ISBLANK(Import!E826),\"\",(IFERROR(VLOOKUP(Import!C826,Mapping!C:F,1,FALSE),\"HF, à reclasser\")))","v":""},{"$f":"IF(ISBLANK(Import!E826),\"\",IF(B823=(LEFT(A823,3)),(IFERROR(VLOOKUP(Import!B826,Mapping!D:F,2,FALSE),\"Cpte à créer dans Mapping\")),\"Cpte à reclasser\"))","v":""}]
[{"$f":"IF(ISBLANK(Import!E827),\"\",Import!E827)","v":""},{"$f":"IF(ISBLANK(Import!E827),\"\",(IFERROR(VLOOKUP(Import!C827,Mapping!C:F,1,FALSE),\"HF, à reclasser\")))","v":""},{"$f":"IF(ISBLANK(Import!E827),\"\",IF(B824=(LEFT(A824,3)),(IFERROR(VLOOKUP(Import!B827,Mapping!D:F,2,FALSE),\"Cpte à créer dans Mapping\")),\"Cpte à reclasser\"))","v":""}]
[{"$f":"IF(ISBLANK(Import!E828),\"\",Import!E828)","v":""},{"$f":"IF(ISBLANK(Import!E828),\"\",(IFERROR(VLOOKUP(Import!C828,Mapping!C:F,1,FALSE),\"HF, à reclasser\")))","v":""},{"$f":"IF(ISBLANK(Import!E828),\"\",IF(B825=(LEFT(A825,3)),(IFERROR(VLOOKUP(Import!B828,Mapping!D:F,2,FALSE),\"Cpte à créer dans Mapping\")),\"Cpte à reclasser\"))","v":""}]
[{"$f":"IF(ISBLANK(Import!E829),\"\",Import!E829)","v":""},{"$f":"IF(ISBLANK(Import!E829),\"\",(IFERROR(VLOOKUP(Import!C829,Mapping!C:F,1,FALSE),\"HF, à reclasser\")))","v":""},{"$f":"IF(ISBLANK(Import!E829),\"\",IF(B826=(LEFT(A826,3)),(IFERROR(VLOOKUP(Import!B829,Mapping!D:F,2,FALSE),\"Cpte à créer dans Mapping\")),\"Cpte à reclasser\"))","v":""}]
[{"$f":"IF(ISBLANK(Import!E830),\"\",Import!E830)","v":""},{"$f":"IF(ISBLANK(Import!E830),\"\",(IFERROR(VLOOKUP(Import!C830,Mapping!C:F,1,FALSE),\"HF, à reclasser\")))","v":""},{"$f":"IF(ISBLANK(Import!E830),\"\",IF(B827=(LEFT(A827,3)),(IFERROR(VLOOKUP(Import!B830,Mapping!D:F,2,FALSE),\"Cpte à créer dans Mapping\")),\"Cpte à reclasser\"))","v":""}]
[{"$f":"IF(ISBLANK(Import!E831),\"\",Import!E831)","v":""},{"$f":"IF(ISBLANK(Import!E831),\"\",(IFERROR(VLOOKUP(Import!C831,Mapping!C:F,1,FALSE),\"HF, à reclasser\")))","v":""},{"$f":"IF(ISBLANK(Import!E831),\"\",IF(B828=(LEFT(A828,3)),(IFERROR(VLOOKUP(Import!B831,Mapping!D:F,2,FALSE),\"Cpte à créer dans Mapping\")),\"Cpte à reclasser\"))","v":""}]
[{"$f":"IF(ISBLANK(Import!E832),\"\",Import!E832)","v":""},{"$f":"IF(ISBLANK(Import!E832),\"\",(IFERROR(VLOOKUP(Import!C832,Mapping!C:F,1,FALSE),\"HF, à reclasser\")))","v":""},{"$f":"IF(ISBLANK(Import!E832),\"\",IF(B829=(LEFT(A829,3)),(IFERROR(VLOOKUP(Import!B832,Mapping!D:F,2,FALSE),\"Cpte à créer dans Mapping\")),\"Cpte à reclasser\"))","v":""}]
[{"$f":"IF(ISBLANK(Import!E833),\"\",Import!E833)","v":""},{"$f":"IF(ISBLANK(Import!E833),\"\",(IFERROR(VLOOKUP(Import!C833,Mapping!C:F,1,FALSE),\"HF, à reclasser\")))","v":""},{"$f":"IF(ISBLANK(Import!E833),\"\",IF(B830=(LEFT(A830,3)),(IFERROR(VLOOKUP(Import!B833,Mapping!D:F,2,FALSE),\"Cpte à créer dans Mapping\")),\"Cpte à reclasser\"))","v":""}]
[{"$f":"IF(ISBLANK(Import!E834),\"\",Import!E834)","v":""},{"$f":"IF(ISBLANK(Import!E834),\"\",(IFERROR(VLOOKUP(Import!C834,Mapping!C:F,1,FALSE),\"HF, à reclasser\")))","v":""},{"$f":"IF(ISBLANK(Import!E834),\"\",IF(B831=(LEFT(A831,3)),(IFERROR(VLOOKUP(Import!B834,Mapping!D:F,2,FALSE),\"Cpte à créer dans Mapping\")),\"Cpte à reclasser\"))","v":""}]
[{"$f":"IF(ISBLANK(Import!E835),\"\",Import!E835)","v":""},{"$f":"IF(ISBLANK(Import!E835),\"\",(IFERROR(VLOOKUP(Import!C835,Mapping!C:F,1,FALSE),\"HF, à reclasser\")))","v":""},{"$f":"IF(ISBLANK(Import!E835),\"\",IF(B832=(LEFT(A832,3)),(IFERROR(VLOOKUP(Import!B835,Mapping!D:F,2,FALSE),\"Cpte à créer dans Mapping\")),\"Cpte à reclasser\"))","v":""}]
[{"$f":"IF(ISBLANK(Import!E836),\"\",Import!E836)","v":""},{"$f":"IF(ISBLANK(Import!E836),\"\",(IFERROR(VLOOKUP(Import!C836,Mapping!C:F,1,FALSE),\"HF, à reclasser\")))","v":""},{"$f":"IF(ISBLANK(Import!E836),\"\",IF(B833=(LEFT(A833,3)),(IFERROR(VLOOKUP(Import!B836,Mapping!D:F,2,FALSE),\"Cpte à créer dans Mapping\")),\"Cpte à reclasser\"))","v":""}]
[{"$f":"IF(ISBLANK(Import!E837),\"\",Import!E837)","v":""},{"$f":"IF(ISBLANK(Import!E837),\"\",(IFERROR(VLOOKUP(Import!C837,Mapping!C:F,1,FALSE),\"HF, à reclasser\")))","v":""},{"$f":"IF(ISBLANK(Import!E837),\"\",IF(B834=(LEFT(A834,3)),(IFERROR(VLOOKUP(Import!B837,Mapping!D:F,2,FALSE),\"Cpte à créer dans Mapping\")),\"Cpte à reclasser\"))","v":""}]
[{"$f":"IF(ISBLANK(Import!E838),\"\",Import!E838)","v":""},{"$f":"IF(ISBLANK(Import!E838),\"\",(IFERROR(VLOOKUP(Import!C838,Mapping!C:F,1,FALSE),\"HF, à reclasser\")))","v":""},{"$f":"IF(ISBLANK(Import!E838),\"\",IF(B835=(LEFT(A835,3)),(IFERROR(VLOOKUP(Import!B838,Mapping!D:F,2,FALSE),\"Cpte à créer dans Mapping\")),\"Cpte à reclasser\"))","v":""}]
[{"$f":"IF(ISBLANK(Import!E839),\"\",Import!E839)","v":""},{"$f":"IF(ISBLANK(Import!E839),\"\",(IFERROR(VLOOKUP(Import!C839,Mapping!C:F,1,FALSE),\"HF, à reclasser\")))","v":""},{"$f":"IF(ISBLANK(Import!E839),\"\",IF(B836=(LEFT(A836,3)),(IFERROR(VLOOKUP(Import!B839,Mapping!D:F,2,FALSE),\"Cpte à créer dans Mapping\")),\"Cpte à reclasser\"))","v":""}]
[{"$f":"IF(ISBLANK(Import!E840),\"\",Import!E840)","v":""},{"$f":"IF(ISBLANK(Import!E840),\"\",(IFERROR(VLOOKUP(Import!C840,Mapping!C:F,1,FALSE),\"HF, à reclasser\")))","v":""},{"$f":"IF(ISBLANK(Import!E840),\"\",IF(B837=(LEFT(A837,3)),(IFERROR(VLOOKUP(Import!B840,Mapping!D:F,2,FALSE),\"Cpte à créer dans Mapping\")),\"Cpte à reclasser\"))","v":""}]
[{"$f":"IF(ISBLANK(Import!E841),\"\",Import!E841)","v":""},{"$f":"IF(ISBLANK(Import!E841),\"\",(IFERROR(VLOOKUP(Import!C841,Mapping!C:F,1,FALSE),\"HF, à reclasser\")))","v":""},{"$f":"IF(ISBLANK(Import!E841),\"\",IF(B838=(LEFT(A838,3)),(IFERROR(VLOOKUP(Import!B841,Mapping!D:F,2,FALSE),\"Cpte à créer dans Mapping\")),\"Cpte à reclasser\"))","v":""}]
[{"$f":"IF(ISBLANK(Import!E842),\"\",Import!E842)","v":""},{"$f":"IF(ISBLANK(Import!E842),\"\",(IFERROR(VLOOKUP(Import!C842,Mapping!C:F,1,FALSE),\"HF, à reclasser\")))","v":""},{"$f":"IF(ISBLANK(Import!E842),\"\",IF(B839=(LEFT(A839,3)),(IFERROR(VLOOKUP(Import!B842,Mapping!D:F,2,FALSE),\"Cpte à créer dans Mapping\")),\"Cpte à reclasser\"))","v":""}]
[{"$f":"IF(ISBLANK(Import!E843),\"\",Import!E843)","v":""},{"$f":"IF(ISBLANK(Import!E843),\"\",(IFERROR(VLOOKUP(Import!C843,Mapping!C:F,1,FALSE),\"HF, à reclasser\")))","v":""},{"$f":"IF(ISBLANK(Import!E843),\"\",IF(B840=(LEFT(A840,3)),(IFERROR(VLOOKUP(Import!B843,Mapping!D:F,2,FALSE),\"Cpte à créer dans Mapping\")),\"Cpte à reclasser\"))","v":""}]
[{"$f":"IF(ISBLANK(Import!E844),\"\",Import!E844)","v":""},{"$f":"IF(ISBLANK(Import!E844),\"\",(IFERROR(VLOOKUP(Import!C844,Mapping!C:F,1,FALSE),\"HF, à reclasser\")))","v":""},{"$f":"IF(ISBLANK(Import!E844),\"\",IF(B841=(LEFT(A841,3)),(IFERROR(VLOOKUP(Import!B844,Mapping!D:F,2,FALSE),\"Cpte à créer dans Mapping\")),\"Cpte à reclasser\"))","v":""}]
[{"$f":"IF(ISBLANK(Import!E845),\"\",Import!E845)","v":""},{"$f":"IF(ISBLANK(Import!E845),\"\",(IFERROR(VLOOKUP(Import!C845,Mapping!C:F,1,FALSE),\"HF, à reclasser\")))","v":""},{"$f":"IF(ISBLANK(Import!E845),\"\",IF(B842=(LEFT(A842,3)),(IFERROR(VLOOKUP(Import!B845,Mapping!D:F,2,FALSE),\"Cpte à créer dans Mapping\")),\"Cpte à reclasser\"))","v":""}]
[{"$f":"IF(ISBLANK(Import!E846),\"\",Import!E846)","v":""},{"$f":"IF(ISBLANK(Import!E846),\"\",(IFERROR(VLOOKUP(Import!C846,Mapping!C:F,1,FALSE),\"HF, à reclasser\")))","v":""},{"$f":"IF(ISBLANK(Import!E846),\"\",IF(B843=(LEFT(A843,3)),(IFERROR(VLOOKUP(Import!B846,Mapping!D:F,2,FALSE),\"Cpte à créer dans Mapping\")),\"Cpte à reclasser\"))","v":""}]
[{"$f":"IF(ISBLANK(Import!E847),\"\",Import!E847)","v":""},{"$f":"IF(ISBLANK(Import!E847),\"\",(IFERROR(VLOOKUP(Import!C847,Mapping!C:F,1,FALSE),\"HF, à reclasser\")))","v":""},{"$f":"IF(ISBLANK(Import!E847),\"\",IF(B844=(LEFT(A844,3)),(IFERROR(VLOOKUP(Import!B847,Mapping!D:F,2,FALSE),\"Cpte à créer dans Mapping\")),\"Cpte à reclasser\"))","v":""}]
[{"$f":"IF(ISBLANK(Import!E848),\"\",Import!E848)","v":""},{"$f":"IF(ISBLANK(Import!E848),\"\",(IFERROR(VLOOKUP(Import!C848,Mapping!C:F,1,FALSE),\"HF, à reclasser\")))","v":""},{"$f":"IF(ISBLANK(Import!E848),\"\",IF(B845=(LEFT(A845,3)),(IFERROR(VLOOKUP(Import!B848,Mapping!D:F,2,FALSE),\"Cpte à créer dans Mapping\")),\"Cpte à reclasser\"))","v":""}]
[{"$f":"IF(ISBLANK(Import!E849),\"\",Import!E849)","v":""},{"$f":"IF(ISBLANK(Import!E849),\"\",(IFERROR(VLOOKUP(Import!C849,Mapping!C:F,1,FALSE),\"HF, à reclasser\")))","v":""},{"$f":"IF(ISBLANK(Import!E849),\"\",IF(B846=(LEFT(A846,3)),(IFERROR(VLOOKUP(Import!B849,Mapping!D:F,2,FALSE),\"Cpte à créer dans Mapping\")),\"Cpte à reclasser\"))","v":""}]
[{"$f":"IF(ISBLANK(Import!E850),\"\",Import!E850)","v":""},{"$f":"IF(ISBLANK(Import!E850),\"\",(IFERROR(VLOOKUP(Import!C850,Mapping!C:F,1,FALSE),\"HF, à reclasser\")))","v":""},{"$f":"IF(ISBLANK(Import!E850),\"\",IF(B847=(LEFT(A847,3)),(IFERROR(VLOOKUP(Import!B850,Mapping!D:F,2,FALSE),\"Cpte à créer dans Mapping\")),\"Cpte à reclasser\"))","v":""}]
[{"$f":"IF(ISBLANK(Import!E851),\"\",Import!E851)","v":""},{"$f":"IF(ISBLANK(Import!E851),\"\",(IFERROR(VLOOKUP(Import!C851,Mapping!C:F,1,FALSE),\"HF, à reclasser\")))","v":""},{"$f":"IF(ISBLANK(Import!E851),\"\",IF(B848=(LEFT(A848,3)),(IFERROR(VLOOKUP(Import!B851,Mapping!D:F,2,FALSE),\"Cpte à créer dans Mapping\")),\"Cpte à reclasser\"))","v":""}]
[{"$f":"IF(ISBLANK(Import!E852),\"\",Import!E852)","v":""},{"$f":"IF(ISBLANK(Import!E852),\"\",(IFERROR(VLOOKUP(Import!C852,Mapping!C:F,1,FALSE),\"HF, à reclasser\")))","v":""},{"$f":"IF(ISBLANK(Import!E852),\"\",IF(B849=(LEFT(A849,3)),(IFERROR(VLOOKUP(Import!B852,Mapping!D:F,2,FALSE),\"Cpte à créer dans Mapping\")),\"Cpte à reclasser\"))","v":""}]
[{"$f":"IF(ISBLANK(Import!E853),\"\",Import!E853)","v":""},{"$f":"IF(ISBLANK(Import!E853),\"\",(IFERROR(VLOOKUP(Import!C853,Mapping!C:F,1,FALSE),\"HF, à reclasser\")))","v":""},{"$f":"IF(ISBLANK(Import!E853),\"\",IF(B850=(LEFT(A850,3)),(IFERROR(VLOOKUP(Import!B853,Mapping!D:F,2,FALSE),\"Cpte à créer dans Mapping\")),\"Cpte à reclasser\"))","v":""}]
[{"$f":"IF(ISBLANK(Import!E854),\"\",Import!E854)","v":""},{"$f":"IF(ISBLANK(Import!E854),\"\",(IFERROR(VLOOKUP(Import!C854,Mapping!C:F,1,FALSE),\"HF, à reclasser\")))","v":""},{"$f":"IF(ISBLANK(Import!E854),\"\",IF(B851=(LEFT(A851,3)),(IFERROR(VLOOKUP(Import!B854,Mapping!D:F,2,FALSE),\"Cpte à créer dans Mapping\")),\"Cpte à reclasser\"))","v":""}]
[{"$f":"IF(ISBLANK(Import!E855),\"\",Import!E855)","v":""},{"$f":"IF(ISBLANK(Import!E855),\"\",(IFERROR(VLOOKUP(Import!C855,Mapping!C:F,1,FALSE),\"HF, à reclasser\")))","v":""},{"$f":"IF(ISBLANK(Import!E855),\"\",IF(B852=(LEFT(A852,3)),(IFERROR(VLOOKUP(Import!B855,Mapping!D:F,2,FALSE),\"Cpte à créer dans Mapping\")),\"Cpte à reclasser\"))","v":""}]
[{"$f":"IF(ISBLANK(Import!E856),\"\",Import!E856)","v":""},{"$f":"IF(ISBLANK(Import!E856),\"\",(IFERROR(VLOOKUP(Import!C856,Mapping!C:F,1,FALSE),\"HF, à reclasser\")))","v":""},{"$f":"IF(ISBLANK(Import!E856),\"\",IF(B853=(LEFT(A853,3)),(IFERROR(VLOOKUP(Import!B856,Mapping!D:F,2,FALSE),\"Cpte à créer dans Mapping\")),\"Cpte à reclasser\"))","v":""}]
[{"$f":"IF(ISBLANK(Import!E857),\"\",Import!E857)","v":""},{"$f":"IF(ISBLANK(Import!E857),\"\",(IFERROR(VLOOKUP(Import!C857,Mapping!C:F,1,FALSE),\"HF, à reclasser\")))","v":""},{"$f":"IF(ISBLANK(Import!E857),\"\",IF(B854=(LEFT(A854,3)),(IFERROR(VLOOKUP(Import!B857,Mapping!D:F,2,FALSE),\"Cpte à créer dans Mapping\")),\"Cpte à reclasser\"))","v":""}]
[{"$f":"IF(ISBLANK(Import!E858),\"\",Import!E858)","v":""},{"$f":"IF(ISBLANK(Import!E858),\"\",(IFERROR(VLOOKUP(Import!C858,Mapping!C:F,1,FALSE),\"HF, à reclasser\")))","v":""},{"$f":"IF(ISBLANK(Import!E858),\"\",IF(B855=(LEFT(A855,3)),(IFERROR(VLOOKUP(Import!B858,Mapping!D:F,2,FALSE),\"Cpte à créer dans Mapping\")),\"Cpte à reclasser\"))","v":""}]
[{"$f":"IF(ISBLANK(Import!E859),\"\",Import!E859)","v":""},{"$f":"IF(ISBLANK(Import!E859),\"\",(IFERROR(VLOOKUP(Import!C859,Mapping!C:F,1,FALSE),\"HF, à reclasser\")))","v":""},{"$f":"IF(ISBLANK(Import!E859),\"\",IF(B856=(LEFT(A856,3)),(IFERROR(VLOOKUP(Import!B859,Mapping!D:F,2,FALSE),\"Cpte à créer dans Mapping\")),\"Cpte à reclasser\"))","v":""}]
[{"$f":"IF(ISBLANK(Import!E860),\"\",Import!E860)","v":""},{"$f":"IF(ISBLANK(Import!E860),\"\",(IFERROR(VLOOKUP(Import!C860,Mapping!C:F,1,FALSE),\"HF, à reclasser\")))","v":""},{"$f":"IF(ISBLANK(Import!E860),\"\",IF(B857=(LEFT(A857,3)),(IFERROR(VLOOKUP(Import!B860,Mapping!D:F,2,FALSE),\"Cpte à créer dans Mapping\")),\"Cpte à reclasser\"))","v":""}]
[{"$f":"IF(ISBLANK(Import!E861),\"\",Import!E861)","v":""},{"$f":"IF(ISBLANK(Import!E861),\"\",(IFERROR(VLOOKUP(Import!C861,Mapping!C:F,1,FALSE),\"HF, à reclasser\")))","v":""},{"$f":"IF(ISBLANK(Import!E861),\"\",IF(B858=(LEFT(A858,3)),(IFERROR(VLOOKUP(Import!B861,Mapping!D:F,2,FALSE),\"Cpte à créer dans Mapping\")),\"Cpte à reclasser\"))","v":""}]
[{"$f":"IF(ISBLANK(Import!E862),\"\",Import!E862)","v":""},{"$f":"IF(ISBLANK(Import!E862),\"\",(IFERROR(VLOOKUP(Import!C862,Mapping!C:F,1,FALSE),\"HF, à reclasser\")))","v":""},{"$f":"IF(ISBLANK(Import!E862),\"\",IF(B859=(LEFT(A859,3)),(IFERROR(VLOOKUP(Import!B862,Mapping!D:F,2,FALSE),\"Cpte à créer dans Mapping\")),\"Cpte à reclasser\"))","v":""}]
[{"$f":"IF(ISBLANK(Import!E863),\"\",Import!E863)","v":""},{"$f":"IF(ISBLANK(Import!E863),\"\",(IFERROR(VLOOKUP(Import!C863,Mapping!C:F,1,FALSE),\"HF, à reclasser\")))","v":""},{"$f":"IF(ISBLANK(Import!E863),\"\",IF(B860=(LEFT(A860,3)),(IFERROR(VLOOKUP(Import!B863,Mapping!D:F,2,FALSE),\"Cpte à créer dans Mapping\")),\"Cpte à reclasser\"))","v":""}]
[{"$f":"IF(ISBLANK(Import!E864),\"\",Import!E864)","v":""},{"$f":"IF(ISBLANK(Import!E864),\"\",(IFERROR(VLOOKUP(Import!C864,Mapping!C:F,1,FALSE),\"HF, à reclasser\")))","v":""},{"$f":"IF(ISBLANK(Import!E864),\"\",IF(B861=(LEFT(A861,3)),(IFERROR(VLOOKUP(Import!B864,Mapping!D:F,2,FALSE),\"Cpte à créer dans Mapping\")),\"Cpte à reclasser\"))","v":""}]
[{"$f":"IF(ISBLANK(Import!E865),\"\",Import!E865)","v":""},{"$f":"IF(ISBLANK(Import!E865),\"\",(IFERROR(VLOOKUP(Import!C865,Mapping!C:F,1,FALSE),\"HF, à reclasser\")))","v":""},{"$f":"IF(ISBLANK(Import!E865),\"\",IF(B862=(LEFT(A862,3)),(IFERROR(VLOOKUP(Import!B865,Mapping!D:F,2,FALSE),\"Cpte à créer dans Mapping\")),\"Cpte à reclasser\"))","v":""}]
[{"$f":"IF(ISBLANK(Import!E866),\"\",Import!E866)","v":""},{"$f":"IF(ISBLANK(Import!E866),\"\",(IFERROR(VLOOKUP(Import!C866,Mapping!C:F,1,FALSE),\"HF, à reclasser\")))","v":""},{"$f":"IF(ISBLANK(Import!E866),\"\",IF(B863=(LEFT(A863,3)),(IFERROR(VLOOKUP(Import!B866,Mapping!D:F,2,FALSE),\"Cpte à créer dans Mapping\")),\"Cpte à reclasser\"))","v":""}]
[{"$f":"IF(ISBLANK(Import!E867),\"\",Import!E867)","v":""},{"$f":"IF(ISBLANK(Import!E867),\"\",(IFERROR(VLOOKUP(Import!C867,Mapping!C:F,1,FALSE),\"HF, à reclasser\")))","v":""},{"$f":"IF(ISBLANK(Import!E867),\"\",IF(B864=(LEFT(A864,3)),(IFERROR(VLOOKUP(Import!B867,Mapping!D:F,2,FALSE),\"Cpte à créer dans Mapping\")),\"Cpte à reclasser\"))","v":""}]
[{"$f":"IF(ISBLANK(Import!E868),\"\",Import!E868)","v":""},{"$f":"IF(ISBLANK(Import!E868),\"\",(IFERROR(VLOOKUP(Import!C868,Mapping!C:F,1,FALSE),\"HF, à reclasser\")))","v":""},{"$f":"IF(ISBLANK(Import!E868),\"\",IF(B865=(LEFT(A865,3)),(IFERROR(VLOOKUP(Import!B868,Mapping!D:F,2,FALSE),\"Cpte à créer dans Mapping\")),\"Cpte à reclasser\"))","v":""}]
[{"$f":"IF(ISBLANK(Import!E869),\"\",Import!E869)","v":""},{"$f":"IF(ISBLANK(Import!E869),\"\",(IFERROR(VLOOKUP(Import!C869,Mapping!C:F,1,FALSE),\"HF, à reclasser\")))","v":""},{"$f":"IF(ISBLANK(Import!E869),\"\",IF(B866=(LEFT(A866,3)),(IFERROR(VLOOKUP(Import!B869,Mapping!D:F,2,FALSE),\"Cpte à créer dans Mapping\")),\"Cpte à reclasser\"))","v":""}]
[{"$f":"IF(ISBLANK(Import!E870),\"\",Import!E870)","v":""},{"$f":"IF(ISBLANK(Import!E870),\"\",(IFERROR(VLOOKUP(Import!C870,Mapping!C:F,1,FALSE),\"HF, à reclasser\")))","v":""},{"$f":"IF(ISBLANK(Import!E870),\"\",IF(B867=(LEFT(A867,3)),(IFERROR(VLOOKUP(Import!B870,Mapping!D:F,2,FALSE),\"Cpte à créer dans Mapping\")),\"Cpte à reclasser\"))","v":""}]
[{"$f":"IF(ISBLANK(Import!E871),\"\",Import!E871)","v":""},{"$f":"IF(ISBLANK(Import!E871),\"\",(IFERROR(VLOOKUP(Import!C871,Mapping!C:F,1,FALSE),\"HF, à reclasser\")))","v":""},{"$f":"IF(ISBLANK(Import!E871),\"\",IF(B868=(LEFT(A868,3)),(IFERROR(VLOOKUP(Import!B871,Mapping!D:F,2,FALSE),\"Cpte à créer dans Mapping\")),\"Cpte à reclasser\"))","v":""}]
[{"$f":"IF(ISBLANK(Import!E872),\"\",Import!E872)","v":""},{"$f":"IF(ISBLANK(Import!E872),\"\",(IFERROR(VLOOKUP(Import!C872,Mapping!C:F,1,FALSE),\"HF, à reclasser\")))","v":""},{"$f":"IF(ISBLANK(Import!E872),\"\",IF(B869=(LEFT(A869,3)),(IFERROR(VLOOKUP(Import!B872,Mapping!D:F,2,FALSE),\"Cpte à créer dans Mapping\")),\"Cpte à reclasser\"))","v":""}]
[{"$f":"IF(ISBLANK(Import!E873),\"\",Import!E873)","v":""},{"$f":"IF(ISBLANK(Import!E873),\"\",(IFERROR(VLOOKUP(Import!C873,Mapping!C:F,1,FALSE),\"HF, à reclasser\")))","v":""},{"$f":"IF(ISBLANK(Import!E873),\"\",IF(B870=(LEFT(A870,3)),(IFERROR(VLOOKUP(Import!B873,Mapping!D:F,2,FALSE),\"Cpte à créer dans Mapping\")),\"Cpte à reclasser\"))","v":""}]
[{"$f":"IF(ISBLANK(Import!E874),\"\",Import!E874)","v":""},{"$f":"IF(ISBLANK(Import!E874),\"\",(IFERROR(VLOOKUP(Import!C874,Mapping!C:F,1,FALSE),\"HF, à reclasser\")))","v":""},{"$f":"IF(ISBLANK(Import!E874),\"\",IF(B871=(LEFT(A871,3)),(IFERROR(VLOOKUP(Import!B874,Mapping!D:F,2,FALSE),\"Cpte à créer dans Mapping\")),\"Cpte à reclasser\"))","v":""}]
[{"$f":"IF(ISBLANK(Import!E875),\"\",Import!E875)","v":""},{"$f":"IF(ISBLANK(Import!E875),\"\",(IFERROR(VLOOKUP(Import!C875,Mapping!C:F,1,FALSE),\"HF, à reclasser\")))","v":""},{"$f":"IF(ISBLANK(Import!E875),\"\",IF(B872=(LEFT(A872,3)),(IFERROR(VLOOKUP(Import!B875,Mapping!D:F,2,FALSE),\"Cpte à créer dans Mapping\")),\"Cpte à reclasser\"))","v":""}]
[{"$f":"IF(ISBLANK(Import!E876),\"\",Import!E876)","v":""},{"$f":"IF(ISBLANK(Import!E876),\"\",(IFERROR(VLOOKUP(Import!C876,Mapping!C:F,1,FALSE),\"HF, à reclasser\")))","v":""},{"$f":"IF(ISBLANK(Import!E876),\"\",IF(B873=(LEFT(A873,3)),(IFERROR(VLOOKUP(Import!B876,Mapping!D:F,2,FALSE),\"Cpte à créer dans Mapping\")),\"Cpte à reclasser\"))","v":""}]
[{"$f":"IF(ISBLANK(Import!E877),\"\",Import!E877)","v":""},{"$f":"IF(ISBLANK(Import!E877),\"\",(IFERROR(VLOOKUP(Import!C877,Mapping!C:F,1,FALSE),\"HF, à reclasser\")))","v":""},{"$f":"IF(ISBLANK(Import!E877),\"\",IF(B874=(LEFT(A874,3)),(IFERROR(VLOOKUP(Import!B877,Mapping!D:F,2,FALSE),\"Cpte à créer dans Mapping\")),\"Cpte à reclasser\"))","v":""}]
[{"$f":"IF(ISBLANK(Import!E878),\"\",Import!E878)","v":""},{"$f":"IF(ISBLANK(Import!E878),\"\",(IFERROR(VLOOKUP(Import!C878,Mapping!C:F,1,FALSE),\"HF, à reclasser\")))","v":""},{"$f":"IF(ISBLANK(Import!E878),\"\",IF(B875=(LEFT(A875,3)),(IFERROR(VLOOKUP(Import!B878,Mapping!D:F,2,FALSE),\"Cpte à créer dans Mapping\")),\"Cpte à reclasser\"))","v":""}]
[{"$f":"IF(ISBLANK(Import!E879),\"\",Import!E879)","v":""},{"$f":"IF(ISBLANK(Import!E879),\"\",(IFERROR(VLOOKUP(Import!C879,Mapping!C:F,1,FALSE),\"HF, à reclasser\")))","v":""},{"$f":"IF(ISBLANK(Import!E879),\"\",IF(B876=(LEFT(A876,3)),(IFERROR(VLOOKUP(Import!B879,Mapping!D:F,2,FALSE),\"Cpte à créer dans Mapping\")),\"Cpte à reclasser\"))","v":""}]
[{"$f":"IF(ISBLANK(Import!E880),\"\",Import!E880)","v":""},{"$f":"IF(ISBLANK(Import!E880),\"\",(IFERROR(VLOOKUP(Import!C880,Mapping!C:F,1,FALSE),\"HF, à reclasser\")))","v":""},{"$f":"IF(ISBLANK(Import!E880),\"\",IF(B877=(LEFT(A877,3)),(IFERROR(VLOOKUP(Import!B880,Mapping!D:F,2,FALSE),\"Cpte à créer dans Mapping\")),\"Cpte à reclasser\"))","v":""}]
[{"$f":"IF(ISBLANK(Import!E881),\"\",Import!E881)","v":""},{"$f":"IF(ISBLANK(Import!E881),\"\",(IFERROR(VLOOKUP(Import!C881,Mapping!C:F,1,FALSE),\"HF, à reclasser\")))","v":""},{"$f":"IF(ISBLANK(Import!E881),\"\",IF(B878=(LEFT(A878,3)),(IFERROR(VLOOKUP(Import!B881,Mapping!D:F,2,FALSE),\"Cpte à créer dans Mapping\")),\"Cpte à reclasser\"))","v":""}]
[{"$f":"IF(ISBLANK(Import!E882),\"\",Import!E882)","v":""},{"$f":"IF(ISBLANK(Import!E882),\"\",(IFERROR(VLOOKUP(Import!C882,Mapping!C:F,1,FALSE),\"HF, à reclasser\")))","v":""},{"$f":"IF(ISBLANK(Import!E882),\"\",IF(B879=(LEFT(A879,3)),(IFERROR(VLOOKUP(Import!B882,Mapping!D:F,2,FALSE),\"Cpte à créer dans Mapping\")),\"Cpte à reclasser\"))","v":""}]
[{"$f":"IF(ISBLANK(Import!E883),\"\",Import!E883)","v":""},{"$f":"IF(ISBLANK(Import!E883),\"\",(IFERROR(VLOOKUP(Import!C883,Mapping!C:F,1,FALSE),\"HF, à reclasser\")))","v":""},{"$f":"IF(ISBLANK(Import!E883),\"\",IF(B880=(LEFT(A880,3)),(IFERROR(VLOOKUP(Import!B883,Mapping!D:F,2,FALSE),\"Cpte à créer dans Mapping\")),\"Cpte à reclasser\"))","v":""}]
[{"$f":"IF(ISBLANK(Import!E884),\"\",Import!E884)","v":""},{"$f":"IF(ISBLANK(Import!E884),\"\",(IFERROR(VLOOKUP(Import!C884,Mapping!C:F,1,FALSE),\"HF, à reclasser\")))","v":""},{"$f":"IF(ISBLANK(Import!E884),\"\",IF(B881=(LEFT(A881,3)),(IFERROR(VLOOKUP(Import!B884,Mapping!D:F,2,FALSE),\"Cpte à créer dans Mapping\")),\"Cpte à reclasser\"))","v":""}]
[{"$f":"IF(ISBLANK(Import!E885),\"\",Import!E885)","v":""},{"$f":"IF(ISBLANK(Import!E885),\"\",(IFERROR(VLOOKUP(Import!C885,Mapping!C:F,1,FALSE),\"HF, à reclasser\")))","v":""},{"$f":"IF(ISBLANK(Import!E885),\"\",IF(B882=(LEFT(A882,3)),(IFERROR(VLOOKUP(Import!B885,Mapping!D:F,2,FALSE),\"Cpte à créer dans Mapping\")),\"Cpte à reclasser\"))","v":""}]
[{"$f":"IF(ISBLANK(Import!E886),\"\",Import!E886)","v":""},{"$f":"IF(ISBLANK(Import!E886),\"\",(IFERROR(VLOOKUP(Import!C886,Mapping!C:F,1,FALSE),\"HF, à reclasser\")))","v":""},{"$f":"IF(ISBLANK(Import!E886),\"\",IF(B883=(LEFT(A883,3)),(IFERROR(VLOOKUP(Import!B886,Mapping!D:F,2,FALSE),\"Cpte à créer dans Mapping\")),\"Cpte à reclasser\"))","v":""}]
[{"$f":"IF(ISBLANK(Import!E887),\"\",Import!E887)","v":""},{"$f":"IF(ISBLANK(Import!E887),\"\",(IFERROR(VLOOKUP(Import!C887,Mapping!C:F,1,FALSE),\"HF, à reclasser\")))","v":""},{"$f":"IF(ISBLANK(Import!E887),\"\",IF(B884=(LEFT(A884,3)),(IFERROR(VLOOKUP(Import!B887,Mapping!D:F,2,FALSE),\"Cpte à créer dans Mapping\")),\"Cpte à reclasser\"))","v":""}]
[{"$f":"IF(ISBLANK(Import!E888),\"\",Import!E888)","v":""},{"$f":"IF(ISBLANK(Import!E888),\"\",(IFERROR(VLOOKUP(Import!C888,Mapping!C:F,1,FALSE),\"HF, à reclasser\")))","v":""},{"$f":"IF(ISBLANK(Import!E888),\"\",IF(B885=(LEFT(A885,3)),(IFERROR(VLOOKUP(Import!B888,Mapping!D:F,2,FALSE),\"Cpte à créer dans Mapping\")),\"Cpte à reclasser\"))","v":""}]
[{"$f":"IF(ISBLANK(Import!E889),\"\",Import!E889)","v":""},{"$f":"IF(ISBLANK(Import!E889),\"\",(IFERROR(VLOOKUP(Import!C889,Mapping!C:F,1,FALSE),\"HF, à reclasser\")))","v":""},{"$f":"IF(ISBLANK(Import!E889),\"\",IF(B886=(LEFT(A886,3)),(IFERROR(VLOOKUP(Import!B889,Mapping!D:F,2,FALSE),\"Cpte à créer dans Mapping\")),\"Cpte à reclasser\"))","v":""}]
[{"$f":"IF(ISBLANK(Import!E890),\"\",Import!E890)","v":""},{"$f":"IF(ISBLANK(Import!E890),\"\",(IFERROR(VLOOKUP(Import!C890,Mapping!C:F,1,FALSE),\"HF, à reclasser\")))","v":""},{"$f":"IF(ISBLANK(Import!E890),\"\",IF(B887=(LEFT(A887,3)),(IFERROR(VLOOKUP(Import!B890,Mapping!D:F,2,FALSE),\"Cpte à créer dans Mapping\")),\"Cpte à reclasser\"))","v":""}]
[{"$f":"IF(ISBLANK(Import!E891),\"\",Import!E891)","v":""},{"$f":"IF(ISBLANK(Import!E891),\"\",(IFERROR(VLOOKUP(Import!C891,Mapping!C:F,1,FALSE),\"HF, à reclasser\")))","v":""},{"$f":"IF(ISBLANK(Import!E891),\"\",IF(B888=(LEFT(A888,3)),(IFERROR(VLOOKUP(Import!B891,Mapping!D:F,2,FALSE),\"Cpte à créer dans Mapping\")),\"Cpte à reclasser\"))","v":""}]
[{"$f":"IF(ISBLANK(Import!E892),\"\",Import!E892)","v":""},{"$f":"IF(ISBLANK(Import!E892),\"\",(IFERROR(VLOOKUP(Import!C892,Mapping!C:F,1,FALSE),\"HF, à reclasser\")))","v":""},{"$f":"IF(ISBLANK(Import!E892),\"\",IF(B889=(LEFT(A889,3)),(IFERROR(VLOOKUP(Import!B892,Mapping!D:F,2,FALSE),\"Cpte à créer dans Mapping\")),\"Cpte à reclasser\"))","v":""}]
[{"$f":"IF(ISBLANK(Import!E893),\"\",Import!E893)","v":""},{"$f":"IF(ISBLANK(Import!E893),\"\",(IFERROR(VLOOKUP(Import!C893,Mapping!C:F,1,FALSE),\"HF, à reclasser\")))","v":""},{"$f":"IF(ISBLANK(Import!E893),\"\",IF(B890=(LEFT(A890,3)),(IFERROR(VLOOKUP(Import!B893,Mapping!D:F,2,FALSE),\"Cpte à créer dans Mapping\")),\"Cpte à reclasser\"))","v":""}]
[{"$f":"IF(ISBLANK(Import!E894),\"\",Import!E894)","v":""},{"$f":"IF(ISBLANK(Import!E894),\"\",(IFERROR(VLOOKUP(Import!C894,Mapping!C:F,1,FALSE),\"HF, à reclasser\")))","v":""},{"$f":"IF(ISBLANK(Import!E894),\"\",IF(B891=(LEFT(A891,3)),(IFERROR(VLOOKUP(Import!B894,Mapping!D:F,2,FALSE),\"Cpte à créer dans Mapping\")),\"Cpte à reclasser\"))","v":""}]
[{"$f":"IF(ISBLANK(Import!E895),\"\",Import!E895)","v":""},{"$f":"IF(ISBLANK(Import!E895),\"\",(IFERROR(VLOOKUP(Import!C895,Mapping!C:F,1,FALSE),\"HF, à reclasser\")))","v":""},{"$f":"IF(ISBLANK(Import!E895),\"\",IF(B892=(LEFT(A892,3)),(IFERROR(VLOOKUP(Import!B895,Mapping!D:F,2,FALSE),\"Cpte à créer dans Mapping\")),\"Cpte à reclasser\"))","v":""}]
[{"$f":"IF(ISBLANK(Import!E896),\"\",Import!E896)","v":""},{"$f":"IF(ISBLANK(Import!E896),\"\",(IFERROR(VLOOKUP(Import!C896,Mapping!C:F,1,FALSE),\"HF, à reclasser\")))","v":""},{"$f":"IF(ISBLANK(Import!E896),\"\",IF(B893=(LEFT(A893,3)),(IFERROR(VLOOKUP(Import!B896,Mapping!D:F,2,FALSE),\"Cpte à créer dans Mapping\")),\"Cpte à reclasser\"))","v":""}]
[{"$f":"IF(ISBLANK(Import!E897),\"\",Import!E897)","v":""},{"$f":"IF(ISBLANK(Import!E897),\"\",(IFERROR(VLOOKUP(Import!C897,Mapping!C:F,1,FALSE),\"HF, à reclasser\")))","v":""},{"$f":"IF(ISBLANK(Import!E897),\"\",IF(B894=(LEFT(A894,3)),(IFERROR(VLOOKUP(Import!B897,Mapping!D:F,2,FALSE),\"Cpte à créer dans Mapping\")),\"Cpte à reclasser\"))","v":""}]
[{"$f":"IF(ISBLANK(Import!E898),\"\",Import!E898)","v":""},{"$f":"IF(ISBLANK(Import!E898),\"\",(IFERROR(VLOOKUP(Import!C898,Mapping!C:F,1,FALSE),\"HF, à reclasser\")))","v":""},{"$f":"IF(ISBLANK(Import!E898),\"\",IF(B895=(LEFT(A895,3)),(IFERROR(VLOOKUP(Import!B898,Mapping!D:F,2,FALSE),\"Cpte à créer dans Mapping\")),\"Cpte à reclasser\"))","v":""}]
[{"$f":"IF(ISBLANK(Import!E899),\"\",Import!E899)","v":""},{"$f":"IF(ISBLANK(Import!E899),\"\",(IFERROR(VLOOKUP(Import!C899,Mapping!C:F,1,FALSE),\"HF, à reclasser\")))","v":""},{"$f":"IF(ISBLANK(Import!E899),\"\",IF(B896=(LEFT(A896,3)),(IFERROR(VLOOKUP(Import!B899,Mapping!D:F,2,FALSE),\"Cpte à créer dans Mapping\")),\"Cpte à reclasser\"))","v":""}]
[{"$f":"IF(ISBLANK(Import!E900),\"\",Import!E900)","v":""},{"$f":"IF(ISBLANK(Import!E900),\"\",(IFERROR(VLOOKUP(Import!C900,Mapping!C:F,1,FALSE),\"HF, à reclasser\")))","v":""},{"$f":"IF(ISBLANK(Import!E900),\"\",IF(B897=(LEFT(A897,3)),(IFERROR(VLOOKUP(Import!B900,Mapping!D:F,2,FALSE),\"Cpte à créer dans Mapping\")),\"Cpte à reclasser\"))","v":""}]
[{"$f":"IF(ISBLANK(Import!E901),\"\",Import!E901)","v":""},{"$f":"IF(ISBLANK(Import!E901),\"\",(IFERROR(VLOOKUP(Import!C901,Mapping!C:F,1,FALSE),\"HF, à reclasser\")))","v":""},{"$f":"IF(ISBLANK(Import!E901),\"\",IF(B898=(LEFT(A898,3)),(IFERROR(VLOOKUP(Import!B901,Mapping!D:F,2,FALSE),\"Cpte à créer dans Mapping\")),\"Cpte à reclasser\"))","v":""}]
[{"$f":"IF(ISBLANK(Import!E902),\"\",Import!E902)","v":""},{"$f":"IF(ISBLANK(Import!E902),\"\",(IFERROR(VLOOKUP(Import!C902,Mapping!C:F,1,FALSE),\"HF, à reclasser\")))","v":""},{"$f":"IF(ISBLANK(Import!E902),\"\",IF(B899=(LEFT(A899,3)),(IFERROR(VLOOKUP(Import!B902,Mapping!D:F,2,FALSE),\"Cpte à créer dans Mapping\")),\"Cpte à reclasser\"))","v":""}]
[{"$f":"IF(ISBLANK(Import!E903),\"\",Import!E903)","v":""},{"$f":"IF(ISBLANK(Import!E903),\"\",(IFERROR(VLOOKUP(Import!C903,Mapping!C:F,1,FALSE),\"HF, à reclasser\")))","v":""},{"$f":"IF(ISBLANK(Import!E903),\"\",IF(B900=(LEFT(A900,3)),(IFERROR(VLOOKUP(Import!B903,Mapping!D:F,2,FALSE),\"Cpte à créer dans Mapping\")),\"Cpte à reclasser\"))","v":""}]
[{"$f":"IF(ISBLANK(Import!E904),\"\",Import!E904)","v":""},{"$f":"IF(ISBLANK(Import!E904),\"\",(IFERROR(VLOOKUP(Import!C904,Mapping!C:F,1,FALSE),\"HF, à reclasser\")))","v":""},{"$f":"IF(ISBLANK(Import!E904),\"\",IF(B901=(LEFT(A901,3)),(IFERROR(VLOOKUP(Import!B904,Mapping!D:F,2,FALSE),\"Cpte à créer dans Mapping\")),\"Cpte à reclasser\"))","v":""}]
[{"$f":"IF(ISBLANK(Import!E905),\"\",Import!E905)","v":""},{"$f":"IF(ISBLANK(Import!E905),\"\",(IFERROR(VLOOKUP(Import!C905,Mapping!C:F,1,FALSE),\"HF, à reclasser\")))","v":""},{"$f":"IF(ISBLANK(Import!E905),\"\",IF(B902=(LEFT(A902,3)),(IFERROR(VLOOKUP(Import!B905,Mapping!D:F,2,FALSE),\"Cpte à créer dans Mapping\")),\"Cpte à reclasser\"))","v":""}]
[{"$f":"IF(ISBLANK(Import!E906),\"\",Import!E906)","v":""},{"$f":"IF(ISBLANK(Import!E906),\"\",(IFERROR(VLOOKUP(Import!C906,Mapping!C:F,1,FALSE),\"HF, à reclasser\")))","v":""},{"$f":"IF(ISBLANK(Import!E906),\"\",IF(B903=(LEFT(A903,3)),(IFERROR(VLOOKUP(Import!B906,Mapping!D:F,2,FALSE),\"Cpte à créer dans Mapping\")),\"Cpte à reclasser\"))","v":""}]
[{"$f":"IF(ISBLANK(Import!E907),\"\",Import!E907)","v":""},{"$f":"IF(ISBLANK(Import!E907),\"\",(IFERROR(VLOOKUP(Import!C907,Mapping!C:F,1,FALSE),\"HF, à reclasser\")))","v":""},{"$f":"IF(ISBLANK(Import!E907),\"\",IF(B904=(LEFT(A904,3)),(IFERROR(VLOOKUP(Import!B907,Mapping!D:F,2,FALSE),\"Cpte à créer dans Mapping\")),\"Cpte à reclasser\"))","v":""}]
[{"$f":"IF(ISBLANK(Import!E908),\"\",Import!E908)","v":""},{"$f":"IF(ISBLANK(Import!E908),\"\",(IFERROR(VLOOKUP(Import!C908,Mapping!C:F,1,FALSE),\"HF, à reclasser\")))","v":""},{"$f":"IF(ISBLANK(Import!E908),\"\",IF(B905=(LEFT(A905,3)),(IFERROR(VLOOKUP(Import!B908,Mapping!D:F,2,FALSE),\"Cpte à créer dans Mapping\")),\"Cpte à reclasser\"))","v":""}]
[{"$f":"IF(ISBLANK(Import!E909),\"\",Import!E909)","v":""},{"$f":"IF(ISBLANK(Import!E909),\"\",(IFERROR(VLOOKUP(Import!C909,Mapping!C:F,1,FALSE),\"HF, à reclasser\")))","v":""},{"$f":"IF(ISBLANK(Import!E909),\"\",IF(B906=(LEFT(A906,3)),(IFERROR(VLOOKUP(Import!B909,Mapping!D:F,2,FALSE),\"Cpte à créer dans Mapping\")),\"Cpte à reclasser\"))","v":""}]
[{"$f":"IF(ISBLANK(Import!E910),\"\",Import!E910)","v":""},{"$f":"IF(ISBLANK(Import!E910),\"\",(IFERROR(VLOOKUP(Import!C910,Mapping!C:F,1,FALSE),\"HF, à reclasser\")))","v":""},{"$f":"IF(ISBLANK(Import!E910),\"\",IF(B907=(LEFT(A907,3)),(IFERROR(VLOOKUP(Import!B910,Mapping!D:F,2,FALSE),\"Cpte à créer dans Mapping\")),\"Cpte à reclasser\"))","v":""}]
[{"$f":"IF(ISBLANK(Import!E911),\"\",Import!E911)","v":""},{"$f":"IF(ISBLANK(Import!E911),\"\",(IFERROR(VLOOKUP(Import!C911,Mapping!C:F,1,FALSE),\"HF, à reclasser\")))","v":""},{"$f":"IF(ISBLANK(Import!E911),\"\",IF(B908=(LEFT(A908,3)),(IFERROR(VLOOKUP(Import!B911,Mapping!D:F,2,FALSE),\"Cpte à créer dans Mapping\")),\"Cpte à reclasser\"))","v":""}]
[{"$f":"IF(ISBLANK(Import!E912),\"\",Import!E912)","v":""},{"$f":"IF(ISBLANK(Import!E912),\"\",(IFERROR(VLOOKUP(Import!C912,Mapping!C:F,1,FALSE),\"HF, à reclasser\")))","v":""},{"$f":"IF(ISBLANK(Import!E912),\"\",IF(B909=(LEFT(A909,3)),(IFERROR(VLOOKUP(Import!B912,Mapping!D:F,2,FALSE),\"Cpte à créer dans Mapping\")),\"Cpte à reclasser\"))","v":""}]
[{"$f":"IF(ISBLANK(Import!E913),\"\",Import!E913)","v":""},{"$f":"IF(ISBLANK(Import!E913),\"\",(IFERROR(VLOOKUP(Import!C913,Mapping!C:F,1,FALSE),\"HF, à reclasser\")))","v":""},{"$f":"IF(ISBLANK(Import!E913),\"\",IF(B910=(LEFT(A910,3)),(IFERROR(VLOOKUP(Import!B913,Mapping!D:F,2,FALSE),\"Cpte à créer dans Mapping\")),\"Cpte à reclasser\"))","v":""}]
[{"$f":"IF(ISBLANK(Import!E914),\"\",Import!E914)","v":""},{"$f":"IF(ISBLANK(Import!E914),\"\",(IFERROR(VLOOKUP(Import!C914,Mapping!C:F,1,FALSE),\"HF, à reclasser\")))","v":""},{"$f":"IF(ISBLANK(Import!E914),\"\",IF(B911=(LEFT(A911,3)),(IFERROR(VLOOKUP(Import!B914,Mapping!D:F,2,FALSE),\"Cpte à créer dans Mapping\")),\"Cpte à reclasser\"))","v":""}]
[{"$f":"IF(ISBLANK(Import!E915),\"\",Import!E915)","v":""},{"$f":"IF(ISBLANK(Import!E915),\"\",(IFERROR(VLOOKUP(Import!C915,Mapping!C:F,1,FALSE),\"HF, à reclasser\")))","v":""},{"$f":"IF(ISBLANK(Import!E915),\"\",IF(B912=(LEFT(A912,3)),(IFERROR(VLOOKUP(Import!B915,Mapping!D:F,2,FALSE),\"Cpte à créer dans Mapping\")),\"Cpte à reclasser\"))","v":""}]
[{"$f":"IF(ISBLANK(Import!E916),\"\",Import!E916)","v":""},{"$f":"IF(ISBLANK(Import!E916),\"\",(IFERROR(VLOOKUP(Import!C916,Mapping!C:F,1,FALSE),\"HF, à reclasser\")))","v":""},{"$f":"IF(ISBLANK(Import!E916),\"\",IF(B913=(LEFT(A913,3)),(IFERROR(VLOOKUP(Import!B916,Mapping!D:F,2,FALSE),\"Cpte à créer dans Mapping\")),\"Cpte à reclasser\"))","v":""}]
[{"$f":"IF(ISBLANK(Import!E917),\"\",Import!E917)","v":""},{"$f":"IF(ISBLANK(Import!E917),\"\",(IFERROR(VLOOKUP(Import!C917,Mapping!C:F,1,FALSE),\"HF, à reclasser\")))","v":""},{"$f":"IF(ISBLANK(Import!E917),\"\",IF(B914=(LEFT(A914,3)),(IFERROR(VLOOKUP(Import!B917,Mapping!D:F,2,FALSE),\"Cpte à créer dans Mapping\")),\"Cpte à reclasser\"))","v":""}]
[{"$f":"IF(ISBLANK(Import!E918),\"\",Import!E918)","v":""},{"$f":"IF(ISBLANK(Import!E918),\"\",(IFERROR(VLOOKUP(Import!C918,Mapping!C:F,1,FALSE),\"HF, à reclasser\")))","v":""},{"$f":"IF(ISBLANK(Import!E918),\"\",IF(B915=(LEFT(A915,3)),(IFERROR(VLOOKUP(Import!B918,Mapping!D:F,2,FALSE),\"Cpte à créer dans Mapping\")),\"Cpte à reclasser\"))","v":""}]
[{"$f":"IF(ISBLANK(Import!E919),\"\",Import!E919)","v":""},{"$f":"IF(ISBLANK(Import!E919),\"\",(IFERROR(VLOOKUP(Import!C919,Mapping!C:F,1,FALSE),\"HF, à reclasser\")))","v":""},{"$f":"IF(ISBLANK(Import!E919),\"\",IF(B916=(LEFT(A916,3)),(IFERROR(VLOOKUP(Import!B919,Mapping!D:F,2,FALSE),\"Cpte à créer dans Mapping\")),\"Cpte à reclasser\"))","v":""}]
[{"$f":"IF(ISBLANK(Import!E920),\"\",Import!E920)","v":""},{"$f":"IF(ISBLANK(Import!E920),\"\",(IFERROR(VLOOKUP(Import!C920,Mapping!C:F,1,FALSE),\"HF, à reclasser\")))","v":""},{"$f":"IF(ISBLANK(Import!E920),\"\",IF(B917=(LEFT(A917,3)),(IFERROR(VLOOKUP(Import!B920,Mapping!D:F,2,FALSE),\"Cpte à créer dans Mapping\")),\"Cpte à reclasser\"))","v":""}]
[{"$f":"IF(ISBLANK(Import!E921),\"\",Import!E921)","v":""},{"$f":"IF(ISBLANK(Import!E921),\"\",(IFERROR(VLOOKUP(Import!C921,Mapping!C:F,1,FALSE),\"HF, à reclasser\")))","v":""},{"$f":"IF(ISBLANK(Import!E921),\"\",IF(B918=(LEFT(A918,3)),(IFERROR(VLOOKUP(Import!B921,Mapping!D:F,2,FALSE),\"Cpte à créer dans Mapping\")),\"Cpte à reclasser\"))","v":""}]
[{"$f":"IF(ISBLANK(Import!E922),\"\",Import!E922)","v":""},{"$f":"IF(ISBLANK(Import!E922),\"\",(IFERROR(VLOOKUP(Import!C922,Mapping!C:F,1,FALSE),\"HF, à reclasser\")))","v":""},{"$f":"IF(ISBLANK(Import!E922),\"\",IF(B919=(LEFT(A919,3)),(IFERROR(VLOOKUP(Import!B922,Mapping!D:F,2,FALSE),\"Cpte à créer dans Mapping\")),\"Cpte à reclasser\"))","v":""}]
[{"$f":"IF(ISBLANK(Import!E923),\"\",Import!E923)","v":""},{"$f":"IF(ISBLANK(Import!E923),\"\",(IFERROR(VLOOKUP(Import!C923,Mapping!C:F,1,FALSE),\"HF, à reclasser\")))","v":""},{"$f":"IF(ISBLANK(Import!E923),\"\",IF(B920=(LEFT(A920,3)),(IFERROR(VLOOKUP(Import!B923,Mapping!D:F,2,FALSE),\"Cpte à créer dans Mapping\")),\"Cpte à reclasser\"))","v":""}]
[{"$f":"IF(ISBLANK(Import!E924),\"\",Import!E924)","v":""},{"$f":"IF(ISBLANK(Import!E924),\"\",(IFERROR(VLOOKUP(Import!C924,Mapping!C:F,1,FALSE),\"HF, à reclasser\")))","v":""},{"$f":"IF(ISBLANK(Import!E924),\"\",IF(B921=(LEFT(A921,3)),(IFERROR(VLOOKUP(Import!B924,Mapping!D:F,2,FALSE),\"Cpte à créer dans Mapping\")),\"Cpte à reclasser\"))","v":""}]
[{"$f":"IF(ISBLANK(Import!E925),\"\",Import!E925)","v":""},{"$f":"IF(ISBLANK(Import!E925),\"\",(IFERROR(VLOOKUP(Import!C925,Mapping!C:F,1,FALSE),\"HF, à reclasser\")))","v":""},{"$f":"IF(ISBLANK(Import!E925),\"\",IF(B922=(LEFT(A922,3)),(IFERROR(VLOOKUP(Import!B925,Mapping!D:F,2,FALSE),\"Cpte à créer dans Mapping\")),\"Cpte à reclasser\"))","v":""}]
[{"$f":"IF(ISBLANK(Import!E926),\"\",Import!E926)","v":""},{"$f":"IF(ISBLANK(Import!E926),\"\",(IFERROR(VLOOKUP(Import!C926,Mapping!C:F,1,FALSE),\"HF, à reclasser\")))","v":""},{"$f":"IF(ISBLANK(Import!E926),\"\",IF(B923=(LEFT(A923,3)),(IFERROR(VLOOKUP(Import!B926,Mapping!D:F,2,FALSE),\"Cpte à créer dans Mapping\")),\"Cpte à reclasser\"))","v":""}]
[{"$f":"IF(ISBLANK(Import!E927),\"\",Import!E927)","v":""},{"$f":"IF(ISBLANK(Import!E927),\"\",(IFERROR(VLOOKUP(Import!C927,Mapping!C:F,1,FALSE),\"HF, à reclasser\")))","v":""},{"$f":"IF(ISBLANK(Import!E927),\"\",IF(B924=(LEFT(A924,3)),(IFERROR(VLOOKUP(Import!B927,Mapping!D:F,2,FALSE),\"Cpte à créer dans Mapping\")),\"Cpte à reclasser\"))","v":""}]
[{"$f":"IF(ISBLANK(Import!E928),\"\",Import!E928)","v":""},{"$f":"IF(ISBLANK(Import!E928),\"\",(IFERROR(VLOOKUP(Import!C928,Mapping!C:F,1,FALSE),\"HF, à reclasser\")))","v":""},{"$f":"IF(ISBLANK(Import!E928),\"\",IF(B925=(LEFT(A925,3)),(IFERROR(VLOOKUP(Import!B928,Mapping!D:F,2,FALSE),\"Cpte à créer dans Mapping\")),\"Cpte à reclasser\"))","v":""}]
[{"$f":"IF(ISBLANK(Import!E929),\"\",Import!E929)","v":""},{"$f":"IF(ISBLANK(Import!E929),\"\",(IFERROR(VLOOKUP(Import!C929,Mapping!C:F,1,FALSE),\"HF, à reclasser\")))","v":""},{"$f":"IF(ISBLANK(Import!E929),\"\",IF(B926=(LEFT(A926,3)),(IFERROR(VLOOKUP(Import!B929,Mapping!D:F,2,FALSE),\"Cpte à créer dans Mapping\")),\"Cpte à reclasser\"))","v":""}]
[{"$f":"IF(ISBLANK(Import!E930),\"\",Import!E930)","v":""},{"$f":"IF(ISBLANK(Import!E930),\"\",(IFERROR(VLOOKUP(Import!C930,Mapping!C:F,1,FALSE),\"HF, à reclasser\")))","v":""},{"$f":"IF(ISBLANK(Import!E930),\"\",IF(B927=(LEFT(A927,3)),(IFERROR(VLOOKUP(Import!B930,Mapping!D:F,2,FALSE),\"Cpte à créer dans Mapping\")),\"Cpte à reclasser\"))","v":""}]
[{"$f":"IF(ISBLANK(Import!E931),\"\",Import!E931)","v":""},{"$f":"IF(ISBLANK(Import!E931),\"\",(IFERROR(VLOOKUP(Import!C931,Mapping!C:F,1,FALSE),\"HF, à reclasser\")))","v":""},{"$f":"IF(ISBLANK(Import!E931),\"\",IF(B928=(LEFT(A928,3)),(IFERROR(VLOOKUP(Import!B931,Mapping!D:F,2,FALSE),\"Cpte à créer dans Mapping\")),\"Cpte à reclasser\"))","v":""}]
[{"$f":"IF(ISBLANK(Import!E932),\"\",Import!E932)","v":""},{"$f":"IF(ISBLANK(Import!E932),\"\",(IFERROR(VLOOKUP(Import!C932,Mapping!C:F,1,FALSE),\"HF, à reclasser\")))","v":""},{"$f":"IF(ISBLANK(Import!E932),\"\",IF(B929=(LEFT(A929,3)),(IFERROR(VLOOKUP(Import!B932,Mapping!D:F,2,FALSE),\"Cpte à créer dans Mapping\")),\"Cpte à reclasser\"))","v":""}]
[{"$f":"IF(ISBLANK(Import!E933),\"\",Import!E933)","v":""},{"$f":"IF(ISBLANK(Import!E933),\"\",(IFERROR(VLOOKUP(Import!C933,Mapping!C:F,1,FALSE),\"HF, à reclasser\")))","v":""},{"$f":"IF(ISBLANK(Import!E933),\"\",IF(B930=(LEFT(A930,3)),(IFERROR(VLOOKUP(Import!B933,Mapping!D:F,2,FALSE),\"Cpte à créer dans Mapping\")),\"Cpte à reclasser\"))","v":""}]
[{"$f":"IF(ISBLANK(Import!E934),\"\",Import!E934)","v":""},{"$f":"IF(ISBLANK(Import!E934),\"\",(IFERROR(VLOOKUP(Import!C934,Mapping!C:F,1,FALSE),\"HF, à reclasser\")))","v":""},{"$f":"IF(ISBLANK(Import!E934),\"\",IF(B931=(LEFT(A931,3)),(IFERROR(VLOOKUP(Import!B934,Mapping!D:F,2,FALSE),\"Cpte à créer dans Mapping\")),\"Cpte à reclasser\"))","v":""}]
[{"$f":"IF(ISBLANK(Import!E935),\"\",Import!E935)","v":""},{"$f":"IF(ISBLANK(Import!E935),\"\",(IFERROR(VLOOKUP(Import!C935,Mapping!C:F,1,FALSE),\"HF, à reclasser\")))","v":""},{"$f":"IF(ISBLANK(Import!E935),\"\",IF(B932=(LEFT(A932,3)),(IFERROR(VLOOKUP(Import!B935,Mapping!D:F,2,FALSE),\"Cpte à créer dans Mapping\")),\"Cpte à reclasser\"))","v":""}]
[{"$f":"IF(ISBLANK(Import!E936),\"\",Import!E936)","v":""},{"$f":"IF(ISBLANK(Import!E936),\"\",(IFERROR(VLOOKUP(Import!C936,Mapping!C:F,1,FALSE),\"HF, à reclasser\")))","v":""},{"$f":"IF(ISBLANK(Import!E936),\"\",IF(B933=(LEFT(A933,3)),(IFERROR(VLOOKUP(Import!B936,Mapping!D:F,2,FALSE),\"Cpte à créer dans Mapping\")),\"Cpte à reclasser\"))","v":""}]
[{"$f":"IF(ISBLANK(Import!E937),\"\",Import!E937)","v":""},{"$f":"IF(ISBLANK(Import!E937),\"\",(IFERROR(VLOOKUP(Import!C937,Mapping!C:F,1,FALSE),\"HF, à reclasser\")))","v":""},{"$f":"IF(ISBLANK(Import!E937),\"\",IF(B934=(LEFT(A934,3)),(IFERROR(VLOOKUP(Import!B937,Mapping!D:F,2,FALSE),\"Cpte à créer dans Mapping\")),\"Cpte à reclasser\"))","v":""}]
[{"$f":"IF(ISBLANK(Import!E938),\"\",Import!E938)","v":""},{"$f":"IF(ISBLANK(Import!E938),\"\",(IFERROR(VLOOKUP(Import!C938,Mapping!C:F,1,FALSE),\"HF, à reclasser\")))","v":""},{"$f":"IF(ISBLANK(Import!E938),\"\",IF(B935=(LEFT(A935,3)),(IFERROR(VLOOKUP(Import!B938,Mapping!D:F,2,FALSE),\"Cpte à créer dans Mapping\")),\"Cpte à reclasser\"))","v":""}]
[{"$f":"IF(ISBLANK(Import!E939),\"\",Import!E939)","v":""},{"$f":"IF(ISBLANK(Import!E939),\"\",(IFERROR(VLOOKUP(Import!C939,Mapping!C:F,1,FALSE),\"HF, à reclasser\")))","v":""},{"$f":"IF(ISBLANK(Import!E939),\"\",IF(B936=(LEFT(A936,3)),(IFERROR(VLOOKUP(Import!B939,Mapping!D:F,2,FALSE),\"Cpte à créer dans Mapping\")),\"Cpte à reclasser\"))","v":""}]
[{"$f":"IF(ISBLANK(Import!E940),\"\",Import!E940)","v":""},{"$f":"IF(ISBLANK(Import!E940),\"\",(IFERROR(VLOOKUP(Import!C940,Mapping!C:F,1,FALSE),\"HF, à reclasser\")))","v":""},{"$f":"IF(ISBLANK(Import!E940),\"\",IF(B937=(LEFT(A937,3)),(IFERROR(VLOOKUP(Import!B940,Mapping!D:F,2,FALSE),\"Cpte à créer dans Mapping\")),\"Cpte à reclasser\"))","v":""}]
[{"$f":"IF(ISBLANK(Import!E941),\"\",Import!E941)","v":""},{"$f":"IF(ISBLANK(Import!E941),\"\",(IFERROR(VLOOKUP(Import!C941,Mapping!C:F,1,FALSE),\"HF, à reclasser\")))","v":""},{"$f":"IF(ISBLANK(Import!E941),\"\",IF(B938=(LEFT(A938,3)),(IFERROR(VLOOKUP(Import!B941,Mapping!D:F,2,FALSE),\"Cpte à créer dans Mapping\")),\"Cpte à reclasser\"))","v":""}]
[{"$f":"IF(ISBLANK(Import!E942),\"\",Import!E942)","v":""},{"$f":"IF(ISBLANK(Import!E942),\"\",(IFERROR(VLOOKUP(Import!C942,Mapping!C:F,1,FALSE),\"HF, à reclasser\")))","v":""},{"$f":"IF(ISBLANK(Import!E942),\"\",IF(B939=(LEFT(A939,3)),(IFERROR(VLOOKUP(Import!B942,Mapping!D:F,2,FALSE),\"Cpte à créer dans Mapping\")),\"Cpte à reclasser\"))","v":""}]
[{"$f":"IF(ISBLANK(Import!E943),\"\",Import!E943)","v":""},{"$f":"IF(ISBLANK(Import!E943),\"\",(IFERROR(VLOOKUP(Import!C943,Mapping!C:F,1,FALSE),\"HF, à reclasser\")))","v":""},{"$f":"IF(ISBLANK(Import!E943),\"\",IF(B940=(LEFT(A940,3)),(IFERROR(VLOOKUP(Import!B943,Mapping!D:F,2,FALSE),\"Cpte à créer dans Mapping\")),\"Cpte à reclasser\"))","v":""}]
[{"$f":"IF(ISBLANK(Import!E944),\"\",Import!E944)","v":""},{"$f":"IF(ISBLANK(Import!E944),\"\",(IFERROR(VLOOKUP(Import!C944,Mapping!C:F,1,FALSE),\"HF, à reclasser\")))","v":""},{"$f":"IF(ISBLANK(Import!E944),\"\",IF(B941=(LEFT(A941,3)),(IFERROR(VLOOKUP(Import!B944,Mapping!D:F,2,FALSE),\"Cpte à créer dans Mapping\")),\"Cpte à reclasser\"))","v":""}]
[{"$f":"IF(ISBLANK(Import!E945),\"\",Import!E945)","v":""},{"$f":"IF(ISBLANK(Import!E945),\"\",(IFERROR(VLOOKUP(Import!C945,Mapping!C:F,1,FALSE),\"HF, à reclasser\")))","v":""},{"$f":"IF(ISBLANK(Import!E945),\"\",IF(B942=(LEFT(A942,3)),(IFERROR(VLOOKUP(Import!B945,Mapping!D:F,2,FALSE),\"Cpte à créer dans Mapping\")),\"Cpte à reclasser\"))","v":""}]
[{"$f":"IF(ISBLANK(Import!E946),\"\",Import!E946)","v":""},{"$f":"IF(ISBLANK(Import!E946),\"\",(IFERROR(VLOOKUP(Import!C946,Mapping!C:F,1,FALSE),\"HF, à reclasser\")))","v":""},{"$f":"IF(ISBLANK(Import!E946),\"\",IF(B943=(LEFT(A943,3)),(IFERROR(VLOOKUP(Import!B946,Mapping!D:F,2,FALSE),\"Cpte à créer dans Mapping\")),\"Cpte à reclasser\"))","v":""}]
[{"$f":"IF(ISBLANK(Import!E947),\"\",Import!E947)","v":""},{"$f":"IF(ISBLANK(Import!E947),\"\",(IFERROR(VLOOKUP(Import!C947,Mapping!C:F,1,FALSE),\"HF, à reclasser\")))","v":""},{"$f":"IF(ISBLANK(Import!E947),\"\",IF(B944=(LEFT(A944,3)),(IFERROR(VLOOKUP(Import!B947,Mapping!D:F,2,FALSE),\"Cpte à créer dans Mapping\")),\"Cpte à reclasser\"))","v":""}]
[{"$f":"IF(ISBLANK(Import!E948),\"\",Import!E948)","v":""},{"$f":"IF(ISBLANK(Import!E948),\"\",(IFERROR(VLOOKUP(Import!C948,Mapping!C:F,1,FALSE),\"HF, à reclasser\")))","v":""},{"$f":"IF(ISBLANK(Import!E948),\"\",IF(B945=(LEFT(A945,3)),(IFERROR(VLOOKUP(Import!B948,Mapping!D:F,2,FALSE),\"Cpte à créer dans Mapping\")),\"Cpte à reclasser\"))","v":""}]
[{"$f":"IF(ISBLANK(Import!E949),\"\",Import!E949)","v":""},{"$f":"IF(ISBLANK(Import!E949),\"\",(IFERROR(VLOOKUP(Import!C949,Mapping!C:F,1,FALSE),\"HF, à reclasser\")))","v":""},{"$f":"IF(ISBLANK(Import!E949),\"\",IF(B946=(LEFT(A946,3)),(IFERROR(VLOOKUP(Import!B949,Mapping!D:F,2,FALSE),\"Cpte à créer dans Mapping\")),\"Cpte à reclasser\"))","v":""}]
[{"$f":"IF(ISBLANK(Import!E950),\"\",Import!E950)","v":""},{"$f":"IF(ISBLANK(Import!E950),\"\",(IFERROR(VLOOKUP(Import!C950,Mapping!C:F,1,FALSE),\"HF, à reclasser\")))","v":""},{"$f":"IF(ISBLANK(Import!E950),\"\",IF(B947=(LEFT(A947,3)),(IFERROR(VLOOKUP(Import!B950,Mapping!D:F,2,FALSE),\"Cpte à créer dans Mapping\")),\"Cpte à reclasser\"))","v":""}]
[{"$f":"IF(ISBLANK(Import!E951),\"\",Import!E951)","v":""},{"$f":"IF(ISBLANK(Import!E951),\"\",(IFERROR(VLOOKUP(Import!C951,Mapping!C:F,1,FALSE),\"HF, à reclasser\")))","v":""},{"$f":"IF(ISBLANK(Import!E951),\"\",IF(B948=(LEFT(A948,3)),(IFERROR(VLOOKUP(Import!B951,Mapping!D:F,2,FALSE),\"Cpte à créer dans Mapping\")),\"Cpte à reclasser\"))","v":""}]
[{"$f":"IF(ISBLANK(Import!E952),\"\",Import!E952)","v":""},{"$f":"IF(ISBLANK(Import!E952),\"\",(IFERROR(VLOOKUP(Import!C952,Mapping!C:F,1,FALSE),\"HF, à reclasser\")))","v":""},{"$f":"IF(ISBLANK(Import!E952),\"\",IF(B949=(LEFT(A949,3)),(IFERROR(VLOOKUP(Import!B952,Mapping!D:F,2,FALSE),\"Cpte à créer dans Mapping\")),\"Cpte à reclasser\"))","v":""}]
[{"$f":"IF(ISBLANK(Import!E953),\"\",Import!E953)","v":""},{"$f":"IF(ISBLANK(Import!E953),\"\",(IFERROR(VLOOKUP(Import!C953,Mapping!C:F,1,FALSE),\"HF, à reclasser\")))","v":""},{"$f":"IF(ISBLANK(Import!E953),\"\",IF(B950=(LEFT(A950,3)),(IFERROR(VLOOKUP(Import!B953,Mapping!D:F,2,FALSE),\"Cpte à créer dans Mapping\")),\"Cpte à reclasser\"))","v":""}]
[{"$f":"IF(ISBLANK(Import!E954),\"\",Import!E954)","v":""},{"$f":"IF(ISBLANK(Import!E954),\"\",(IFERROR(VLOOKUP(Import!C954,Mapping!C:F,1,FALSE),\"HF, à reclasser\")))","v":""},{"$f":"IF(ISBLANK(Import!E954),\"\",IF(B951=(LEFT(A951,3)),(IFERROR(VLOOKUP(Import!B954,Mapping!D:F,2,FALSE),\"Cpte à créer dans Mapping\")),\"Cpte à reclasser\"))","v":""}]
[{"$f":"IF(ISBLANK(Import!E955),\"\",Import!E955)","v":""},{"$f":"IF(ISBLANK(Import!E955),\"\",(IFERROR(VLOOKUP(Import!C955,Mapping!C:F,1,FALSE),\"HF, à reclasser\")))","v":""},{"$f":"IF(ISBLANK(Import!E955),\"\",IF(B952=(LEFT(A952,3)),(IFERROR(VLOOKUP(Import!B955,Mapping!D:F,2,FALSE),\"Cpte à créer dans Mapping\")),\"Cpte à reclasser\"))","v":""}]
[{"$f":"IF(ISBLANK(Import!E956),\"\",Import!E956)","v":""},{"$f":"IF(ISBLANK(Import!E956),\"\",(IFERROR(VLOOKUP(Import!C956,Mapping!C:F,1,FALSE),\"HF, à reclasser\")))","v":""},{"$f":"IF(ISBLANK(Import!E956),\"\",IF(B953=(LEFT(A953,3)),(IFERROR(VLOOKUP(Import!B956,Mapping!D:F,2,FALSE),\"Cpte à créer dans Mapping\")),\"Cpte à reclasser\"))","v":""}]
[{"$f":"IF(ISBLANK(Import!E957),\"\",Import!E957)","v":""},{"$f":"IF(ISBLANK(Import!E957),\"\",(IFERROR(VLOOKUP(Import!C957,Mapping!C:F,1,FALSE),\"HF, à reclasser\")))","v":""},{"$f":"IF(ISBLANK(Import!E957),\"\",IF(B954=(LEFT(A954,3)),(IFERROR(VLOOKUP(Import!B957,Mapping!D:F,2,FALSE),\"Cpte à créer dans Mapping\")),\"Cpte à reclasser\"))","v":""}]
[{"$f":"IF(ISBLANK(Import!E958),\"\",Import!E958)","v":""},{"$f":"IF(ISBLANK(Import!E958),\"\",(IFERROR(VLOOKUP(Import!C958,Mapping!C:F,1,FALSE),\"HF, à reclasser\")))","v":""},{"$f":"IF(ISBLANK(Import!E958),\"\",IF(B955=(LEFT(A955,3)),(IFERROR(VLOOKUP(Import!B958,Mapping!D:F,2,FALSE),\"Cpte à créer dans Mapping\")),\"Cpte à reclasser\"))","v":""}]
[{"$f":"IF(ISBLANK(Import!E959),\"\",Import!E959)","v":""},{"$f":"IF(ISBLANK(Import!E959),\"\",(IFERROR(VLOOKUP(Import!C959,Mapping!C:F,1,FALSE),\"HF, à reclasser\")))","v":""},{"$f":"IF(ISBLANK(Import!E959),\"\",IF(B956=(LEFT(A956,3)),(IFERROR(VLOOKUP(Import!B959,Mapping!D:F,2,FALSE),\"Cpte à créer dans Mapping\")),\"Cpte à reclasser\"))","v":""}]
[{"$f":"IF(ISBLANK(Import!E960),\"\",Import!E960)","v":""},{"$f":"IF(ISBLANK(Import!E960),\"\",(IFERROR(VLOOKUP(Import!C960,Mapping!C:F,1,FALSE),\"HF, à reclasser\")))","v":""},{"$f":"IF(ISBLANK(Import!E960),\"\",IF(B957=(LEFT(A957,3)),(IFERROR(VLOOKUP(Import!B960,Mapping!D:F,2,FALSE),\"Cpte à créer dans Mapping\")),\"Cpte à reclasser\"))","v":""}]
[{"$f":"IF(ISBLANK(Import!E961),\"\",Import!E961)","v":""},{"$f":"IF(ISBLANK(Import!E961),\"\",(IFERROR(VLOOKUP(Import!C961,Mapping!C:F,1,FALSE),\"HF, à reclasser\")))","v":""},{"$f":"IF(ISBLANK(Import!E961),\"\",IF(B958=(LEFT(A958,3)),(IFERROR(VLOOKUP(Import!B961,Mapping!D:F,2,FALSE),\"Cpte à créer dans Mapping\")),\"Cpte à reclasser\"))","v":""}]
[{"$f":"IF(ISBLANK(Import!E962),\"\",Import!E962)","v":""},{"$f":"IF(ISBLANK(Import!E962),\"\",(IFERROR(VLOOKUP(Import!C962,Mapping!C:F,1,FALSE),\"HF, à reclasser\")))","v":""},{"$f":"IF(ISBLANK(Import!E962),\"\",IF(B959=(LEFT(A959,3)),(IFERROR(VLOOKUP(Import!B962,Mapping!D:F,2,FALSE),\"Cpte à créer dans Mapping\")),\"Cpte à reclasser\"))","v":""}]
[{"$f":"IF(ISBLANK(Import!E963),\"\",Import!E963)","v":""},{"$f":"IF(ISBLANK(Import!E963),\"\",(IFERROR(VLOOKUP(Import!C963,Mapping!C:F,1,FALSE),\"HF, à reclasser\")))","v":""},{"$f":"IF(ISBLANK(Import!E963),\"\",IF(B960=(LEFT(A960,3)),(IFERROR(VLOOKUP(Import!B963,Mapping!D:F,2,FALSE),\"Cpte à créer dans Mapping\")),\"Cpte à reclasser\"))","v":""}]
[{"$f":"IF(ISBLANK(Import!E964),\"\",Import!E964)","v":""},{"$f":"IF(ISBLANK(Import!E964),\"\",(IFERROR(VLOOKUP(Import!C964,Mapping!C:F,1,FALSE),\"HF, à reclasser\")))","v":""},{"$f":"IF(ISBLANK(Import!E964),\"\",IF(B961=(LEFT(A961,3)),(IFERROR(VLOOKUP(Import!B964,Mapping!D:F,2,FALSE),\"Cpte à créer dans Mapping\")),\"Cpte à reclasser\"))","v":""}]
[{"$f":"IF(ISBLANK(Import!E965),\"\",Import!E965)","v":""},{"$f":"IF(ISBLANK(Import!E965),\"\",(IFERROR(VLOOKUP(Import!C965,Mapping!C:F,1,FALSE),\"HF, à reclasser\")))","v":""},{"$f":"IF(ISBLANK(Import!E965),\"\",IF(B962=(LEFT(A962,3)),(IFERROR(VLOOKUP(Import!B965,Mapping!D:F,2,FALSE),\"Cpte à créer dans Mapping\")),\"Cpte à reclasser\"))","v":""}]
[{"$f":"IF(ISBLANK(Import!E966),\"\",Import!E966)","v":""},{"$f":"IF(ISBLANK(Import!E966),\"\",(IFERROR(VLOOKUP(Import!C966,Mapping!C:F,1,FALSE),\"HF, à reclasser\")))","v":""},{"$f":"IF(ISBLANK(Import!E966),\"\",IF(B963=(LEFT(A963,3)),(IFERROR(VLOOKUP(Import!B966,Mapping!D:F,2,FALSE),\"Cpte à créer dans Mapping\")),\"Cpte à reclasser\"))","v":""}]
[{"$f":"IF(ISBLANK(Import!E967),\"\",Import!E967)","v":""},{"$f":"IF(ISBLANK(Import!E967),\"\",(IFERROR(VLOOKUP(Import!C967,Mapping!C:F,1,FALSE),\"HF, à reclasser\")))","v":""},{"$f":"IF(ISBLANK(Import!E967),\"\",IF(B964=(LEFT(A964,3)),(IFERROR(VLOOKUP(Import!B967,Mapping!D:F,2,FALSE),\"Cpte à créer dans Mapping\")),\"Cpte à reclasser\"))","v":""}]
[{"$f":"IF(ISBLANK(Import!E968),\"\",Import!E968)","v":""},{"$f":"IF(ISBLANK(Import!E968),\"\",(IFERROR(VLOOKUP(Import!C968,Mapping!C:F,1,FALSE),\"HF, à reclasser\")))","v":""},{"$f":"IF(ISBLANK(Import!E968),\"\",IF(B965=(LEFT(A965,3)),(IFERROR(VLOOKUP(Import!B968,Mapping!D:F,2,FALSE),\"Cpte à créer dans Mapping\")),\"Cpte à reclasser\"))","v":""}]
[{"$f":"IF(ISBLANK(Import!E969),\"\",Import!E969)","v":""},{"$f":"IF(ISBLANK(Import!E969),\"\",(IFERROR(VLOOKUP(Import!C969,Mapping!C:F,1,FALSE),\"HF, à reclasser\")))","v":""},{"$f":"IF(ISBLANK(Import!E969),\"\",IF(B966=(LEFT(A966,3)),(IFERROR(VLOOKUP(Import!B969,Mapping!D:F,2,FALSE),\"Cpte à créer dans Mapping\")),\"Cpte à reclasser\"))","v":""}]
[{"$f":"IF(ISBLANK(Import!E970),\"\",Import!E970)","v":""},{"$f":"IF(ISBLANK(Import!E970),\"\",(IFERROR(VLOOKUP(Import!C970,Mapping!C:F,1,FALSE),\"HF, à reclasser\")))","v":""},{"$f":"IF(ISBLANK(Import!E970),\"\",IF(B967=(LEFT(A967,3)),(IFERROR(VLOOKUP(Import!B970,Mapping!D:F,2,FALSE),\"Cpte à créer dans Mapping\")),\"Cpte à reclasser\"))","v":""}]
[{"$f":"IF(ISBLANK(Import!E971),\"\",Import!E971)","v":""},{"$f":"IF(ISBLANK(Import!E971),\"\",(IFERROR(VLOOKUP(Import!C971,Mapping!C:F,1,FALSE),\"HF, à reclasser\")))","v":""},{"$f":"IF(ISBLANK(Import!E971),\"\",IF(B968=(LEFT(A968,3)),(IFERROR(VLOOKUP(Import!B971,Mapping!D:F,2,FALSE),\"Cpte à créer dans Mapping\")),\"Cpte à reclasser\"))","v":""}]
[{"$f":"IF(ISBLANK(Import!E972),\"\",Import!E972)","v":""},{"$f":"IF(ISBLANK(Import!E972),\"\",(IFERROR(VLOOKUP(Import!C972,Mapping!C:F,1,FALSE),\"HF, à reclasser\")))","v":""},{"$f":"IF(ISBLANK(Import!E972),\"\",IF(B969=(LEFT(A969,3)),(IFERROR(VLOOKUP(Import!B972,Mapping!D:F,2,FALSE),\"Cpte à créer dans Mapping\")),\"Cpte à reclasser\"))","v":""}]
[{"$f":"IF(ISBLANK(Import!E973),\"\",Import!E973)","v":""},{"$f":"IF(ISBLANK(Import!E973),\"\",(IFERROR(VLOOKUP(Import!C973,Mapping!C:F,1,FALSE),\"HF, à reclasser\")))","v":""},{"$f":"IF(ISBLANK(Import!E973),\"\",IF(B970=(LEFT(A970,3)),(IFERROR(VLOOKUP(Import!B973,Mapping!D:F,2,FALSE),\"Cpte à créer dans Mapping\")),\"Cpte à reclasser\"))","v":""}]
[{"$f":"IF(ISBLANK(Import!E974),\"\",Import!E974)","v":""},{"$f":"IF(ISBLANK(Import!E974),\"\",(IFERROR(VLOOKUP(Import!C974,Mapping!C:F,1,FALSE),\"HF, à reclasser\")))","v":""},{"$f":"IF(ISBLANK(Import!E974),\"\",IF(B971=(LEFT(A971,3)),(IFERROR(VLOOKUP(Import!B974,Mapping!D:F,2,FALSE),\"Cpte à créer dans Mapping\")),\"Cpte à reclasser\"))","v":""}]
[{"$f":"IF(ISBLANK(Import!E975),\"\",Import!E975)","v":""},{"$f":"IF(ISBLANK(Import!E975),\"\",(IFERROR(VLOOKUP(Import!C975,Mapping!C:F,1,FALSE),\"HF, à reclasser\")))","v":""},{"$f":"IF(ISBLANK(Import!E975),\"\",IF(B972=(LEFT(A972,3)),(IFERROR(VLOOKUP(Import!B975,Mapping!D:F,2,FALSE),\"Cpte à créer dans Mapping\")),\"Cpte à reclasser\"))","v":""}]
[{"$f":"IF(ISBLANK(Import!E976),\"\",Import!E976)","v":""},{"$f":"IF(ISBLANK(Import!E976),\"\",(IFERROR(VLOOKUP(Import!C976,Mapping!C:F,1,FALSE),\"HF, à reclasser\")))","v":""},{"$f":"IF(ISBLANK(Import!E976),\"\",IF(B973=(LEFT(A973,3)),(IFERROR(VLOOKUP(Import!B976,Mapping!D:F,2,FALSE),\"Cpte à créer dans Mapping\")),\"Cpte à reclasser\"))","v":""}]
[{"$f":"IF(ISBLANK(Import!E977),\"\",Import!E977)","v":""},{"$f":"IF(ISBLANK(Import!E977),\"\",(IFERROR(VLOOKUP(Import!C977,Mapping!C:F,1,FALSE),\"HF, à reclasser\")))","v":""},{"$f":"IF(ISBLANK(Import!E977),\"\",IF(B974=(LEFT(A974,3)),(IFERROR(VLOOKUP(Import!B977,Mapping!D:F,2,FALSE),\"Cpte à créer dans Mapping\")),\"Cpte à reclasser\"))","v":""}]
[{"$f":"IF(ISBLANK(Import!E978),\"\",Import!E978)","v":""},{"$f":"IF(ISBLANK(Import!E978),\"\",(IFERROR(VLOOKUP(Import!C978,Mapping!C:F,1,FALSE),\"HF, à reclasser\")))","v":""},{"$f":"IF(ISBLANK(Import!E978),\"\",IF(B975=(LEFT(A975,3)),(IFERROR(VLOOKUP(Import!B978,Mapping!D:F,2,FALSE),\"Cpte à créer dans Mapping\")),\"Cpte à reclasser\"))","v":""}]
[{"$f":"IF(ISBLANK(Import!E979),\"\",Import!E979)","v":""},{"$f":"IF(ISBLANK(Import!E979),\"\",(IFERROR(VLOOKUP(Import!C979,Mapping!C:F,1,FALSE),\"HF, à reclasser\")))","v":""},{"$f":"IF(ISBLANK(Import!E979),\"\",IF(B976=(LEFT(A976,3)),(IFERROR(VLOOKUP(Import!B979,Mapping!D:F,2,FALSE),\"Cpte à créer dans Mapping\")),\"Cpte à reclasser\"))","v":""}]
[{"$f":"IF(ISBLANK(Import!E980),\"\",Import!E980)","v":""},{"$f":"IF(ISBLANK(Import!E980),\"\",(IFERROR(VLOOKUP(Import!C980,Mapping!C:F,1,FALSE),\"HF, à reclasser\")))","v":""},{"$f":"IF(ISBLANK(Import!E980),\"\",IF(B977=(LEFT(A977,3)),(IFERROR(VLOOKUP(Import!B980,Mapping!D:F,2,FALSE),\"Cpte à créer dans Mapping\")),\"Cpte à reclasser\"))","v":""}]
[{"$f":"IF(ISBLANK(Import!E981),\"\",Import!E981)","v":""},{"$f":"IF(ISBLANK(Import!E981),\"\",(IFERROR(VLOOKUP(Import!C981,Mapping!C:F,1,FALSE),\"HF, à reclasser\")))","v":""},{"$f":"IF(ISBLANK(Import!E981),\"\",IF(B978=(LEFT(A978,3)),(IFERROR(VLOOKUP(Import!B981,Mapping!D:F,2,FALSE),\"Cpte à créer dans Mapping\")),\"Cpte à reclasser\"))","v":""}]
[{"$f":"IF(ISBLANK(Import!E982),\"\",Import!E982)","v":""},{"$f":"IF(ISBLANK(Import!E982),\"\",(IFERROR(VLOOKUP(Import!C982,Mapping!C:F,1,FALSE),\"HF, à reclasser\")))","v":""},{"$f":"IF(ISBLANK(Import!E982),\"\",IF(B979=(LEFT(A979,3)),(IFERROR(VLOOKUP(Import!B982,Mapping!D:F,2,FALSE),\"Cpte à créer dans Mapping\")),\"Cpte à reclasser\"))","v":""}]
[{"$f":"IF(ISBLANK(Import!E983),\"\",Import!E983)","v":""},{"$f":"IF(ISBLANK(Import!E983),\"\",(IFERROR(VLOOKUP(Import!C983,Mapping!C:F,1,FALSE),\"HF, à reclasser\")))","v":""},{"$f":"IF(ISBLANK(Import!E983),\"\",IF(B980=(LEFT(A980,3)),(IFERROR(VLOOKUP(Import!B983,Mapping!D:F,2,FALSE),\"Cpte à créer dans Mapping\")),\"Cpte à reclasser\"))","v":""}]
[{"$f":"IF(ISBLANK(Import!E984),\"\",Import!E984)","v":""},{"$f":"IF(ISBLANK(Import!E984),\"\",(IFERROR(VLOOKUP(Import!C984,Mapping!C:F,1,FALSE),\"HF, à reclasser\")))","v":""},{"$f":"IF(ISBLANK(Import!E984),\"\",IF(B981=(LEFT(A981,3)),(IFERROR(VLOOKUP(Import!B984,Mapping!D:F,2,FALSE),\"Cpte à créer dans Mapping\")),\"Cpte à reclasser\"))","v":""}]
[{"$f":"IF(ISBLANK(Import!E985),\"\",Import!E985)","v":""},{"$f":"IF(ISBLANK(Import!E985),\"\",(IFERROR(VLOOKUP(Import!C985,Mapping!C:F,1,FALSE),\"HF, à reclasser\")))","v":""},{"$f":"IF(ISBLANK(Import!E985),\"\",IF(B982=(LEFT(A982,3)),(IFERROR(VLOOKUP(Import!B985,Mapping!D:F,2,FALSE),\"Cpte à créer dans Mapping\")),\"Cpte à reclasser\"))","v":""}]
[{"$f":"IF(ISBLANK(Import!E986),\"\",Import!E986)","v":""},{"$f":"IF(ISBLANK(Import!E986),\"\",(IFERROR(VLOOKUP(Import!C986,Mapping!C:F,1,FALSE),\"HF, à reclasser\")))","v":""},{"$f":"IF(ISBLANK(Import!E986),\"\",IF(B983=(LEFT(A983,3)),(IFERROR(VLOOKUP(Import!B986,Mapping!D:F,2,FALSE),\"Cpte à créer dans Mapping\")),\"Cpte à reclasser\"))","v":""}]
[{"$f":"IF(ISBLANK(Import!E987),\"\",Import!E987)","v":""},{"$f":"IF(ISBLANK(Import!E987),\"\",(IFERROR(VLOOKUP(Import!C987,Mapping!C:F,1,FALSE),\"HF, à reclasser\")))","v":""},{"$f":"IF(ISBLANK(Import!E987),\"\",IF(B984=(LEFT(A984,3)),(IFERROR(VLOOKUP(Import!B987,Mapping!D:F,2,FALSE),\"Cpte à créer dans Mapping\")),\"Cpte à reclasser\"))","v":""}]
[{"$f":"IF(ISBLANK(Import!E988),\"\",Import!E988)","v":""},{"$f":"IF(ISBLANK(Import!E988),\"\",(IFERROR(VLOOKUP(Import!C988,Mapping!C:F,1,FALSE),\"HF, à reclasser\")))","v":""},{"$f":"IF(ISBLANK(Import!E988),\"\",IF(B985=(LEFT(A985,3)),(IFERROR(VLOOKUP(Import!B988,Mapping!D:F,2,FALSE),\"Cpte à créer dans Mapping\")),\"Cpte à reclasser\"))","v":""}]
[{"$f":"IF(ISBLANK(Import!E989),\"\",Import!E989)","v":""},{"$f":"IF(ISBLANK(Import!E989),\"\",(IFERROR(VLOOKUP(Import!C989,Mapping!C:F,1,FALSE),\"HF, à reclasser\")))","v":""},{"$f":"IF(ISBLANK(Import!E989),\"\",IF(B986=(LEFT(A986,3)),(IFERROR(VLOOKUP(Import!B989,Mapping!D:F,2,FALSE),\"Cpte à créer dans Mapping\")),\"Cpte à reclasser\"))","v":""}]
[{"$f":"IF(ISBLANK(Import!E990),\"\",Import!E990)","v":""},{"$f":"IF(ISBLANK(Import!E990),\"\",(IFERROR(VLOOKUP(Import!C990,Mapping!C:F,1,FALSE),\"HF, à reclasser\")))","v":""},{"$f":"IF(ISBLANK(Import!E990),\"\",IF(B987=(LEFT(A987,3)),(IFERROR(VLOOKUP(Import!B990,Mapping!D:F,2,FALSE),\"Cpte à créer dans Mapping\")),\"Cpte à reclasser\"))","v":""}]
[{"$f":"IF(ISBLANK(Import!E991),\"\",Import!E991)","v":""},{"$f":"IF(ISBLANK(Import!E991),\"\",(IFERROR(VLOOKUP(Import!C991,Mapping!C:F,1,FALSE),\"HF, à reclasser\")))","v":""},{"$f":"IF(ISBLANK(Import!E991),\"\",IF(B988=(LEFT(A988,3)),(IFERROR(VLOOKUP(Import!B991,Mapping!D:F,2,FALSE),\"Cpte à créer dans Mapping\")),\"Cpte à reclasser\"))","v":""}]
[{"$f":"IF(ISBLANK(Import!E992),\"\",Import!E992)","v":""},{"$f":"IF(ISBLANK(Import!E992),\"\",(IFERROR(VLOOKUP(Import!C992,Mapping!C:F,1,FALSE),\"HF, à reclasser\")))","v":""},{"$f":"IF(ISBLANK(Import!E992),\"\",IF(B989=(LEFT(A989,3)),(IFERROR(VLOOKUP(Import!B992,Mapping!D:F,2,FALSE),\"Cpte à créer dans Mapping\")),\"Cpte à reclasser\"))","v":""}]
[{"$f":"IF(ISBLANK(Import!E993),\"\",Import!E993)","v":""},{"$f":"IF(ISBLANK(Import!E993),\"\",(IFERROR(VLOOKUP(Import!C993,Mapping!C:F,1,FALSE),\"HF, à reclasser\")))","v":""},{"$f":"IF(ISBLANK(Import!E993),\"\",IF(B990=(LEFT(A990,3)),(IFERROR(VLOOKUP(Import!B993,Mapping!D:F,2,FALSE),\"Cpte à créer dans Mapping\")),\"Cpte à reclasser\"))","v":""}]
[{"$f":"IF(ISBLANK(Import!E994),\"\",Import!E994)","v":""},{"$f":"IF(ISBLANK(Import!E994),\"\",(IFERROR(VLOOKUP(Import!C994,Mapping!C:F,1,FALSE),\"HF, à reclasser\")))","v":""},{"$f":"IF(ISBLANK(Import!E994),\"\",IF(B991=(LEFT(A991,3)),(IFERROR(VLOOKUP(Import!B994,Mapping!D:F,2,FALSE),\"Cpte à créer dans Mapping\")),\"Cpte à reclasser\"))","v":""}]
[{"$f":"IF(ISBLANK(Import!E995),\"\",Import!E995)","v":""},{"$f":"IF(ISBLANK(Import!E995),\"\",(IFERROR(VLOOKUP(Import!C995,Mapping!C:F,1,FALSE),\"HF, à reclasser\")))","v":""},{"$f":"IF(ISBLANK(Import!E995),\"\",IF(B992=(LEFT(A992,3)),(IFERROR(VLOOKUP(Import!B995,Mapping!D:F,2,FALSE),\"Cpte à créer dans Mapping\")),\"Cpte à reclasser\"))","v":""}]
[{"$f":"IF(ISBLANK(Import!E996),\"\",Import!E996)","v":""},{"$f":"IF(ISBLANK(Import!E996),\"\",(IFERROR(VLOOKUP(Import!C996,Mapping!C:F,1,FALSE),\"HF, à reclasser\")))","v":""},{"$f":"IF(ISBLANK(Import!E996),\"\",IF(B993=(LEFT(A993,3)),(IFERROR(VLOOKUP(Import!B996,Mapping!D:F,2,FALSE),\"Cpte à créer dans Mapping\")),\"Cpte à reclasser\"))","v":""}]
[{"$f":"IF(ISBLANK(Import!E997),\"\",Import!E997)","v":""},{"$f":"IF(ISBLANK(Import!E997),\"\",(IFERROR(VLOOKUP(Import!C997,Mapping!C:F,1,FALSE),\"HF, à reclasser\")))","v":""},{"$f":"IF(ISBLANK(Import!E997),\"\",IF(B994=(LEFT(A994,3)),(IFERROR(VLOOKUP(Import!B997,Mapping!D:F,2,FALSE),\"Cpte à créer dans Mapping\")),\"Cpte à reclasser\"))","v":""}]
[{"$f":"IF(ISBLANK(Import!E998),\"\",Import!E998)","v":""},{"$f":"IF(ISBLANK(Import!E998),\"\",(IFERROR(VLOOKUP(Import!C998,Mapping!C:F,1,FALSE),\"HF, à reclasser\")))","v":""},{"$f":"IF(ISBLANK(Import!E998),\"\",IF(B995=(LEFT(A995,3)),(IFERROR(VLOOKUP(Import!B998,Mapping!D:F,2,FALSE),\"Cpte à créer dans Mapping\")),\"Cpte à reclasser\"))","v":""}]
[{"$f":"IF(ISBLANK(Import!E999),\"\",Import!E999)","v":""},{"$f":"IF(ISBLANK(Import!E999),\"\",(IFERROR(VLOOKUP(Import!C999,Mapping!C:F,1,FALSE),\"HF, à reclasser\")))","v":""},{"$f":"IF(ISBLANK(Import!E999),\"\",IF(B996=(LEFT(A996,3)),(IFERROR(VLOOKUP(Import!B999,Mapping!D:F,2,FALSE),\"Cpte à créer dans Mapping\")),\"Cpte à reclasser\"))","v":""}]
[{"$f":"IF(ISBLANK(Import!E1000),\"\",Import!E1000)","v":""},{"$f":"IF(ISBLANK(Import!E1000),\"\",(IFERROR(VLOOKUP(Import!C1000,Mapping!C:F,1,FALSE),\"HF, à reclasser\")))","v":""},{"$f":"IF(ISBLANK(Import!E1000),\"\",IF(B997=(LEFT(A997,3)),(IFERROR(VLOOKUP(Import!B1000,Mapping!D:F,2,FALSE),\"Cpte à créer dans Mapping\")),\"Cpte à reclasser\"))","v":""}]
[{"$f":"IF(ISBLANK(Import!E1001),\"\",Import!E1001)","v":""},{"$f":"IF(ISBLANK(Import!E1001),\"\",(IFERROR(VLOOKUP(Import!C1001,Mapping!C:F,1,FALSE),\"HF, à reclasser\")))","v":""},{"$f":"IF(ISBLANK(Import!E1001),\"\",IF(B998=(LEFT(A998,3)),(IFERROR(VLOOKUP(Import!B1001,Mapping!D:F,2,FALSE),\"Cpte à créer dans Mapping\")),\"Cpte à reclasser\"))","v":""}]
[{"$f":"IF(ISBLANK(Import!E1002),\"\",Import!E1002)","v":""},{"$f":"IF(ISBLANK(Import!E1002),\"\",(IFERROR(VLOOKUP(Import!C1002,Mapping!C:F,1,FALSE),\"HF, à reclasser\")))","v":""},{"$f":"IF(ISBLANK(Import!E1002),\"\",IF(B999=(LEFT(A999,3)),(IFERROR(VLOOKUP(Import!B1002,Mapping!D:F,2,FALSE),\"Cpte à créer dans Mapping\")),\"Cpte à reclasser\"))","v":""}]
[{"$f":"IF(ISBLANK(Import!E1003),\"\",Import!E1003)","v":""},{"$f":"IF(ISBLANK(Import!E1003),\"\",(IFERROR(VLOOKUP(Import!C1003,Mapping!C:F,1,FALSE),\"HF, à reclasser\")))","v":""},{"$f":"IF(ISBLANK(Import!E1003),\"\",IF(B1000=(LEFT(A1000,3)),(IFERROR(VLOOKUP(Import!B1003,Mapping!D:F,2,FALSE),\"Cpte à créer dans Mapping\")),\"Cpte à reclasser\"))","v":""}]
[{"$f":"IF(ISBLANK(Import!E1004),\"\",Import!E1004)","v":""},{"$f":"IF(ISBLANK(Import!E1004),\"\",(IFERROR(VLOOKUP(Import!C1004,Mapping!C:F,1,FALSE),\"HF, à reclasser\")))","v":""},{"$f":"IF(ISBLANK(Import!E1004),\"\",IF(B1001=(LEFT(A1001,3)),(IFERROR(VLOOKUP(Import!B1004,Mapping!D:F,2,FALSE),\"Cpte à créer dans Mapping\")),\"Cpte à reclasser\"))","v":""}]
[{"$f":"IF(ISBLANK(Import!E1005),\"\",Import!E1005)","v":""},{"$f":"IF(ISBLANK(Import!E1005),\"\",(IFERROR(VLOOKUP(Import!C1005,Mapping!C:F,1,FALSE),\"HF, à reclasser\")))","v":""},{"$f":"IF(ISBLANK(Import!E1005),\"\",IF(B1002=(LEFT(A1002,3)),(IFERROR(VLOOKUP(Import!B1005,Mapping!D:F,2,FALSE),\"Cpte à créer dans Mapping\")),\"Cpte à reclasser\"))","v":""}]
[{"$f":"IF(ISBLANK(Import!E1006),\"\",Import!E1006)","v":""},{"$f":"IF(ISBLANK(Import!E1006),\"\",(IFERROR(VLOOKUP(Import!C1006,Mapping!C:F,1,FALSE),\"HF, à reclasser\")))","v":""},{"$f":"IF(ISBLANK(Import!E1006),\"\",IF(B1003=(LEFT(A1003,3)),(IFERROR(VLOOKUP(Import!B1006,Mapping!D:F,2,FALSE),\"Cpte à créer dans Mapping\")),\"Cpte à reclasser\"))","v":""}]
[{"$f":"IF(ISBLANK(Import!E1007),\"\",Import!E1007)","v":""},{"$f":"IF(ISBLANK(Import!E1007),\"\",(IFERROR(VLOOKUP(Import!C1007,Mapping!C:F,1,FALSE),\"HF, à reclasser\")))","v":""},{"$f":"IF(ISBLANK(Import!E1007),\"\",IF(B1004=(LEFT(A1004,3)),(IFERROR(VLOOKUP(Import!B1007,Mapping!D:F,2,FALSE),\"Cpte à créer dans Mapping\")),\"Cpte à reclasser\"))","v":""}]
[{"$f":"IF(ISBLANK(Import!E1008),\"\",Import!E1008)","v":""},{"$f":"IF(ISBLANK(Import!E1008),\"\",(IFERROR(VLOOKUP(Import!C1008,Mapping!C:F,1,FALSE),\"HF, à reclasser\")))","v":""},{"$f":"IF(ISBLANK(Import!E1008),\"\",IF(B1005=(LEFT(A1005,3)),(IFERROR(VLOOKUP(Import!B1008,Mapping!D:F,2,FALSE),\"Cpte à créer dans Mapping\")),\"Cpte à reclasser\"))","v":""}]
[{"$f":"IF(ISBLANK(Import!E1009),\"\",Import!E1009)","v":""},{"$f":"IF(ISBLANK(Import!E1009),\"\",(IFERROR(VLOOKUP(Import!C1009,Mapping!C:F,1,FALSE),\"HF, à reclasser\")))","v":""},{"$f":"IF(ISBLANK(Import!E1009),\"\",IF(B1006=(LEFT(A1006,3)),(IFERROR(VLOOKUP(Import!B1009,Mapping!D:F,2,FALSE),\"Cpte à créer dans Mapping\")),\"Cpte à reclasser\"))","v":""}]
[{"$f":"IF(ISBLANK(Import!E1010),\"\",Import!E1010)","v":""},{"$f":"IF(ISBLANK(Import!E1010),\"\",(IFERROR(VLOOKUP(Import!C1010,Mapping!C:F,1,FALSE),\"HF, à reclasser\")))","v":""},{"$f":"IF(ISBLANK(Import!E1010),\"\",IF(B1007=(LEFT(A1007,3)),(IFERROR(VLOOKUP(Import!B1010,Mapping!D:F,2,FALSE),\"Cpte à créer dans Mapping\")),\"Cpte à reclasser\"))","v":""}]
[{"$f":"IF(ISBLANK(Import!E1011),\"\",Import!E1011)","v":""},{"$f":"IF(ISBLANK(Import!E1011),\"\",(IFERROR(VLOOKUP(Import!C1011,Mapping!C:F,1,FALSE),\"HF, à reclasser\")))","v":""},{"$f":"IF(ISBLANK(Import!E1011),\"\",IF(B1008=(LEFT(A1008,3)),(IFERROR(VLOOKUP(Import!B1011,Mapping!D:F,2,FALSE),\"Cpte à créer dans Mapping\")),\"Cpte à reclasser\"))","v":""}]
[{"$f":"IF(ISBLANK(Import!E1012),\"\",Import!E1012)","v":""},{"$f":"IF(ISBLANK(Import!E1012),\"\",(IFERROR(VLOOKUP(Import!C1012,Mapping!C:F,1,FALSE),\"HF, à reclasser\")))","v":""},{"$f":"IF(ISBLANK(Import!E1012),\"\",IF(B1009=(LEFT(A1009,3)),(IFERROR(VLOOKUP(Import!B1012,Mapping!D:F,2,FALSE),\"Cpte à créer dans Mapping\")),\"Cpte à reclasser\"))","v":""}]
[{"$f":"IF(ISBLANK(Import!E1013),\"\",Import!E1013)","v":""},{"$f":"IF(ISBLANK(Import!E1013),\"\",(IFERROR(VLOOKUP(Import!C1013,Mapping!C:F,1,FALSE),\"HF, à reclasser\")))","v":""},{"$f":"IF(ISBLANK(Import!E1013),\"\",IF(B1010=(LEFT(A1010,3)),(IFERROR(VLOOKUP(Import!B1013,Mapping!D:F,2,FALSE),\"Cpte à créer dans Mapping\")),\"Cpte à reclasser\"))","v":""}]
[{"$f":"IF(ISBLANK(Import!E1014),\"\",Import!E1014)","v":""},{"$f":"IF(ISBLANK(Import!E1014),\"\",(IFERROR(VLOOKUP(Import!C1014,Mapping!C:F,1,FALSE),\"HF, à reclasser\")))","v":""},{"$f":"IF(ISBLANK(Import!E1014),\"\",IF(B1011=(LEFT(A1011,3)),(IFERROR(VLOOKUP(Import!B1014,Mapping!D:F,2,FALSE),\"Cpte à créer dans Mapping\")),\"Cpte à reclasser\"))","v":""}]
[{"$f":"IF(ISBLANK(Import!E1015),\"\",Import!E1015)","v":""},{"$f":"IF(ISBLANK(Import!E1015),\"\",(IFERROR(VLOOKUP(Import!C1015,Mapping!C:F,1,FALSE),\"HF, à reclasser\")))","v":""},{"$f":"IF(ISBLANK(Import!E1015),\"\",IF(B1012=(LEFT(A1012,3)),(IFERROR(VLOOKUP(Import!B1015,Mapping!D:F,2,FALSE),\"Cpte à créer dans Mapping\")),\"Cpte à reclasser\"))","v":""}]
[{"$f":"IF(ISBLANK(Import!E1016),\"\",Import!E1016)","v":""},{"$f":"IF(ISBLANK(Import!E1016),\"\",(IFERROR(VLOOKUP(Import!C1016,Mapping!C:F,1,FALSE),\"HF, à reclasser\")))","v":""},{"$f":"IF(ISBLANK(Import!E1016),\"\",IF(B1013=(LEFT(A1013,3)),(IFERROR(VLOOKUP(Import!B1016,Mapping!D:F,2,FALSE),\"Cpte à créer dans Mapping\")),\"Cpte à reclasser\"))","v":""}]
[{"$f":"IF(ISBLANK(Import!E1017),\"\",Import!E1017)","v":""},{"$f":"IF(ISBLANK(Import!E1017),\"\",(IFERROR(VLOOKUP(Import!C1017,Mapping!C:F,1,FALSE),\"HF, à reclasser\")))","v":""},{"$f":"IF(ISBLANK(Import!E1017),\"\",IF(B1014=(LEFT(A1014,3)),(IFERROR(VLOOKUP(Import!B1017,Mapping!D:F,2,FALSE),\"Cpte à créer dans Mapping\")),\"Cpte à reclasser\"))","v":""}]
[{"$f":"IF(ISBLANK(Import!E1018),\"\",Import!E1018)","v":""},{"$f":"IF(ISBLANK(Import!E1018),\"\",(IFERROR(VLOOKUP(Import!C1018,Mapping!C:F,1,FALSE),\"HF, à reclasser\")))","v":""},{"$f":"IF(ISBLANK(Import!E1018),\"\",IF(B1015=(LEFT(A1015,3)),(IFERROR(VLOOKUP(Import!B1018,Mapping!D:F,2,FALSE),\"Cpte à créer dans Mapping\")),\"Cpte à reclasser\"))","v":""}]
[{"$f":"IF(ISBLANK(Import!E1019),\"\",Import!E1019)","v":""},{"$f":"IF(ISBLANK(Import!E1019),\"\",(IFERROR(VLOOKUP(Import!C1019,Mapping!C:F,1,FALSE),\"HF, à reclasser\")))","v":""},{"$f":"IF(ISBLANK(Import!E1019),\"\",IF(B1016=(LEFT(A1016,3)),(IFERROR(VLOOKUP(Import!B1019,Mapping!D:F,2,FALSE),\"Cpte à créer dans Mapping\")),\"Cpte à reclasser\"))","v":""}]
[{"$f":"IF(ISBLANK(Import!E1020),\"\",Import!E1020)","v":""},{"$f":"IF(ISBLANK(Import!E1020),\"\",(IFERROR(VLOOKUP(Import!C1020,Mapping!C:F,1,FALSE),\"HF, à reclasser\")))","v":""},{"$f":"IF(ISBLANK(Import!E1020),\"\",IF(B1017=(LEFT(A1017,3)),(IFERROR(VLOOKUP(Import!B1020,Mapping!D:F,2,FALSE),\"Cpte à créer dans Mapping\")),\"Cpte à reclasser\"))","v":""}]
[{"$f":"IF(ISBLANK(Import!E1021),\"\",Import!E1021)","v":""},{"$f":"IF(ISBLANK(Import!E1021),\"\",(IFERROR(VLOOKUP(Import!C1021,Mapping!C:F,1,FALSE),\"HF, à reclasser\")))","v":""},{"$f":"IF(ISBLANK(Import!E1021),\"\",IF(B1018=(LEFT(A1018,3)),(IFERROR(VLOOKUP(Import!B1021,Mapping!D:F,2,FALSE),\"Cpte à créer dans Mapping\")),\"Cpte à reclasser\"))","v":""}]
[{"$f":"IF(ISBLANK(Import!E1022),\"\",Import!E1022)","v":""},{"$f":"IF(ISBLANK(Import!E1022),\"\",(IFERROR(VLOOKUP(Import!C1022,Mapping!C:F,1,FALSE),\"HF, à reclasser\")))","v":""},{"$f":"IF(ISBLANK(Import!E1022),\"\",IF(B1019=(LEFT(A1019,3)),(IFERROR(VLOOKUP(Import!B1022,Mapping!D:F,2,FALSE),\"Cpte à créer dans Mapping\")),\"Cpte à reclasser\"))","v":""}]
[{"$f":"IF(ISBLANK(Import!E1023),\"\",Import!E1023)","v":""},{"$f":"IF(ISBLANK(Import!E1023),\"\",(IFERROR(VLOOKUP(Import!C1023,Mapping!C:F,1,FALSE),\"HF, à reclasser\")))","v":""},{"$f":"IF(ISBLANK(Import!E1023),\"\",IF(B1020=(LEFT(A1020,3)),(IFERROR(VLOOKUP(Import!B1023,Mapping!D:F,2,FALSE),\"Cpte à créer dans Mapping\")),\"Cpte à reclasser\"))","v":""}]
[{"$f":"IF(ISBLANK(Import!E1024),\"\",Import!E1024)","v":""},{"$f":"IF(ISBLANK(Import!E1024),\"\",(IFERROR(VLOOKUP(Import!C1024,Mapping!C:F,1,FALSE),\"HF, à reclasser\")))","v":""},{"$f":"IF(ISBLANK(Import!E1024),\"\",IF(B1021=(LEFT(A1021,3)),(IFERROR(VLOOKUP(Import!B1024,Mapping!D:F,2,FALSE),\"Cpte à créer dans Mapping\")),\"Cpte à reclasser\"))","v":""}]
[{"$f":"IF(ISBLANK(Import!E1025),\"\",Import!E1025)","v":""},{"$f":"IF(ISBLANK(Import!E1025),\"\",(IFERROR(VLOOKUP(Import!C1025,Mapping!C:F,1,FALSE),\"HF, à reclasser\")))","v":""},{"$f":"IF(ISBLANK(Import!E1025),\"\",IF(B1022=(LEFT(A1022,3)),(IFERROR(VLOOKUP(Import!B1025,Mapping!D:F,2,FALSE),\"Cpte à créer dans Mapping\")),\"Cpte à reclasser\"))","v":""}]
[{"$f":"IF(ISBLANK(Import!E1026),\"\",Import!E1026)","v":""},{"$f":"IF(ISBLANK(Import!E1026),\"\",(IFERROR(VLOOKUP(Import!C1026,Mapping!C:F,1,FALSE),\"HF, à reclasser\")))","v":""},{"$f":"IF(ISBLANK(Import!E1026),\"\",IF(B1023=(LEFT(A1023,3)),(IFERROR(VLOOKUP(Import!B1026,Mapping!D:F,2,FALSE),\"Cpte à créer dans Mapping\")),\"Cpte à reclasser\"))","v":""}]
[{"$f":"IF(ISBLANK(Import!E1027),\"\",Import!E1027)","v":""},{"$f":"IF(ISBLANK(Import!E1027),\"\",(IFERROR(VLOOKUP(Import!C1027,Mapping!C:F,1,FALSE),\"HF, à reclasser\")))","v":""},{"$f":"IF(ISBLANK(Import!E1027),\"\",IF(B1024=(LEFT(A1024,3)),(IFERROR(VLOOKUP(Import!B1027,Mapping!D:F,2,FALSE),\"Cpte à créer dans Mapping\")),\"Cpte à reclasser\"))","v":""}]
[{"$f":"IF(ISBLANK(Import!E1028),\"\",Import!E1028)","v":""},{"$f":"IF(ISBLANK(Import!E1028),\"\",(IFERROR(VLOOKUP(Import!C1028,Mapping!C:F,1,FALSE),\"HF, à reclasser\")))","v":""},{"$f":"IF(ISBLANK(Import!E1028),\"\",IF(B1025=(LEFT(A1025,3)),(IFERROR(VLOOKUP(Import!B1028,Mapping!D:F,2,FALSE),\"Cpte à créer dans Mapping\")),\"Cpte à reclasser\"))","v":""}]
[{"$f":"IF(ISBLANK(Import!E1029),\"\",Import!E1029)","v":""},{"$f":"IF(ISBLANK(Import!E1029),\"\",(IFERROR(VLOOKUP(Import!C1029,Mapping!C:F,1,FALSE),\"HF, à reclasser\")))","v":""},{"$f":"IF(ISBLANK(Import!E1029),\"\",IF(B1026=(LEFT(A1026,3)),(IFERROR(VLOOKUP(Import!B1029,Mapping!D:F,2,FALSE),\"Cpte à créer dans Mapping\")),\"Cpte à reclasser\"))","v":""}]
[{"$f":"IF(ISBLANK(Import!E1030),\"\",Import!E1030)","v":""},{"$f":"IF(ISBLANK(Import!E1030),\"\",(IFERROR(VLOOKUP(Import!C1030,Mapping!C:F,1,FALSE),\"HF, à reclasser\")))","v":""},{"$f":"IF(ISBLANK(Import!E1030),\"\",IF(B1027=(LEFT(A1027,3)),(IFERROR(VLOOKUP(Import!B1030,Mapping!D:F,2,FALSE),\"Cpte à créer dans Mapping\")),\"Cpte à reclasser\"))","v":""}]
[{"$f":"IF(ISBLANK(Import!E1031),\"\",Import!E1031)","v":""},{"$f":"IF(ISBLANK(Import!E1031),\"\",(IFERROR(VLOOKUP(Import!C1031,Mapping!C:F,1,FALSE),\"HF, à reclasser\")))","v":""},{"$f":"IF(ISBLANK(Import!E1031),\"\",IF(B1028=(LEFT(A1028,3)),(IFERROR(VLOOKUP(Import!B1031,Mapping!D:F,2,FALSE),\"Cpte à créer dans Mapping\")),\"Cpte à reclasser\"))","v":""}]
[{"$f":"IF(ISBLANK(Import!E1032),\"\",Import!E1032)","v":""},{"$f":"IF(ISBLANK(Import!E1032),\"\",(IFERROR(VLOOKUP(Import!C1032,Mapping!C:F,1,FALSE),\"HF, à reclasser\")))","v":""},{"$f":"IF(ISBLANK(Import!E1032),\"\",IF(B1029=(LEFT(A1029,3)),(IFERROR(VLOOKUP(Import!B1032,Mapping!D:F,2,FALSE),\"Cpte à créer dans Mapping\")),\"Cpte à reclasser\"))","v":""}]
[{"$f":"IF(ISBLANK(Import!E1033),\"\",Import!E1033)","v":""},{"$f":"IF(ISBLANK(Import!E1033),\"\",(IFERROR(VLOOKUP(Import!C1033,Mapping!C:F,1,FALSE),\"HF, à reclasser\")))","v":""},{"$f":"IF(ISBLANK(Import!E1033),\"\",IF(B1030=(LEFT(A1030,3)),(IFERROR(VLOOKUP(Import!B1033,Mapping!D:F,2,FALSE),\"Cpte à créer dans Mapping\")),\"Cpte à reclasser\"))","v":""}]
[{"$f":"IF(ISBLANK(Import!E1034),\"\",Import!E1034)","v":""},{"$f":"IF(ISBLANK(Import!E1034),\"\",(IFERROR(VLOOKUP(Import!C1034,Mapping!C:F,1,FALSE),\"HF, à reclasser\")))","v":""},{"$f":"IF(ISBLANK(Import!E1034),\"\",IF(B1031=(LEFT(A1031,3)),(IFERROR(VLOOKUP(Import!B1034,Mapping!D:F,2,FALSE),\"Cpte à créer dans Mapping\")),\"Cpte à reclasser\"))","v":""}]
[{"$f":"IF(ISBLANK(Import!E1035),\"\",Import!E1035)","v":""},{"$f":"IF(ISBLANK(Import!E1035),\"\",(IFERROR(VLOOKUP(Import!C1035,Mapping!C:F,1,FALSE),\"HF, à reclasser\")))","v":""},{"$f":"IF(ISBLANK(Import!E1035),\"\",IF(B1032=(LEFT(A1032,3)),(IFERROR(VLOOKUP(Import!B1035,Mapping!D:F,2,FALSE),\"Cpte à créer dans Mapping\")),\"Cpte à reclasser\"))","v":""}]
[{"$f":"IF(ISBLANK(Import!E1036),\"\",Import!E1036)","v":""},{"$f":"IF(ISBLANK(Import!E1036),\"\",(IFERROR(VLOOKUP(Import!C1036,Mapping!C:F,1,FALSE),\"HF, à reclasser\")))","v":""},{"$f":"IF(ISBLANK(Import!E1036),\"\",IF(B1033=(LEFT(A1033,3)),(IFERROR(VLOOKUP(Import!B1036,Mapping!D:F,2,FALSE),\"Cpte à créer dans Mapping\")),\"Cpte à reclasser\"))","v":""}]
[{"$f":"IF(ISBLANK(Import!E1037),\"\",Import!E1037)","v":""},{"$f":"IF(ISBLANK(Import!E1037),\"\",(IFERROR(VLOOKUP(Import!C1037,Mapping!C:F,1,FALSE),\"HF, à reclasser\")))","v":""},{"$f":"IF(ISBLANK(Import!E1037),\"\",IF(B1034=(LEFT(A1034,3)),(IFERROR(VLOOKUP(Import!B1037,Mapping!D:F,2,FALSE),\"Cpte à créer dans Mapping\")),\"Cpte à reclasser\"))","v":""}]
[{"$f":"IF(ISBLANK(Import!E1038),\"\",Import!E1038)","v":""},{"$f":"IF(ISBLANK(Import!E1038),\"\",(IFERROR(VLOOKUP(Import!C1038,Mapping!C:F,1,FALSE),\"HF, à reclasser\")))","v":""},{"$f":"IF(ISBLANK(Import!E1038),\"\",IF(B1035=(LEFT(A1035,3)),(IFERROR(VLOOKUP(Import!B1038,Mapping!D:F,2,FALSE),\"Cpte à créer dans Mapping\")),\"Cpte à reclasser\"))","v":""}]
[{"$f":"IF(ISBLANK(Import!E1039),\"\",Import!E1039)","v":""},{"$f":"IF(ISBLANK(Import!E1039),\"\",(IFERROR(VLOOKUP(Import!C1039,Mapping!C:F,1,FALSE),\"HF, à reclasser\")))","v":""},{"$f":"IF(ISBLANK(Import!E1039),\"\",IF(B1036=(LEFT(A1036,3)),(IFERROR(VLOOKUP(Import!B1039,Mapping!D:F,2,FALSE),\"Cpte à créer dans Mapping\")),\"Cpte à reclasser\"))","v":""}]
[{"$f":"IF(ISBLANK(Import!E1040),\"\",Import!E1040)","v":""},{"$f":"IF(ISBLANK(Import!E1040),\"\",(IFERROR(VLOOKUP(Import!C1040,Mapping!C:F,1,FALSE),\"HF, à reclasser\")))","v":""},{"$f":"IF(ISBLANK(Import!E1040),\"\",IF(B1037=(LEFT(A1037,3)),(IFERROR(VLOOKUP(Import!B1040,Mapping!D:F,2,FALSE),\"Cpte à créer dans Mapping\")),\"Cpte à reclasser\"))","v":""}]
[{"$f":"IF(ISBLANK(Import!E1041),\"\",Import!E1041)","v":""},{"$f":"IF(ISBLANK(Import!E1041),\"\",(IFERROR(VLOOKUP(Import!C1041,Mapping!C:F,1,FALSE),\"HF, à reclasser\")))","v":""},{"$f":"IF(ISBLANK(Import!E1041),\"\",IF(B1038=(LEFT(A1038,3)),(IFERROR(VLOOKUP(Import!B1041,Mapping!D:F,2,FALSE),\"Cpte à créer dans Mapping\")),\"Cpte à reclasser\"))","v":""}]
[{"$f":"IF(ISBLANK(Import!E1042),\"\",Import!E1042)","v":""},{"$f":"IF(ISBLANK(Import!E1042),\"\",(IFERROR(VLOOKUP(Import!C1042,Mapping!C:F,1,FALSE),\"HF, à reclasser\")))","v":""},{"$f":"IF(ISBLANK(Import!E1042),\"\",IF(B1039=(LEFT(A1039,3)),(IFERROR(VLOOKUP(Import!B1042,Mapping!D:F,2,FALSE),\"Cpte à créer dans Mapping\")),\"Cpte à reclasser\"))","v":""}]
[{"$f":"IF(ISBLANK(Import!E1043),\"\",Import!E1043)","v":""},{"$f":"IF(ISBLANK(Import!E1043),\"\",(IFERROR(VLOOKUP(Import!C1043,Mapping!C:F,1,FALSE),\"HF, à reclasser\")))","v":""},{"$f":"IF(ISBLANK(Import!E1043),\"\",IF(B1040=(LEFT(A1040,3)),(IFERROR(VLOOKUP(Import!B1043,Mapping!D:F,2,FALSE),\"Cpte à créer dans Mapping\")),\"Cpte à reclasser\"))","v":""}]
[{"$f":"IF(ISBLANK(Import!E1044),\"\",Import!E1044)","v":""},{"$f":"IF(ISBLANK(Import!E1044),\"\",(IFERROR(VLOOKUP(Import!C1044,Mapping!C:F,1,FALSE),\"HF, à reclasser\")))","v":""},{"$f":"IF(ISBLANK(Import!E1044),\"\",IF(B1041=(LEFT(A1041,3)),(IFERROR(VLOOKUP(Import!B1044,Mapping!D:F,2,FALSE),\"Cpte à créer dans Mapping\")),\"Cpte à reclasser\"))","v":""}]
[{"$f":"IF(ISBLANK(Import!E1045),\"\",Import!E1045)","v":""},{"$f":"IF(ISBLANK(Import!E1045),\"\",(IFERROR(VLOOKUP(Import!C1045,Mapping!C:F,1,FALSE),\"HF, à reclasser\")))","v":""},{"$f":"IF(ISBLANK(Import!E1045),\"\",IF(B1042=(LEFT(A1042,3)),(IFERROR(VLOOKUP(Import!B1045,Mapping!D:F,2,FALSE),\"Cpte à créer dans Mapping\")),\"Cpte à reclasser\"))","v":""}]
[{"$f":"IF(ISBLANK(Import!E1046),\"\",Import!E1046)","v":""},{"$f":"IF(ISBLANK(Import!E1046),\"\",(IFERROR(VLOOKUP(Import!C1046,Mapping!C:F,1,FALSE),\"HF, à reclasser\")))","v":""},{"$f":"IF(ISBLANK(Import!E1046),\"\",IF(B1043=(LEFT(A1043,3)),(IFERROR(VLOOKUP(Import!B1046,Mapping!D:F,2,FALSE),\"Cpte à créer dans Mapping\")),\"Cpte à reclasser\"))","v":""}]
[{"$f":"IF(ISBLANK(Import!E1047),\"\",Import!E1047)","v":""},{"$f":"IF(ISBLANK(Import!E1047),\"\",(IFERROR(VLOOKUP(Import!C1047,Mapping!C:F,1,FALSE),\"HF, à reclasser\")))","v":""},{"$f":"IF(ISBLANK(Import!E1047),\"\",IF(B1044=(LEFT(A1044,3)),(IFERROR(VLOOKUP(Import!B1047,Mapping!D:F,2,FALSE),\"Cpte à créer dans Mapping\")),\"Cpte à reclasser\"))","v":""}]
[{"$f":"IF(ISBLANK(Import!E1048),\"\",Import!E1048)","v":""},{"$f":"IF(ISBLANK(Import!E1048),\"\",(IFERROR(VLOOKUP(Import!C1048,Mapping!C:F,1,FALSE),\"HF, à reclasser\")))","v":""},{"$f":"IF(ISBLANK(Import!E1048),\"\",IF(B1045=(LEFT(A1045,3)),(IFERROR(VLOOKUP(Import!B1048,Mapping!D:F,2,FALSE),\"Cpte à créer dans Mapping\")),\"Cpte à reclasser\"))","v":""}]
[{"$f":"IF(ISBLANK(Import!E1049),\"\",Import!E1049)","v":""},{"$f":"IF(ISBLANK(Import!E1049),\"\",(IFERROR(VLOOKUP(Import!C1049,Mapping!C:F,1,FALSE),\"HF, à reclasser\")))","v":""},{"$f":"IF(ISBLANK(Import!E1049),\"\",IF(B1046=(LEFT(A1046,3)),(IFERROR(VLOOKUP(Import!B1049,Mapping!D:F,2,FALSE),\"Cpte à créer dans Mapping\")),\"Cpte à reclasser\"))","v":""}]
[{"$f":"IF(ISBLANK(Import!E1050),\"\",Import!E1050)","v":""},{"$f":"IF(ISBLANK(Import!E1050),\"\",(IFERROR(VLOOKUP(Import!C1050,Mapping!C:F,1,FALSE),\"HF, à reclasser\")))","v":""},{"$f":"IF(ISBLANK(Import!E1050),\"\",IF(B1047=(LEFT(A1047,3)),(IFERROR(VLOOKUP(Import!B1050,Mapping!D:F,2,FALSE),\"Cpte à créer dans Mapping\")),\"Cpte à reclasser\"))","v":""}]
[{"$f":"IF(ISBLANK(Import!E1051),\"\",Import!E1051)","v":""},{"$f":"IF(ISBLANK(Import!E1051),\"\",(IFERROR(VLOOKUP(Import!C1051,Mapping!C:F,1,FALSE),\"HF, à reclasser\")))","v":""},{"$f":"IF(ISBLANK(Import!E1051),\"\",IF(B1048=(LEFT(A1048,3)),(IFERROR(VLOOKUP(Import!B1051,Mapping!D:F,2,FALSE),\"Cpte à créer dans Mapping\")),\"Cpte à reclasser\"))","v":""}]
[{"$f":"IF(ISBLANK(Import!E1052),\"\",Import!E1052)","v":""},{"$f":"IF(ISBLANK(Import!E1052),\"\",(IFERROR(VLOOKUP(Import!C1052,Mapping!C:F,1,FALSE),\"HF, à reclasser\")))","v":""},{"$f":"IF(ISBLANK(Import!E1052),\"\",IF(B1049=(LEFT(A1049,3)),(IFERROR(VLOOKUP(Import!B1052,Mapping!D:F,2,FALSE),\"Cpte à créer dans Mapping\")),\"Cpte à reclasser\"))","v":""}]
[{"$f":"IF(ISBLANK(Import!E1053),\"\",Import!E1053)","v":""},{"$f":"IF(ISBLANK(Import!E1053),\"\",(IFERROR(VLOOKUP(Import!C1053,Mapping!C:F,1,FALSE),\"HF, à reclasser\")))","v":""},{"$f":"IF(ISBLANK(Import!E1053),\"\",IF(B1050=(LEFT(A1050,3)),(IFERROR(VLOOKUP(Import!B1053,Mapping!D:F,2,FALSE),\"Cpte à créer dans Mapping\")),\"Cpte à reclasser\"))","v":""}]
[{"$f":"IF(ISBLANK(Import!E1054),\"\",Import!E1054)","v":""},{"$f":"IF(ISBLANK(Import!E1054),\"\",(IFERROR(VLOOKUP(Import!C1054,Mapping!C:F,1,FALSE),\"HF, à reclasser\")))","v":""},{"$f":"IF(ISBLANK(Import!E1054),\"\",IF(B1051=(LEFT(A1051,3)),(IFERROR(VLOOKUP(Import!B1054,Mapping!D:F,2,FALSE),\"Cpte à créer dans Mapping\")),\"Cpte à reclasser\"))","v":""}]
[{"$f":"IF(ISBLANK(Import!E1055),\"\",Import!E1055)","v":""},{"$f":"IF(ISBLANK(Import!E1055),\"\",(IFERROR(VLOOKUP(Import!C1055,Mapping!C:F,1,FALSE),\"HF, à reclasser\")))","v":""},{"$f":"IF(ISBLANK(Import!E1055),\"\",IF(B1052=(LEFT(A1052,3)),(IFERROR(VLOOKUP(Import!B1055,Mapping!D:F,2,FALSE),\"Cpte à créer dans Mapping\")),\"Cpte à reclasser\"))","v":""}]
[{"$f":"IF(ISBLANK(Import!E1056),\"\",Import!E1056)","v":""},{"$f":"IF(ISBLANK(Import!E1056),\"\",(IFERROR(VLOOKUP(Import!C1056,Mapping!C:F,1,FALSE),\"HF, à reclasser\")))","v":""},{"$f":"IF(ISBLANK(Import!E1056),\"\",IF(B1053=(LEFT(A1053,3)),(IFERROR(VLOOKUP(Import!B1056,Mapping!D:F,2,FALSE),\"Cpte à créer dans Mapping\")),\"Cpte à reclasser\"))","v":""}]
[{"$f":"IF(ISBLANK(Import!E1057),\"\",Import!E1057)","v":""},{"$f":"IF(ISBLANK(Import!E1057),\"\",(IFERROR(VLOOKUP(Import!C1057,Mapping!C:F,1,FALSE),\"HF, à reclasser\")))","v":""},{"$f":"IF(ISBLANK(Import!E1057),\"\",IF(B1054=(LEFT(A1054,3)),(IFERROR(VLOOKUP(Import!B1057,Mapping!D:F,2,FALSE),\"Cpte à créer dans Mapping\")),\"Cpte à reclasser\"))","v":""}]
[{"$f":"IF(ISBLANK(Import!E1058),\"\",Import!E1058)","v":""},{"$f":"IF(ISBLANK(Import!E1058),\"\",(IFERROR(VLOOKUP(Import!C1058,Mapping!C:F,1,FALSE),\"HF, à reclasser\")))","v":""},{"$f":"IF(ISBLANK(Import!E1058),\"\",IF(B1055=(LEFT(A1055,3)),(IFERROR(VLOOKUP(Import!B1058,Mapping!D:F,2,FALSE),\"Cpte à créer dans Mapping\")),\"Cpte à reclasser\"))","v":""}]
[{"$f":"IF(ISBLANK(Import!E1059),\"\",Import!E1059)","v":""},{"$f":"IF(ISBLANK(Import!E1059),\"\",(IFERROR(VLOOKUP(Import!C1059,Mapping!C:F,1,FALSE),\"HF, à reclasser\")))","v":""},{"$f":"IF(ISBLANK(Import!E1059),\"\",IF(B1056=(LEFT(A1056,3)),(IFERROR(VLOOKUP(Import!B1059,Mapping!D:F,2,FALSE),\"Cpte à créer dans Mapping\")),\"Cpte à reclasser\"))","v":""}]
[{"$f":"IF(ISBLANK(Import!E1060),\"\",Import!E1060)","v":""},{"$f":"IF(ISBLANK(Import!E1060),\"\",(IFERROR(VLOOKUP(Import!C1060,Mapping!C:F,1,FALSE),\"HF, à reclasser\")))","v":""},{"$f":"IF(ISBLANK(Import!E1060),\"\",IF(B1057=(LEFT(A1057,3)),(IFERROR(VLOOKUP(Import!B1060,Mapping!D:F,2,FALSE),\"Cpte à créer dans Mapping\")),\"Cpte à reclasser\"))","v":""}]
[{"$f":"IF(ISBLANK(Import!E1061),\"\",Import!E1061)","v":""},{"$f":"IF(ISBLANK(Import!E1061),\"\",(IFERROR(VLOOKUP(Import!C1061,Mapping!C:F,1,FALSE),\"HF, à reclasser\")))","v":""},{"$f":"IF(ISBLANK(Import!E1061),\"\",IF(B1058=(LEFT(A1058,3)),(IFERROR(VLOOKUP(Import!B1061,Mapping!D:F,2,FALSE),\"Cpte à créer dans Mapping\")),\"Cpte à reclasser\"))","v":""}]
[{"$f":"IF(ISBLANK(Import!E1062),\"\",Import!E1062)","v":""},{"$f":"IF(ISBLANK(Import!E1062),\"\",(IFERROR(VLOOKUP(Import!C1062,Mapping!C:F,1,FALSE),\"HF, à reclasser\")))","v":""},{"$f":"IF(ISBLANK(Import!E1062),\"\",IF(B1059=(LEFT(A1059,3)),(IFERROR(VLOOKUP(Import!B1062,Mapping!D:F,2,FALSE),\"Cpte à créer dans Mapping\")),\"Cpte à reclasser\"))","v":""}]
[{"$f":"IF(ISBLANK(Import!E1063),\"\",Import!E1063)","v":""},{"$f":"IF(ISBLANK(Import!E1063),\"\",(IFERROR(VLOOKUP(Import!C1063,Mapping!C:F,1,FALSE),\"HF, à reclasser\")))","v":""},{"$f":"IF(ISBLANK(Import!E1063),\"\",IF(B1060=(LEFT(A1060,3)),(IFERROR(VLOOKUP(Import!B1063,Mapping!D:F,2,FALSE),\"Cpte à créer dans Mapping\")),\"Cpte à reclasser\"))","v":""}]
[{"$f":"IF(ISBLANK(Import!E1064),\"\",Import!E1064)","v":""},{"$f":"IF(ISBLANK(Import!E1064),\"\",(IFERROR(VLOOKUP(Import!C1064,Mapping!C:F,1,FALSE),\"HF, à reclasser\")))","v":""},{"$f":"IF(ISBLANK(Import!E1064),\"\",IF(B1061=(LEFT(A1061,3)),(IFERROR(VLOOKUP(Import!B1064,Mapping!D:F,2,FALSE),\"Cpte à créer dans Mapping\")),\"Cpte à reclasser\"))","v":""}]
[{"$f":"IF(ISBLANK(Import!E1065),\"\",Import!E1065)","v":""},{"$f":"IF(ISBLANK(Import!E1065),\"\",(IFERROR(VLOOKUP(Import!C1065,Mapping!C:F,1,FALSE),\"HF, à reclasser\")))","v":""},{"$f":"IF(ISBLANK(Import!E1065),\"\",IF(B1062=(LEFT(A1062,3)),(IFERROR(VLOOKUP(Import!B1065,Mapping!D:F,2,FALSE),\"Cpte à créer dans Mapping\")),\"Cpte à reclasser\"))","v":""}]
[{"$f":"IF(ISBLANK(Import!E1066),\"\",Import!E1066)","v":""},{"$f":"IF(ISBLANK(Import!E1066),\"\",(IFERROR(VLOOKUP(Import!C1066,Mapping!C:F,1,FALSE),\"HF, à reclasser\")))","v":""},{"$f":"IF(ISBLANK(Import!E1066),\"\",IF(B1063=(LEFT(A1063,3)),(IFERROR(VLOOKUP(Import!B1066,Mapping!D:F,2,FALSE),\"Cpte à créer dans Mapping\")),\"Cpte à reclasser\"))","v":""}]
[{"$f":"IF(ISBLANK(Import!E1067),\"\",Import!E1067)","v":""},{"$f":"IF(ISBLANK(Import!E1067),\"\",(IFERROR(VLOOKUP(Import!C1067,Mapping!C:F,1,FALSE),\"HF, à reclasser\")))","v":""},{"$f":"IF(ISBLANK(Import!E1067),\"\",IF(B1064=(LEFT(A1064,3)),(IFERROR(VLOOKUP(Import!B1067,Mapping!D:F,2,FALSE),\"Cpte à créer dans Mapping\")),\"Cpte à reclasser\"))","v":""}]
[{"$f":"IF(ISBLANK(Import!E1068),\"\",Import!E1068)","v":""},{"$f":"IF(ISBLANK(Import!E1068),\"\",(IFERROR(VLOOKUP(Import!C1068,Mapping!C:F,1,FALSE),\"HF, à reclasser\")))","v":""},{"$f":"IF(ISBLANK(Import!E1068),\"\",IF(B1065=(LEFT(A1065,3)),(IFERROR(VLOOKUP(Import!B1068,Mapping!D:F,2,FALSE),\"Cpte à créer dans Mapping\")),\"Cpte à reclasser\"))","v":""}]
[{"$f":"IF(ISBLANK(Import!E1069),\"\",Import!E1069)","v":""},{"$f":"IF(ISBLANK(Import!E1069),\"\",(IFERROR(VLOOKUP(Import!C1069,Mapping!C:F,1,FALSE),\"HF, à reclasser\")))","v":""},{"$f":"IF(ISBLANK(Import!E1069),\"\",IF(B1066=(LEFT(A1066,3)),(IFERROR(VLOOKUP(Import!B1069,Mapping!D:F,2,FALSE),\"Cpte à créer dans Mapping\")),\"Cpte à reclasser\"))","v":""}]
[{"$f":"IF(ISBLANK(Import!E1070),\"\",Import!E1070)","v":""},{"$f":"IF(ISBLANK(Import!E1070),\"\",(IFERROR(VLOOKUP(Import!C1070,Mapping!C:F,1,FALSE),\"HF, à reclasser\")))","v":""},{"$f":"IF(ISBLANK(Import!E1070),\"\",IF(B1067=(LEFT(A1067,3)),(IFERROR(VLOOKUP(Import!B1070,Mapping!D:F,2,FALSE),\"Cpte à créer dans Mapping\")),\"Cpte à reclasser\"))","v":""}]
[{"$f":"IF(ISBLANK(Import!E1071),\"\",Import!E1071)","v":""},{"$f":"IF(ISBLANK(Import!E1071),\"\",(IFERROR(VLOOKUP(Import!C1071,Mapping!C:F,1,FALSE),\"HF, à reclasser\")))","v":""},{"$f":"IF(ISBLANK(Import!E1071),\"\",IF(B1068=(LEFT(A1068,3)),(IFERROR(VLOOKUP(Import!B1071,Mapping!D:F,2,FALSE),\"Cpte à créer dans Mapping\")),\"Cpte à reclasser\"))","v":""}]
[{"$f":"IF(ISBLANK(Import!E1072),\"\",Import!E1072)","v":""},{"$f":"IF(ISBLANK(Import!E1072),\"\",(IFERROR(VLOOKUP(Import!C1072,Mapping!C:F,1,FALSE),\"HF, à reclasser\")))","v":""},{"$f":"IF(ISBLANK(Import!E1072),\"\",IF(B1069=(LEFT(A1069,3)),(IFERROR(VLOOKUP(Import!B1072,Mapping!D:F,2,FALSE),\"Cpte à créer dans Mapping\")),\"Cpte à reclasser\"))","v":""}]
[{"$f":"IF(ISBLANK(Import!E1073),\"\",Import!E1073)","v":""},{"$f":"IF(ISBLANK(Import!E1073),\"\",(IFERROR(VLOOKUP(Import!C1073,Mapping!C:F,1,FALSE),\"HF, à reclasser\")))","v":""},{"$f":"IF(ISBLANK(Import!E1073),\"\",IF(B1070=(LEFT(A1070,3)),(IFERROR(VLOOKUP(Import!B1073,Mapping!D:F,2,FALSE),\"Cpte à créer dans Mapping\")),\"Cpte à reclasser\"))","v":""}]
[{"$f":"IF(ISBLANK(Import!E1074),\"\",Import!E1074)","v":""},{"$f":"IF(ISBLANK(Import!E1074),\"\",(IFERROR(VLOOKUP(Import!C1074,Mapping!C:F,1,FALSE),\"HF, à reclasser\")))","v":""},{"$f":"IF(ISBLANK(Import!E1074),\"\",IF(B1071=(LEFT(A1071,3)),(IFERROR(VLOOKUP(Import!B1074,Mapping!D:F,2,FALSE),\"Cpte à créer dans Mapping\")),\"Cpte à reclasser\"))","v":""}]
[{"$f":"IF(ISBLANK(Import!E1075),\"\",Import!E1075)","v":""},{"$f":"IF(ISBLANK(Import!E1075),\"\",(IFERROR(VLOOKUP(Import!C1075,Mapping!C:F,1,FALSE),\"HF, à reclasser\")))","v":""},{"$f":"IF(ISBLANK(Import!E1075),\"\",IF(B1072=(LEFT(A1072,3)),(IFERROR(VLOOKUP(Import!B1075,Mapping!D:F,2,FALSE),\"Cpte à créer dans Mapping\")),\"Cpte à reclasser\"))","v":""}]
[{"$f":"IF(ISBLANK(Import!E1076),\"\",Import!E1076)","v":""},{"$f":"IF(ISBLANK(Import!E1076),\"\",(IFERROR(VLOOKUP(Import!C1076,Mapping!C:F,1,FALSE),\"HF, à reclasser\")))","v":""},{"$f":"IF(ISBLANK(Import!E1076),\"\",IF(B1073=(LEFT(A1073,3)),(IFERROR(VLOOKUP(Import!B1076,Mapping!D:F,2,FALSE),\"Cpte à créer dans Mapping\")),\"Cpte à reclasser\"))","v":""}]
[{"$f":"IF(ISBLANK(Import!E1077),\"\",Import!E1077)","v":""},{"$f":"IF(ISBLANK(Import!E1077),\"\",(IFERROR(VLOOKUP(Import!C1077,Mapping!C:F,1,FALSE),\"HF, à reclasser\")))","v":""},{"$f":"IF(ISBLANK(Import!E1077),\"\",IF(B1074=(LEFT(A1074,3)),(IFERROR(VLOOKUP(Import!B1077,Mapping!D:F,2,FALSE),\"Cpte à créer dans Mapping\")),\"Cpte à reclasser\"))","v":""}]
[{"$f":"IF(ISBLANK(Import!E1078),\"\",Import!E1078)","v":""},{"$f":"IF(ISBLANK(Import!E1078),\"\",(IFERROR(VLOOKUP(Import!C1078,Mapping!C:F,1,FALSE),\"HF, à reclasser\")))","v":""},{"$f":"IF(ISBLANK(Import!E1078),\"\",IF(B1075=(LEFT(A1075,3)),(IFERROR(VLOOKUP(Import!B1078,Mapping!D:F,2,FALSE),\"Cpte à créer dans Mapping\")),\"Cpte à reclasser\"))","v":""}]
[{"$f":"IF(ISBLANK(Import!E1079),\"\",Import!E1079)","v":""},{"$f":"IF(ISBLANK(Import!E1079),\"\",(IFERROR(VLOOKUP(Import!C1079,Mapping!C:F,1,FALSE),\"HF, à reclasser\")))","v":""},{"$f":"IF(ISBLANK(Import!E1079),\"\",IF(B1076=(LEFT(A1076,3)),(IFERROR(VLOOKUP(Import!B1079,Mapping!D:F,2,FALSE),\"Cpte à créer dans Mapping\")),\"Cpte à reclasser\"))","v":""}]
[{"$f":"IF(ISBLANK(Import!E1080),\"\",Import!E1080)","v":""},{"$f":"IF(ISBLANK(Import!E1080),\"\",(IFERROR(VLOOKUP(Import!C1080,Mapping!C:F,1,FALSE),\"HF, à reclasser\")))","v":""},{"$f":"IF(ISBLANK(Import!E1080),\"\",IF(B1077=(LEFT(A1077,3)),(IFERROR(VLOOKUP(Import!B1080,Mapping!D:F,2,FALSE),\"Cpte à créer dans Mapping\")),\"Cpte à reclasser\"))","v":""}]
[{"$f":"IF(ISBLANK(Import!E1081),\"\",Import!E1081)","v":""},{"$f":"IF(ISBLANK(Import!E1081),\"\",(IFERROR(VLOOKUP(Import!C1081,Mapping!C:F,1,FALSE),\"HF, à reclasser\")))","v":""},{"$f":"IF(ISBLANK(Import!E1081),\"\",IF(B1078=(LEFT(A1078,3)),(IFERROR(VLOOKUP(Import!B1081,Mapping!D:F,2,FALSE),\"Cpte à créer dans Mapping\")),\"Cpte à reclasser\"))","v":""}]
[{"$f":"IF(ISBLANK(Import!E1082),\"\",Import!E1082)","v":""},{"$f":"IF(ISBLANK(Import!E1082),\"\",(IFERROR(VLOOKUP(Import!C1082,Mapping!C:F,1,FALSE),\"HF, à reclasser\")))","v":""},{"$f":"IF(ISBLANK(Import!E1082),\"\",IF(B1079=(LEFT(A1079,3)),(IFERROR(VLOOKUP(Import!B1082,Mapping!D:F,2,FALSE),\"Cpte à créer dans Mapping\")),\"Cpte à reclasser\"))","v":""}]
[{"$f":"IF(ISBLANK(Import!E1083),\"\",Import!E1083)","v":""},{"$f":"IF(ISBLANK(Import!E1083),\"\",(IFERROR(VLOOKUP(Import!C1083,Mapping!C:F,1,FALSE),\"HF, à reclasser\")))","v":""},{"$f":"IF(ISBLANK(Import!E1083),\"\",IF(B1080=(LEFT(A1080,3)),(IFERROR(VLOOKUP(Import!B1083,Mapping!D:F,2,FALSE),\"Cpte à créer dans Mapping\")),\"Cpte à reclasser\"))","v":""}]
[{"$f":"IF(ISBLANK(Import!E1084),\"\",Import!E1084)","v":""},{"$f":"IF(ISBLANK(Import!E1084),\"\",(IFERROR(VLOOKUP(Import!C1084,Mapping!C:F,1,FALSE),\"HF, à reclasser\")))","v":""},{"$f":"IF(ISBLANK(Import!E1084),\"\",IF(B1081=(LEFT(A1081,3)),(IFERROR(VLOOKUP(Import!B1084,Mapping!D:F,2,FALSE),\"Cpte à créer dans Mapping\")),\"Cpte à reclasser\"))","v":""}]
[{"$f":"IF(ISBLANK(Import!E1085),\"\",Import!E1085)","v":""},{"$f":"IF(ISBLANK(Import!E1085),\"\",(IFERROR(VLOOKUP(Import!C1085,Mapping!C:F,1,FALSE),\"HF, à reclasser\")))","v":""},{"$f":"IF(ISBLANK(Import!E1085),\"\",IF(B1082=(LEFT(A1082,3)),(IFERROR(VLOOKUP(Import!B1085,Mapping!D:F,2,FALSE),\"Cpte à créer dans Mapping\")),\"Cpte à reclasser\"))","v":""}]
[{"$f":"IF(ISBLANK(Import!E1086),\"\",Import!E1086)","v":""},{"$f":"IF(ISBLANK(Import!E1086),\"\",(IFERROR(VLOOKUP(Import!C1086,Mapping!C:F,1,FALSE),\"HF, à reclasser\")))","v":""},{"$f":"IF(ISBLANK(Import!E1086),\"\",IF(B1083=(LEFT(A1083,3)),(IFERROR(VLOOKUP(Import!B1086,Mapping!D:F,2,FALSE),\"Cpte à créer dans Mapping\")),\"Cpte à reclasser\"))","v":""}]
[{"$f":"IF(ISBLANK(Import!E1087),\"\",Import!E1087)","v":""},{"$f":"IF(ISBLANK(Import!E1087),\"\",(IFERROR(VLOOKUP(Import!C1087,Mapping!C:F,1,FALSE),\"HF, à reclasser\")))","v":""},{"$f":"IF(ISBLANK(Import!E1087),\"\",IF(B1084=(LEFT(A1084,3)),(IFERROR(VLOOKUP(Import!B1087,Mapping!D:F,2,FALSE),\"Cpte à créer dans Mapping\")),\"Cpte à reclasser\"))","v":""}]
[{"$f":"IF(ISBLANK(Import!E1088),\"\",Import!E1088)","v":""},{"$f":"IF(ISBLANK(Import!E1088),\"\",(IFERROR(VLOOKUP(Import!C1088,Mapping!C:F,1,FALSE),\"HF, à reclasser\")))","v":""},{"$f":"IF(ISBLANK(Import!E1088),\"\",IF(B1085=(LEFT(A1085,3)),(IFERROR(VLOOKUP(Import!B1088,Mapping!D:F,2,FALSE),\"Cpte à créer dans Mapping\")),\"Cpte à reclasser\"))","v":""}]
[{"$f":"IF(ISBLANK(Import!E1089),\"\",Import!E1089)","v":""},{"$f":"IF(ISBLANK(Import!E1089),\"\",(IFERROR(VLOOKUP(Import!C1089,Mapping!C:F,1,FALSE),\"HF, à reclasser\")))","v":""},{"$f":"IF(ISBLANK(Import!E1089),\"\",IF(B1086=(LEFT(A1086,3)),(IFERROR(VLOOKUP(Import!B1089,Mapping!D:F,2,FALSE),\"Cpte à créer dans Mapping\")),\"Cpte à reclasser\"))","v":""}]
[{"$f":"IF(ISBLANK(Import!E1090),\"\",Import!E1090)","v":""},{"$f":"IF(ISBLANK(Import!E1090),\"\",(IFERROR(VLOOKUP(Import!C1090,Mapping!C:F,1,FALSE),\"HF, à reclasser\")))","v":""},{"$f":"IF(ISBLANK(Import!E1090),\"\",IF(B1087=(LEFT(A1087,3)),(IFERROR(VLOOKUP(Import!B1090,Mapping!D:F,2,FALSE),\"Cpte à créer dans Mapping\")),\"Cpte à reclasser\"))","v":""}]
[{"$f":"IF(ISBLANK(Import!E1091),\"\",Import!E1091)","v":""},{"$f":"IF(ISBLANK(Import!E1091),\"\",(IFERROR(VLOOKUP(Import!C1091,Mapping!C:F,1,FALSE),\"HF, à reclasser\")))","v":""},{"$f":"IF(ISBLANK(Import!E1091),\"\",IF(B1088=(LEFT(A1088,3)),(IFERROR(VLOOKUP(Import!B1091,Mapping!D:F,2,FALSE),\"Cpte à créer dans Mapping\")),\"Cpte à reclasser\"))","v":""}]
[{"$f":"IF(ISBLANK(Import!E1092),\"\",Import!E1092)","v":""},{"$f":"IF(ISBLANK(Import!E1092),\"\",(IFERROR(VLOOKUP(Import!C1092,Mapping!C:F,1,FALSE),\"HF, à reclasser\")))","v":""},{"$f":"IF(ISBLANK(Import!E1092),\"\",IF(B1089=(LEFT(A1089,3)),(IFERROR(VLOOKUP(Import!B1092,Mapping!D:F,2,FALSE),\"Cpte à créer dans Mapping\")),\"Cpte à reclasser\"))","v":""}]
[{"$f":"IF(ISBLANK(Import!E1093),\"\",Import!E1093)","v":""},{"$f":"IF(ISBLANK(Import!E1093),\"\",(IFERROR(VLOOKUP(Import!C1093,Mapping!C:F,1,FALSE),\"HF, à reclasser\")))","v":""},{"$f":"IF(ISBLANK(Import!E1093),\"\",IF(B1090=(LEFT(A1090,3)),(IFERROR(VLOOKUP(Import!B1093,Mapping!D:F,2,FALSE),\"Cpte à créer dans Mapping\")),\"Cpte à reclasser\"))","v":""}]
[{"$f":"IF(ISBLANK(Import!E1094),\"\",Import!E1094)","v":""},{"$f":"IF(ISBLANK(Import!E1094),\"\",(IFERROR(VLOOKUP(Import!C1094,Mapping!C:F,1,FALSE),\"HF, à reclasser\")))","v":""},{"$f":"IF(ISBLANK(Import!E1094),\"\",IF(B1091=(LEFT(A1091,3)),(IFERROR(VLOOKUP(Import!B1094,Mapping!D:F,2,FALSE),\"Cpte à créer dans Mapping\")),\"Cpte à reclasser\"))","v":""}]
[{"$f":"IF(ISBLANK(Import!E1095),\"\",Import!E1095)","v":""},{"$f":"IF(ISBLANK(Import!E1095),\"\",(IFERROR(VLOOKUP(Import!C1095,Mapping!C:F,1,FALSE),\"HF, à reclasser\")))","v":""},{"$f":"IF(ISBLANK(Import!E1095),\"\",IF(B1092=(LEFT(A1092,3)),(IFERROR(VLOOKUP(Import!B1095,Mapping!D:F,2,FALSE),\"Cpte à créer dans Mapping\")),\"Cpte à reclasser\"))","v":""}]
[{"$f":"IF(ISBLANK(Import!E1096),\"\",Import!E1096)","v":""},{"$f":"IF(ISBLANK(Import!E1096),\"\",(IFERROR(VLOOKUP(Import!C1096,Mapping!C:F,1,FALSE),\"HF, à reclasser\")))","v":""},{"$f":"IF(ISBLANK(Import!E1096),\"\",IF(B1093=(LEFT(A1093,3)),(IFERROR(VLOOKUP(Import!B1096,Mapping!D:F,2,FALSE),\"Cpte à créer dans Mapping\")),\"Cpte à reclasser\"))","v":""}]
[{"$f":"IF(ISBLANK(Import!E1097),\"\",Import!E1097)","v":""},{"$f":"IF(ISBLANK(Import!E1097),\"\",(IFERROR(VLOOKUP(Import!C1097,Mapping!C:F,1,FALSE),\"HF, à reclasser\")))","v":""},{"$f":"IF(ISBLANK(Import!E1097),\"\",IF(B1094=(LEFT(A1094,3)),(IFERROR(VLOOKUP(Import!B1097,Mapping!D:F,2,FALSE),\"Cpte à créer dans Mapping\")),\"Cpte à reclasser\"))","v":""}]
[{"$f":"IF(ISBLANK(Import!E1098),\"\",Import!E1098)","v":""},{"$f":"IF(ISBLANK(Import!E1098),\"\",(IFERROR(VLOOKUP(Import!C1098,Mapping!C:F,1,FALSE),\"HF, à reclasser\")))","v":""},{"$f":"IF(ISBLANK(Import!E1098),\"\",IF(B1095=(LEFT(A1095,3)),(IFERROR(VLOOKUP(Import!B1098,Mapping!D:F,2,FALSE),\"Cpte à créer dans Mapping\")),\"Cpte à reclasser\"))","v":""}]
[{"$f":"IF(ISBLANK(Import!E1099),\"\",Import!E1099)","v":""},{"$f":"IF(ISBLANK(Import!E1099),\"\",(IFERROR(VLOOKUP(Import!C1099,Mapping!C:F,1,FALSE),\"HF, à reclasser\")))","v":""},{"$f":"IF(ISBLANK(Import!E1099),\"\",IF(B1096=(LEFT(A1096,3)),(IFERROR(VLOOKUP(Import!B1099,Mapping!D:F,2,FALSE),\"Cpte à créer dans Mapping\")),\"Cpte à reclasser\"))","v":""}]
[{"$f":"IF(ISBLANK(Import!E1100),\"\",Import!E1100)","v":""},{"$f":"IF(ISBLANK(Import!E1100),\"\",(IFERROR(VLOOKUP(Import!C1100,Mapping!C:F,1,FALSE),\"HF, à reclasser\")))","v":""},{"$f":"IF(ISBLANK(Import!E1100),\"\",IF(B1097=(LEFT(A1097,3)),(IFERROR(VLOOKUP(Import!B1100,Mapping!D:F,2,FALSE),\"Cpte à créer dans Mapping\")),\"Cpte à reclasser\"))","v":""}]
[{"$f":"IF(ISBLANK(Import!E1101),\"\",Import!E1101)","v":""},{"$f":"IF(ISBLANK(Import!E1101),\"\",(IFERROR(VLOOKUP(Import!C1101,Mapping!C:F,1,FALSE),\"HF, à reclasser\")))","v":""},{"$f":"IF(ISBLANK(Import!E1101),\"\",IF(B1098=(LEFT(A1098,3)),(IFERROR(VLOOKUP(Import!B1101,Mapping!D:F,2,FALSE),\"Cpte à créer dans Mapping\")),\"Cpte à reclasser\"))","v":""}]
[{"$f":"IF(ISBLANK(Import!E1102),\"\",Import!E1102)","v":""},{"$f":"IF(ISBLANK(Import!E1102),\"\",(IFERROR(VLOOKUP(Import!C1102,Mapping!C:F,1,FALSE),\"HF, à reclasser\")))","v":""},{"$f":"IF(ISBLANK(Import!E1102),\"\",IF(B1099=(LEFT(A1099,3)),(IFERROR(VLOOKUP(Import!B1102,Mapping!D:F,2,FALSE),\"Cpte à créer dans Mapping\")),\"Cpte à reclasser\"))","v":""}]
[{"$f":"IF(ISBLANK(Import!E1103),\"\",Import!E1103)","v":""},{"$f":"IF(ISBLANK(Import!E1103),\"\",(IFERROR(VLOOKUP(Import!C1103,Mapping!C:F,1,FALSE),\"HF, à reclasser\")))","v":""},{"$f":"IF(ISBLANK(Import!E1103),\"\",IF(B1100=(LEFT(A1100,3)),(IFERROR(VLOOKUP(Import!B1103,Mapping!D:F,2,FALSE),\"Cpte à créer dans Mapping\")),\"Cpte à reclasser\"))","v":""}]
[{"$f":"IF(ISBLANK(Import!E1104),\"\",Import!E1104)","v":""},{"$f":"IF(ISBLANK(Import!E1104),\"\",(IFERROR(VLOOKUP(Import!C1104,Mapping!C:F,1,FALSE),\"HF, à reclasser\")))","v":""},{"$f":"IF(ISBLANK(Import!E1104),\"\",IF(B1101=(LEFT(A1101,3)),(IFERROR(VLOOKUP(Import!B1104,Mapping!D:F,2,FALSE),\"Cpte à créer dans Mapping\")),\"Cpte à reclasser\"))","v":""}]
[{"$f":"IF(ISBLANK(Import!E1105),\"\",Import!E1105)","v":""},{"$f":"IF(ISBLANK(Import!E1105),\"\",(IFERROR(VLOOKUP(Import!C1105,Mapping!C:F,1,FALSE),\"HF, à reclasser\")))","v":""},{"$f":"IF(ISBLANK(Import!E1105),\"\",IF(B1102=(LEFT(A1102,3)),(IFERROR(VLOOKUP(Import!B1105,Mapping!D:F,2,FALSE),\"Cpte à créer dans Mapping\")),\"Cpte à reclasser\"))","v":""}]
[{"$f":"IF(ISBLANK(Import!E1106),\"\",Import!E1106)","v":""},{"$f":"IF(ISBLANK(Import!E1106),\"\",(IFERROR(VLOOKUP(Import!C1106,Mapping!C:F,1,FALSE),\"HF, à reclasser\")))","v":""},{"$f":"IF(ISBLANK(Import!E1106),\"\",IF(B1103=(LEFT(A1103,3)),(IFERROR(VLOOKUP(Import!B1106,Mapping!D:F,2,FALSE),\"Cpte à créer dans Mapping\")),\"Cpte à reclasser\"))","v":""}]
[{"$f":"IF(ISBLANK(Import!E1107),\"\",Import!E1107)","v":""},{"$f":"IF(ISBLANK(Import!E1107),\"\",(IFERROR(VLOOKUP(Import!C1107,Mapping!C:F,1,FALSE),\"HF, à reclasser\")))","v":""},{"$f":"IF(ISBLANK(Import!E1107),\"\",IF(B1104=(LEFT(A1104,3)),(IFERROR(VLOOKUP(Import!B1107,Mapping!D:F,2,FALSE),\"Cpte à créer dans Mapping\")),\"Cpte à reclasser\"))","v":""}]
[{"$f":"IF(ISBLANK(Import!E1108),\"\",Import!E1108)","v":""},{"$f":"IF(ISBLANK(Import!E1108),\"\",(IFERROR(VLOOKUP(Import!C1108,Mapping!C:F,1,FALSE),\"HF, à reclasser\")))","v":""},{"$f":"IF(ISBLANK(Import!E1108),\"\",IF(B1105=(LEFT(A1105,3)),(IFERROR(VLOOKUP(Import!B1108,Mapping!D:F,2,FALSE),\"Cpte à créer dans Mapping\")),\"Cpte à reclasser\"))","v":""}]
[{"$f":"IF(ISBLANK(Import!E1109),\"\",Import!E1109)","v":""},{"$f":"IF(ISBLANK(Import!E1109),\"\",(IFERROR(VLOOKUP(Import!C1109,Mapping!C:F,1,FALSE),\"HF, à reclasser\")))","v":""},{"$f":"IF(ISBLANK(Import!E1109),\"\",IF(B1106=(LEFT(A1106,3)),(IFERROR(VLOOKUP(Import!B1109,Mapping!D:F,2,FALSE),\"Cpte à créer dans Mapping\")),\"Cpte à reclasser\"))","v":""}]
[{"$f":"IF(ISBLANK(Import!E1110),\"\",Import!E1110)","v":""},{"$f":"IF(ISBLANK(Import!E1110),\"\",(IFERROR(VLOOKUP(Import!C1110,Mapping!C:F,1,FALSE),\"HF, à reclasser\")))","v":""},{"$f":"IF(ISBLANK(Import!E1110),\"\",IF(B1107=(LEFT(A1107,3)),(IFERROR(VLOOKUP(Import!B1110,Mapping!D:F,2,FALSE),\"Cpte à créer dans Mapping\")),\"Cpte à reclasser\"))","v":""}]
[{"$f":"IF(ISBLANK(Import!E1111),\"\",Import!E1111)","v":""},{"$f":"IF(ISBLANK(Import!E1111),\"\",(IFERROR(VLOOKUP(Import!C1111,Mapping!C:F,1,FALSE),\"HF, à reclasser\")))","v":""},{"$f":"IF(ISBLANK(Import!E1111),\"\",IF(B1108=(LEFT(A1108,3)),(IFERROR(VLOOKUP(Import!B1111,Mapping!D:F,2,FALSE),\"Cpte à créer dans Mapping\")),\"Cpte à reclasser\"))","v":""}]
[{"$f":"IF(ISBLANK(Import!E1112),\"\",Import!E1112)","v":""},{"$f":"IF(ISBLANK(Import!E1112),\"\",(IFERROR(VLOOKUP(Import!C1112,Mapping!C:F,1,FALSE),\"HF, à reclasser\")))","v":""},{"$f":"IF(ISBLANK(Import!E1112),\"\",IF(B1109=(LEFT(A1109,3)),(IFERROR(VLOOKUP(Import!B1112,Mapping!D:F,2,FALSE),\"Cpte à créer dans Mapping\")),\"Cpte à reclasser\"))","v":""}]
[{"$f":"IF(ISBLANK(Import!E1113),\"\",Import!E1113)","v":""},{"$f":"IF(ISBLANK(Import!E1113),\"\",(IFERROR(VLOOKUP(Import!C1113,Mapping!C:F,1,FALSE),\"HF, à reclasser\")))","v":""},{"$f":"IF(ISBLANK(Import!E1113),\"\",IF(B1110=(LEFT(A1110,3)),(IFERROR(VLOOKUP(Import!B1113,Mapping!D:F,2,FALSE),\"Cpte à créer dans Mapping\")),\"Cpte à reclasser\"))","v":""}]
[{"$f":"IF(ISBLANK(Import!E1114),\"\",Import!E1114)","v":""},{"$f":"IF(ISBLANK(Import!E1114),\"\",(IFERROR(VLOOKUP(Import!C1114,Mapping!C:F,1,FALSE),\"HF, à reclasser\")))","v":""},{"$f":"IF(ISBLANK(Import!E1114),\"\",IF(B1111=(LEFT(A1111,3)),(IFERROR(VLOOKUP(Import!B1114,Mapping!D:F,2,FALSE),\"Cpte à créer dans Mapping\")),\"Cpte à reclasser\"))","v":""}]
[{"$f":"IF(ISBLANK(Import!E1115),\"\",Import!E1115)","v":""},{"$f":"IF(ISBLANK(Import!E1115),\"\",(IFERROR(VLOOKUP(Import!C1115,Mapping!C:F,1,FALSE),\"HF, à reclasser\")))","v":""},{"$f":"IF(ISBLANK(Import!E1115),\"\",IF(B1112=(LEFT(A1112,3)),(IFERROR(VLOOKUP(Import!B1115,Mapping!D:F,2,FALSE),\"Cpte à créer dans Mapping\")),\"Cpte à reclasser\"))","v":""}]
[{"$f":"IF(ISBLANK(Import!E1116),\"\",Import!E1116)","v":""},{"$f":"IF(ISBLANK(Import!E1116),\"\",(IFERROR(VLOOKUP(Import!C1116,Mapping!C:F,1,FALSE),\"HF, à reclasser\")))","v":""},{"$f":"IF(ISBLANK(Import!E1116),\"\",IF(B1113=(LEFT(A1113,3)),(IFERROR(VLOOKUP(Import!B1116,Mapping!D:F,2,FALSE),\"Cpte à créer dans Mapping\")),\"Cpte à reclasser\"))","v":""}]
[{"$f":"IF(ISBLANK(Import!E1117),\"\",Import!E1117)","v":""},{"$f":"IF(ISBLANK(Import!E1117),\"\",(IFERROR(VLOOKUP(Import!C1117,Mapping!C:F,1,FALSE),\"HF, à reclasser\")))","v":""},{"$f":"IF(ISBLANK(Import!E1117),\"\",IF(B1114=(LEFT(A1114,3)),(IFERROR(VLOOKUP(Import!B1117,Mapping!D:F,2,FALSE),\"Cpte à créer dans Mapping\")),\"Cpte à reclasser\"))","v":""}]
[{"$f":"IF(ISBLANK(Import!E1118),\"\",Import!E1118)","v":""},{"$f":"IF(ISBLANK(Import!E1118),\"\",(IFERROR(VLOOKUP(Import!C1118,Mapping!C:F,1,FALSE),\"HF, à reclasser\")))","v":""},{"$f":"IF(ISBLANK(Import!E1118),\"\",IF(B1115=(LEFT(A1115,3)),(IFERROR(VLOOKUP(Import!B1118,Mapping!D:F,2,FALSE),\"Cpte à créer dans Mapping\")),\"Cpte à reclasser\"))","v":""}]
[{"$f":"IF(ISBLANK(Import!E1119),\"\",Import!E1119)","v":""},{"$f":"IF(ISBLANK(Import!E1119),\"\",(IFERROR(VLOOKUP(Import!C1119,Mapping!C:F,1,FALSE),\"HF, à reclasser\")))","v":""},{"$f":"IF(ISBLANK(Import!E1119),\"\",IF(B1116=(LEFT(A1116,3)),(IFERROR(VLOOKUP(Import!B1119,Mapping!D:F,2,FALSE),\"Cpte à créer dans Mapping\")),\"Cpte à reclasser\"))","v":""}]
[{"$f":"IF(ISBLANK(Import!E1120),\"\",Import!E1120)","v":""},{"$f":"IF(ISBLANK(Import!E1120),\"\",(IFERROR(VLOOKUP(Import!C1120,Mapping!C:F,1,FALSE),\"HF, à reclasser\")))","v":""},{"$f":"IF(ISBLANK(Import!E1120),\"\",IF(B1117=(LEFT(A1117,3)),(IFERROR(VLOOKUP(Import!B1120,Mapping!D:F,2,FALSE),\"Cpte à créer dans Mapping\")),\"Cpte à reclasser\"))","v":""}]
[{"$f":"IF(ISBLANK(Import!E1121),\"\",Import!E1121)","v":""},{"$f":"IF(ISBLANK(Import!E1121),\"\",(IFERROR(VLOOKUP(Import!C1121,Mapping!C:F,1,FALSE),\"HF, à reclasser\")))","v":""},{"$f":"IF(ISBLANK(Import!E1121),\"\",IF(B1118=(LEFT(A1118,3)),(IFERROR(VLOOKUP(Import!B1121,Mapping!D:F,2,FALSE),\"Cpte à créer dans Mapping\")),\"Cpte à reclasser\"))","v":""}]
[{"$f":"IF(ISBLANK(Import!E1122),\"\",Import!E1122)","v":""},{"$f":"IF(ISBLANK(Import!E1122),\"\",(IFERROR(VLOOKUP(Import!C1122,Mapping!C:F,1,FALSE),\"HF, à reclasser\")))","v":""},{"$f":"IF(ISBLANK(Import!E1122),\"\",IF(B1119=(LEFT(A1119,3)),(IFERROR(VLOOKUP(Import!B1122,Mapping!D:F,2,FALSE),\"Cpte à créer dans Mapping\")),\"Cpte à reclasser\"))","v":""}]
[{"$f":"IF(ISBLANK(Import!E1123),\"\",Import!E1123)","v":""},{"$f":"IF(ISBLANK(Import!E1123),\"\",(IFERROR(VLOOKUP(Import!C1123,Mapping!C:F,1,FALSE),\"HF, à reclasser\")))","v":""},{"$f":"IF(ISBLANK(Import!E1123),\"\",IF(B1120=(LEFT(A1120,3)),(IFERROR(VLOOKUP(Import!B1123,Mapping!D:F,2,FALSE),\"Cpte à créer dans Mapping\")),\"Cpte à reclasser\"))","v":""}]
[{"$f":"IF(ISBLANK(Import!E1124),\"\",Import!E1124)","v":""},{"$f":"IF(ISBLANK(Import!E1124),\"\",(IFERROR(VLOOKUP(Import!C1124,Mapping!C:F,1,FALSE),\"HF, à reclasser\")))","v":""},{"$f":"IF(ISBLANK(Import!E1124),\"\",IF(B1121=(LEFT(A1121,3)),(IFERROR(VLOOKUP(Import!B1124,Mapping!D:F,2,FALSE),\"Cpte à créer dans Mapping\")),\"Cpte à reclasser\"))","v":""}]
[{"$f":"IF(ISBLANK(Import!E1125),\"\",Import!E1125)","v":""},{"$f":"IF(ISBLANK(Import!E1125),\"\",(IFERROR(VLOOKUP(Import!C1125,Mapping!C:F,1,FALSE),\"HF, à reclasser\")))","v":""},{"$f":"IF(ISBLANK(Import!E1125),\"\",IF(B1122=(LEFT(A1122,3)),(IFERROR(VLOOKUP(Import!B1125,Mapping!D:F,2,FALSE),\"Cpte à créer dans Mapping\")),\"Cpte à reclasser\"))","v":""}]
[{"$f":"IF(ISBLANK(Import!E1126),\"\",Import!E1126)","v":""},{"$f":"IF(ISBLANK(Import!E1126),\"\",(IFERROR(VLOOKUP(Import!C1126,Mapping!C:F,1,FALSE),\"HF, à reclasser\")))","v":""},{"$f":"IF(ISBLANK(Import!E1126),\"\",IF(B1123=(LEFT(A1123,3)),(IFERROR(VLOOKUP(Import!B1126,Mapping!D:F,2,FALSE),\"Cpte à créer dans Mapping\")),\"Cpte à reclasser\"))","v":""}]
[{"$f":"IF(ISBLANK(Import!E1127),\"\",Import!E1127)","v":""},{"$f":"IF(ISBLANK(Import!E1127),\"\",(IFERROR(VLOOKUP(Import!C1127,Mapping!C:F,1,FALSE),\"HF, à reclasser\")))","v":""},{"$f":"IF(ISBLANK(Import!E1127),\"\",IF(B1124=(LEFT(A1124,3)),(IFERROR(VLOOKUP(Import!B1127,Mapping!D:F,2,FALSE),\"Cpte à créer dans Mapping\")),\"Cpte à reclasser\"))","v":""}]
[{"$f":"IF(ISBLANK(Import!E1128),\"\",Import!E1128)","v":""},{"$f":"IF(ISBLANK(Import!E1128),\"\",(IFERROR(VLOOKUP(Import!C1128,Mapping!C:F,1,FALSE),\"HF, à reclasser\")))","v":""},{"$f":"IF(ISBLANK(Import!E1128),\"\",IF(B1125=(LEFT(A1125,3)),(IFERROR(VLOOKUP(Import!B1128,Mapping!D:F,2,FALSE),\"Cpte à créer dans Mapping\")),\"Cpte à reclasser\"))","v":""}]
[{"$f":"IF(ISBLANK(Import!E1129),\"\",Import!E1129)","v":""},{"$f":"IF(ISBLANK(Import!E1129),\"\",(IFERROR(VLOOKUP(Import!C1129,Mapping!C:F,1,FALSE),\"HF, à reclasser\")))","v":""},{"$f":"IF(ISBLANK(Import!E1129),\"\",IF(B1126=(LEFT(A1126,3)),(IFERROR(VLOOKUP(Import!B1129,Mapping!D:F,2,FALSE),\"Cpte à créer dans Mapping\")),\"Cpte à reclasser\"))","v":""}]
[{"$f":"IF(ISBLANK(Import!E1130),\"\",Import!E1130)","v":""},{"$f":"IF(ISBLANK(Import!E1130),\"\",(IFERROR(VLOOKUP(Import!C1130,Mapping!C:F,1,FALSE),\"HF, à reclasser\")))","v":""},{"$f":"IF(ISBLANK(Import!E1130),\"\",IF(B1127=(LEFT(A1127,3)),(IFERROR(VLOOKUP(Import!B1130,Mapping!D:F,2,FALSE),\"Cpte à créer dans Mapping\")),\"Cpte à reclasser\"))","v":""}]
[{"$f":"IF(ISBLANK(Import!E1131),\"\",Import!E1131)","v":""},{"$f":"IF(ISBLANK(Import!E1131),\"\",(IFERROR(VLOOKUP(Import!C1131,Mapping!C:F,1,FALSE),\"HF, à reclasser\")))","v":""},{"$f":"IF(ISBLANK(Import!E1131),\"\",IF(B1128=(LEFT(A1128,3)),(IFERROR(VLOOKUP(Import!B1131,Mapping!D:F,2,FALSE),\"Cpte à créer dans Mapping\")),\"Cpte à reclasser\"))","v":""}]
[{"$f":"IF(ISBLANK(Import!E1132),\"\",Import!E1132)","v":""},{"$f":"IF(ISBLANK(Import!E1132),\"\",(IFERROR(VLOOKUP(Import!C1132,Mapping!C:F,1,FALSE),\"HF, à reclasser\")))","v":""},{"$f":"IF(ISBLANK(Import!E1132),\"\",IF(B1129=(LEFT(A1129,3)),(IFERROR(VLOOKUP(Import!B1132,Mapping!D:F,2,FALSE),\"Cpte à créer dans Mapping\")),\"Cpte à reclasser\"))","v":""}]
[{"$f":"IF(ISBLANK(Import!E1133),\"\",Import!E1133)","v":""},{"$f":"IF(ISBLANK(Import!E1133),\"\",(IFERROR(VLOOKUP(Import!C1133,Mapping!C:F,1,FALSE),\"HF, à reclasser\")))","v":""},{"$f":"IF(ISBLANK(Import!E1133),\"\",IF(B1130=(LEFT(A1130,3)),(IFERROR(VLOOKUP(Import!B1133,Mapping!D:F,2,FALSE),\"Cpte à créer dans Mapping\")),\"Cpte à reclasser\"))","v":""}]
[{"$f":"IF(ISBLANK(Import!E1134),\"\",Import!E1134)","v":""},{"$f":"IF(ISBLANK(Import!E1134),\"\",(IFERROR(VLOOKUP(Import!C1134,Mapping!C:F,1,FALSE),\"HF, à reclasser\")))","v":""},{"$f":"IF(ISBLANK(Import!E1134),\"\",IF(B1131=(LEFT(A1131,3)),(IFERROR(VLOOKUP(Import!B1134,Mapping!D:F,2,FALSE),\"Cpte à créer dans Mapping\")),\"Cpte à reclasser\"))","v":""}]
[{"$f":"IF(ISBLANK(Import!E1135),\"\",Import!E1135)","v":""},{"$f":"IF(ISBLANK(Import!E1135),\"\",(IFERROR(VLOOKUP(Import!C1135,Mapping!C:F,1,FALSE),\"HF, à reclasser\")))","v":""},{"$f":"IF(ISBLANK(Import!E1135),\"\",IF(B1132=(LEFT(A1132,3)),(IFERROR(VLOOKUP(Import!B1135,Mapping!D:F,2,FALSE),\"Cpte à créer dans Mapping\")),\"Cpte à reclasser\"))","v":""}]
[{"$f":"IF(ISBLANK(Import!E1136),\"\",Import!E1136)","v":""},{"$f":"IF(ISBLANK(Import!E1136),\"\",(IFERROR(VLOOKUP(Import!C1136,Mapping!C:F,1,FALSE),\"HF, à reclasser\")))","v":""},{"$f":"IF(ISBLANK(Import!E1136),\"\",IF(B1133=(LEFT(A1133,3)),(IFERROR(VLOOKUP(Import!B1136,Mapping!D:F,2,FALSE),\"Cpte à créer dans Mapping\")),\"Cpte à reclasser\"))","v":""}]
[{"$f":"IF(ISBLANK(Import!E1137),\"\",Import!E1137)","v":""},{"$f":"IF(ISBLANK(Import!E1137),\"\",(IFERROR(VLOOKUP(Import!C1137,Mapping!C:F,1,FALSE),\"HF, à reclasser\")))","v":""},{"$f":"IF(ISBLANK(Import!E1137),\"\",IF(B1134=(LEFT(A1134,3)),(IFERROR(VLOOKUP(Import!B1137,Mapping!D:F,2,FALSE),\"Cpte à créer dans Mapping\")),\"Cpte à reclasser\"))","v":""}]
[{"$f":"IF(ISBLANK(Import!E1138),\"\",Import!E1138)","v":""},{"$f":"IF(ISBLANK(Import!E1138),\"\",(IFERROR(VLOOKUP(Import!C1138,Mapping!C:F,1,FALSE),\"HF, à reclasser\")))","v":""},{"$f":"IF(ISBLANK(Import!E1138),\"\",IF(B1135=(LEFT(A1135,3)),(IFERROR(VLOOKUP(Import!B1138,Mapping!D:F,2,FALSE),\"Cpte à créer dans Mapping\")),\"Cpte à reclasser\"))","v":""}]
[{"$f":"IF(ISBLANK(Import!E1139),\"\",Import!E1139)","v":""},{"$f":"IF(ISBLANK(Import!E1139),\"\",(IFERROR(VLOOKUP(Import!C1139,Mapping!C:F,1,FALSE),\"HF, à reclasser\")))","v":""},{"$f":"IF(ISBLANK(Import!E1139),\"\",IF(B1136=(LEFT(A1136,3)),(IFERROR(VLOOKUP(Import!B1139,Mapping!D:F,2,FALSE),\"Cpte à créer dans Mapping\")),\"Cpte à reclasser\"))","v":""}]
[{"$f":"IF(ISBLANK(Import!E1140),\"\",Import!E1140)","v":""},{"$f":"IF(ISBLANK(Import!E1140),\"\",(IFERROR(VLOOKUP(Import!C1140,Mapping!C:F,1,FALSE),\"HF, à reclasser\")))","v":""},{"$f":"IF(ISBLANK(Import!E1140),\"\",IF(B1137=(LEFT(A1137,3)),(IFERROR(VLOOKUP(Import!B1140,Mapping!D:F,2,FALSE),\"Cpte à créer dans Mapping\")),\"Cpte à reclasser\"))","v":""}]
[{"$f":"IF(ISBLANK(Import!E1141),\"\",Import!E1141)","v":""},{"$f":"IF(ISBLANK(Import!E1141),\"\",(IFERROR(VLOOKUP(Import!C1141,Mapping!C:F,1,FALSE),\"HF, à reclasser\")))","v":""},{"$f":"IF(ISBLANK(Import!E1141),\"\",IF(B1138=(LEFT(A1138,3)),(IFERROR(VLOOKUP(Import!B1141,Mapping!D:F,2,FALSE),\"Cpte à créer dans Mapping\")),\"Cpte à reclasser\"))","v":""}]
[{"$f":"IF(ISBLANK(Import!E1142),\"\",Import!E1142)","v":""},{"$f":"IF(ISBLANK(Import!E1142),\"\",(IFERROR(VLOOKUP(Import!C1142,Mapping!C:F,1,FALSE),\"HF, à reclasser\")))","v":""},{"$f":"IF(ISBLANK(Import!E1142),\"\",IF(B1139=(LEFT(A1139,3)),(IFERROR(VLOOKUP(Import!B1142,Mapping!D:F,2,FALSE),\"Cpte à créer dans Mapping\")),\"Cpte à reclasser\"))","v":""}]
[{"$f":"IF(ISBLANK(Import!E1143),\"\",Import!E1143)","v":""},{"$f":"IF(ISBLANK(Import!E1143),\"\",(IFERROR(VLOOKUP(Import!C1143,Mapping!C:F,1,FALSE),\"HF, à reclasser\")))","v":""},{"$f":"IF(ISBLANK(Import!E1143),\"\",IF(B1140=(LEFT(A1140,3)),(IFERROR(VLOOKUP(Import!B1143,Mapping!D:F,2,FALSE),\"Cpte à créer dans Mapping\")),\"Cpte à reclasser\"))","v":""}]
[{"$f":"IF(ISBLANK(Import!E1144),\"\",Import!E1144)","v":""},{"$f":"IF(ISBLANK(Import!E1144),\"\",(IFERROR(VLOOKUP(Import!C1144,Mapping!C:F,1,FALSE),\"HF, à reclasser\")))","v":""},{"$f":"IF(ISBLANK(Import!E1144),\"\",IF(B1141=(LEFT(A1141,3)),(IFERROR(VLOOKUP(Import!B1144,Mapping!D:F,2,FALSE),\"Cpte à créer dans Mapping\")),\"Cpte à reclasser\"))","v":""}]
[{"$f":"IF(ISBLANK(Import!E1145),\"\",Import!E1145)","v":""},{"$f":"IF(ISBLANK(Import!E1145),\"\",(IFERROR(VLOOKUP(Import!C1145,Mapping!C:F,1,FALSE),\"HF, à reclasser\")))","v":""},{"$f":"IF(ISBLANK(Import!E1145),\"\",IF(B1142=(LEFT(A1142,3)),(IFERROR(VLOOKUP(Import!B1145,Mapping!D:F,2,FALSE),\"Cpte à créer dans Mapping\")),\"Cpte à reclasser\"))","v":""}]
[{"$f":"IF(ISBLANK(Import!E1146),\"\",Import!E1146)","v":""},{"$f":"IF(ISBLANK(Import!E1146),\"\",(IFERROR(VLOOKUP(Import!C1146,Mapping!C:F,1,FALSE),\"HF, à reclasser\")))","v":""},{"$f":"IF(ISBLANK(Import!E1146),\"\",IF(B1143=(LEFT(A1143,3)),(IFERROR(VLOOKUP(Import!B1146,Mapping!D:F,2,FALSE),\"Cpte à créer dans Mapping\")),\"Cpte à reclasser\"))","v":""}]
[{"$f":"IF(ISBLANK(Import!E1147),\"\",Import!E1147)","v":""},{"$f":"IF(ISBLANK(Import!E1147),\"\",(IFERROR(VLOOKUP(Import!C1147,Mapping!C:F,1,FALSE),\"HF, à reclasser\")))","v":""},{"$f":"IF(ISBLANK(Import!E1147),\"\",IF(B1144=(LEFT(A1144,3)),(IFERROR(VLOOKUP(Import!B1147,Mapping!D:F,2,FALSE),\"Cpte à créer dans Mapping\")),\"Cpte à reclasser\"))","v":""}]
[{"$f":"IF(ISBLANK(Import!E1148),\"\",Import!E1148)","v":""},{"$f":"IF(ISBLANK(Import!E1148),\"\",(IFERROR(VLOOKUP(Import!C1148,Mapping!C:F,1,FALSE),\"HF, à reclasser\")))","v":""},{"$f":"IF(ISBLANK(Import!E1148),\"\",IF(B1145=(LEFT(A1145,3)),(IFERROR(VLOOKUP(Import!B1148,Mapping!D:F,2,FALSE),\"Cpte à créer dans Mapping\")),\"Cpte à reclasser\"))","v":""}]
[{"$f":"IF(ISBLANK(Import!E1149),\"\",Import!E1149)","v":""},{"$f":"IF(ISBLANK(Import!E1149),\"\",(IFERROR(VLOOKUP(Import!C1149,Mapping!C:F,1,FALSE),\"HF, à reclasser\")))","v":""},{"$f":"IF(ISBLANK(Import!E1149),\"\",IF(B1146=(LEFT(A1146,3)),(IFERROR(VLOOKUP(Import!B1149,Mapping!D:F,2,FALSE),\"Cpte à créer dans Mapping\")),\"Cpte à reclasser\"))","v":""}]
[{"$f":"IF(ISBLANK(Import!E1150),\"\",Import!E1150)","v":""},{"$f":"IF(ISBLANK(Import!E1150),\"\",(IFERROR(VLOOKUP(Import!C1150,Mapping!C:F,1,FALSE),\"HF, à reclasser\")))","v":""},{"$f":"IF(ISBLANK(Import!E1150),\"\",IF(B1147=(LEFT(A1147,3)),(IFERROR(VLOOKUP(Import!B1150,Mapping!D:F,2,FALSE),\"Cpte à créer dans Mapping\")),\"Cpte à reclasser\"))","v":""}]
[{"$f":"IF(ISBLANK(Import!E1151),\"\",Import!E1151)","v":""},{"$f":"IF(ISBLANK(Import!E1151),\"\",(IFERROR(VLOOKUP(Import!C1151,Mapping!C:F,1,FALSE),\"HF, à reclasser\")))","v":""},{"$f":"IF(ISBLANK(Import!E1151),\"\",IF(B1148=(LEFT(A1148,3)),(IFERROR(VLOOKUP(Import!B1151,Mapping!D:F,2,FALSE),\"Cpte à créer dans Mapping\")),\"Cpte à reclasser\"))","v":""}]
[{"$f":"IF(ISBLANK(Import!E1152),\"\",Import!E1152)","v":""},{"$f":"IF(ISBLANK(Import!E1152),\"\",(IFERROR(VLOOKUP(Import!C1152,Mapping!C:F,1,FALSE),\"HF, à reclasser\")))","v":""},{"$f":"IF(ISBLANK(Import!E1152),\"\",IF(B1149=(LEFT(A1149,3)),(IFERROR(VLOOKUP(Import!B1152,Mapping!D:F,2,FALSE),\"Cpte à créer dans Mapping\")),\"Cpte à reclasser\"))","v":""}]
[{"$f":"IF(ISBLANK(Import!E1153),\"\",Import!E1153)","v":""},{"$f":"IF(ISBLANK(Import!E1153),\"\",(IFERROR(VLOOKUP(Import!C1153,Mapping!C:F,1,FALSE),\"HF, à reclasser\")))","v":""},{"$f":"IF(ISBLANK(Import!E1153),\"\",IF(B1150=(LEFT(A1150,3)),(IFERROR(VLOOKUP(Import!B1153,Mapping!D:F,2,FALSE),\"Cpte à créer dans Mapping\")),\"Cpte à reclasser\"))","v":""}]
[{"$f":"IF(ISBLANK(Import!E1154),\"\",Import!E1154)","v":""},{"$f":"IF(ISBLANK(Import!E1154),\"\",(IFERROR(VLOOKUP(Import!C1154,Mapping!C:F,1,FALSE),\"HF, à reclasser\")))","v":""},{"$f":"IF(ISBLANK(Import!E1154),\"\",IF(B1151=(LEFT(A1151,3)),(IFERROR(VLOOKUP(Import!B1154,Mapping!D:F,2,FALSE),\"Cpte à créer dans Mapping\")),\"Cpte à reclasser\"))","v":""}]
[{"$f":"IF(ISBLANK(Import!E1155),\"\",Import!E1155)","v":""},{"$f":"IF(ISBLANK(Import!E1155),\"\",(IFERROR(VLOOKUP(Import!C1155,Mapping!C:F,1,FALSE),\"HF, à reclasser\")))","v":""},{"$f":"IF(ISBLANK(Import!E1155),\"\",IF(B1152=(LEFT(A1152,3)),(IFERROR(VLOOKUP(Import!B1155,Mapping!D:F,2,FALSE),\"Cpte à créer dans Mapping\")),\"Cpte à reclasser\"))","v":""}]
[{"$f":"IF(ISBLANK(Import!E1156),\"\",Import!E1156)","v":""},{"$f":"IF(ISBLANK(Import!E1156),\"\",(IFERROR(VLOOKUP(Import!C1156,Mapping!C:F,1,FALSE),\"HF, à reclasser\")))","v":""},{"$f":"IF(ISBLANK(Import!E1156),\"\",IF(B1153=(LEFT(A1153,3)),(IFERROR(VLOOKUP(Import!B1156,Mapping!D:F,2,FALSE),\"Cpte à créer dans Mapping\")),\"Cpte à reclasser\"))","v":""}]
[{"$f":"IF(ISBLANK(Import!E1157),\"\",Import!E1157)","v":""},{"$f":"IF(ISBLANK(Import!E1157),\"\",(IFERROR(VLOOKUP(Import!C1157,Mapping!C:F,1,FALSE),\"HF, à reclasser\")))","v":""},{"$f":"IF(ISBLANK(Import!E1157),\"\",IF(B1154=(LEFT(A1154,3)),(IFERROR(VLOOKUP(Import!B1157,Mapping!D:F,2,FALSE),\"Cpte à créer dans Mapping\")),\"Cpte à reclasser\"))","v":""}]
[{"$f":"IF(ISBLANK(Import!E1158),\"\",Import!E1158)","v":""},{"$f":"IF(ISBLANK(Import!E1158),\"\",(IFERROR(VLOOKUP(Import!C1158,Mapping!C:F,1,FALSE),\"HF, à reclasser\")))","v":""},{"$f":"IF(ISBLANK(Import!E1158),\"\",IF(B1155=(LEFT(A1155,3)),(IFERROR(VLOOKUP(Import!B1158,Mapping!D:F,2,FALSE),\"Cpte à créer dans Mapping\")),\"Cpte à reclasser\"))","v":""}]
[{"$f":"IF(ISBLANK(Import!E1159),\"\",Import!E1159)","v":""},{"$f":"IF(ISBLANK(Import!E1159),\"\",(IFERROR(VLOOKUP(Import!C1159,Mapping!C:F,1,FALSE),\"HF, à reclasser\")))","v":""},{"$f":"IF(ISBLANK(Import!E1159),\"\",IF(B1156=(LEFT(A1156,3)),(IFERROR(VLOOKUP(Import!B1159,Mapping!D:F,2,FALSE),\"Cpte à créer dans Mapping\")),\"Cpte à reclasser\"))","v":""}]
[{"$f":"IF(ISBLANK(Import!E1160),\"\",Import!E1160)","v":""},{"$f":"IF(ISBLANK(Import!E1160),\"\",(IFERROR(VLOOKUP(Import!C1160,Mapping!C:F,1,FALSE),\"HF, à reclasser\")))","v":""},{"$f":"IF(ISBLANK(Import!E1160),\"\",IF(B1157=(LEFT(A1157,3)),(IFERROR(VLOOKUP(Import!B1160,Mapping!D:F,2,FALSE),\"Cpte à créer dans Mapping\")),\"Cpte à reclasser\"))","v":""}]
[{"$f":"IF(ISBLANK(Import!E1161),\"\",Import!E1161)","v":""},{"$f":"IF(ISBLANK(Import!E1161),\"\",(IFERROR(VLOOKUP(Import!C1161,Mapping!C:F,1,FALSE),\"HF, à reclasser\")))","v":""},{"$f":"IF(ISBLANK(Import!E1161),\"\",IF(B1158=(LEFT(A1158,3)),(IFERROR(VLOOKUP(Import!B1161,Mapping!D:F,2,FALSE),\"Cpte à créer dans Mapping\")),\"Cpte à reclasser\"))","v":""}]
[{"$f":"IF(ISBLANK(Import!E1162),\"\",Import!E1162)","v":""},{"$f":"IF(ISBLANK(Import!E1162),\"\",(IFERROR(VLOOKUP(Import!C1162,Mapping!C:F,1,FALSE),\"HF, à reclasser\")))","v":""},{"$f":"IF(ISBLANK(Import!E1162),\"\",IF(B1159=(LEFT(A1159,3)),(IFERROR(VLOOKUP(Import!B1162,Mapping!D:F,2,FALSE),\"Cpte à créer dans Mapping\")),\"Cpte à reclasser\"))","v":""}]
[{"$f":"IF(ISBLANK(Import!E1163),\"\",Import!E1163)","v":""},{"$f":"IF(ISBLANK(Import!E1163),\"\",(IFERROR(VLOOKUP(Import!C1163,Mapping!C:F,1,FALSE),\"HF, à reclasser\")))","v":""},{"$f":"IF(ISBLANK(Import!E1163),\"\",IF(B1160=(LEFT(A1160,3)),(IFERROR(VLOOKUP(Import!B1163,Mapping!D:F,2,FALSE),\"Cpte à créer dans Mapping\")),\"Cpte à reclasser\"))","v":""}]
[{"$f":"IF(ISBLANK(Import!E1164),\"\",Import!E1164)","v":""},{"$f":"IF(ISBLANK(Import!E1164),\"\",(IFERROR(VLOOKUP(Import!C1164,Mapping!C:F,1,FALSE),\"HF, à reclasser\")))","v":""},{"$f":"IF(ISBLANK(Import!E1164),\"\",IF(B1161=(LEFT(A1161,3)),(IFERROR(VLOOKUP(Import!B1164,Mapping!D:F,2,FALSE),\"Cpte à créer dans Mapping\")),\"Cpte à reclasser\"))","v":""}]
[{"$f":"IF(ISBLANK(Import!E1165),\"\",Import!E1165)","v":""},{"$f":"IF(ISBLANK(Import!E1165),\"\",(IFERROR(VLOOKUP(Import!C1165,Mapping!C:F,1,FALSE),\"HF, à reclasser\")))","v":""},{"$f":"IF(ISBLANK(Import!E1165),\"\",IF(B1162=(LEFT(A1162,3)),(IFERROR(VLOOKUP(Import!B1165,Mapping!D:F,2,FALSE),\"Cpte à créer dans Mapping\")),\"Cpte à reclasser\"))","v":""}]
[{"$f":"IF(ISBLANK(Import!E1166),\"\",Import!E1166)","v":""},{"$f":"IF(ISBLANK(Import!E1166),\"\",(IFERROR(VLOOKUP(Import!C1166,Mapping!C:F,1,FALSE),\"HF, à reclasser\")))","v":""},{"$f":"IF(ISBLANK(Import!E1166),\"\",IF(B1163=(LEFT(A1163,3)),(IFERROR(VLOOKUP(Import!B1166,Mapping!D:F,2,FALSE),\"Cpte à créer dans Mapping\")),\"Cpte à reclasser\"))","v":""}]
[{"$f":"IF(ISBLANK(Import!E1167),\"\",Import!E1167)","v":""},{"$f":"IF(ISBLANK(Import!E1167),\"\",(IFERROR(VLOOKUP(Import!C1167,Mapping!C:F,1,FALSE),\"HF, à reclasser\")))","v":""},{"$f":"IF(ISBLANK(Import!E1167),\"\",IF(B1164=(LEFT(A1164,3)),(IFERROR(VLOOKUP(Import!B1167,Mapping!D:F,2,FALSE),\"Cpte à créer dans Mapping\")),\"Cpte à reclasser\"))","v":""}]
[{"$f":"IF(ISBLANK(Import!E1168),\"\",Import!E1168)","v":""},{"$f":"IF(ISBLANK(Import!E1168),\"\",(IFERROR(VLOOKUP(Import!C1168,Mapping!C:F,1,FALSE),\"HF, à reclasser\")))","v":""},{"$f":"IF(ISBLANK(Import!E1168),\"\",IF(B1165=(LEFT(A1165,3)),(IFERROR(VLOOKUP(Import!B1168,Mapping!D:F,2,FALSE),\"Cpte à créer dans Mapping\")),\"Cpte à reclasser\"))","v":""}]
[{"$f":"IF(ISBLANK(Import!E1169),\"\",Import!E1169)","v":""},{"$f":"IF(ISBLANK(Import!E1169),\"\",(IFERROR(VLOOKUP(Import!C1169,Mapping!C:F,1,FALSE),\"HF, à reclasser\")))","v":""},{"$f":"IF(ISBLANK(Import!E1169),\"\",IF(B1166=(LEFT(A1166,3)),(IFERROR(VLOOKUP(Import!B1169,Mapping!D:F,2,FALSE),\"Cpte à créer dans Mapping\")),\"Cpte à reclasser\"))","v":""}]
[{"$f":"IF(ISBLANK(Import!E1170),\"\",Import!E1170)","v":""},{"$f":"IF(ISBLANK(Import!E1170),\"\",(IFERROR(VLOOKUP(Import!C1170,Mapping!C:F,1,FALSE),\"HF, à reclasser\")))","v":""},{"$f":"IF(ISBLANK(Import!E1170),\"\",IF(B1167=(LEFT(A1167,3)),(IFERROR(VLOOKUP(Import!B1170,Mapping!D:F,2,FALSE),\"Cpte à créer dans Mapping\")),\"Cpte à reclasser\"))","v":""}]
[{"$f":"IF(ISBLANK(Import!E1171),\"\",Import!E1171)","v":""},{"$f":"IF(ISBLANK(Import!E1171),\"\",(IFERROR(VLOOKUP(Import!C1171,Mapping!C:F,1,FALSE),\"HF, à reclasser\")))","v":""},{"$f":"IF(ISBLANK(Import!E1171),\"\",IF(B1168=(LEFT(A1168,3)),(IFERROR(VLOOKUP(Import!B1171,Mapping!D:F,2,FALSE),\"Cpte à créer dans Mapping\")),\"Cpte à reclasser\"))","v":""}]
[{"$f":"IF(ISBLANK(Import!E1172),\"\",Import!E1172)","v":""},{"$f":"IF(ISBLANK(Import!E1172),\"\",(IFERROR(VLOOKUP(Import!C1172,Mapping!C:F,1,FALSE),\"HF, à reclasser\")))","v":""},{"$f":"IF(ISBLANK(Import!E1172),\"\",IF(B1169=(LEFT(A1169,3)),(IFERROR(VLOOKUP(Import!B1172,Mapping!D:F,2,FALSE),\"Cpte à créer dans Mapping\")),\"Cpte à reclasser\"))","v":""}]
[{"$f":"IF(ISBLANK(Import!E1173),\"\",Import!E1173)","v":""},{"$f":"IF(ISBLANK(Import!E1173),\"\",(IFERROR(VLOOKUP(Import!C1173,Mapping!C:F,1,FALSE),\"HF, à reclasser\")))","v":""},{"$f":"IF(ISBLANK(Import!E1173),\"\",IF(B1170=(LEFT(A1170,3)),(IFERROR(VLOOKUP(Import!B1173,Mapping!D:F,2,FALSE),\"Cpte à créer dans Mapping\")),\"Cpte à reclasser\"))","v":""}]
[{"$f":"IF(ISBLANK(Import!E1174),\"\",Import!E1174)","v":""},{"$f":"IF(ISBLANK(Import!E1174),\"\",(IFERROR(VLOOKUP(Import!C1174,Mapping!C:F,1,FALSE),\"HF, à reclasser\")))","v":""},{"$f":"IF(ISBLANK(Import!E1174),\"\",IF(B1171=(LEFT(A1171,3)),(IFERROR(VLOOKUP(Import!B1174,Mapping!D:F,2,FALSE),\"Cpte à créer dans Mapping\")),\"Cpte à reclasser\"))","v":""}]
[{"$f":"IF(ISBLANK(Import!E1175),\"\",Import!E1175)","v":""},{"$f":"IF(ISBLANK(Import!E1175),\"\",(IFERROR(VLOOKUP(Import!C1175,Mapping!C:F,1,FALSE),\"HF, à reclasser\")))","v":""},{"$f":"IF(ISBLANK(Import!E1175),\"\",IF(B1172=(LEFT(A1172,3)),(IFERROR(VLOOKUP(Import!B1175,Mapping!D:F,2,FALSE),\"Cpte à créer dans Mapping\")),\"Cpte à reclasser\"))","v":""}]
[{"$f":"IF(ISBLANK(Import!E1176),\"\",Import!E1176)","v":""},{"$f":"IF(ISBLANK(Import!E1176),\"\",(IFERROR(VLOOKUP(Import!C1176,Mapping!C:F,1,FALSE),\"HF, à reclasser\")))","v":""},{"$f":"IF(ISBLANK(Import!E1176),\"\",IF(B1173=(LEFT(A1173,3)),(IFERROR(VLOOKUP(Import!B1176,Mapping!D:F,2,FALSE),\"Cpte à créer dans Mapping\")),\"Cpte à reclasser\"))","v":""}]
[{"$f":"IF(ISBLANK(Import!E1177),\"\",Import!E1177)","v":""},{"$f":"IF(ISBLANK(Import!E1177),\"\",(IFERROR(VLOOKUP(Import!C1177,Mapping!C:F,1,FALSE),\"HF, à reclasser\")))","v":""},{"$f":"IF(ISBLANK(Import!E1177),\"\",IF(B1174=(LEFT(A1174,3)),(IFERROR(VLOOKUP(Import!B1177,Mapping!D:F,2,FALSE),\"Cpte à créer dans Mapping\")),\"Cpte à reclasser\"))","v":""}]
[{"$f":"IF(ISBLANK(Import!E1178),\"\",Import!E1178)","v":""},{"$f":"IF(ISBLANK(Import!E1178),\"\",(IFERROR(VLOOKUP(Import!C1178,Mapping!C:F,1,FALSE),\"HF, à reclasser\")))","v":""},{"$f":"IF(ISBLANK(Import!E1178),\"\",IF(B1175=(LEFT(A1175,3)),(IFERROR(VLOOKUP(Import!B1178,Mapping!D:F,2,FALSE),\"Cpte à créer dans Mapping\")),\"Cpte à reclasser\"))","v":""}]
[{"$f":"IF(ISBLANK(Import!E1179),\"\",Import!E1179)","v":""},{"$f":"IF(ISBLANK(Import!E1179),\"\",(IFERROR(VLOOKUP(Import!C1179,Mapping!C:F,1,FALSE),\"HF, à reclasser\")))","v":""},{"$f":"IF(ISBLANK(Import!E1179),\"\",IF(B1176=(LEFT(A1176,3)),(IFERROR(VLOOKUP(Import!B1179,Mapping!D:F,2,FALSE),\"Cpte à créer dans Mapping\")),\"Cpte à reclasser\"))","v":""}]
[{"$f":"IF(ISBLANK(Import!E1180),\"\",Import!E1180)","v":""},{"$f":"IF(ISBLANK(Import!E1180),\"\",(IFERROR(VLOOKUP(Import!C1180,Mapping!C:F,1,FALSE),\"HF, à reclasser\")))","v":""},{"$f":"IF(ISBLANK(Import!E1180),\"\",IF(B1177=(LEFT(A1177,3)),(IFERROR(VLOOKUP(Import!B1180,Mapping!D:F,2,FALSE),\"Cpte à créer dans Mapping\")),\"Cpte à reclasser\"))","v":""}]
[{"$f":"IF(ISBLANK(Import!E1181),\"\",Import!E1181)","v":""},{"$f":"IF(ISBLANK(Import!E1181),\"\",(IFERROR(VLOOKUP(Import!C1181,Mapping!C:F,1,FALSE),\"HF, à reclasser\")))","v":""},{"$f":"IF(ISBLANK(Import!E1181),\"\",IF(B1178=(LEFT(A1178,3)),(IFERROR(VLOOKUP(Import!B1181,Mapping!D:F,2,FALSE),\"Cpte à créer dans Mapping\")),\"Cpte à reclasser\"))","v":""}]
[{"$f":"IF(ISBLANK(Import!E1182),\"\",Import!E1182)","v":""},{"$f":"IF(ISBLANK(Import!E1182),\"\",(IFERROR(VLOOKUP(Import!C1182,Mapping!C:F,1,FALSE),\"HF, à reclasser\")))","v":""},{"$f":"IF(ISBLANK(Import!E1182),\"\",IF(B1179=(LEFT(A1179,3)),(IFERROR(VLOOKUP(Import!B1182,Mapping!D:F,2,FALSE),\"Cpte à créer dans Mapping\")),\"Cpte à reclasser\"))","v":""}]
[{"$f":"IF(ISBLANK(Import!E1183),\"\",Import!E1183)","v":""},{"$f":"IF(ISBLANK(Import!E1183),\"\",(IFERROR(VLOOKUP(Import!C1183,Mapping!C:F,1,FALSE),\"HF, à reclasser\")))","v":""},{"$f":"IF(ISBLANK(Import!E1183),\"\",IF(B1180=(LEFT(A1180,3)),(IFERROR(VLOOKUP(Import!B1183,Mapping!D:F,2,FALSE),\"Cpte à créer dans Mapping\")),\"Cpte à reclasser\"))","v":""}]
[{"$f":"IF(ISBLANK(Import!E1184),\"\",Import!E1184)","v":""},{"$f":"IF(ISBLANK(Import!E1184),\"\",(IFERROR(VLOOKUP(Import!C1184,Mapping!C:F,1,FALSE),\"HF, à reclasser\")))","v":""},{"$f":"IF(ISBLANK(Import!E1184),\"\",IF(B1181=(LEFT(A1181,3)),(IFERROR(VLOOKUP(Import!B1184,Mapping!D:F,2,FALSE),\"Cpte à créer dans Mapping\")),\"Cpte à reclasser\"))","v":""}]
[{"$f":"IF(ISBLANK(Import!E1185),\"\",Import!E1185)","v":""},{"$f":"IF(ISBLANK(Import!E1185),\"\",(IFERROR(VLOOKUP(Import!C1185,Mapping!C:F,1,FALSE),\"HF, à reclasser\")))","v":""},{"$f":"IF(ISBLANK(Import!E1185),\"\",IF(B1182=(LEFT(A1182,3)),(IFERROR(VLOOKUP(Import!B1185,Mapping!D:F,2,FALSE),\"Cpte à créer dans Mapping\")),\"Cpte à reclasser\"))","v":""}]
[{"$f":"IF(ISBLANK(Import!E1186),\"\",Import!E1186)","v":""},{"$f":"IF(ISBLANK(Import!E1186),\"\",(IFERROR(VLOOKUP(Import!C1186,Mapping!C:F,1,FALSE),\"HF, à reclasser\")))","v":""},{"$f":"IF(ISBLANK(Import!E1186),\"\",IF(B1183=(LEFT(A1183,3)),(IFERROR(VLOOKUP(Import!B1186,Mapping!D:F,2,FALSE),\"Cpte à créer dans Mapping\")),\"Cpte à reclasser\"))","v":""}]
[{"$f":"IF(ISBLANK(Import!E1187),\"\",Import!E1187)","v":""},{"$f":"IF(ISBLANK(Import!E1187),\"\",(IFERROR(VLOOKUP(Import!C1187,Mapping!C:F,1,FALSE),\"HF, à reclasser\")))","v":""},{"$f":"IF(ISBLANK(Import!E1187),\"\",IF(B1184=(LEFT(A1184,3)),(IFERROR(VLOOKUP(Import!B1187,Mapping!D:F,2,FALSE),\"Cpte à créer dans Mapping\")),\"Cpte à reclasser\"))","v":""}]
[{"$f":"IF(ISBLANK(Import!E1188),\"\",Import!E1188)","v":""},{"$f":"IF(ISBLANK(Import!E1188),\"\",(IFERROR(VLOOKUP(Import!C1188,Mapping!C:F,1,FALSE),\"HF, à reclasser\")))","v":""},{"$f":"IF(ISBLANK(Import!E1188),\"\",IF(B1185=(LEFT(A1185,3)),(IFERROR(VLOOKUP(Import!B1188,Mapping!D:F,2,FALSE),\"Cpte à créer dans Mapping\")),\"Cpte à reclasser\"))","v":""}]
[{"$f":"IF(ISBLANK(Import!E1189),\"\",Import!E1189)","v":""},{"$f":"IF(ISBLANK(Import!E1189),\"\",(IFERROR(VLOOKUP(Import!C1189,Mapping!C:F,1,FALSE),\"HF, à reclasser\")))","v":""},{"$f":"IF(ISBLANK(Import!E1189),\"\",IF(B1186=(LEFT(A1186,3)),(IFERROR(VLOOKUP(Import!B1189,Mapping!D:F,2,FALSE),\"Cpte à créer dans Mapping\")),\"Cpte à reclasser\"))","v":""}]
[{"$f":"IF(ISBLANK(Import!E1190),\"\",Import!E1190)","v":""},{"$f":"IF(ISBLANK(Import!E1190),\"\",(IFERROR(VLOOKUP(Import!C1190,Mapping!C:F,1,FALSE),\"HF, à reclasser\")))","v":""},{"$f":"IF(ISBLANK(Import!E1190),\"\",IF(B1187=(LEFT(A1187,3)),(IFERROR(VLOOKUP(Import!B1190,Mapping!D:F,2,FALSE),\"Cpte à créer dans Mapping\")),\"Cpte à reclasser\"))","v":""}]
[{"$f":"IF(ISBLANK(Import!E1191),\"\",Import!E1191)","v":""},{"$f":"IF(ISBLANK(Import!E1191),\"\",(IFERROR(VLOOKUP(Import!C1191,Mapping!C:F,1,FALSE),\"HF, à reclasser\")))","v":""},{"$f":"IF(ISBLANK(Import!E1191),\"\",IF(B1188=(LEFT(A1188,3)),(IFERROR(VLOOKUP(Import!B1191,Mapping!D:F,2,FALSE),\"Cpte à créer dans Mapping\")),\"Cpte à reclasser\"))","v":""}]
[{"$f":"IF(ISBLANK(Import!E1192),\"\",Import!E1192)","v":""},{"$f":"IF(ISBLANK(Import!E1192),\"\",(IFERROR(VLOOKUP(Import!C1192,Mapping!C:F,1,FALSE),\"HF, à reclasser\")))","v":""},{"$f":"IF(ISBLANK(Import!E1192),\"\",IF(B1189=(LEFT(A1189,3)),(IFERROR(VLOOKUP(Import!B1192,Mapping!D:F,2,FALSE),\"Cpte à créer dans Mapping\")),\"Cpte à reclasser\"))","v":""}]
[{"$f":"IF(ISBLANK(Import!E1193),\"\",Import!E1193)","v":""},{"$f":"IF(ISBLANK(Import!E1193),\"\",(IFERROR(VLOOKUP(Import!C1193,Mapping!C:F,1,FALSE),\"HF, à reclasser\")))","v":""},{"$f":"IF(ISBLANK(Import!E1193),\"\",IF(B1190=(LEFT(A1190,3)),(IFERROR(VLOOKUP(Import!B1193,Mapping!D:F,2,FALSE),\"Cpte à créer dans Mapping\")),\"Cpte à reclasser\"))","v":""}]
[{"$f":"IF(ISBLANK(Import!E1194),\"\",Import!E1194)","v":""},{"$f":"IF(ISBLANK(Import!E1194),\"\",(IFERROR(VLOOKUP(Import!C1194,Mapping!C:F,1,FALSE),\"HF, à reclasser\")))","v":""},{"$f":"IF(ISBLANK(Import!E1194),\"\",IF(B1191=(LEFT(A1191,3)),(IFERROR(VLOOKUP(Import!B1194,Mapping!D:F,2,FALSE),\"Cpte à créer dans Mapping\")),\"Cpte à reclasser\"))","v":""}]
[{"$f":"IF(ISBLANK(Import!E1195),\"\",Import!E1195)","v":""},{"$f":"IF(ISBLANK(Import!E1195),\"\",(IFERROR(VLOOKUP(Import!C1195,Mapping!C:F,1,FALSE),\"HF, à reclasser\")))","v":""},{"$f":"IF(ISBLANK(Import!E1195),\"\",IF(B1192=(LEFT(A1192,3)),(IFERROR(VLOOKUP(Import!B1195,Mapping!D:F,2,FALSE),\"Cpte à créer dans Mapping\")),\"Cpte à reclasser\"))","v":""}]
[{"$f":"IF(ISBLANK(Import!E1196),\"\",Import!E1196)","v":""},{"$f":"IF(ISBLANK(Import!E1196),\"\",(IFERROR(VLOOKUP(Import!C1196,Mapping!C:F,1,FALSE),\"HF, à reclasser\")))","v":""},{"$f":"IF(ISBLANK(Import!E1196),\"\",IF(B1193=(LEFT(A1193,3)),(IFERROR(VLOOKUP(Import!B1196,Mapping!D:F,2,FALSE),\"Cpte à créer dans Mapping\")),\"Cpte à reclasser\"))","v":""}]
[{"$f":"IF(ISBLANK(Import!E1197),\"\",Import!E1197)","v":""},{"$f":"IF(ISBLANK(Import!E1197),\"\",(IFERROR(VLOOKUP(Import!C1197,Mapping!C:F,1,FALSE),\"HF, à reclasser\")))","v":""},{"$f":"IF(ISBLANK(Import!E1197),\"\",IF(B1194=(LEFT(A1194,3)),(IFERROR(VLOOKUP(Import!B1197,Mapping!D:F,2,FALSE),\"Cpte à créer dans Mapping\")),\"Cpte à reclasser\"))","v":""}]
[{"$f":"IF(ISBLANK(Import!E1198),\"\",Import!E1198)","v":""},{"$f":"IF(ISBLANK(Import!E1198),\"\",(IFERROR(VLOOKUP(Import!C1198,Mapping!C:F,1,FALSE),\"HF, à reclasser\")))","v":""},{"$f":"IF(ISBLANK(Import!E1198),\"\",IF(B1195=(LEFT(A1195,3)),(IFERROR(VLOOKUP(Import!B1198,Mapping!D:F,2,FALSE),\"Cpte à créer dans Mapping\")),\"Cpte à reclasser\"))","v":""}]
[{"$f":"IF(ISBLANK(Import!E1199),\"\",Import!E1199)","v":""},{"$f":"IF(ISBLANK(Import!E1199),\"\",(IFERROR(VLOOKUP(Import!C1199,Mapping!C:F,1,FALSE),\"HF, à reclasser\")))","v":""},{"$f":"IF(ISBLANK(Import!E1199),\"\",IF(B1196=(LEFT(A1196,3)),(IFERROR(VLOOKUP(Import!B1199,Mapping!D:F,2,FALSE),\"Cpte à créer dans Mapping\")),\"Cpte à reclasser\"))","v":""}]
[{"$f":"IF(ISBLANK(Import!E1200),\"\",Import!E1200)","v":""},{"$f":"IF(ISBLANK(Import!E1200),\"\",(IFERROR(VLOOKUP(Import!C1200,Mapping!C:F,1,FALSE),\"HF, à reclasser\")))","v":""},{"$f":"IF(ISBLANK(Import!E1200),\"\",IF(B1197=(LEFT(A1197,3)),(IFERROR(VLOOKUP(Import!B1200,Mapping!D:F,2,FALSE),\"Cpte à créer dans Mapping\")),\"Cpte à reclasser\"))","v":""}]
[{"$f":"IF(ISBLANK(Import!E1201),\"\",Import!E1201)","v":""},{"$f":"IF(ISBLANK(Import!E1201),\"\",(IFERROR(VLOOKUP(Import!C1201,Mapping!C:F,1,FALSE),\"HF, à reclasser\")))","v":""},{"$f":"IF(ISBLANK(Import!E1201),\"\",IF(B1198=(LEFT(A1198,3)),(IFERROR(VLOOKUP(Import!B1201,Mapping!D:F,2,FALSE),\"Cpte à créer dans Mapping\")),\"Cpte à reclasser\"))","v":""}]
[{"$f":"IF(ISBLANK(Import!E1202),\"\",Import!E1202)","v":""},{"$f":"IF(ISBLANK(Import!E1202),\"\",(IFERROR(VLOOKUP(Import!C1202,Mapping!C:F,1,FALSE),\"HF, à reclasser\")))","v":""},{"$f":"IF(ISBLANK(Import!E1202),\"\",IF(B1199=(LEFT(A1199,3)),(IFERROR(VLOOKUP(Import!B1202,Mapping!D:F,2,FALSE),\"Cpte à créer dans Mapping\")),\"Cpte à reclasser\"))","v":""}]
[{"$f":"IF(ISBLANK(Import!E1203),\"\",Import!E1203)","v":""},{"$f":"IF(ISBLANK(Import!E1203),\"\",(IFERROR(VLOOKUP(Import!C1203,Mapping!C:F,1,FALSE),\"HF, à reclasser\")))","v":""},{"$f":"IF(ISBLANK(Import!E1203),\"\",IF(B1200=(LEFT(A1200,3)),(IFERROR(VLOOKUP(Import!B1203,Mapping!D:F,2,FALSE),\"Cpte à créer dans Mapping\")),\"Cpte à reclasser\"))","v":""}]
[{"$f":"IF(ISBLANK(Import!E1204),\"\",Import!E1204)","v":""},{"$f":"IF(ISBLANK(Import!E1204),\"\",(IFERROR(VLOOKUP(Import!C1204,Mapping!C:F,1,FALSE),\"HF, à reclasser\")))","v":""},{"$f":"IF(ISBLANK(Import!E1204),\"\",IF(B1201=(LEFT(A1201,3)),(IFERROR(VLOOKUP(Import!B1204,Mapping!D:F,2,FALSE),\"Cpte à créer dans Mapping\")),\"Cpte à reclasser\"))","v":""}]
[{"$f":"IF(ISBLANK(Import!E1205),\"\",Import!E1205)","v":""},{"$f":"IF(ISBLANK(Import!E1205),\"\",(IFERROR(VLOOKUP(Import!C1205,Mapping!C:F,1,FALSE),\"HF, à reclasser\")))","v":""},{"$f":"IF(ISBLANK(Import!E1205),\"\",IF(B1202=(LEFT(A1202,3)),(IFERROR(VLOOKUP(Import!B1205,Mapping!D:F,2,FALSE),\"Cpte à créer dans Mapping\")),\"Cpte à reclasser\"))","v":""}]
[{"$f":"IF(ISBLANK(Import!E1206),\"\",Import!E1206)","v":""},{"$f":"IF(ISBLANK(Import!E1206),\"\",(IFERROR(VLOOKUP(Import!C1206,Mapping!C:F,1,FALSE),\"HF, à reclasser\")))","v":""},{"$f":"IF(ISBLANK(Import!E1206),\"\",IF(B1203=(LEFT(A1203,3)),(IFERROR(VLOOKUP(Import!B1206,Mapping!D:F,2,FALSE),\"Cpte à créer dans Mapping\")),\"Cpte à reclasser\"))","v":""}]
[{"$f":"IF(ISBLANK(Import!E1207),\"\",Import!E1207)","v":""},{"$f":"IF(ISBLANK(Import!E1207),\"\",(IFERROR(VLOOKUP(Import!C1207,Mapping!C:F,1,FALSE),\"HF, à reclasser\")))","v":""},{"$f":"IF(ISBLANK(Import!E1207),\"\",IF(B1204=(LEFT(A1204,3)),(IFERROR(VLOOKUP(Import!B1207,Mapping!D:F,2,FALSE),\"Cpte à créer dans Mapping\")),\"Cpte à reclasser\"))","v":""}]
[{"$f":"IF(ISBLANK(Import!E1208),\"\",Import!E1208)","v":""},{"$f":"IF(ISBLANK(Import!E1208),\"\",(IFERROR(VLOOKUP(Import!C1208,Mapping!C:F,1,FALSE),\"HF, à reclasser\")))","v":""},{"$f":"IF(ISBLANK(Import!E1208),\"\",IF(B1205=(LEFT(A1205,3)),(IFERROR(VLOOKUP(Import!B1208,Mapping!D:F,2,FALSE),\"Cpte à créer dans Mapping\")),\"Cpte à reclasser\"))","v":""}]
[{"$f":"IF(ISBLANK(Import!E1209),\"\",Import!E1209)","v":""},{"$f":"IF(ISBLANK(Import!E1209),\"\",(IFERROR(VLOOKUP(Import!C1209,Mapping!C:F,1,FALSE),\"HF, à reclasser\")))","v":""},{"$f":"IF(ISBLANK(Import!E1209),\"\",IF(B1206=(LEFT(A1206,3)),(IFERROR(VLOOKUP(Import!B1209,Mapping!D:F,2,FALSE),\"Cpte à créer dans Mapping\")),\"Cpte à reclasser\"))","v":""}]
[{"$f":"IF(ISBLANK(Import!E1210),\"\",Import!E1210)","v":""},{"$f":"IF(ISBLANK(Import!E1210),\"\",(IFERROR(VLOOKUP(Import!C1210,Mapping!C:F,1,FALSE),\"HF, à reclasser\")))","v":""},{"$f":"IF(ISBLANK(Import!E1210),\"\",IF(B1207=(LEFT(A1207,3)),(IFERROR(VLOOKUP(Import!B1210,Mapping!D:F,2,FALSE),\"Cpte à créer dans Mapping\")),\"Cpte à reclasser\"))","v":""}]
[{"$f":"IF(ISBLANK(Import!E1211),\"\",Import!E1211)","v":""},{"$f":"IF(ISBLANK(Import!E1211),\"\",(IFERROR(VLOOKUP(Import!C1211,Mapping!C:F,1,FALSE),\"HF, à reclasser\")))","v":""},{"$f":"IF(ISBLANK(Import!E1211),\"\",IF(B1208=(LEFT(A1208,3)),(IFERROR(VLOOKUP(Import!B1211,Mapping!D:F,2,FALSE),\"Cpte à créer dans Mapping\")),\"Cpte à reclasser\"))","v":""}]
[{"$f":"IF(ISBLANK(Import!E1212),\"\",Import!E1212)","v":""},{"$f":"IF(ISBLANK(Import!E1212),\"\",(IFERROR(VLOOKUP(Import!C1212,Mapping!C:F,1,FALSE),\"HF, à reclasser\")))","v":""},{"$f":"IF(ISBLANK(Import!E1212),\"\",IF(B1209=(LEFT(A1209,3)),(IFERROR(VLOOKUP(Import!B1212,Mapping!D:F,2,FALSE),\"Cpte à créer dans Mapping\")),\"Cpte à reclasser\"))","v":""}]
[{"$f":"IF(ISBLANK(Import!E1213),\"\",Import!E1213)","v":""},{"$f":"IF(ISBLANK(Import!E1213),\"\",(IFERROR(VLOOKUP(Import!C1213,Mapping!C:F,1,FALSE),\"HF, à reclasser\")))","v":""},{"$f":"IF(ISBLANK(Import!E1213),\"\",IF(B1210=(LEFT(A1210,3)),(IFERROR(VLOOKUP(Import!B1213,Mapping!D:F,2,FALSE),\"Cpte à créer dans Mapping\")),\"Cpte à reclasser\"))","v":""}]
[{"$f":"IF(ISBLANK(Import!E1214),\"\",Import!E1214)","v":""},{"$f":"IF(ISBLANK(Import!E1214),\"\",(IFERROR(VLOOKUP(Import!C1214,Mapping!C:F,1,FALSE),\"HF, à reclasser\")))","v":""},{"$f":"IF(ISBLANK(Import!E1214),\"\",IF(B1211=(LEFT(A1211,3)),(IFERROR(VLOOKUP(Import!B1214,Mapping!D:F,2,FALSE),\"Cpte à créer dans Mapping\")),\"Cpte à reclasser\"))","v":""}]
[{"$f":"IF(ISBLANK(Import!E1215),\"\",Import!E1215)","v":""},{"$f":"IF(ISBLANK(Import!E1215),\"\",(IFERROR(VLOOKUP(Import!C1215,Mapping!C:F,1,FALSE),\"HF, à reclasser\")))","v":""},{"$f":"IF(ISBLANK(Import!E1215),\"\",IF(B1212=(LEFT(A1212,3)),(IFERROR(VLOOKUP(Import!B1215,Mapping!D:F,2,FALSE),\"Cpte à créer dans Mapping\")),\"Cpte à reclasser\"))","v":""}]
[{"$f":"IF(ISBLANK(Import!E1216),\"\",Import!E1216)","v":""},{"$f":"IF(ISBLANK(Import!E1216),\"\",(IFERROR(VLOOKUP(Import!C1216,Mapping!C:F,1,FALSE),\"HF, à reclasser\")))","v":""},{"$f":"IF(ISBLANK(Import!E1216),\"\",IF(B1213=(LEFT(A1213,3)),(IFERROR(VLOOKUP(Import!B1216,Mapping!D:F,2,FALSE),\"Cpte à créer dans Mapping\")),\"Cpte à reclasser\"))","v":""}]
[{"$f":"IF(ISBLANK(Import!E1217),\"\",Import!E1217)","v":""},{"$f":"IF(ISBLANK(Import!E1217),\"\",(IFERROR(VLOOKUP(Import!C1217,Mapping!C:F,1,FALSE),\"HF, à reclasser\")))","v":""},{"$f":"IF(ISBLANK(Import!E1217),\"\",IF(B1214=(LEFT(A1214,3)),(IFERROR(VLOOKUP(Import!B1217,Mapping!D:F,2,FALSE),\"Cpte à créer dans Mapping\")),\"Cpte à reclasser\"))","v":""}]
[{"$f":"IF(ISBLANK(Import!E1218),\"\",Import!E1218)","v":""},{"$f":"IF(ISBLANK(Import!E1218),\"\",(IFERROR(VLOOKUP(Import!C1218,Mapping!C:F,1,FALSE),\"HF, à reclasser\")))","v":""},{"$f":"IF(ISBLANK(Import!E1218),\"\",IF(B1215=(LEFT(A1215,3)),(IFERROR(VLOOKUP(Import!B1218,Mapping!D:F,2,FALSE),\"Cpte à créer dans Mapping\")),\"Cpte à reclasser\"))","v":""}]
[{"$f":"IF(ISBLANK(Import!E1219),\"\",Import!E1219)","v":""},{"$f":"IF(ISBLANK(Import!E1219),\"\",(IFERROR(VLOOKUP(Import!C1219,Mapping!C:F,1,FALSE),\"HF, à reclasser\")))","v":""},{"$f":"IF(ISBLANK(Import!E1219),\"\",IF(B1216=(LEFT(A1216,3)),(IFERROR(VLOOKUP(Import!B1219,Mapping!D:F,2,FALSE),\"Cpte à créer dans Mapping\")),\"Cpte à reclasser\"))","v":""}]
[{"$f":"IF(ISBLANK(Import!E1220),\"\",Import!E1220)","v":""},{"$f":"IF(ISBLANK(Import!E1220),\"\",(IFERROR(VLOOKUP(Import!C1220,Mapping!C:F,1,FALSE),\"HF, à reclasser\")))","v":""},{"$f":"IF(ISBLANK(Import!E1220),\"\",IF(B1217=(LEFT(A1217,3)),(IFERROR(VLOOKUP(Import!B1220,Mapping!D:F,2,FALSE),\"Cpte à créer dans Mapping\")),\"Cpte à reclasser\"))","v":""}]
[{"$f":"IF(ISBLANK(Import!E1221),\"\",Import!E1221)","v":""},{"$f":"IF(ISBLANK(Import!E1221),\"\",(IFERROR(VLOOKUP(Import!C1221,Mapping!C:F,1,FALSE),\"HF, à reclasser\")))","v":""},{"$f":"IF(ISBLANK(Import!E1221),\"\",IF(B1218=(LEFT(A1218,3)),(IFERROR(VLOOKUP(Import!B1221,Mapping!D:F,2,FALSE),\"Cpte à créer dans Mapping\")),\"Cpte à reclasser\"))","v":""}]
[{"$f":"IF(ISBLANK(Import!E1222),\"\",Import!E1222)","v":""},{"$f":"IF(ISBLANK(Import!E1222),\"\",(IFERROR(VLOOKUP(Import!C1222,Mapping!C:F,1,FALSE),\"HF, à reclasser\")))","v":""},{"$f":"IF(ISBLANK(Import!E1222),\"\",IF(B1219=(LEFT(A1219,3)),(IFERROR(VLOOKUP(Import!B1222,Mapping!D:F,2,FALSE),\"Cpte à créer dans Mapping\")),\"Cpte à reclasser\"))","v":""}]
[{"$f":"IF(ISBLANK(Import!E1223),\"\",Import!E1223)","v":""},{"$f":"IF(ISBLANK(Import!E1223),\"\",(IFERROR(VLOOKUP(Import!C1223,Mapping!C:F,1,FALSE),\"HF, à reclasser\")))","v":""},{"$f":"IF(ISBLANK(Import!E1223),\"\",IF(B1220=(LEFT(A1220,3)),(IFERROR(VLOOKUP(Import!B1223,Mapping!D:F,2,FALSE),\"Cpte à créer dans Mapping\")),\"Cpte à reclasser\"))","v":""}]
[{"$f":"IF(ISBLANK(Import!E1224),\"\",Import!E1224)","v":""},{"$f":"IF(ISBLANK(Import!E1224),\"\",(IFERROR(VLOOKUP(Import!C1224,Mapping!C:F,1,FALSE),\"HF, à reclasser\")))","v":""},{"$f":"IF(ISBLANK(Import!E1224),\"\",IF(B1221=(LEFT(A1221,3)),(IFERROR(VLOOKUP(Import!B1224,Mapping!D:F,2,FALSE),\"Cpte à créer dans Mapping\")),\"Cpte à reclasser\"))","v":""}]
[{"$f":"IF(ISBLANK(Import!E1225),\"\",Import!E1225)","v":""},{"$f":"IF(ISBLANK(Import!E1225),\"\",(IFERROR(VLOOKUP(Import!C1225,Mapping!C:F,1,FALSE),\"HF, à reclasser\")))","v":""},{"$f":"IF(ISBLANK(Import!E1225),\"\",IF(B1222=(LEFT(A1222,3)),(IFERROR(VLOOKUP(Import!B1225,Mapping!D:F,2,FALSE),\"Cpte à créer dans Mapping\")),\"Cpte à reclasser\"))","v":""}]
[{"$f":"IF(ISBLANK(Import!E1226),\"\",Import!E1226)","v":""},{"$f":"IF(ISBLANK(Import!E1226),\"\",(IFERROR(VLOOKUP(Import!C1226,Mapping!C:F,1,FALSE),\"HF, à reclasser\")))","v":""},{"$f":"IF(ISBLANK(Import!E1226),\"\",IF(B1223=(LEFT(A1223,3)),(IFERROR(VLOOKUP(Import!B1226,Mapping!D:F,2,FALSE),\"Cpte à créer dans Mapping\")),\"Cpte à reclasser\"))","v":""}]
[{"$f":"IF(ISBLANK(Import!E1227),\"\",Import!E1227)","v":""},{"$f":"IF(ISBLANK(Import!E1227),\"\",(IFERROR(VLOOKUP(Import!C1227,Mapping!C:F,1,FALSE),\"HF, à reclasser\")))","v":""},{"$f":"IF(ISBLANK(Import!E1227),\"\",IF(B1224=(LEFT(A1224,3)),(IFERROR(VLOOKUP(Import!B1227,Mapping!D:F,2,FALSE),\"Cpte à créer dans Mapping\")),\"Cpte à reclasser\"))","v":""}]
[{"$f":"IF(ISBLANK(Import!E1228),\"\",Import!E1228)","v":""},{"$f":"IF(ISBLANK(Import!E1228),\"\",(IFERROR(VLOOKUP(Import!C1228,Mapping!C:F,1,FALSE),\"HF, à reclasser\")))","v":""},{"$f":"IF(ISBLANK(Import!E1228),\"\",IF(B1225=(LEFT(A1225,3)),(IFERROR(VLOOKUP(Import!B1228,Mapping!D:F,2,FALSE),\"Cpte à créer dans Mapping\")),\"Cpte à reclasser\"))","v":""}]
[{"$f":"IF(ISBLANK(Import!E1229),\"\",Import!E1229)","v":""},{"$f":"IF(ISBLANK(Import!E1229),\"\",(IFERROR(VLOOKUP(Import!C1229,Mapping!C:F,1,FALSE),\"HF, à reclasser\")))","v":""},{"$f":"IF(ISBLANK(Import!E1229),\"\",IF(B1226=(LEFT(A1226,3)),(IFERROR(VLOOKUP(Import!B1229,Mapping!D:F,2,FALSE),\"Cpte à créer dans Mapping\")),\"Cpte à reclasser\"))","v":""}]
[{"$f":"IF(ISBLANK(Import!E1230),\"\",Import!E1230)","v":""},{"$f":"IF(ISBLANK(Import!E1230),\"\",(IFERROR(VLOOKUP(Import!C1230,Mapping!C:F,1,FALSE),\"HF, à reclasser\")))","v":""},{"$f":"IF(ISBLANK(Import!E1230),\"\",IF(B1227=(LEFT(A1227,3)),(IFERROR(VLOOKUP(Import!B1230,Mapping!D:F,2,FALSE),\"Cpte à créer dans Mapping\")),\"Cpte à reclasser\"))","v":""}]
[{"$f":"IF(ISBLANK(Import!E1231),\"\",Import!E1231)","v":""},{"$f":"IF(ISBLANK(Import!E1231),\"\",(IFERROR(VLOOKUP(Import!C1231,Mapping!C:F,1,FALSE),\"HF, à reclasser\")))","v":""},{"$f":"IF(ISBLANK(Import!E1231),\"\",IF(B1228=(LEFT(A1228,3)),(IFERROR(VLOOKUP(Import!B1231,Mapping!D:F,2,FALSE),\"Cpte à créer dans Mapping\")),\"Cpte à reclasser\"))","v":""}]
[{"$f":"IF(ISBLANK(Import!E1232),\"\",Import!E1232)","v":""},{"$f":"IF(ISBLANK(Import!E1232),\"\",(IFERROR(VLOOKUP(Import!C1232,Mapping!C:F,1,FALSE),\"HF, à reclasser\")))","v":""},{"$f":"IF(ISBLANK(Import!E1232),\"\",IF(B1229=(LEFT(A1229,3)),(IFERROR(VLOOKUP(Import!B1232,Mapping!D:F,2,FALSE),\"Cpte à créer dans Mapping\")),\"Cpte à reclasser\"))","v":""}]
[{"$f":"IF(ISBLANK(Import!E1233),\"\",Import!E1233)","v":""},{"$f":"IF(ISBLANK(Import!E1233),\"\",(IFERROR(VLOOKUP(Import!C1233,Mapping!C:F,1,FALSE),\"HF, à reclasser\")))","v":""},{"$f":"IF(ISBLANK(Import!E1233),\"\",IF(B1230=(LEFT(A1230,3)),(IFERROR(VLOOKUP(Import!B1233,Mapping!D:F,2,FALSE),\"Cpte à créer dans Mapping\")),\"Cpte à reclasser\"))","v":""}]
[{"$f":"IF(ISBLANK(Import!E1234),\"\",Import!E1234)","v":""},{"$f":"IF(ISBLANK(Import!E1234),\"\",(IFERROR(VLOOKUP(Import!C1234,Mapping!C:F,1,FALSE),\"HF, à reclasser\")))","v":""},{"$f":"IF(ISBLANK(Import!E1234),\"\",IF(B1231=(LEFT(A1231,3)),(IFERROR(VLOOKUP(Import!B1234,Mapping!D:F,2,FALSE),\"Cpte à créer dans Mapping\")),\"Cpte à reclasser\"))","v":""}]
[{"$f":"IF(ISBLANK(Import!E1235),\"\",Import!E1235)","v":""},{"$f":"IF(ISBLANK(Import!E1235),\"\",(IFERROR(VLOOKUP(Import!C1235,Mapping!C:F,1,FALSE),\"HF, à reclasser\")))","v":""},{"$f":"IF(ISBLANK(Import!E1235),\"\",IF(B1232=(LEFT(A1232,3)),(IFERROR(VLOOKUP(Import!B1235,Mapping!D:F,2,FALSE),\"Cpte à créer dans Mapping\")),\"Cpte à reclasser\"))","v":""}]
[{"$f":"IF(ISBLANK(Import!E1236),\"\",Import!E1236)","v":""},{"$f":"IF(ISBLANK(Import!E1236),\"\",(IFERROR(VLOOKUP(Import!C1236,Mapping!C:F,1,FALSE),\"HF, à reclasser\")))","v":""},{"$f":"IF(ISBLANK(Import!E1236),\"\",IF(B1233=(LEFT(A1233,3)),(IFERROR(VLOOKUP(Import!B1236,Mapping!D:F,2,FALSE),\"Cpte à créer dans Mapping\")),\"Cpte à reclasser\"))","v":""}]
[{"$f":"IF(ISBLANK(Import!E1237),\"\",Import!E1237)","v":""},{"$f":"IF(ISBLANK(Import!E1237),\"\",(IFERROR(VLOOKUP(Import!C1237,Mapping!C:F,1,FALSE),\"HF, à reclasser\")))","v":""},{"$f":"IF(ISBLANK(Import!E1237),\"\",IF(B1234=(LEFT(A1234,3)),(IFERROR(VLOOKUP(Import!B1237,Mapping!D:F,2,FALSE),\"Cpte à créer dans Mapping\")),\"Cpte à reclasser\"))","v":""}]
[{"$f":"IF(ISBLANK(Import!E1238),\"\",Import!E1238)","v":""},{"$f":"IF(ISBLANK(Import!E1238),\"\",(IFERROR(VLOOKUP(Import!C1238,Mapping!C:F,1,FALSE),\"HF, à reclasser\")))","v":""},{"$f":"IF(ISBLANK(Import!E1238),\"\",IF(B1235=(LEFT(A1235,3)),(IFERROR(VLOOKUP(Import!B1238,Mapping!D:F,2,FALSE),\"Cpte à créer dans Mapping\")),\"Cpte à reclasser\"))","v":""}]
[{"$f":"IF(ISBLANK(Import!E1239),\"\",Import!E1239)","v":""},{"$f":"IF(ISBLANK(Import!E1239),\"\",(IFERROR(VLOOKUP(Import!C1239,Mapping!C:F,1,FALSE),\"HF, à reclasser\")))","v":""},{"$f":"IF(ISBLANK(Import!E1239),\"\",IF(B1236=(LEFT(A1236,3)),(IFERROR(VLOOKUP(Import!B1239,Mapping!D:F,2,FALSE),\"Cpte à créer dans Mapping\")),\"Cpte à reclasser\"))","v":""}]
[{"$f":"IF(ISBLANK(Import!E1240),\"\",Import!E1240)","v":""},{"$f":"IF(ISBLANK(Import!E1240),\"\",(IFERROR(VLOOKUP(Import!C1240,Mapping!C:F,1,FALSE),\"HF, à reclasser\")))","v":""},{"$f":"IF(ISBLANK(Import!E1240),\"\",IF(B1237=(LEFT(A1237,3)),(IFERROR(VLOOKUP(Import!B1240,Mapping!D:F,2,FALSE),\"Cpte à créer dans Mapping\")),\"Cpte à reclasser\"))","v":""}]
[{"$f":"IF(ISBLANK(Import!E1241),\"\",Import!E1241)","v":""},{"$f":"IF(ISBLANK(Import!E1241),\"\",(IFERROR(VLOOKUP(Import!C1241,Mapping!C:F,1,FALSE),\"HF, à reclasser\")))","v":""},{"$f":"IF(ISBLANK(Import!E1241),\"\",IF(B1238=(LEFT(A1238,3)),(IFERROR(VLOOKUP(Import!B1241,Mapping!D:F,2,FALSE),\"Cpte à créer dans Mapping\")),\"Cpte à reclasser\"))","v":""}]
[{"$f":"IF(ISBLANK(Import!E1242),\"\",Import!E1242)","v":""},{"$f":"IF(ISBLANK(Import!E1242),\"\",(IFERROR(VLOOKUP(Import!C1242,Mapping!C:F,1,FALSE),\"HF, à reclasser\")))","v":""},{"$f":"IF(ISBLANK(Import!E1242),\"\",IF(B1239=(LEFT(A1239,3)),(IFERROR(VLOOKUP(Import!B1242,Mapping!D:F,2,FALSE),\"Cpte à créer dans Mapping\")),\"Cpte à reclasser\"))","v":""}]
[{"$f":"IF(ISBLANK(Import!E1243),\"\",Import!E1243)","v":""},{"$f":"IF(ISBLANK(Import!E1243),\"\",(IFERROR(VLOOKUP(Import!C1243,Mapping!C:F,1,FALSE),\"HF, à reclasser\")))","v":""},{"$f":"IF(ISBLANK(Import!E1243),\"\",IF(B1240=(LEFT(A1240,3)),(IFERROR(VLOOKUP(Import!B1243,Mapping!D:F,2,FALSE),\"Cpte à créer dans Mapping\")),\"Cpte à reclasser\"))","v":""}]
[{"$f":"IF(ISBLANK(Import!E1244),\"\",Import!E1244)","v":""},{"$f":"IF(ISBLANK(Import!E1244),\"\",(IFERROR(VLOOKUP(Import!C1244,Mapping!C:F,1,FALSE),\"HF, à reclasser\")))","v":""},{"$f":"IF(ISBLANK(Import!E1244),\"\",IF(B1241=(LEFT(A1241,3)),(IFERROR(VLOOKUP(Import!B1244,Mapping!D:F,2,FALSE),\"Cpte à créer dans Mapping\")),\"Cpte à reclasser\"))","v":""}]
[{"$f":"IF(ISBLANK(Import!E1245),\"\",Import!E1245)","v":""},{"$f":"IF(ISBLANK(Import!E1245),\"\",(IFERROR(VLOOKUP(Import!C1245,Mapping!C:F,1,FALSE),\"HF, à reclasser\")))","v":""},{"$f":"IF(ISBLANK(Import!E1245),\"\",IF(B1242=(LEFT(A1242,3)),(IFERROR(VLOOKUP(Import!B1245,Mapping!D:F,2,FALSE),\"Cpte à créer dans Mapping\")),\"Cpte à reclasser\"))","v":""}]
[{"$f":"IF(ISBLANK(Import!E1246),\"\",Import!E1246)","v":""},{"$f":"IF(ISBLANK(Import!E1246),\"\",(IFERROR(VLOOKUP(Import!C1246,Mapping!C:F,1,FALSE),\"HF, à reclasser\")))","v":""},{"$f":"IF(ISBLANK(Import!E1246),\"\",IF(B1243=(LEFT(A1243,3)),(IFERROR(VLOOKUP(Import!B1246,Mapping!D:F,2,FALSE),\"Cpte à créer dans Mapping\")),\"Cpte à reclasser\"))","v":""}]
[{"$f":"IF(ISBLANK(Import!E1247),\"\",Import!E1247)","v":""},{"$f":"IF(ISBLANK(Import!E1247),\"\",(IFERROR(VLOOKUP(Import!C1247,Mapping!C:F,1,FALSE),\"HF, à reclasser\")))","v":""},{"$f":"IF(ISBLANK(Import!E1247),\"\",IF(B1244=(LEFT(A1244,3)),(IFERROR(VLOOKUP(Import!B1247,Mapping!D:F,2,FALSE),\"Cpte à créer dans Mapping\")),\"Cpte à reclasser\"))","v":""}]
[{"$f":"IF(ISBLANK(Import!E1248),\"\",Import!E1248)","v":""},{"$f":"IF(ISBLANK(Import!E1248),\"\",(IFERROR(VLOOKUP(Import!C1248,Mapping!C:F,1,FALSE),\"HF, à reclasser\")))","v":""},{"$f":"IF(ISBLANK(Import!E1248),\"\",IF(B1245=(LEFT(A1245,3)),(IFERROR(VLOOKUP(Import!B1248,Mapping!D:F,2,FALSE),\"Cpte à créer dans Mapping\")),\"Cpte à reclasser\"))","v":""}]
[{"$f":"IF(ISBLANK(Import!E1249),\"\",Import!E1249)","v":""},{"$f":"IF(ISBLANK(Import!E1249),\"\",(IFERROR(VLOOKUP(Import!C1249,Mapping!C:F,1,FALSE),\"HF, à reclasser\")))","v":""},{"$f":"IF(ISBLANK(Import!E1249),\"\",IF(B1246=(LEFT(A1246,3)),(IFERROR(VLOOKUP(Import!B1249,Mapping!D:F,2,FALSE),\"Cpte à créer dans Mapping\")),\"Cpte à reclasser\"))","v":""}]
[{"$f":"IF(ISBLANK(Import!E1250),\"\",Import!E1250)","v":""},{"$f":"IF(ISBLANK(Import!E1250),\"\",(IFERROR(VLOOKUP(Import!C1250,Mapping!C:F,1,FALSE),\"HF, à reclasser\")))","v":""},{"$f":"IF(ISBLANK(Import!E1250),\"\",IF(B1247=(LEFT(A1247,3)),(IFERROR(VLOOKUP(Import!B1250,Mapping!D:F,2,FALSE),\"Cpte à créer dans Mapping\")),\"Cpte à reclasser\"))","v":""}]
[{"$f":"IF(ISBLANK(Import!E1251),\"\",Import!E1251)","v":""},{"$f":"IF(ISBLANK(Import!E1251),\"\",(IFERROR(VLOOKUP(Import!C1251,Mapping!C:F,1,FALSE),\"HF, à reclasser\")))","v":""},{"$f":"IF(ISBLANK(Import!E1251),\"\",IF(B1248=(LEFT(A1248,3)),(IFERROR(VLOOKUP(Import!B1251,Mapping!D:F,2,FALSE),\"Cpte à créer dans Mapping\")),\"Cpte à reclasser\"))","v":""}]
[{"$f":"IF(ISBLANK(Import!E1252),\"\",Import!E1252)","v":""},{"$f":"IF(ISBLANK(Import!E1252),\"\",(IFERROR(VLOOKUP(Import!C1252,Mapping!C:F,1,FALSE),\"HF, à reclasser\")))","v":""},{"$f":"IF(ISBLANK(Import!E1252),\"\",IF(B1249=(LEFT(A1249,3)),(IFERROR(VLOOKUP(Import!B1252,Mapping!D:F,2,FALSE),\"Cpte à créer dans Mapping\")),\"Cpte à reclasser\"))","v":""}]
[{"$f":"IF(ISBLANK(Import!E1253),\"\",Import!E1253)","v":""},{"$f":"IF(ISBLANK(Import!E1253),\"\",(IFERROR(VLOOKUP(Import!C1253,Mapping!C:F,1,FALSE),\"HF, à reclasser\")))","v":""},{"$f":"IF(ISBLANK(Import!E1253),\"\",IF(B1250=(LEFT(A1250,3)),(IFERROR(VLOOKUP(Import!B1253,Mapping!D:F,2,FALSE),\"Cpte à créer dans Mapping\")),\"Cpte à reclasser\"))","v":""}]
[{"$f":"IF(ISBLANK(Import!E1254),\"\",Import!E1254)","v":""},{"$f":"IF(ISBLANK(Import!E1254),\"\",(IFERROR(VLOOKUP(Import!C1254,Mapping!C:F,1,FALSE),\"HF, à reclasser\")))","v":""},{"$f":"IF(ISBLANK(Import!E1254),\"\",IF(B1251=(LEFT(A1251,3)),(IFERROR(VLOOKUP(Import!B1254,Mapping!D:F,2,FALSE),\"Cpte à créer dans Mapping\")),\"Cpte à reclasser\"))","v":""}]
[{"$f":"IF(ISBLANK(Import!E1255),\"\",Import!E1255)","v":""},{"$f":"IF(ISBLANK(Import!E1255),\"\",(IFERROR(VLOOKUP(Import!C1255,Mapping!C:F,1,FALSE),\"HF, à reclasser\")))","v":""},{"$f":"IF(ISBLANK(Import!E1255),\"\",IF(B1252=(LEFT(A1252,3)),(IFERROR(VLOOKUP(Import!B1255,Mapping!D:F,2,FALSE),\"Cpte à créer dans Mapping\")),\"Cpte à reclasser\"))","v":""}]
[{"$f":"IF(ISBLANK(Import!E1256),\"\",Import!E1256)","v":""},{"$f":"IF(ISBLANK(Import!E1256),\"\",(IFERROR(VLOOKUP(Import!C1256,Mapping!C:F,1,FALSE),\"HF, à reclasser\")))","v":""},{"$f":"IF(ISBLANK(Import!E1256),\"\",IF(B1253=(LEFT(A1253,3)),(IFERROR(VLOOKUP(Import!B1256,Mapping!D:F,2,FALSE),\"Cpte à créer dans Mapping\")),\"Cpte à reclasser\"))","v":""}]
[{"$f":"IF(ISBLANK(Import!E1257),\"\",Import!E1257)","v":""},{"$f":"IF(ISBLANK(Import!E1257),\"\",(IFERROR(VLOOKUP(Import!C1257,Mapping!C:F,1,FALSE),\"HF, à reclasser\")))","v":""},{"$f":"IF(ISBLANK(Import!E1257),\"\",IF(B1254=(LEFT(A1254,3)),(IFERROR(VLOOKUP(Import!B1257,Mapping!D:F,2,FALSE),\"Cpte à créer dans Mapping\")),\"Cpte à reclasser\"))","v":""}]
[{"$f":"IF(ISBLANK(Import!E1258),\"\",Import!E1258)","v":""},{"$f":"IF(ISBLANK(Import!E1258),\"\",(IFERROR(VLOOKUP(Import!C1258,Mapping!C:F,1,FALSE),\"HF, à reclasser\")))","v":""},{"$f":"IF(ISBLANK(Import!E1258),\"\",IF(B1255=(LEFT(A1255,3)),(IFERROR(VLOOKUP(Import!B1258,Mapping!D:F,2,FALSE),\"Cpte à créer dans Mapping\")),\"Cpte à reclasser\"))","v":""}]
[{"$f":"IF(ISBLANK(Import!E1259),\"\",Import!E1259)","v":""},{"$f":"IF(ISBLANK(Import!E1259),\"\",(IFERROR(VLOOKUP(Import!C1259,Mapping!C:F,1,FALSE),\"HF, à reclasser\")))","v":""},{"$f":"IF(ISBLANK(Import!E1259),\"\",IF(B1256=(LEFT(A1256,3)),(IFERROR(VLOOKUP(Import!B1259,Mapping!D:F,2,FALSE),\"Cpte à créer dans Mapping\")),\"Cpte à reclasser\"))","v":""}]
[{"$f":"IF(ISBLANK(Import!E1260),\"\",Import!E1260)","v":""},{"$f":"IF(ISBLANK(Import!E1260),\"\",(IFERROR(VLOOKUP(Import!C1260,Mapping!C:F,1,FALSE),\"HF, à reclasser\")))","v":""},{"$f":"IF(ISBLANK(Import!E1260),\"\",IF(B1257=(LEFT(A1257,3)),(IFERROR(VLOOKUP(Import!B1260,Mapping!D:F,2,FALSE),\"Cpte à créer dans Mapping\")),\"Cpte à reclasser\"))","v":""}]
[{"$f":"IF(ISBLANK(Import!E1261),\"\",Import!E1261)","v":""},{"$f":"IF(ISBLANK(Import!E1261),\"\",(IFERROR(VLOOKUP(Import!C1261,Mapping!C:F,1,FALSE),\"HF, à reclasser\")))","v":""},{"$f":"IF(ISBLANK(Import!E1261),\"\",IF(B1258=(LEFT(A1258,3)),(IFERROR(VLOOKUP(Import!B1261,Mapping!D:F,2,FALSE),\"Cpte à créer dans Mapping\")),\"Cpte à reclasser\"))","v":""}]
[{"$f":"IF(ISBLANK(Import!E1262),\"\",Import!E1262)","v":""},{"$f":"IF(ISBLANK(Import!E1262),\"\",(IFERROR(VLOOKUP(Import!C1262,Mapping!C:F,1,FALSE),\"HF, à reclasser\")))","v":""},{"$f":"IF(ISBLANK(Import!E1262),\"\",IF(B1259=(LEFT(A1259,3)),(IFERROR(VLOOKUP(Import!B1262,Mapping!D:F,2,FALSE),\"Cpte à créer dans Mapping\")),\"Cpte à reclasser\"))","v":""}]
[{"$f":"IF(ISBLANK(Import!E1263),\"\",Import!E1263)","v":""},{"$f":"IF(ISBLANK(Import!E1263),\"\",(IFERROR(VLOOKUP(Import!C1263,Mapping!C:F,1,FALSE),\"HF, à reclasser\")))","v":""},{"$f":"IF(ISBLANK(Import!E1263),\"\",IF(B1260=(LEFT(A1260,3)),(IFERROR(VLOOKUP(Import!B1263,Mapping!D:F,2,FALSE),\"Cpte à créer dans Mapping\")),\"Cpte à reclasser\"))","v":""}]
[{"$f":"IF(ISBLANK(Import!E1264),\"\",Import!E1264)","v":""},{"$f":"IF(ISBLANK(Import!E1264),\"\",(IFERROR(VLOOKUP(Import!C1264,Mapping!C:F,1,FALSE),\"HF, à reclasser\")))","v":""},{"$f":"IF(ISBLANK(Import!E1264),\"\",IF(B1261=(LEFT(A1261,3)),(IFERROR(VLOOKUP(Import!B1264,Mapping!D:F,2,FALSE),\"Cpte à créer dans Mapping\")),\"Cpte à reclasser\"))","v":""}]
[{"$f":"IF(ISBLANK(Import!E1265),\"\",Import!E1265)","v":""},{"$f":"IF(ISBLANK(Import!E1265),\"\",(IFERROR(VLOOKUP(Import!C1265,Mapping!C:F,1,FALSE),\"HF, à reclasser\")))","v":""},{"$f":"IF(ISBLANK(Import!E1265),\"\",IF(B1262=(LEFT(A1262,3)),(IFERROR(VLOOKUP(Import!B1265,Mapping!D:F,2,FALSE),\"Cpte à créer dans Mapping\")),\"Cpte à reclasser\"))","v":""}]
[{"$f":"IF(ISBLANK(Import!E1266),\"\",Import!E1266)","v":""},{"$f":"IF(ISBLANK(Import!E1266),\"\",(IFERROR(VLOOKUP(Import!C1266,Mapping!C:F,1,FALSE),\"HF, à reclasser\")))","v":""},{"$f":"IF(ISBLANK(Import!E1266),\"\",IF(B1263=(LEFT(A1263,3)),(IFERROR(VLOOKUP(Import!B1266,Mapping!D:F,2,FALSE),\"Cpte à créer dans Mapping\")),\"Cpte à reclasser\"))","v":""}]
[{"$f":"IF(ISBLANK(Import!E1267),\"\",Import!E1267)","v":""},{"$f":"IF(ISBLANK(Import!E1267),\"\",(IFERROR(VLOOKUP(Import!C1267,Mapping!C:F,1,FALSE),\"HF, à reclasser\")))","v":""},{"$f":"IF(ISBLANK(Import!E1267),\"\",IF(B1264=(LEFT(A1264,3)),(IFERROR(VLOOKUP(Import!B1267,Mapping!D:F,2,FALSE),\"Cpte à créer dans Mapping\")),\"Cpte à reclasser\"))","v":""}]
[{"$f":"IF(ISBLANK(Import!E1268),\"\",Import!E1268)","v":""},{"$f":"IF(ISBLANK(Import!E1268),\"\",(IFERROR(VLOOKUP(Import!C1268,Mapping!C:F,1,FALSE),\"HF, à reclasser\")))","v":""},{"$f":"IF(ISBLANK(Import!E1268),\"\",IF(B1265=(LEFT(A1265,3)),(IFERROR(VLOOKUP(Import!B1268,Mapping!D:F,2,FALSE),\"Cpte à créer dans Mapping\")),\"Cpte à reclasser\"))","v":""}]
[{"$f":"IF(ISBLANK(Import!E1269),\"\",Import!E1269)","v":""},{"$f":"IF(ISBLANK(Import!E1269),\"\",(IFERROR(VLOOKUP(Import!C1269,Mapping!C:F,1,FALSE),\"HF, à reclasser\")))","v":""},{"$f":"IF(ISBLANK(Import!E1269),\"\",IF(B1266=(LEFT(A1266,3)),(IFERROR(VLOOKUP(Import!B1269,Mapping!D:F,2,FALSE),\"Cpte à créer dans Mapping\")),\"Cpte à reclasser\"))","v":""}]
[{"$f":"IF(ISBLANK(Import!E1270),\"\",Import!E1270)","v":""},{"$f":"IF(ISBLANK(Import!E1270),\"\",(IFERROR(VLOOKUP(Import!C1270,Mapping!C:F,1,FALSE),\"HF, à reclasser\")))","v":""},{"$f":"IF(ISBLANK(Import!E1270),\"\",IF(B1267=(LEFT(A1267,3)),(IFERROR(VLOOKUP(Import!B1270,Mapping!D:F,2,FALSE),\"Cpte à créer dans Mapping\")),\"Cpte à reclasser\"))","v":""}]
[{"$f":"IF(ISBLANK(Import!E1271),\"\",Import!E1271)","v":""},{"$f":"IF(ISBLANK(Import!E1271),\"\",(IFERROR(VLOOKUP(Import!C1271,Mapping!C:F,1,FALSE),\"HF, à reclasser\")))","v":""},{"$f":"IF(ISBLANK(Import!E1271),\"\",IF(B1268=(LEFT(A1268,3)),(IFERROR(VLOOKUP(Import!B1271,Mapping!D:F,2,FALSE),\"Cpte à créer dans Mapping\")),\"Cpte à reclasser\"))","v":""}]
[{"$f":"IF(ISBLANK(Import!E1272),\"\",Import!E1272)","v":""},{"$f":"IF(ISBLANK(Import!E1272),\"\",(IFERROR(VLOOKUP(Import!C1272,Mapping!C:F,1,FALSE),\"HF, à reclasser\")))","v":""},{"$f":"IF(ISBLANK(Import!E1272),\"\",IF(B1269=(LEFT(A1269,3)),(IFERROR(VLOOKUP(Import!B1272,Mapping!D:F,2,FALSE),\"Cpte à créer dans Mapping\")),\"Cpte à reclasser\"))","v":""}]
[{"$f":"IF(ISBLANK(Import!E1273),\"\",Import!E1273)","v":""},{"$f":"IF(ISBLANK(Import!E1273),\"\",(IFERROR(VLOOKUP(Import!C1273,Mapping!C:F,1,FALSE),\"HF, à reclasser\")))","v":""},{"$f":"IF(ISBLANK(Import!E1273),\"\",IF(B1270=(LEFT(A1270,3)),(IFERROR(VLOOKUP(Import!B1273,Mapping!D:F,2,FALSE),\"Cpte à créer dans Mapping\")),\"Cpte à reclasser\"))","v":""}]
[{"$f":"IF(ISBLANK(Import!E1274),\"\",Import!E1274)","v":""},{"$f":"IF(ISBLANK(Import!E1274),\"\",(IFERROR(VLOOKUP(Import!C1274,Mapping!C:F,1,FALSE),\"HF, à reclasser\")))","v":""},{"$f":"IF(ISBLANK(Import!E1274),\"\",IF(B1271=(LEFT(A1271,3)),(IFERROR(VLOOKUP(Import!B1274,Mapping!D:F,2,FALSE),\"Cpte à créer dans Mapping\")),\"Cpte à reclasser\"))","v":""}]
[{"$f":"IF(ISBLANK(Import!E1275),\"\",Import!E1275)","v":""},{"$f":"IF(ISBLANK(Import!E1275),\"\",(IFERROR(VLOOKUP(Import!C1275,Mapping!C:F,1,FALSE),\"HF, à reclasser\")))","v":""},{"$f":"IF(ISBLANK(Import!E1275),\"\",IF(B1272=(LEFT(A1272,3)),(IFERROR(VLOOKUP(Import!B1275,Mapping!D:F,2,FALSE),\"Cpte à créer dans Mapping\")),\"Cpte à reclasser\"))","v":""}]
[{"$f":"IF(ISBLANK(Import!E1276),\"\",Import!E1276)","v":""},{"$f":"IF(ISBLANK(Import!E1276),\"\",(IFERROR(VLOOKUP(Import!C1276,Mapping!C:F,1,FALSE),\"HF, à reclasser\")))","v":""},{"$f":"IF(ISBLANK(Import!E1276),\"\",IF(B1273=(LEFT(A1273,3)),(IFERROR(VLOOKUP(Import!B1276,Mapping!D:F,2,FALSE),\"Cpte à créer dans Mapping\")),\"Cpte à reclasser\"))","v":""}]
[{"$f":"IF(ISBLANK(Import!E1277),\"\",Import!E1277)","v":""},{"$f":"IF(ISBLANK(Import!E1277),\"\",(IFERROR(VLOOKUP(Import!C1277,Mapping!C:F,1,FALSE),\"HF, à reclasser\")))","v":""},{"$f":"IF(ISBLANK(Import!E1277),\"\",IF(B1274=(LEFT(A1274,3)),(IFERROR(VLOOKUP(Import!B1277,Mapping!D:F,2,FALSE),\"Cpte à créer dans Mapping\")),\"Cpte à reclasser\"))","v":""}]
[{"$f":"IF(ISBLANK(Import!E1278),\"\",Import!E1278)","v":""},{"$f":"IF(ISBLANK(Import!E1278),\"\",(IFERROR(VLOOKUP(Import!C1278,Mapping!C:F,1,FALSE),\"HF, à reclasser\")))","v":""},{"$f":"IF(ISBLANK(Import!E1278),\"\",IF(B1275=(LEFT(A1275,3)),(IFERROR(VLOOKUP(Import!B1278,Mapping!D:F,2,FALSE),\"Cpte à créer dans Mapping\")),\"Cpte à reclasser\"))","v":""}]
[{"$f":"IF(ISBLANK(Import!E1279),\"\",Import!E1279)","v":""},{"$f":"IF(ISBLANK(Import!E1279),\"\",(IFERROR(VLOOKUP(Import!C1279,Mapping!C:F,1,FALSE),\"HF, à reclasser\")))","v":""},{"$f":"IF(ISBLANK(Import!E1279),\"\",IF(B1276=(LEFT(A1276,3)),(IFERROR(VLOOKUP(Import!B1279,Mapping!D:F,2,FALSE),\"Cpte à créer dans Mapping\")),\"Cpte à reclasser\"))","v":""}]
[{"$f":"IF(ISBLANK(Import!E1280),\"\",Import!E1280)","v":""},{"$f":"IF(ISBLANK(Import!E1280),\"\",(IFERROR(VLOOKUP(Import!C1280,Mapping!C:F,1,FALSE),\"HF, à reclasser\")))","v":""},{"$f":"IF(ISBLANK(Import!E1280),\"\",IF(B1277=(LEFT(A1277,3)),(IFERROR(VLOOKUP(Import!B1280,Mapping!D:F,2,FALSE),\"Cpte à créer dans Mapping\")),\"Cpte à reclasser\"))","v":""}]
[{"$f":"IF(ISBLANK(Import!E1281),\"\",Import!E1281)","v":""},{"$f":"IF(ISBLANK(Import!E1281),\"\",(IFERROR(VLOOKUP(Import!C1281,Mapping!C:F,1,FALSE),\"HF, à reclasser\")))","v":""},{"$f":"IF(ISBLANK(Import!E1281),\"\",IF(B1278=(LEFT(A1278,3)),(IFERROR(VLOOKUP(Import!B1281,Mapping!D:F,2,FALSE),\"Cpte à créer dans Mapping\")),\"Cpte à reclasser\"))","v":""}]
[{"$f":"IF(ISBLANK(Import!E1282),\"\",Import!E1282)","v":""},{"$f":"IF(ISBLANK(Import!E1282),\"\",(IFERROR(VLOOKUP(Import!C1282,Mapping!C:F,1,FALSE),\"HF, à reclasser\")))","v":""},{"$f":"IF(ISBLANK(Import!E1282),\"\",IF(B1279=(LEFT(A1279,3)),(IFERROR(VLOOKUP(Import!B1282,Mapping!D:F,2,FALSE),\"Cpte à créer dans Mapping\")),\"Cpte à reclasser\"))","v":""}]
[{"$f":"IF(ISBLANK(Import!E1283),\"\",Import!E1283)","v":""},{"$f":"IF(ISBLANK(Import!E1283),\"\",(IFERROR(VLOOKUP(Import!C1283,Mapping!C:F,1,FALSE),\"HF, à reclasser\")))","v":""},{"$f":"IF(ISBLANK(Import!E1283),\"\",IF(B1280=(LEFT(A1280,3)),(IFERROR(VLOOKUP(Import!B1283,Mapping!D:F,2,FALSE),\"Cpte à créer dans Mapping\")),\"Cpte à reclasser\"))","v":""}]
[{"$f":"IF(ISBLANK(Import!E1284),\"\",Import!E1284)","v":""},{"$f":"IF(ISBLANK(Import!E1284),\"\",(IFERROR(VLOOKUP(Import!C1284,Mapping!C:F,1,FALSE),\"HF, à reclasser\")))","v":""},{"$f":"IF(ISBLANK(Import!E1284),\"\",IF(B1281=(LEFT(A1281,3)),(IFERROR(VLOOKUP(Import!B1284,Mapping!D:F,2,FALSE),\"Cpte à créer dans Mapping\")),\"Cpte à reclasser\"))","v":""}]
[{"$f":"IF(ISBLANK(Import!E1285),\"\",Import!E1285)","v":""},{"$f":"IF(ISBLANK(Import!E1285),\"\",(IFERROR(VLOOKUP(Import!C1285,Mapping!C:F,1,FALSE),\"HF, à reclasser\")))","v":""},{"$f":"IF(ISBLANK(Import!E1285),\"\",IF(B1282=(LEFT(A1282,3)),(IFERROR(VLOOKUP(Import!B1285,Mapping!D:F,2,FALSE),\"Cpte à créer dans Mapping\")),\"Cpte à reclasser\"))","v":""}]
[{"$f":"IF(ISBLANK(Import!E1286),\"\",Import!E1286)","v":""},{"$f":"IF(ISBLANK(Import!E1286),\"\",(IFERROR(VLOOKUP(Import!C1286,Mapping!C:F,1,FALSE),\"HF, à reclasser\")))","v":""},{"$f":"IF(ISBLANK(Import!E1286),\"\",IF(B1283=(LEFT(A1283,3)),(IFERROR(VLOOKUP(Import!B1286,Mapping!D:F,2,FALSE),\"Cpte à créer dans Mapping\")),\"Cpte à reclasser\"))","v":""}]
[{"$f":"IF(ISBLANK(Import!E1287),\"\",Import!E1287)","v":""},{"$f":"IF(ISBLANK(Import!E1287),\"\",(IFERROR(VLOOKUP(Import!C1287,Mapping!C:F,1,FALSE),\"HF, à reclasser\")))","v":""},{"$f":"IF(ISBLANK(Import!E1287),\"\",IF(B1284=(LEFT(A1284,3)),(IFERROR(VLOOKUP(Import!B1287,Mapping!D:F,2,FALSE),\"Cpte à créer dans Mapping\")),\"Cpte à reclasser\"))","v":""}]
[{"$f":"IF(ISBLANK(Import!E1288),\"\",Import!E1288)","v":""},{"$f":"IF(ISBLANK(Import!E1288),\"\",(IFERROR(VLOOKUP(Import!C1288,Mapping!C:F,1,FALSE),\"HF, à reclasser\")))","v":""},{"$f":"IF(ISBLANK(Import!E1288),\"\",IF(B1285=(LEFT(A1285,3)),(IFERROR(VLOOKUP(Import!B1288,Mapping!D:F,2,FALSE),\"Cpte à créer dans Mapping\")),\"Cpte à reclasser\"))","v":""}]
[{"$f":"IF(ISBLANK(Import!E1289),\"\",Import!E1289)","v":""},{"$f":"IF(ISBLANK(Import!E1289),\"\",(IFERROR(VLOOKUP(Import!C1289,Mapping!C:F,1,FALSE),\"HF, à reclasser\")))","v":""},{"$f":"IF(ISBLANK(Import!E1289),\"\",IF(B1286=(LEFT(A1286,3)),(IFERROR(VLOOKUP(Import!B1289,Mapping!D:F,2,FALSE),\"Cpte à créer dans Mapping\")),\"Cpte à reclasser\"))","v":""}]
[{"$f":"IF(ISBLANK(Import!E1290),\"\",Import!E1290)","v":""},{"$f":"IF(ISBLANK(Import!E1290),\"\",(IFERROR(VLOOKUP(Import!C1290,Mapping!C:F,1,FALSE),\"HF, à reclasser\")))","v":""},{"$f":"IF(ISBLANK(Import!E1290),\"\",IF(B1287=(LEFT(A1287,3)),(IFERROR(VLOOKUP(Import!B1290,Mapping!D:F,2,FALSE),\"Cpte à créer dans Mapping\")),\"Cpte à reclasser\"))","v":""}]
[{"$f":"IF(ISBLANK(Import!E1291),\"\",Import!E1291)","v":""},{"$f":"IF(ISBLANK(Import!E1291),\"\",(IFERROR(VLOOKUP(Import!C1291,Mapping!C:F,1,FALSE),\"HF, à reclasser\")))","v":""},{"$f":"IF(ISBLANK(Import!E1291),\"\",IF(B1288=(LEFT(A1288,3)),(IFERROR(VLOOKUP(Import!B1291,Mapping!D:F,2,FALSE),\"Cpte à créer dans Mapping\")),\"Cpte à reclasser\"))","v":""}]
[{"$f":"IF(ISBLANK(Import!E1292),\"\",Import!E1292)","v":""},{"$f":"IF(ISBLANK(Import!E1292),\"\",(IFERROR(VLOOKUP(Import!C1292,Mapping!C:F,1,FALSE),\"HF, à reclasser\")))","v":""},{"$f":"IF(ISBLANK(Import!E1292),\"\",IF(B1289=(LEFT(A1289,3)),(IFERROR(VLOOKUP(Import!B1292,Mapping!D:F,2,FALSE),\"Cpte à créer dans Mapping\")),\"Cpte à reclasser\"))","v":""}]
[{"$f":"IF(ISBLANK(Import!E1293),\"\",Import!E1293)","v":""},{"$f":"IF(ISBLANK(Import!E1293),\"\",(IFERROR(VLOOKUP(Import!C1293,Mapping!C:F,1,FALSE),\"HF, à reclasser\")))","v":""},{"$f":"IF(ISBLANK(Import!E1293),\"\",IF(B1290=(LEFT(A1290,3)),(IFERROR(VLOOKUP(Import!B1293,Mapping!D:F,2,FALSE),\"Cpte à créer dans Mapping\")),\"Cpte à reclasser\"))","v":""}]
[{"$f":"IF(ISBLANK(Import!E1294),\"\",Import!E1294)","v":""},{"$f":"IF(ISBLANK(Import!E1294),\"\",(IFERROR(VLOOKUP(Import!C1294,Mapping!C:F,1,FALSE),\"HF, à reclasser\")))","v":""},{"$f":"IF(ISBLANK(Import!E1294),\"\",IF(B1291=(LEFT(A1291,3)),(IFERROR(VLOOKUP(Import!B1294,Mapping!D:F,2,FALSE),\"Cpte à créer dans Mapping\")),\"Cpte à reclasser\"))","v":""}]
[{"$f":"IF(ISBLANK(Import!E1295),\"\",Import!E1295)","v":""},{"$f":"IF(ISBLANK(Import!E1295),\"\",(IFERROR(VLOOKUP(Import!C1295,Mapping!C:F,1,FALSE),\"HF, à reclasser\")))","v":""},{"$f":"IF(ISBLANK(Import!E1295),\"\",IF(B1292=(LEFT(A1292,3)),(IFERROR(VLOOKUP(Import!B1295,Mapping!D:F,2,FALSE),\"Cpte à créer dans Mapping\")),\"Cpte à reclasser\"))","v":""}]
[{"$f":"IF(ISBLANK(Import!E1296),\"\",Import!E1296)","v":""},{"$f":"IF(ISBLANK(Import!E1296),\"\",(IFERROR(VLOOKUP(Import!C1296,Mapping!C:F,1,FALSE),\"HF, à reclasser\")))","v":""},{"$f":"IF(ISBLANK(Import!E1296),\"\",IF(B1293=(LEFT(A1293,3)),(IFERROR(VLOOKUP(Import!B1296,Mapping!D:F,2,FALSE),\"Cpte à créer dans Mapping\")),\"Cpte à reclasser\"))","v":""}]
[{"$f":"IF(ISBLANK(Import!E1297),\"\",Import!E1297)","v":""},{"$f":"IF(ISBLANK(Import!E1297),\"\",(IFERROR(VLOOKUP(Import!C1297,Mapping!C:F,1,FALSE),\"HF, à reclasser\")))","v":""},{"$f":"IF(ISBLANK(Import!E1297),\"\",IF(B1294=(LEFT(A1294,3)),(IFERROR(VLOOKUP(Import!B1297,Mapping!D:F,2,FALSE),\"Cpte à créer dans Mapping\")),\"Cpte à reclasser\"))","v":""}]
[{"$f":"IF(ISBLANK(Import!E1298),\"\",Import!E1298)","v":""},{"$f":"IF(ISBLANK(Import!E1298),\"\",(IFERROR(VLOOKUP(Import!C1298,Mapping!C:F,1,FALSE),\"HF, à reclasser\")))","v":""},{"$f":"IF(ISBLANK(Import!E1298),\"\",IF(B1295=(LEFT(A1295,3)),(IFERROR(VLOOKUP(Import!B1298,Mapping!D:F,2,FALSE),\"Cpte à créer dans Mapping\")),\"Cpte à reclasser\"))","v":""}]
[{"$f":"IF(ISBLANK(Import!E1299),\"\",Import!E1299)","v":""},{"$f":"IF(ISBLANK(Import!E1299),\"\",(IFERROR(VLOOKUP(Import!C1299,Mapping!C:F,1,FALSE),\"HF, à reclasser\")))","v":""},{"$f":"IF(ISBLANK(Import!E1299),\"\",IF(B1296=(LEFT(A1296,3)),(IFERROR(VLOOKUP(Import!B1299,Mapping!D:F,2,FALSE),\"Cpte à créer dans Mapping\")),\"Cpte à reclasser\"))","v":""}]
[{"$f":"IF(ISBLANK(Import!E1300),\"\",Import!E1300)","v":""},{"$f":"IF(ISBLANK(Import!E1300),\"\",(IFERROR(VLOOKUP(Import!C1300,Mapping!C:F,1,FALSE),\"HF, à reclasser\")))","v":""},{"$f":"IF(ISBLANK(Import!E1300),\"\",IF(B1297=(LEFT(A1297,3)),(IFERROR(VLOOKUP(Import!B1300,Mapping!D:F,2,FALSE),\"Cpte à créer dans Mapping\")),\"Cpte à reclasser\"))","v":""}]
[{"$f":"IF(ISBLANK(Import!E1301),\"\",Import!E1301)","v":""},{"$f":"IF(ISBLANK(Import!E1301),\"\",(IFERROR(VLOOKUP(Import!C1301,Mapping!C:F,1,FALSE),\"HF, à reclasser\")))","v":""},{"$f":"IF(ISBLANK(Import!E1301),\"\",IF(B1298=(LEFT(A1298,3)),(IFERROR(VLOOKUP(Import!B1301,Mapping!D:F,2,FALSE),\"Cpte à créer dans Mapping\")),\"Cpte à reclasser\"))","v":""}]
[{"$f":"IF(ISBLANK(Import!E1302),\"\",Import!E1302)","v":""},{"$f":"IF(ISBLANK(Import!E1302),\"\",(IFERROR(VLOOKUP(Import!C1302,Mapping!C:F,1,FALSE),\"HF, à reclasser\")))","v":""},{"$f":"IF(ISBLANK(Import!E1302),\"\",IF(B1299=(LEFT(A1299,3)),(IFERROR(VLOOKUP(Import!B1302,Mapping!D:F,2,FALSE),\"Cpte à créer dans Mapping\")),\"Cpte à reclasser\"))","v":""}]
[{"$f":"IF(ISBLANK(Import!E1303),\"\",Import!E1303)","v":""},{"$f":"IF(ISBLANK(Import!E1303),\"\",(IFERROR(VLOOKUP(Import!C1303,Mapping!C:F,1,FALSE),\"HF, à reclasser\")))","v":""},{"$f":"IF(ISBLANK(Import!E1303),\"\",IF(B1300=(LEFT(A1300,3)),(IFERROR(VLOOKUP(Import!B1303,Mapping!D:F,2,FALSE),\"Cpte à créer dans Mapping\")),\"Cpte à reclasser\"))","v":""}]
[{"$f":"IF(ISBLANK(Import!E1304),\"\",Import!E1304)","v":""},{"$f":"IF(ISBLANK(Import!E1304),\"\",(IFERROR(VLOOKUP(Import!C1304,Mapping!C:F,1,FALSE),\"HF, à reclasser\")))","v":""},{"$f":"IF(ISBLANK(Import!E1304),\"\",IF(B1301=(LEFT(A1301,3)),(IFERROR(VLOOKUP(Import!B1304,Mapping!D:F,2,FALSE),\"Cpte à créer dans Mapping\")),\"Cpte à reclasser\"))","v":""}]
[{"$f":"IF(ISBLANK(Import!E1305),\"\",Import!E1305)","v":""},{"$f":"IF(ISBLANK(Import!E1305),\"\",(IFERROR(VLOOKUP(Import!C1305,Mapping!C:F,1,FALSE),\"HF, à reclasser\")))","v":""},{"$f":"IF(ISBLANK(Import!E1305),\"\",IF(B1302=(LEFT(A1302,3)),(IFERROR(VLOOKUP(Import!B1305,Mapping!D:F,2,FALSE),\"Cpte à créer dans Mapping\")),\"Cpte à reclasser\"))","v":""}]
[{"$f":"IF(ISBLANK(Import!E1306),\"\",Import!E1306)","v":""},{"$f":"IF(ISBLANK(Import!E1306),\"\",(IFERROR(VLOOKUP(Import!C1306,Mapping!C:F,1,FALSE),\"HF, à reclasser\")))","v":""},{"$f":"IF(ISBLANK(Import!E1306),\"\",IF(B1303=(LEFT(A1303,3)),(IFERROR(VLOOKUP(Import!B1306,Mapping!D:F,2,FALSE),\"Cpte à créer dans Mapping\")),\"Cpte à reclasser\"))","v":""}]
[{"$f":"IF(ISBLANK(Import!E1307),\"\",Import!E1307)","v":""},{"$f":"IF(ISBLANK(Import!E1307),\"\",(IFERROR(VLOOKUP(Import!C1307,Mapping!C:F,1,FALSE),\"HF, à reclasser\")))","v":""},{"$f":"IF(ISBLANK(Import!E1307),\"\",IF(B1304=(LEFT(A1304,3)),(IFERROR(VLOOKUP(Import!B1307,Mapping!D:F,2,FALSE),\"Cpte à créer dans Mapping\")),\"Cpte à reclasser\"))","v":""}]
[{"$f":"IF(ISBLANK(Import!E1308),\"\",Import!E1308)","v":""},{"$f":"IF(ISBLANK(Import!E1308),\"\",(IFERROR(VLOOKUP(Import!C1308,Mapping!C:F,1,FALSE),\"HF, à reclasser\")))","v":""},{"$f":"IF(ISBLANK(Import!E1308),\"\",IF(B1305=(LEFT(A1305,3)),(IFERROR(VLOOKUP(Import!B1308,Mapping!D:F,2,FALSE),\"Cpte à créer dans Mapping\")),\"Cpte à reclasser\"))","v":""}]
[{"$f":"IF(ISBLANK(Import!E1309),\"\",Import!E1309)","v":""},{"$f":"IF(ISBLANK(Import!E1309),\"\",(IFERROR(VLOOKUP(Import!C1309,Mapping!C:F,1,FALSE),\"HF, à reclasser\")))","v":""},{"$f":"IF(ISBLANK(Import!E1309),\"\",IF(B1306=(LEFT(A1306,3)),(IFERROR(VLOOKUP(Import!B1309,Mapping!D:F,2,FALSE),\"Cpte à créer dans Mapping\")),\"Cpte à reclasser\"))","v":""}]
[{"$f":"IF(ISBLANK(Import!E1310),\"\",Import!E1310)","v":""},{"$f":"IF(ISBLANK(Import!E1310),\"\",(IFERROR(VLOOKUP(Import!C1310,Mapping!C:F,1,FALSE),\"HF, à reclasser\")))","v":""},{"$f":"IF(ISBLANK(Import!E1310),\"\",IF(B1307=(LEFT(A1307,3)),(IFERROR(VLOOKUP(Import!B1310,Mapping!D:F,2,FALSE),\"Cpte à créer dans Mapping\")),\"Cpte à reclasser\"))","v":""}]
[{"$f":"IF(ISBLANK(Import!E1311),\"\",Import!E1311)","v":""},{"$f":"IF(ISBLANK(Import!E1311),\"\",(IFERROR(VLOOKUP(Import!C1311,Mapping!C:F,1,FALSE),\"HF, à reclasser\")))","v":""},{"$f":"IF(ISBLANK(Import!E1311),\"\",IF(B1308=(LEFT(A1308,3)),(IFERROR(VLOOKUP(Import!B1311,Mapping!D:F,2,FALSE),\"Cpte à créer dans Mapping\")),\"Cpte à reclasser\"))","v":""}]
[{"$f":"IF(ISBLANK(Import!E1312),\"\",Import!E1312)","v":""},{"$f":"IF(ISBLANK(Import!E1312),\"\",(IFERROR(VLOOKUP(Import!C1312,Mapping!C:F,1,FALSE),\"HF, à reclasser\")))","v":""},{"$f":"IF(ISBLANK(Import!E1312),\"\",IF(B1309=(LEFT(A1309,3)),(IFERROR(VLOOKUP(Import!B1312,Mapping!D:F,2,FALSE),\"Cpte à créer dans Mapping\")),\"Cpte à reclasser\"))","v":""}]
[{"$f":"IF(ISBLANK(Import!E1313),\"\",Import!E1313)","v":""},{"$f":"IF(ISBLANK(Import!E1313),\"\",(IFERROR(VLOOKUP(Import!C1313,Mapping!C:F,1,FALSE),\"HF, à reclasser\")))","v":""},{"$f":"IF(ISBLANK(Import!E1313),\"\",IF(B1310=(LEFT(A1310,3)),(IFERROR(VLOOKUP(Import!B1313,Mapping!D:F,2,FALSE),\"Cpte à créer dans Mapping\")),\"Cpte à reclasser\"))","v":""}]
[{"$f":"IF(ISBLANK(Import!E1314),\"\",Import!E1314)","v":""},{"$f":"IF(ISBLANK(Import!E1314),\"\",(IFERROR(VLOOKUP(Import!C1314,Mapping!C:F,1,FALSE),\"HF, à reclasser\")))","v":""},{"$f":"IF(ISBLANK(Import!E1314),\"\",IF(B1311=(LEFT(A1311,3)),(IFERROR(VLOOKUP(Import!B1314,Mapping!D:F,2,FALSE),\"Cpte à créer dans Mapping\")),\"Cpte à reclasser\"))","v":""}]
[{"$f":"IF(ISBLANK(Import!E1315),\"\",Import!E1315)","v":""},{"$f":"IF(ISBLANK(Import!E1315),\"\",(IFERROR(VLOOKUP(Import!C1315,Mapping!C:F,1,FALSE),\"HF, à reclasser\")))","v":""},{"$f":"IF(ISBLANK(Import!E1315),\"\",IF(B1312=(LEFT(A1312,3)),(IFERROR(VLOOKUP(Import!B1315,Mapping!D:F,2,FALSE),\"Cpte à créer dans Mapping\")),\"Cpte à reclasser\"))","v":""}]
[{"$f":"IF(ISBLANK(Import!E1316),\"\",Import!E1316)","v":""},{"$f":"IF(ISBLANK(Import!E1316),\"\",(IFERROR(VLOOKUP(Import!C1316,Mapping!C:F,1,FALSE),\"HF, à reclasser\")))","v":""},{"$f":"IF(ISBLANK(Import!E1316),\"\",IF(B1313=(LEFT(A1313,3)),(IFERROR(VLOOKUP(Import!B1316,Mapping!D:F,2,FALSE),\"Cpte à créer dans Mapping\")),\"Cpte à reclasser\"))","v":""}]
[{"$f":"IF(ISBLANK(Import!E1317),\"\",Import!E1317)","v":""},{"$f":"IF(ISBLANK(Import!E1317),\"\",(IFERROR(VLOOKUP(Import!C1317,Mapping!C:F,1,FALSE),\"HF, à reclasser\")))","v":""},{"$f":"IF(ISBLANK(Import!E1317),\"\",IF(B1314=(LEFT(A1314,3)),(IFERROR(VLOOKUP(Import!B1317,Mapping!D:F,2,FALSE),\"Cpte à créer dans Mapping\")),\"Cpte à reclasser\"))","v":""}]
[{"$f":"IF(ISBLANK(Import!E1318),\"\",Import!E1318)","v":""},{"$f":"IF(ISBLANK(Import!E1318),\"\",(IFERROR(VLOOKUP(Import!C1318,Mapping!C:F,1,FALSE),\"HF, à reclasser\")))","v":""},{"$f":"IF(ISBLANK(Import!E1318),\"\",IF(B1315=(LEFT(A1315,3)),(IFERROR(VLOOKUP(Import!B1318,Mapping!D:F,2,FALSE),\"Cpte à créer dans Mapping\")),\"Cpte à reclasser\"))","v":""}]
[{"$f":"IF(ISBLANK(Import!E1319),\"\",Import!E1319)","v":""},{"$f":"IF(ISBLANK(Import!E1319),\"\",(IFERROR(VLOOKUP(Import!C1319,Mapping!C:F,1,FALSE),\"HF, à reclasser\")))","v":""},{"$f":"IF(ISBLANK(Import!E1319),\"\",IF(B1316=(LEFT(A1316,3)),(IFERROR(VLOOKUP(Import!B1319,Mapping!D:F,2,FALSE),\"Cpte à créer dans Mapping\")),\"Cpte à reclasser\"))","v":""}]
[{"$f":"IF(ISBLANK(Import!E1320),\"\",Import!E1320)","v":""},{"$f":"IF(ISBLANK(Import!E1320),\"\",(IFERROR(VLOOKUP(Import!C1320,Mapping!C:F,1,FALSE),\"HF, à reclasser\")))","v":""},{"$f":"IF(ISBLANK(Import!E1320),\"\",IF(B1317=(LEFT(A1317,3)),(IFERROR(VLOOKUP(Import!B1320,Mapping!D:F,2,FALSE),\"Cpte à créer dans Mapping\")),\"Cpte à reclasser\"))","v":""}]
[{"$f":"IF(ISBLANK(Import!E1321),\"\",Import!E1321)","v":""},{"$f":"IF(ISBLANK(Import!E1321),\"\",(IFERROR(VLOOKUP(Import!C1321,Mapping!C:F,1,FALSE),\"HF, à reclasser\")))","v":""},{"$f":"IF(ISBLANK(Import!E1321),\"\",IF(B1318=(LEFT(A1318,3)),(IFERROR(VLOOKUP(Import!B1321,Mapping!D:F,2,FALSE),\"Cpte à créer dans Mapping\")),\"Cpte à reclasser\"))","v":""}]
[{"$f":"IF(ISBLANK(Import!E1322),\"\",Import!E1322)","v":""},{"$f":"IF(ISBLANK(Import!E1322),\"\",(IFERROR(VLOOKUP(Import!C1322,Mapping!C:F,1,FALSE),\"HF, à reclasser\")))","v":""},{"$f":"IF(ISBLANK(Import!E1322),\"\",IF(B1319=(LEFT(A1319,3)),(IFERROR(VLOOKUP(Import!B1322,Mapping!D:F,2,FALSE),\"Cpte à créer dans Mapping\")),\"Cpte à reclasser\"))","v":""}]
[{"$f":"IF(ISBLANK(Import!E1323),\"\",Import!E1323)","v":""},{"$f":"IF(ISBLANK(Import!E1323),\"\",(IFERROR(VLOOKUP(Import!C1323,Mapping!C:F,1,FALSE),\"HF, à reclasser\")))","v":""},{"$f":"IF(ISBLANK(Import!E1323),\"\",IF(B1320=(LEFT(A1320,3)),(IFERROR(VLOOKUP(Import!B1323,Mapping!D:F,2,FALSE),\"Cpte à créer dans Mapping\")),\"Cpte à reclasser\"))","v":""}]
[{"$f":"IF(ISBLANK(Import!E1324),\"\",Import!E1324)","v":""},{"$f":"IF(ISBLANK(Import!E1324),\"\",(IFERROR(VLOOKUP(Import!C1324,Mapping!C:F,1,FALSE),\"HF, à reclasser\")))","v":""},{"$f":"IF(ISBLANK(Import!E1324),\"\",IF(B1321=(LEFT(A1321,3)),(IFERROR(VLOOKUP(Import!B1324,Mapping!D:F,2,FALSE),\"Cpte à créer dans Mapping\")),\"Cpte à reclasser\"))","v":""}]
[{"$f":"IF(ISBLANK(Import!E1325),\"\",Import!E1325)","v":""},{"$f":"IF(ISBLANK(Import!E1325),\"\",(IFERROR(VLOOKUP(Import!C1325,Mapping!C:F,1,FALSE),\"HF, à reclasser\")))","v":""},{"$f":"IF(ISBLANK(Import!E1325),\"\",IF(B1322=(LEFT(A1322,3)),(IFERROR(VLOOKUP(Import!B1325,Mapping!D:F,2,FALSE),\"Cpte à créer dans Mapping\")),\"Cpte à reclasser\"))","v":""}]
[{"$f":"IF(ISBLANK(Import!E1326),\"\",Import!E1326)","v":""},{"$f":"IF(ISBLANK(Import!E1326),\"\",(IFERROR(VLOOKUP(Import!C1326,Mapping!C:F,1,FALSE),\"HF, à reclasser\")))","v":""},{"$f":"IF(ISBLANK(Import!E1326),\"\",IF(B1323=(LEFT(A1323,3)),(IFERROR(VLOOKUP(Import!B1326,Mapping!D:F,2,FALSE),\"Cpte à créer dans Mapping\")),\"Cpte à reclasser\"))","v":""}]
[{"$f":"IF(ISBLANK(Import!E1327),\"\",Import!E1327)","v":""},{"$f":"IF(ISBLANK(Import!E1327),\"\",(IFERROR(VLOOKUP(Import!C1327,Mapping!C:F,1,FALSE),\"HF, à reclasser\")))","v":""},{"$f":"IF(ISBLANK(Import!E1327),\"\",IF(B1324=(LEFT(A1324,3)),(IFERROR(VLOOKUP(Import!B1327,Mapping!D:F,2,FALSE),\"Cpte à créer dans Mapping\")),\"Cpte à reclasser\"))","v":""}]
[{"$f":"IF(ISBLANK(Import!E1328),\"\",Import!E1328)","v":""},{"$f":"IF(ISBLANK(Import!E1328),\"\",(IFERROR(VLOOKUP(Import!C1328,Mapping!C:F,1,FALSE),\"HF, à reclasser\")))","v":""},{"$f":"IF(ISBLANK(Import!E1328),\"\",IF(B1325=(LEFT(A1325,3)),(IFERROR(VLOOKUP(Import!B1328,Mapping!D:F,2,FALSE),\"Cpte à créer dans Mapping\")),\"Cpte à reclasser\"))","v":""}]
[{"$f":"IF(ISBLANK(Import!E1329),\"\",Import!E1329)","v":""},{"$f":"IF(ISBLANK(Import!E1329),\"\",(IFERROR(VLOOKUP(Import!C1329,Mapping!C:F,1,FALSE),\"HF, à reclasser\")))","v":""},{"$f":"IF(ISBLANK(Import!E1329),\"\",IF(B1326=(LEFT(A1326,3)),(IFERROR(VLOOKUP(Import!B1329,Mapping!D:F,2,FALSE),\"Cpte à créer dans Mapping\")),\"Cpte à reclasser\"))","v":""}]
[{"$f":"IF(ISBLANK(Import!E1330),\"\",Import!E1330)","v":""},{"$f":"IF(ISBLANK(Import!E1330),\"\",(IFERROR(VLOOKUP(Import!C1330,Mapping!C:F,1,FALSE),\"HF, à reclasser\")))","v":""},{"$f":"IF(ISBLANK(Import!E1330),\"\",IF(B1327=(LEFT(A1327,3)),(IFERROR(VLOOKUP(Import!B1330,Mapping!D:F,2,FALSE),\"Cpte à créer dans Mapping\")),\"Cpte à reclasser\"))","v":""}]
[{"$f":"IF(ISBLANK(Import!E1331),\"\",Import!E1331)","v":""},{"$f":"IF(ISBLANK(Import!E1331),\"\",(IFERROR(VLOOKUP(Import!C1331,Mapping!C:F,1,FALSE),\"HF, à reclasser\")))","v":""},{"$f":"IF(ISBLANK(Import!E1331),\"\",IF(B1328=(LEFT(A1328,3)),(IFERROR(VLOOKUP(Import!B1331,Mapping!D:F,2,FALSE),\"Cpte à créer dans Mapping\")),\"Cpte à reclasser\"))","v":""}]
[{"$f":"IF(ISBLANK(Import!E1332),\"\",Import!E1332)","v":""},{"$f":"IF(ISBLANK(Import!E1332),\"\",(IFERROR(VLOOKUP(Import!C1332,Mapping!C:F,1,FALSE),\"HF, à reclasser\")))","v":""},{"$f":"IF(ISBLANK(Import!E1332),\"\",IF(B1329=(LEFT(A1329,3)),(IFERROR(VLOOKUP(Import!B1332,Mapping!D:F,2,FALSE),\"Cpte à créer dans Mapping\")),\"Cpte à reclasser\"))","v":""}]
[{"$f":"IF(ISBLANK(Import!E1333),\"\",Import!E1333)","v":""},{"$f":"IF(ISBLANK(Import!E1333),\"\",(IFERROR(VLOOKUP(Import!C1333,Mapping!C:F,1,FALSE),\"HF, à reclasser\")))","v":""},{"$f":"IF(ISBLANK(Import!E1333),\"\",IF(B1330=(LEFT(A1330,3)),(IFERROR(VLOOKUP(Import!B1333,Mapping!D:F,2,FALSE),\"Cpte à créer dans Mapping\")),\"Cpte à reclasser\"))","v":""}]
[{"$f":"IF(ISBLANK(Import!E1334),\"\",Import!E1334)","v":""},{"$f":"IF(ISBLANK(Import!E1334),\"\",(IFERROR(VLOOKUP(Import!C1334,Mapping!C:F,1,FALSE),\"HF, à reclasser\")))","v":""},{"$f":"IF(ISBLANK(Import!E1334),\"\",IF(B1331=(LEFT(A1331,3)),(IFERROR(VLOOKUP(Import!B1334,Mapping!D:F,2,FALSE),\"Cpte à créer dans Mapping\")),\"Cpte à reclasser\"))","v":""}]
[{"$f":"IF(ISBLANK(Import!E1335),\"\",Import!E1335)","v":""},{"$f":"IF(ISBLANK(Import!E1335),\"\",(IFERROR(VLOOKUP(Import!C1335,Mapping!C:F,1,FALSE),\"HF, à reclasser\")))","v":""},{"$f":"IF(ISBLANK(Import!E1335),\"\",IF(B1332=(LEFT(A1332,3)),(IFERROR(VLOOKUP(Import!B1335,Mapping!D:F,2,FALSE),\"Cpte à créer dans Mapping\")),\"Cpte à reclasser\"))","v":""}]
[{"$f":"IF(ISBLANK(Import!E1336),\"\",Import!E1336)","v":""},{"$f":"IF(ISBLANK(Import!E1336),\"\",(IFERROR(VLOOKUP(Import!C1336,Mapping!C:F,1,FALSE),\"HF, à reclasser\")))","v":""},{"$f":"IF(ISBLANK(Import!E1336),\"\",IF(B1333=(LEFT(A1333,3)),(IFERROR(VLOOKUP(Import!B1336,Mapping!D:F,2,FALSE),\"Cpte à créer dans Mapping\")),\"Cpte à reclasser\"))","v":""}]
[{"$f":"IF(ISBLANK(Import!E1337),\"\",Import!E1337)","v":""},{"$f":"IF(ISBLANK(Import!E1337),\"\",(IFERROR(VLOOKUP(Import!C1337,Mapping!C:F,1,FALSE),\"HF, à reclasser\")))","v":""},{"$f":"IF(ISBLANK(Import!E1337),\"\",IF(B1334=(LEFT(A1334,3)),(IFERROR(VLOOKUP(Import!B1337,Mapping!D:F,2,FALSE),\"Cpte à créer dans Mapping\")),\"Cpte à reclasser\"))","v":""}]
[{"$f":"IF(ISBLANK(Import!E1338),\"\",Import!E1338)","v":""},{"$f":"IF(ISBLANK(Import!E1338),\"\",(IFERROR(VLOOKUP(Import!C1338,Mapping!C:F,1,FALSE),\"HF, à reclasser\")))","v":""},{"$f":"IF(ISBLANK(Import!E1338),\"\",IF(B1335=(LEFT(A1335,3)),(IFERROR(VLOOKUP(Import!B1338,Mapping!D:F,2,FALSE),\"Cpte à créer dans Mapping\")),\"Cpte à reclasser\"))","v":""}]
[{"$f":"IF(ISBLANK(Import!E1339),\"\",Import!E1339)","v":""},{"$f":"IF(ISBLANK(Import!E1339),\"\",(IFERROR(VLOOKUP(Import!C1339,Mapping!C:F,1,FALSE),\"HF, à reclasser\")))","v":""},{"$f":"IF(ISBLANK(Import!E1339),\"\",IF(B1336=(LEFT(A1336,3)),(IFERROR(VLOOKUP(Import!B1339,Mapping!D:F,2,FALSE),\"Cpte à créer dans Mapping\")),\"Cpte à reclasser\"))","v":""}]
[{"$f":"IF(ISBLANK(Import!E1340),\"\",Import!E1340)","v":""},{"$f":"IF(ISBLANK(Import!E1340),\"\",(IFERROR(VLOOKUP(Import!C1340,Mapping!C:F,1,FALSE),\"HF, à reclasser\")))","v":""},{"$f":"IF(ISBLANK(Import!E1340),\"\",IF(B1337=(LEFT(A1337,3)),(IFERROR(VLOOKUP(Import!B1340,Mapping!D:F,2,FALSE),\"Cpte à créer dans Mapping\")),\"Cpte à reclasser\"))","v":""}]
[{"$f":"IF(ISBLANK(Import!E1341),\"\",Import!E1341)","v":""},{"$f":"IF(ISBLANK(Import!E1341),\"\",(IFERROR(VLOOKUP(Import!C1341,Mapping!C:F,1,FALSE),\"HF, à reclasser\")))","v":""},{"$f":"IF(ISBLANK(Import!E1341),\"\",IF(B1338=(LEFT(A1338,3)),(IFERROR(VLOOKUP(Import!B1341,Mapping!D:F,2,FALSE),\"Cpte à créer dans Mapping\")),\"Cpte à reclasser\"))","v":""}]
[{"$f":"IF(ISBLANK(Import!E1342),\"\",Import!E1342)","v":""},{"$f":"IF(ISBLANK(Import!E1342),\"\",(IFERROR(VLOOKUP(Import!C1342,Mapping!C:F,1,FALSE),\"HF, à reclasser\")))","v":""},{"$f":"IF(ISBLANK(Import!E1342),\"\",IF(B1339=(LEFT(A1339,3)),(IFERROR(VLOOKUP(Import!B1342,Mapping!D:F,2,FALSE),\"Cpte à créer dans Mapping\")),\"Cpte à reclasser\"))","v":""}]
[{"$f":"IF(ISBLANK(Import!E1343),\"\",Import!E1343)","v":""},{"$f":"IF(ISBLANK(Import!E1343),\"\",(IFERROR(VLOOKUP(Import!C1343,Mapping!C:F,1,FALSE),\"HF, à reclasser\")))","v":""},{"$f":"IF(ISBLANK(Import!E1343),\"\",IF(B1340=(LEFT(A1340,3)),(IFERROR(VLOOKUP(Import!B1343,Mapping!D:F,2,FALSE),\"Cpte à créer dans Mapping\")),\"Cpte à reclasser\"))","v":""}]
[{"$f":"IF(ISBLANK(Import!E1344),\"\",Import!E1344)","v":""},{"$f":"IF(ISBLANK(Import!E1344),\"\",(IFERROR(VLOOKUP(Import!C1344,Mapping!C:F,1,FALSE),\"HF, à reclasser\")))","v":""},{"$f":"IF(ISBLANK(Import!E1344),\"\",IF(B1341=(LEFT(A1341,3)),(IFERROR(VLOOKUP(Import!B1344,Mapping!D:F,2,FALSE),\"Cpte à créer dans Mapping\")),\"Cpte à reclasser\"))","v":""}]
[{"$f":"IF(ISBLANK(Import!E1345),\"\",Import!E1345)","v":""},{"$f":"IF(ISBLANK(Import!E1345),\"\",(IFERROR(VLOOKUP(Import!C1345,Mapping!C:F,1,FALSE),\"HF, à reclasser\")))","v":""},{"$f":"IF(ISBLANK(Import!E1345),\"\",IF(B1342=(LEFT(A1342,3)),(IFERROR(VLOOKUP(Import!B1345,Mapping!D:F,2,FALSE),\"Cpte à créer dans Mapping\")),\"Cpte à reclasser\"))","v":""}]
[{"$f":"IF(ISBLANK(Import!E1346),\"\",Import!E1346)","v":""},{"$f":"IF(ISBLANK(Import!E1346),\"\",(IFERROR(VLOOKUP(Import!C1346,Mapping!C:F,1,FALSE),\"HF, à reclasser\")))","v":""},{"$f":"IF(ISBLANK(Import!E1346),\"\",IF(B1343=(LEFT(A1343,3)),(IFERROR(VLOOKUP(Import!B1346,Mapping!D:F,2,FALSE),\"Cpte à créer dans Mapping\")),\"Cpte à reclasser\"))","v":""}]
[{"$f":"IF(ISBLANK(Import!E1347),\"\",Import!E1347)","v":""},{"$f":"IF(ISBLANK(Import!E1347),\"\",(IFERROR(VLOOKUP(Import!C1347,Mapping!C:F,1,FALSE),\"HF, à reclasser\")))","v":""},{"$f":"IF(ISBLANK(Import!E1347),\"\",IF(B1344=(LEFT(A1344,3)),(IFERROR(VLOOKUP(Import!B1347,Mapping!D:F,2,FALSE),\"Cpte à créer dans Mapping\")),\"Cpte à reclasser\"))","v":""}]
[{"$f":"IF(ISBLANK(Import!E1348),\"\",Import!E1348)","v":""},{"$f":"IF(ISBLANK(Import!E1348),\"\",(IFERROR(VLOOKUP(Import!C1348,Mapping!C:F,1,FALSE),\"HF, à reclasser\")))","v":""},{"$f":"IF(ISBLANK(Import!E1348),\"\",IF(B1345=(LEFT(A1345,3)),(IFERROR(VLOOKUP(Import!B1348,Mapping!D:F,2,FALSE),\"Cpte à créer dans Mapping\")),\"Cpte à reclasser\"))","v":""}]
[{"$f":"IF(ISBLANK(Import!E1349),\"\",Import!E1349)","v":""},{"$f":"IF(ISBLANK(Import!E1349),\"\",(IFERROR(VLOOKUP(Import!C1349,Mapping!C:F,1,FALSE),\"HF, à reclasser\")))","v":""},{"$f":"IF(ISBLANK(Import!E1349),\"\",IF(B1346=(LEFT(A1346,3)),(IFERROR(VLOOKUP(Import!B1349,Mapping!D:F,2,FALSE),\"Cpte à créer dans Mapping\")),\"Cpte à reclasser\"))","v":""}]
[{"$f":"IF(ISBLANK(Import!E1350),\"\",Import!E1350)","v":""},{"$f":"IF(ISBLANK(Import!E1350),\"\",(IFERROR(VLOOKUP(Import!C1350,Mapping!C:F,1,FALSE),\"HF, à reclasser\")))","v":""},{"$f":"IF(ISBLANK(Import!E1350),\"\",IF(B1347=(LEFT(A1347,3)),(IFERROR(VLOOKUP(Import!B1350,Mapping!D:F,2,FALSE),\"Cpte à créer dans Mapping\")),\"Cpte à reclasser\"))","v":""}]
[{"$f":"IF(ISBLANK(Import!E1351),\"\",Import!E1351)","v":""},{"$f":"IF(ISBLANK(Import!E1351),\"\",(IFERROR(VLOOKUP(Import!C1351,Mapping!C:F,1,FALSE),\"HF, à reclasser\")))","v":""},{"$f":"IF(ISBLANK(Import!E1351),\"\",IF(B1348=(LEFT(A1348,3)),(IFERROR(VLOOKUP(Import!B1351,Mapping!D:F,2,FALSE),\"Cpte à créer dans Mapping\")),\"Cpte à reclasser\"))","v":""}]
[{"$f":"IF(ISBLANK(Import!E1352),\"\",Import!E1352)","v":""},{"$f":"IF(ISBLANK(Import!E1352),\"\",(IFERROR(VLOOKUP(Import!C1352,Mapping!C:F,1,FALSE),\"HF, à reclasser\")))","v":""},{"$f":"IF(ISBLANK(Import!E1352),\"\",IF(B1349=(LEFT(A1349,3)),(IFERROR(VLOOKUP(Import!B1352,Mapping!D:F,2,FALSE),\"Cpte à créer dans Mapping\")),\"Cpte à reclasser\"))","v":""}]
[{"$f":"IF(ISBLANK(Import!E1353),\"\",Import!E1353)","v":""},{"$f":"IF(ISBLANK(Import!E1353),\"\",(IFERROR(VLOOKUP(Import!C1353,Mapping!C:F,1,FALSE),\"HF, à reclasser\")))","v":""},{"$f":"IF(ISBLANK(Import!E1353),\"\",IF(B1350=(LEFT(A1350,3)),(IFERROR(VLOOKUP(Import!B1353,Mapping!D:F,2,FALSE),\"Cpte à créer dans Mapping\")),\"Cpte à reclasser\"))","v":""}]
[{"$f":"IF(ISBLANK(Import!E1354),\"\",Import!E1354)","v":""},{"$f":"IF(ISBLANK(Import!E1354),\"\",(IFERROR(VLOOKUP(Import!C1354,Mapping!C:F,1,FALSE),\"HF, à reclasser\")))","v":""},{"$f":"IF(ISBLANK(Import!E1354),\"\",IF(B1351=(LEFT(A1351,3)),(IFERROR(VLOOKUP(Import!B1354,Mapping!D:F,2,FALSE),\"Cpte à créer dans Mapping\")),\"Cpte à reclasser\"))","v":""}]
[{"$f":"IF(ISBLANK(Import!E1355),\"\",Import!E1355)","v":""},{"$f":"IF(ISBLANK(Import!E1355),\"\",(IFERROR(VLOOKUP(Import!C1355,Mapping!C:F,1,FALSE),\"HF, à reclasser\")))","v":""},{"$f":"IF(ISBLANK(Import!E1355),\"\",IF(B1352=(LEFT(A1352,3)),(IFERROR(VLOOKUP(Import!B1355,Mapping!D:F,2,FALSE),\"Cpte à créer dans Mapping\")),\"Cpte à reclasser\"))","v":""}]
[{"$f":"IF(ISBLANK(Import!E1356),\"\",Import!E1356)","v":""},{"$f":"IF(ISBLANK(Import!E1356),\"\",(IFERROR(VLOOKUP(Import!C1356,Mapping!C:F,1,FALSE),\"HF, à reclasser\")))","v":""},{"$f":"IF(ISBLANK(Import!E1356),\"\",IF(B1353=(LEFT(A1353,3)),(IFERROR(VLOOKUP(Import!B1356,Mapping!D:F,2,FALSE),\"Cpte à créer dans Mapping\")),\"Cpte à reclasser\"))","v":""}]
[{"$f":"IF(ISBLANK(Import!E1357),\"\",Import!E1357)","v":""},{"$f":"IF(ISBLANK(Import!E1357),\"\",(IFERROR(VLOOKUP(Import!C1357,Mapping!C:F,1,FALSE),\"HF, à reclasser\")))","v":""},{"$f":"IF(ISBLANK(Import!E1357),\"\",IF(B1354=(LEFT(A1354,3)),(IFERROR(VLOOKUP(Import!B1357,Mapping!D:F,2,FALSE),\"Cpte à créer dans Mapping\")),\"Cpte à reclasser\"))","v":""}]
[{"$f":"IF(ISBLANK(Import!E1358),\"\",Import!E1358)","v":""},{"$f":"IF(ISBLANK(Import!E1358),\"\",(IFERROR(VLOOKUP(Import!C1358,Mapping!C:F,1,FALSE),\"HF, à reclasser\")))","v":""},{"$f":"IF(ISBLANK(Import!E1358),\"\",IF(B1355=(LEFT(A1355,3)),(IFERROR(VLOOKUP(Import!B1358,Mapping!D:F,2,FALSE),\"Cpte à créer dans Mapping\")),\"Cpte à reclasser\"))","v":""}]
[{"$f":"IF(ISBLANK(Import!E1359),\"\",Import!E1359)","v":""},{"$f":"IF(ISBLANK(Import!E1359),\"\",(IFERROR(VLOOKUP(Import!C1359,Mapping!C:F,1,FALSE),\"HF, à reclasser\")))","v":""},{"$f":"IF(ISBLANK(Import!E1359),\"\",IF(B1356=(LEFT(A1356,3)),(IFERROR(VLOOKUP(Import!B1359,Mapping!D:F,2,FALSE),\"Cpte à créer dans Mapping\")),\"Cpte à reclasser\"))","v":""}]
[{"$f":"IF(ISBLANK(Import!E1360),\"\",Import!E1360)","v":""},{"$f":"IF(ISBLANK(Import!E1360),\"\",(IFERROR(VLOOKUP(Import!C1360,Mapping!C:F,1,FALSE),\"HF, à reclasser\")))","v":""},{"$f":"IF(ISBLANK(Import!E1360),\"\",IF(B1357=(LEFT(A1357,3)),(IFERROR(VLOOKUP(Import!B1360,Mapping!D:F,2,FALSE),\"Cpte à créer dans Mapping\")),\"Cpte à reclasser\"))","v":""}]
[{"$f":"IF(ISBLANK(Import!E1361),\"\",Import!E1361)","v":""},{"$f":"IF(ISBLANK(Import!E1361),\"\",(IFERROR(VLOOKUP(Import!C1361,Mapping!C:F,1,FALSE),\"HF, à reclasser\")))","v":""},{"$f":"IF(ISBLANK(Import!E1361),\"\",IF(B1358=(LEFT(A1358,3)),(IFERROR(VLOOKUP(Import!B1361,Mapping!D:F,2,FALSE),\"Cpte à créer dans Mapping\")),\"Cpte à reclasser\"))","v":""}]
[{"$f":"IF(ISBLANK(Import!E1362),\"\",Import!E1362)","v":""},{"$f":"IF(ISBLANK(Import!E1362),\"\",(IFERROR(VLOOKUP(Import!C1362,Mapping!C:F,1,FALSE),\"HF, à reclasser\")))","v":""},{"$f":"IF(ISBLANK(Import!E1362),\"\",IF(B1359=(LEFT(A1359,3)),(IFERROR(VLOOKUP(Import!B1362,Mapping!D:F,2,FALSE),\"Cpte à créer dans Mapping\")),\"Cpte à reclasser\"))","v":""}]
[{"$f":"IF(ISBLANK(Import!E1363),\"\",Import!E1363)","v":""},{"$f":"IF(ISBLANK(Import!E1363),\"\",(IFERROR(VLOOKUP(Import!C1363,Mapping!C:F,1,FALSE),\"HF, à reclasser\")))","v":""},{"$f":"IF(ISBLANK(Import!E1363),\"\",IF(B1360=(LEFT(A1360,3)),(IFERROR(VLOOKUP(Import!B1363,Mapping!D:F,2,FALSE),\"Cpte à créer dans Mapping\")),\"Cpte à reclasser\"))","v":""}]
[{"$f":"IF(ISBLANK(Import!E1364),\"\",Import!E1364)","v":""},{"$f":"IF(ISBLANK(Import!E1364),\"\",(IFERROR(VLOOKUP(Import!C1364,Mapping!C:F,1,FALSE),\"HF, à reclasser\")))","v":""},{"$f":"IF(ISBLANK(Import!E1364),\"\",IF(B1361=(LEFT(A1361,3)),(IFERROR(VLOOKUP(Import!B1364,Mapping!D:F,2,FALSE),\"Cpte à créer dans Mapping\")),\"Cpte à reclasser\"))","v":""}]
[{"$f":"IF(ISBLANK(Import!E1365),\"\",Import!E1365)","v":""},{"$f":"IF(ISBLANK(Import!E1365),\"\",(IFERROR(VLOOKUP(Import!C1365,Mapping!C:F,1,FALSE),\"HF, à reclasser\")))","v":""},{"$f":"IF(ISBLANK(Import!E1365),\"\",IF(B1362=(LEFT(A1362,3)),(IFERROR(VLOOKUP(Import!B1365,Mapping!D:F,2,FALSE),\"Cpte à créer dans Mapping\")),\"Cpte à reclasser\"))","v":""}]
[{"$f":"IF(ISBLANK(Import!E1366),\"\",Import!E1366)","v":""},{"$f":"IF(ISBLANK(Import!E1366),\"\",(IFERROR(VLOOKUP(Import!C1366,Mapping!C:F,1,FALSE),\"HF, à reclasser\")))","v":""},{"$f":"IF(ISBLANK(Import!E1366),\"\",IF(B1363=(LEFT(A1363,3)),(IFERROR(VLOOKUP(Import!B1366,Mapping!D:F,2,FALSE),\"Cpte à créer dans Mapping\")),\"Cpte à reclasser\"))","v":""}]
[{"$f":"IF(ISBLANK(Import!E1367),\"\",Import!E1367)","v":""},{"$f":"IF(ISBLANK(Import!E1367),\"\",(IFERROR(VLOOKUP(Import!C1367,Mapping!C:F,1,FALSE),\"HF, à reclasser\")))","v":""},{"$f":"IF(ISBLANK(Import!E1367),\"\",IF(B1364=(LEFT(A1364,3)),(IFERROR(VLOOKUP(Import!B1367,Mapping!D:F,2,FALSE),\"Cpte à créer dans Mapping\")),\"Cpte à reclasser\"))","v":""}]
[{"$f":"IF(ISBLANK(Import!E1368),\"\",Import!E1368)","v":""},{"$f":"IF(ISBLANK(Import!E1368),\"\",(IFERROR(VLOOKUP(Import!C1368,Mapping!C:F,1,FALSE),\"HF, à reclasser\")))","v":""},{"$f":"IF(ISBLANK(Import!E1368),\"\",IF(B1365=(LEFT(A1365,3)),(IFERROR(VLOOKUP(Import!B1368,Mapping!D:F,2,FALSE),\"Cpte à créer dans Mapping\")),\"Cpte à reclasser\"))","v":""}]
[{"$f":"IF(ISBLANK(Import!E1369),\"\",Import!E1369)","v":""},{"$f":"IF(ISBLANK(Import!E1369),\"\",(IFERROR(VLOOKUP(Import!C1369,Mapping!C:F,1,FALSE),\"HF, à reclasser\")))","v":""},{"$f":"IF(ISBLANK(Import!E1369),\"\",IF(B1366=(LEFT(A1366,3)),(IFERROR(VLOOKUP(Import!B1369,Mapping!D:F,2,FALSE),\"Cpte à créer dans Mapping\")),\"Cpte à reclasser\"))","v":""}]
[{"$f":"IF(ISBLANK(Import!E1370),\"\",Import!E1370)","v":""},{"$f":"IF(ISBLANK(Import!E1370),\"\",(IFERROR(VLOOKUP(Import!C1370,Mapping!C:F,1,FALSE),\"HF, à reclasser\")))","v":""},{"$f":"IF(ISBLANK(Import!E1370),\"\",IF(B1367=(LEFT(A1367,3)),(IFERROR(VLOOKUP(Import!B1370,Mapping!D:F,2,FALSE),\"Cpte à créer dans Mapping\")),\"Cpte à reclasser\"))","v":""}]
[{"$f":"IF(ISBLANK(Import!E1371),\"\",Import!E1371)","v":""},{"$f":"IF(ISBLANK(Import!E1371),\"\",(IFERROR(VLOOKUP(Import!C1371,Mapping!C:F,1,FALSE),\"HF, à reclasser\")))","v":""},{"$f":"IF(ISBLANK(Import!E1371),\"\",IF(B1368=(LEFT(A1368,3)),(IFERROR(VLOOKUP(Import!B1371,Mapping!D:F,2,FALSE),\"Cpte à créer dans Mapping\")),\"Cpte à reclasser\"))","v":""}]
[{"$f":"IF(ISBLANK(Import!E1372),\"\",Import!E1372)","v":""},{"$f":"IF(ISBLANK(Import!E1372),\"\",(IFERROR(VLOOKUP(Import!C1372,Mapping!C:F,1,FALSE),\"HF, à reclasser\")))","v":""},{"$f":"IF(ISBLANK(Import!E1372),\"\",IF(B1369=(LEFT(A1369,3)),(IFERROR(VLOOKUP(Import!B1372,Mapping!D:F,2,FALSE),\"Cpte à créer dans Mapping\")),\"Cpte à reclasser\"))","v":""}]
[{"$f":"IF(ISBLANK(Import!E1373),\"\",Import!E1373)","v":""},{"$f":"IF(ISBLANK(Import!E1373),\"\",(IFERROR(VLOOKUP(Import!C1373,Mapping!C:F,1,FALSE),\"HF, à reclasser\")))","v":""},{"$f":"IF(ISBLANK(Import!E1373),\"\",IF(B1370=(LEFT(A1370,3)),(IFERROR(VLOOKUP(Import!B1373,Mapping!D:F,2,FALSE),\"Cpte à créer dans Mapping\")),\"Cpte à reclasser\"))","v":""}]
[{"$f":"IF(ISBLANK(Import!E1374),\"\",Import!E1374)","v":""},{"$f":"IF(ISBLANK(Import!E1374),\"\",(IFERROR(VLOOKUP(Import!C1374,Mapping!C:F,1,FALSE),\"HF, à reclasser\")))","v":""},{"$f":"IF(ISBLANK(Import!E1374),\"\",IF(B1371=(LEFT(A1371,3)),(IFERROR(VLOOKUP(Import!B1374,Mapping!D:F,2,FALSE),\"Cpte à créer dans Mapping\")),\"Cpte à reclasser\"))","v":""}]
[{"$f":"IF(ISBLANK(Import!E1375),\"\",Import!E1375)","v":""},{"$f":"IF(ISBLANK(Import!E1375),\"\",(IFERROR(VLOOKUP(Import!C1375,Mapping!C:F,1,FALSE),\"HF, à reclasser\")))","v":""},{"$f":"IF(ISBLANK(Import!E1375),\"\",IF(B1372=(LEFT(A1372,3)),(IFERROR(VLOOKUP(Import!B1375,Mapping!D:F,2,FALSE),\"Cpte à créer dans Mapping\")),\"Cpte à reclasser\"))","v":""}]
[{"$f":"IF(ISBLANK(Import!E1376),\"\",Import!E1376)","v":""},{"$f":"IF(ISBLANK(Import!E1376),\"\",(IFERROR(VLOOKUP(Import!C1376,Mapping!C:F,1,FALSE),\"HF, à reclasser\")))","v":""},{"$f":"IF(ISBLANK(Import!E1376),\"\",IF(B1373=(LEFT(A1373,3)),(IFERROR(VLOOKUP(Import!B1376,Mapping!D:F,2,FALSE),\"Cpte à créer dans Mapping\")),\"Cpte à reclasser\"))","v":""}]
[{"$f":"IF(ISBLANK(Import!E1377),\"\",Import!E1377)","v":""},{"$f":"IF(ISBLANK(Import!E1377),\"\",(IFERROR(VLOOKUP(Import!C1377,Mapping!C:F,1,FALSE),\"HF, à reclasser\")))","v":""},{"$f":"IF(ISBLANK(Import!E1377),\"\",IF(B1374=(LEFT(A1374,3)),(IFERROR(VLOOKUP(Import!B1377,Mapping!D:F,2,FALSE),\"Cpte à créer dans Mapping\")),\"Cpte à reclasser\"))","v":""}]
[{"$f":"IF(ISBLANK(Import!E1378),\"\",Import!E1378)","v":""},{"$f":"IF(ISBLANK(Import!E1378),\"\",(IFERROR(VLOOKUP(Import!C1378,Mapping!C:F,1,FALSE),\"HF, à reclasser\")))","v":""},{"$f":"IF(ISBLANK(Import!E1378),\"\",IF(B1375=(LEFT(A1375,3)),(IFERROR(VLOOKUP(Import!B1378,Mapping!D:F,2,FALSE),\"Cpte à créer dans Mapping\")),\"Cpte à reclasser\"))","v":""}]
[{"$f":"IF(ISBLANK(Import!E1379),\"\",Import!E1379)","v":""},{"$f":"IF(ISBLANK(Import!E1379),\"\",(IFERROR(VLOOKUP(Import!C1379,Mapping!C:F,1,FALSE),\"HF, à reclasser\")))","v":""},{"$f":"IF(ISBLANK(Import!E1379),\"\",IF(B1376=(LEFT(A1376,3)),(IFERROR(VLOOKUP(Import!B1379,Mapping!D:F,2,FALSE),\"Cpte à créer dans Mapping\")),\"Cpte à reclasser\"))","v":""}]
[{"$f":"IF(ISBLANK(Import!E1380),\"\",Import!E1380)","v":""},{"$f":"IF(ISBLANK(Import!E1380),\"\",(IFERROR(VLOOKUP(Import!C1380,Mapping!C:F,1,FALSE),\"HF, à reclasser\")))","v":""},{"$f":"IF(ISBLANK(Import!E1380),\"\",IF(B1377=(LEFT(A1377,3)),(IFERROR(VLOOKUP(Import!B1380,Mapping!D:F,2,FALSE),\"Cpte à créer dans Mapping\")),\"Cpte à reclasser\"))","v":""}]
[{"$f":"IF(ISBLANK(Import!E1381),\"\",Import!E1381)","v":""},{"$f":"IF(ISBLANK(Import!E1381),\"\",(IFERROR(VLOOKUP(Import!C1381,Mapping!C:F,1,FALSE),\"HF, à reclasser\")))","v":""},{"$f":"IF(ISBLANK(Import!E1381),\"\",IF(B1378=(LEFT(A1378,3)),(IFERROR(VLOOKUP(Import!B1381,Mapping!D:F,2,FALSE),\"Cpte à créer dans Mapping\")),\"Cpte à reclasser\"))","v":""}]
[{"$f":"IF(ISBLANK(Import!E1382),\"\",Import!E1382)","v":""},{"$f":"IF(ISBLANK(Import!E1382),\"\",(IFERROR(VLOOKUP(Import!C1382,Mapping!C:F,1,FALSE),\"HF, à reclasser\")))","v":""},{"$f":"IF(ISBLANK(Import!E1382),\"\",IF(B1379=(LEFT(A1379,3)),(IFERROR(VLOOKUP(Import!B1382,Mapping!D:F,2,FALSE),\"Cpte à créer dans Mapping\")),\"Cpte à reclasser\"))","v":""}]
[{"$f":"IF(ISBLANK(Import!E1383),\"\",Import!E1383)","v":""},{"$f":"IF(ISBLANK(Import!E1383),\"\",(IFERROR(VLOOKUP(Import!C1383,Mapping!C:F,1,FALSE),\"HF, à reclasser\")))","v":""},{"$f":"IF(ISBLANK(Import!E1383),\"\",IF(B1380=(LEFT(A1380,3)),(IFERROR(VLOOKUP(Import!B1383,Mapping!D:F,2,FALSE),\"Cpte à créer dans Mapping\")),\"Cpte à reclasser\"))","v":""}]
[{"$f":"IF(ISBLANK(Import!E1384),\"\",Import!E1384)","v":""},{"$f":"IF(ISBLANK(Import!E1384),\"\",(IFERROR(VLOOKUP(Import!C1384,Mapping!C:F,1,FALSE),\"HF, à reclasser\")))","v":""},{"$f":"IF(ISBLANK(Import!E1384),\"\",IF(B1381=(LEFT(A1381,3)),(IFERROR(VLOOKUP(Import!B1384,Mapping!D:F,2,FALSE),\"Cpte à créer dans Mapping\")),\"Cpte à reclasser\"))","v":""}]
[{"$f":"IF(ISBLANK(Import!E1385),\"\",Import!E1385)","v":""},{"$f":"IF(ISBLANK(Import!E1385),\"\",(IFERROR(VLOOKUP(Import!C1385,Mapping!C:F,1,FALSE),\"HF, à reclasser\")))","v":""},{"$f":"IF(ISBLANK(Import!E1385),\"\",IF(B1382=(LEFT(A1382,3)),(IFERROR(VLOOKUP(Import!B1385,Mapping!D:F,2,FALSE),\"Cpte à créer dans Mapping\")),\"Cpte à reclasser\"))","v":""}]
[{"$f":"IF(ISBLANK(Import!E1386),\"\",Import!E1386)","v":""},{"$f":"IF(ISBLANK(Import!E1386),\"\",(IFERROR(VLOOKUP(Import!C1386,Mapping!C:F,1,FALSE),\"HF, à reclasser\")))","v":""},{"$f":"IF(ISBLANK(Import!E1386),\"\",IF(B1383=(LEFT(A1383,3)),(IFERROR(VLOOKUP(Import!B1386,Mapping!D:F,2,FALSE),\"Cpte à créer dans Mapping\")),\"Cpte à reclasser\"))","v":""}]
[{"$f":"IF(ISBLANK(Import!E1387),\"\",Import!E1387)","v":""},{"$f":"IF(ISBLANK(Import!E1387),\"\",(IFERROR(VLOOKUP(Import!C1387,Mapping!C:F,1,FALSE),\"HF, à reclasser\")))","v":""},{"$f":"IF(ISBLANK(Import!E1387),\"\",IF(B1384=(LEFT(A1384,3)),(IFERROR(VLOOKUP(Import!B1387,Mapping!D:F,2,FALSE),\"Cpte à créer dans Mapping\")),\"Cpte à reclasser\"))","v":""}]
[{"$f":"IF(ISBLANK(Import!E1388),\"\",Import!E1388)","v":""},{"$f":"IF(ISBLANK(Import!E1388),\"\",(IFERROR(VLOOKUP(Import!C1388,Mapping!C:F,1,FALSE),\"HF, à reclasser\")))","v":""},{"$f":"IF(ISBLANK(Import!E1388),\"\",IF(B1385=(LEFT(A1385,3)),(IFERROR(VLOOKUP(Import!B1388,Mapping!D:F,2,FALSE),\"Cpte à créer dans Mapping\")),\"Cpte à reclasser\"))","v":""}]
[{"$f":"IF(ISBLANK(Import!E1389),\"\",Import!E1389)","v":""},{"$f":"IF(ISBLANK(Import!E1389),\"\",(IFERROR(VLOOKUP(Import!C1389,Mapping!C:F,1,FALSE),\"HF, à reclasser\")))","v":""},{"$f":"IF(ISBLANK(Import!E1389),\"\",IF(B1386=(LEFT(A1386,3)),(IFERROR(VLOOKUP(Import!B1389,Mapping!D:F,2,FALSE),\"Cpte à créer dans Mapping\")),\"Cpte à reclasser\"))","v":""}]
[{"$f":"IF(ISBLANK(Import!E1390),\"\",Import!E1390)","v":""},{"$f":"IF(ISBLANK(Import!E1390),\"\",(IFERROR(VLOOKUP(Import!C1390,Mapping!C:F,1,FALSE),\"HF, à reclasser\")))","v":""},{"$f":"IF(ISBLANK(Import!E1390),\"\",IF(B1387=(LEFT(A1387,3)),(IFERROR(VLOOKUP(Import!B1390,Mapping!D:F,2,FALSE),\"Cpte à créer dans Mapping\")),\"Cpte à reclasser\"))","v":""}]
[{"$f":"IF(ISBLANK(Import!E1391),\"\",Import!E1391)","v":""},{"$f":"IF(ISBLANK(Import!E1391),\"\",(IFERROR(VLOOKUP(Import!C1391,Mapping!C:F,1,FALSE),\"HF, à reclasser\")))","v":""},{"$f":"IF(ISBLANK(Import!E1391),\"\",IF(B1388=(LEFT(A1388,3)),(IFERROR(VLOOKUP(Import!B1391,Mapping!D:F,2,FALSE),\"Cpte à créer dans Mapping\")),\"Cpte à reclasser\"))","v":""}]
[{"$f":"IF(ISBLANK(Import!E1392),\"\",Import!E1392)","v":""},{"$f":"IF(ISBLANK(Import!E1392),\"\",(IFERROR(VLOOKUP(Import!C1392,Mapping!C:F,1,FALSE),\"HF, à reclasser\")))","v":""},{"$f":"IF(ISBLANK(Import!E1392),\"\",IF(B1389=(LEFT(A1389,3)),(IFERROR(VLOOKUP(Import!B1392,Mapping!D:F,2,FALSE),\"Cpte à créer dans Mapping\")),\"Cpte à reclasser\"))","v":""}]
[{"$f":"IF(ISBLANK(Import!E1393),\"\",Import!E1393)","v":""},{"$f":"IF(ISBLANK(Import!E1393),\"\",(IFERROR(VLOOKUP(Import!C1393,Mapping!C:F,1,FALSE),\"HF, à reclasser\")))","v":""},{"$f":"IF(ISBLANK(Import!E1393),\"\",IF(B1390=(LEFT(A1390,3)),(IFERROR(VLOOKUP(Import!B1393,Mapping!D:F,2,FALSE),\"Cpte à créer dans Mapping\")),\"Cpte à reclasser\"))","v":""}]
[{"$f":"IF(ISBLANK(Import!E1394),\"\",Import!E1394)","v":""},{"$f":"IF(ISBLANK(Import!E1394),\"\",(IFERROR(VLOOKUP(Import!C1394,Mapping!C:F,1,FALSE),\"HF, à reclasser\")))","v":""},{"$f":"IF(ISBLANK(Import!E1394),\"\",IF(B1391=(LEFT(A1391,3)),(IFERROR(VLOOKUP(Import!B1394,Mapping!D:F,2,FALSE),\"Cpte à créer dans Mapping\")),\"Cpte à reclasser\"))","v":""}]
[{"$f":"IF(ISBLANK(Import!E1395),\"\",Import!E1395)","v":""},{"$f":"IF(ISBLANK(Import!E1395),\"\",(IFERROR(VLOOKUP(Import!C1395,Mapping!C:F,1,FALSE),\"HF, à reclasser\")))","v":""},{"$f":"IF(ISBLANK(Import!E1395),\"\",IF(B1392=(LEFT(A1392,3)),(IFERROR(VLOOKUP(Import!B1395,Mapping!D:F,2,FALSE),\"Cpte à créer dans Mapping\")),\"Cpte à reclasser\"))","v":""}]
[{"$f":"IF(ISBLANK(Import!E1396),\"\",Import!E1396)","v":""},{"$f":"IF(ISBLANK(Import!E1396),\"\",(IFERROR(VLOOKUP(Import!C1396,Mapping!C:F,1,FALSE),\"HF, à reclasser\")))","v":""},{"$f":"IF(ISBLANK(Import!E1396),\"\",IF(B1393=(LEFT(A1393,3)),(IFERROR(VLOOKUP(Import!B1396,Mapping!D:F,2,FALSE),\"Cpte à créer dans Mapping\")),\"Cpte à reclasser\"))","v":""}]
[{"$f":"IF(ISBLANK(Import!E1397),\"\",Import!E1397)","v":""},{"$f":"IF(ISBLANK(Import!E1397),\"\",(IFERROR(VLOOKUP(Import!C1397,Mapping!C:F,1,FALSE),\"HF, à reclasser\")))","v":""},{"$f":"IF(ISBLANK(Import!E1397),\"\",IF(B1394=(LEFT(A1394,3)),(IFERROR(VLOOKUP(Import!B1397,Mapping!D:F,2,FALSE),\"Cpte à créer dans Mapping\")),\"Cpte à reclasser\"))","v":""}]
[{"$f":"IF(ISBLANK(Import!E1398),\"\",Import!E1398)","v":""},{"$f":"IF(ISBLANK(Import!E1398),\"\",(IFERROR(VLOOKUP(Import!C1398,Mapping!C:F,1,FALSE),\"HF, à reclasser\")))","v":""},{"$f":"IF(ISBLANK(Import!E1398),\"\",IF(B1395=(LEFT(A1395,3)),(IFERROR(VLOOKUP(Import!B1398,Mapping!D:F,2,FALSE),\"Cpte à créer dans Mapping\")),\"Cpte à reclasser\"))","v":""}]
[{"$f":"IF(ISBLANK(Import!E1399),\"\",Import!E1399)","v":""},{"$f":"IF(ISBLANK(Import!E1399),\"\",(IFERROR(VLOOKUP(Import!C1399,Mapping!C:F,1,FALSE),\"HF, à reclasser\")))","v":""},{"$f":"IF(ISBLANK(Import!E1399),\"\",IF(B1396=(LEFT(A1396,3)),(IFERROR(VLOOKUP(Import!B1399,Mapping!D:F,2,FALSE),\"Cpte à créer dans Mapping\")),\"Cpte à reclasser\"))","v":""}]
[{"$f":"IF(ISBLANK(Import!E1400),\"\",Import!E1400)","v":""},{"$f":"IF(ISBLANK(Import!E1400),\"\",(IFERROR(VLOOKUP(Import!C1400,Mapping!C:F,1,FALSE),\"HF, à reclasser\")))","v":""},{"$f":"IF(ISBLANK(Import!E1400),\"\",IF(B1397=(LEFT(A1397,3)),(IFERROR(VLOOKUP(Import!B1400,Mapping!D:F,2,FALSE),\"Cpte à créer dans Mapping\")),\"Cpte à reclasser\"))","v":""}]
[{"$f":"IF(ISBLANK(Import!E1401),\"\",Import!E1401)","v":""},{"$f":"IF(ISBLANK(Import!E1401),\"\",(IFERROR(VLOOKUP(Import!C1401,Mapping!C:F,1,FALSE),\"HF, à reclasser\")))","v":""},{"$f":"IF(ISBLANK(Import!E1401),\"\",IF(B1398=(LEFT(A1398,3)),(IFERROR(VLOOKUP(Import!B1401,Mapping!D:F,2,FALSE),\"Cpte à créer dans Mapping\")),\"Cpte à reclasser\"))","v":""}]
[{"$f":"IF(ISBLANK(Import!E1402),\"\",Import!E1402)","v":""},{"$f":"IF(ISBLANK(Import!E1402),\"\",(IFERROR(VLOOKUP(Import!C1402,Mapping!C:F,1,FALSE),\"HF, à reclasser\")))","v":""},{"$f":"IF(ISBLANK(Import!E1402),\"\",IF(B1399=(LEFT(A1399,3)),(IFERROR(VLOOKUP(Import!B1402,Mapping!D:F,2,FALSE),\"Cpte à créer dans Mapping\")),\"Cpte à reclasser\"))","v":""}]
[{"$f":"IF(ISBLANK(Import!E1403),\"\",Import!E1403)","v":""},{"$f":"IF(ISBLANK(Import!E1403),\"\",(IFERROR(VLOOKUP(Import!C1403,Mapping!C:F,1,FALSE),\"HF, à reclasser\")))","v":""},{"$f":"IF(ISBLANK(Import!E1403),\"\",IF(B1400=(LEFT(A1400,3)),(IFERROR(VLOOKUP(Import!B1403,Mapping!D:F,2,FALSE),\"Cpte à créer dans Mapping\")),\"Cpte à reclasser\"))","v":""}]
[{"$f":"IF(ISBLANK(Import!E1404),\"\",Import!E1404)","v":""},{"$f":"IF(ISBLANK(Import!E1404),\"\",(IFERROR(VLOOKUP(Import!C1404,Mapping!C:F,1,FALSE),\"HF, à reclasser\")))","v":""},{"$f":"IF(ISBLANK(Import!E1404),\"\",IF(B1401=(LEFT(A1401,3)),(IFERROR(VLOOKUP(Import!B1404,Mapping!D:F,2,FALSE),\"Cpte à créer dans Mapping\")),\"Cpte à reclasser\"))","v":""}]
[{"$f":"IF(ISBLANK(Import!E1405),\"\",Import!E1405)","v":""},{"$f":"IF(ISBLANK(Import!E1405),\"\",(IFERROR(VLOOKUP(Import!C1405,Mapping!C:F,1,FALSE),\"HF, à reclasser\")))","v":""},{"$f":"IF(ISBLANK(Import!E1405),\"\",IF(B1402=(LEFT(A1402,3)),(IFERROR(VLOOKUP(Import!B1405,Mapping!D:F,2,FALSE),\"Cpte à créer dans Mapping\")),\"Cpte à reclasser\"))","v":""}]
[{"$f":"IF(ISBLANK(Import!E1406),\"\",Import!E1406)","v":""},{"$f":"IF(ISBLANK(Import!E1406),\"\",(IFERROR(VLOOKUP(Import!C1406,Mapping!C:F,1,FALSE),\"HF, à reclasser\")))","v":""},{"$f":"IF(ISBLANK(Import!E1406),\"\",IF(B1403=(LEFT(A1403,3)),(IFERROR(VLOOKUP(Import!B1406,Mapping!D:F,2,FALSE),\"Cpte à créer dans Mapping\")),\"Cpte à reclasser\"))","v":""}]
[{"$f":"IF(ISBLANK(Import!E1407),\"\",Import!E1407)","v":""},{"$f":"IF(ISBLANK(Import!E1407),\"\",(IFERROR(VLOOKUP(Import!C1407,Mapping!C:F,1,FALSE),\"HF, à reclasser\")))","v":""},{"$f":"IF(ISBLANK(Import!E1407),\"\",IF(B1404=(LEFT(A1404,3)),(IFERROR(VLOOKUP(Import!B1407,Mapping!D:F,2,FALSE),\"Cpte à créer dans Mapping\")),\"Cpte à reclasser\"))","v":""}]
[{"$f":"IF(ISBLANK(Import!E1408),\"\",Import!E1408)","v":""},{"$f":"IF(ISBLANK(Import!E1408),\"\",(IFERROR(VLOOKUP(Import!C1408,Mapping!C:F,1,FALSE),\"HF, à reclasser\")))","v":""},{"$f":"IF(ISBLANK(Import!E1408),\"\",IF(B1405=(LEFT(A1405,3)),(IFERROR(VLOOKUP(Import!B1408,Mapping!D:F,2,FALSE),\"Cpte à créer dans Mapping\")),\"Cpte à reclasser\"))","v":""}]
[{"$f":"IF(ISBLANK(Import!E1409),\"\",Import!E1409)","v":""},{"$f":"IF(ISBLANK(Import!E1409),\"\",(IFERROR(VLOOKUP(Import!C1409,Mapping!C:F,1,FALSE),\"HF, à reclasser\")))","v":""},{"$f":"IF(ISBLANK(Import!E1409),\"\",IF(B1406=(LEFT(A1406,3)),(IFERROR(VLOOKUP(Import!B1409,Mapping!D:F,2,FALSE),\"Cpte à créer dans Mapping\")),\"Cpte à reclasser\"))","v":""}]
[{"$f":"IF(ISBLANK(Import!E1410),\"\",Import!E1410)","v":""},{"$f":"IF(ISBLANK(Import!E1410),\"\",(IFERROR(VLOOKUP(Import!C1410,Mapping!C:F,1,FALSE),\"HF, à reclasser\")))","v":""},{"$f":"IF(ISBLANK(Import!E1410),\"\",IF(B1407=(LEFT(A1407,3)),(IFERROR(VLOOKUP(Import!B1410,Mapping!D:F,2,FALSE),\"Cpte à créer dans Mapping\")),\"Cpte à reclasser\"))","v":""}]
[{"$f":"IF(ISBLANK(Import!E1411),\"\",Import!E1411)","v":""},{"$f":"IF(ISBLANK(Import!E1411),\"\",(IFERROR(VLOOKUP(Import!C1411,Mapping!C:F,1,FALSE),\"HF, à reclasser\")))","v":""},{"$f":"IF(ISBLANK(Import!E1411),\"\",IF(B1408=(LEFT(A1408,3)),(IFERROR(VLOOKUP(Import!B1411,Mapping!D:F,2,FALSE),\"Cpte à créer dans Mapping\")),\"Cpte à reclasser\"))","v":""}]
[{"$f":"IF(ISBLANK(Import!E1412),\"\",Import!E1412)","v":""},{"$f":"IF(ISBLANK(Import!E1412),\"\",(IFERROR(VLOOKUP(Import!C1412,Mapping!C:F,1,FALSE),\"HF, à reclasser\")))","v":""},{"$f":"IF(ISBLANK(Import!E1412),\"\",IF(B1409=(LEFT(A1409,3)),(IFERROR(VLOOKUP(Import!B1412,Mapping!D:F,2,FALSE),\"Cpte à créer dans Mapping\")),\"Cpte à reclasser\"))","v":""}]
[{"$f":"IF(ISBLANK(Import!E1413),\"\",Import!E1413)","v":""},{"$f":"IF(ISBLANK(Import!E1413),\"\",(IFERROR(VLOOKUP(Import!C1413,Mapping!C:F,1,FALSE),\"HF, à reclasser\")))","v":""},{"$f":"IF(ISBLANK(Import!E1413),\"\",IF(B1410=(LEFT(A1410,3)),(IFERROR(VLOOKUP(Import!B1413,Mapping!D:F,2,FALSE),\"Cpte à créer dans Mapping\")),\"Cpte à reclasser\"))","v":""}]
[{"$f":"IF(ISBLANK(Import!E1414),\"\",Import!E1414)","v":""},{"$f":"IF(ISBLANK(Import!E1414),\"\",(IFERROR(VLOOKUP(Import!C1414,Mapping!C:F,1,FALSE),\"HF, à reclasser\")))","v":""},{"$f":"IF(ISBLANK(Import!E1414),\"\",IF(B1411=(LEFT(A1411,3)),(IFERROR(VLOOKUP(Import!B1414,Mapping!D:F,2,FALSE),\"Cpte à créer dans Mapping\")),\"Cpte à reclasser\"))","v":""}]
[{"$f":"IF(ISBLANK(Import!E1415),\"\",Import!E1415)","v":""},{"$f":"IF(ISBLANK(Import!E1415),\"\",(IFERROR(VLOOKUP(Import!C1415,Mapping!C:F,1,FALSE),\"HF, à reclasser\")))","v":""},{"$f":"IF(ISBLANK(Import!E1415),\"\",IF(B1412=(LEFT(A1412,3)),(IFERROR(VLOOKUP(Import!B1415,Mapping!D:F,2,FALSE),\"Cpte à créer dans Mapping\")),\"Cpte à reclasser\"))","v":""}]
[{"$f":"IF(ISBLANK(Import!E1416),\"\",Import!E1416)","v":""},{"$f":"IF(ISBLANK(Import!E1416),\"\",(IFERROR(VLOOKUP(Import!C1416,Mapping!C:F,1,FALSE),\"HF, à reclasser\")))","v":""},{"$f":"IF(ISBLANK(Import!E1416),\"\",IF(B1413=(LEFT(A1413,3)),(IFERROR(VLOOKUP(Import!B1416,Mapping!D:F,2,FALSE),\"Cpte à créer dans Mapping\")),\"Cpte à reclasser\"))","v":""}]
[{"$f":"IF(ISBLANK(Import!E1417),\"\",Import!E1417)","v":""},{"$f":"IF(ISBLANK(Import!E1417),\"\",(IFERROR(VLOOKUP(Import!C1417,Mapping!C:F,1,FALSE),\"HF, à reclasser\")))","v":""},{"$f":"IF(ISBLANK(Import!E1417),\"\",IF(B1414=(LEFT(A1414,3)),(IFERROR(VLOOKUP(Import!B1417,Mapping!D:F,2,FALSE),\"Cpte à créer dans Mapping\")),\"Cpte à reclasser\"))","v":""}]
[{"$f":"IF(ISBLANK(Import!E1418),\"\",Import!E1418)","v":""},{"$f":"IF(ISBLANK(Import!E1418),\"\",(IFERROR(VLOOKUP(Import!C1418,Mapping!C:F,1,FALSE),\"HF, à reclasser\")))","v":""},{"$f":"IF(ISBLANK(Import!E1418),\"\",IF(B1415=(LEFT(A1415,3)),(IFERROR(VLOOKUP(Import!B1418,Mapping!D:F,2,FALSE),\"Cpte à créer dans Mapping\")),\"Cpte à reclasser\"))","v":""}]
[{"$f":"IF(ISBLANK(Import!E1419),\"\",Import!E1419)","v":""},{"$f":"IF(ISBLANK(Import!E1419),\"\",(IFERROR(VLOOKUP(Import!C1419,Mapping!C:F,1,FALSE),\"HF, à reclasser\")))","v":""},{"$f":"IF(ISBLANK(Import!E1419),\"\",IF(B1416=(LEFT(A1416,3)),(IFERROR(VLOOKUP(Import!B1419,Mapping!D:F,2,FALSE),\"Cpte à créer dans Mapping\")),\"Cpte à reclasser\"))","v":""}]
[{"$f":"IF(ISBLANK(Import!E1420),\"\",Import!E1420)","v":""},{"$f":"IF(ISBLANK(Import!E1420),\"\",(IFERROR(VLOOKUP(Import!C1420,Mapping!C:F,1,FALSE),\"HF, à reclasser\")))","v":""},{"$f":"IF(ISBLANK(Import!E1420),\"\",IF(B1417=(LEFT(A1417,3)),(IFERROR(VLOOKUP(Import!B1420,Mapping!D:F,2,FALSE),\"Cpte à créer dans Mapping\")),\"Cpte à reclasser\"))","v":""}]
[{"$f":"IF(ISBLANK(Import!E1421),\"\",Import!E1421)","v":""},{"$f":"IF(ISBLANK(Import!E1421),\"\",(IFERROR(VLOOKUP(Import!C1421,Mapping!C:F,1,FALSE),\"HF, à reclasser\")))","v":""},{"$f":"IF(ISBLANK(Import!E1421),\"\",IF(B1418=(LEFT(A1418,3)),(IFERROR(VLOOKUP(Import!B1421,Mapping!D:F,2,FALSE),\"Cpte à créer dans Mapping\")),\"Cpte à reclasser\"))","v":""}]
[{"$f":"IF(ISBLANK(Import!E1422),\"\",Import!E1422)","v":""},{"$f":"IF(ISBLANK(Import!E1422),\"\",(IFERROR(VLOOKUP(Import!C1422,Mapping!C:F,1,FALSE),\"HF, à reclasser\")))","v":""},{"$f":"IF(ISBLANK(Import!E1422),\"\",IF(B1419=(LEFT(A1419,3)),(IFERROR(VLOOKUP(Import!B1422,Mapping!D:F,2,FALSE),\"Cpte à créer dans Mapping\")),\"Cpte à reclasser\"))","v":""}]
[{"$f":"IF(ISBLANK(Import!E1423),\"\",Import!E1423)","v":""},{"$f":"IF(ISBLANK(Import!E1423),\"\",(IFERROR(VLOOKUP(Import!C1423,Mapping!C:F,1,FALSE),\"HF, à reclasser\")))","v":""},{"$f":"IF(ISBLANK(Import!E1423),\"\",IF(B1420=(LEFT(A1420,3)),(IFERROR(VLOOKUP(Import!B1423,Mapping!D:F,2,FALSE),\"Cpte à créer dans Mapping\")),\"Cpte à reclasser\"))","v":""}]
[{"$f":"IF(ISBLANK(Import!E1424),\"\",Import!E1424)","v":""},{"$f":"IF(ISBLANK(Import!E1424),\"\",(IFERROR(VLOOKUP(Import!C1424,Mapping!C:F,1,FALSE),\"HF, à reclasser\")))","v":""},{"$f":"IF(ISBLANK(Import!E1424),\"\",IF(B1421=(LEFT(A1421,3)),(IFERROR(VLOOKUP(Import!B1424,Mapping!D:F,2,FALSE),\"Cpte à créer dans Mapping\")),\"Cpte à reclasser\"))","v":""}]
[{"$f":"IF(ISBLANK(Import!E1425),\"\",Import!E1425)","v":""},{"$f":"IF(ISBLANK(Import!E1425),\"\",(IFERROR(VLOOKUP(Import!C1425,Mapping!C:F,1,FALSE),\"HF, à reclasser\")))","v":""},{"$f":"IF(ISBLANK(Import!E1425),\"\",IF(B1422=(LEFT(A1422,3)),(IFERROR(VLOOKUP(Import!B1425,Mapping!D:F,2,FALSE),\"Cpte à créer dans Mapping\")),\"Cpte à reclasser\"))","v":""}]
[{"$f":"IF(ISBLANK(Import!E1426),\"\",Import!E1426)","v":""},{"$f":"IF(ISBLANK(Import!E1426),\"\",(IFERROR(VLOOKUP(Import!C1426,Mapping!C:F,1,FALSE),\"HF, à reclasser\")))","v":""},{"$f":"IF(ISBLANK(Import!E1426),\"\",IF(B1423=(LEFT(A1423,3)),(IFERROR(VLOOKUP(Import!B1426,Mapping!D:F,2,FALSE),\"Cpte à créer dans Mapping\")),\"Cpte à reclasser\"))","v":""}]
[{"$f":"IF(ISBLANK(Import!E1427),\"\",Import!E1427)","v":""},{"$f":"IF(ISBLANK(Import!E1427),\"\",(IFERROR(VLOOKUP(Import!C1427,Mapping!C:F,1,FALSE),\"HF, à reclasser\")))","v":""},{"$f":"IF(ISBLANK(Import!E1427),\"\",IF(B1424=(LEFT(A1424,3)),(IFERROR(VLOOKUP(Import!B1427,Mapping!D:F,2,FALSE),\"Cpte à créer dans Mapping\")),\"Cpte à reclasser\"))","v":""}]
[{"$f":"IF(ISBLANK(Import!E1428),\"\",Import!E1428)","v":""},{"$f":"IF(ISBLANK(Import!E1428),\"\",(IFERROR(VLOOKUP(Import!C1428,Mapping!C:F,1,FALSE),\"HF, à reclasser\")))","v":""},{"$f":"IF(ISBLANK(Import!E1428),\"\",IF(B1425=(LEFT(A1425,3)),(IFERROR(VLOOKUP(Import!B1428,Mapping!D:F,2,FALSE),\"Cpte à créer dans Mapping\")),\"Cpte à reclasser\"))","v":""}]
[{"$f":"IF(ISBLANK(Import!E1429),\"\",Import!E1429)","v":""},{"$f":"IF(ISBLANK(Import!E1429),\"\",(IFERROR(VLOOKUP(Import!C1429,Mapping!C:F,1,FALSE),\"HF, à reclasser\")))","v":""},{"$f":"IF(ISBLANK(Import!E1429),\"\",IF(B1426=(LEFT(A1426,3)),(IFERROR(VLOOKUP(Import!B1429,Mapping!D:F,2,FALSE),\"Cpte à créer dans Mapping\")),\"Cpte à reclasser\"))","v":""}]
[{"$f":"IF(ISBLANK(Import!E1430),\"\",Import!E1430)","v":""},{"$f":"IF(ISBLANK(Import!E1430),\"\",(IFERROR(VLOOKUP(Import!C1430,Mapping!C:F,1,FALSE),\"HF, à reclasser\")))","v":""},{"$f":"IF(ISBLANK(Import!E1430),\"\",IF(B1427=(LEFT(A1427,3)),(IFERROR(VLOOKUP(Import!B1430,Mapping!D:F,2,FALSE),\"Cpte à créer dans Mapping\")),\"Cpte à reclasser\"))","v":""}]
[{"$f":"IF(ISBLANK(Import!E1431),\"\",Import!E1431)","v":""},{"$f":"IF(ISBLANK(Import!E1431),\"\",(IFERROR(VLOOKUP(Import!C1431,Mapping!C:F,1,FALSE),\"HF, à reclasser\")))","v":""},{"$f":"IF(ISBLANK(Import!E1431),\"\",IF(B1428=(LEFT(A1428,3)),(IFERROR(VLOOKUP(Import!B1431,Mapping!D:F,2,FALSE),\"Cpte à créer dans Mapping\")),\"Cpte à reclasser\"))","v":""}]
[{"$f":"IF(ISBLANK(Import!E1432),\"\",Import!E1432)","v":""},{"$f":"IF(ISBLANK(Import!E1432),\"\",(IFERROR(VLOOKUP(Import!C1432,Mapping!C:F,1,FALSE),\"HF, à reclasser\")))","v":""},{"$f":"IF(ISBLANK(Import!E1432),\"\",IF(B1429=(LEFT(A1429,3)),(IFERROR(VLOOKUP(Import!B1432,Mapping!D:F,2,FALSE),\"Cpte à créer dans Mapping\")),\"Cpte à reclasser\"))","v":""}]
[{"$f":"IF(ISBLANK(Import!E1433),\"\",Import!E1433)","v":""},{"$f":"IF(ISBLANK(Import!E1433),\"\",(IFERROR(VLOOKUP(Import!C1433,Mapping!C:F,1,FALSE),\"HF, à reclasser\")))","v":""},{"$f":"IF(ISBLANK(Import!E1433),\"\",IF(B1430=(LEFT(A1430,3)),(IFERROR(VLOOKUP(Import!B1433,Mapping!D:F,2,FALSE),\"Cpte à créer dans Mapping\")),\"Cpte à reclasser\"))","v":""}]
[{"$f":"IF(ISBLANK(Import!E1434),\"\",Import!E1434)","v":""},{"$f":"IF(ISBLANK(Import!E1434),\"\",(IFERROR(VLOOKUP(Import!C1434,Mapping!C:F,1,FALSE),\"HF, à reclasser\")))","v":""},{"$f":"IF(ISBLANK(Import!E1434),\"\",IF(B1431=(LEFT(A1431,3)),(IFERROR(VLOOKUP(Import!B1434,Mapping!D:F,2,FALSE),\"Cpte à créer dans Mapping\")),\"Cpte à reclasser\"))","v":""}]
[{"$f":"IF(ISBLANK(Import!E1435),\"\",Import!E1435)","v":""},{"$f":"IF(ISBLANK(Import!E1435),\"\",(IFERROR(VLOOKUP(Import!C1435,Mapping!C:F,1,FALSE),\"HF, à reclasser\")))","v":""},{"$f":"IF(ISBLANK(Import!E1435),\"\",IF(B1432=(LEFT(A1432,3)),(IFERROR(VLOOKUP(Import!B1435,Mapping!D:F,2,FALSE),\"Cpte à créer dans Mapping\")),\"Cpte à reclasser\"))","v":""}]
[{"$f":"IF(ISBLANK(Import!E1436),\"\",Import!E1436)","v":""},{"$f":"IF(ISBLANK(Import!E1436),\"\",(IFERROR(VLOOKUP(Import!C1436,Mapping!C:F,1,FALSE),\"HF, à reclasser\")))","v":""},{"$f":"IF(ISBLANK(Import!E1436),\"\",IF(B1433=(LEFT(A1433,3)),(IFERROR(VLOOKUP(Import!B1436,Mapping!D:F,2,FALSE),\"Cpte à créer dans Mapping\")),\"Cpte à reclasser\"))","v":""}]
[{"$f":"IF(ISBLANK(Import!E1437),\"\",Import!E1437)","v":""},{"$f":"IF(ISBLANK(Import!E1437),\"\",(IFERROR(VLOOKUP(Import!C1437,Mapping!C:F,1,FALSE),\"HF, à reclasser\")))","v":""},{"$f":"IF(ISBLANK(Import!E1437),\"\",IF(B1434=(LEFT(A1434,3)),(IFERROR(VLOOKUP(Import!B1437,Mapping!D:F,2,FALSE),\"Cpte à créer dans Mapping\")),\"Cpte à reclasser\"))","v":""}]
[{"$f":"IF(ISBLANK(Import!E1438),\"\",Import!E1438)","v":""},{"$f":"IF(ISBLANK(Import!E1438),\"\",(IFERROR(VLOOKUP(Import!C1438,Mapping!C:F,1,FALSE),\"HF, à reclasser\")))","v":""},{"$f":"IF(ISBLANK(Import!E1438),\"\",IF(B1435=(LEFT(A1435,3)),(IFERROR(VLOOKUP(Import!B1438,Mapping!D:F,2,FALSE),\"Cpte à créer dans Mapping\")),\"Cpte à reclasser\"))","v":""}]
[{"$f":"IF(ISBLANK(Import!E1439),\"\",Import!E1439)","v":""},{"$f":"IF(ISBLANK(Import!E1439),\"\",(IFERROR(VLOOKUP(Import!C1439,Mapping!C:F,1,FALSE),\"HF, à reclasser\")))","v":""},{"$f":"IF(ISBLANK(Import!E1439),\"\",IF(B1436=(LEFT(A1436,3)),(IFERROR(VLOOKUP(Import!B1439,Mapping!D:F,2,FALSE),\"Cpte à créer dans Mapping\")),\"Cpte à reclasser\"))","v":""}]
[{"$f":"IF(ISBLANK(Import!E1440),\"\",Import!E1440)","v":""},{"$f":"IF(ISBLANK(Import!E1440),\"\",(IFERROR(VLOOKUP(Import!C1440,Mapping!C:F,1,FALSE),\"HF, à reclasser\")))","v":""},{"$f":"IF(ISBLANK(Import!E1440),\"\",IF(B1437=(LEFT(A1437,3)),(IFERROR(VLOOKUP(Import!B1440,Mapping!D:F,2,FALSE),\"Cpte à créer dans Mapping\")),\"Cpte à reclasser\"))","v":""}]
[{"$f":"IF(ISBLANK(Import!E1441),\"\",Import!E1441)","v":""},{"$f":"IF(ISBLANK(Import!E1441),\"\",(IFERROR(VLOOKUP(Import!C1441,Mapping!C:F,1,FALSE),\"HF, à reclasser\")))","v":""},{"$f":"IF(ISBLANK(Import!E1441),\"\",IF(B1438=(LEFT(A1438,3)),(IFERROR(VLOOKUP(Import!B1441,Mapping!D:F,2,FALSE),\"Cpte à créer dans Mapping\")),\"Cpte à reclasser\"))","v":""}]
[{"$f":"IF(ISBLANK(Import!E1442),\"\",Import!E1442)","v":""},{"$f":"IF(ISBLANK(Import!E1442),\"\",(IFERROR(VLOOKUP(Import!C1442,Mapping!C:F,1,FALSE),\"HF, à reclasser\")))","v":""},{"$f":"IF(ISBLANK(Import!E1442),\"\",IF(B1439=(LEFT(A1439,3)),(IFERROR(VLOOKUP(Import!B1442,Mapping!D:F,2,FALSE),\"Cpte à créer dans Mapping\")),\"Cpte à reclasser\"))","v":""}]
[{"$f":"IF(ISBLANK(Import!E1443),\"\",Import!E1443)","v":""},{"$f":"IF(ISBLANK(Import!E1443),\"\",(IFERROR(VLOOKUP(Import!C1443,Mapping!C:F,1,FALSE),\"HF, à reclasser\")))","v":""},{"$f":"IF(ISBLANK(Import!E1443),\"\",IF(B1440=(LEFT(A1440,3)),(IFERROR(VLOOKUP(Import!B1443,Mapping!D:F,2,FALSE),\"Cpte à créer dans Mapping\")),\"Cpte à reclasser\"))","v":""}]
[{"$f":"IF(ISBLANK(Import!E1444),\"\",Import!E1444)","v":""},{"$f":"IF(ISBLANK(Import!E1444),\"\",(IFERROR(VLOOKUP(Import!C1444,Mapping!C:F,1,FALSE),\"HF, à reclasser\")))","v":""},{"$f":"IF(ISBLANK(Import!E1444),\"\",IF(B1441=(LEFT(A1441,3)),(IFERROR(VLOOKUP(Import!B1444,Mapping!D:F,2,FALSE),\"Cpte à créer dans Mapping\")),\"Cpte à reclasser\"))","v":""}]
[{"$f":"IF(ISBLANK(Import!E1445),\"\",Import!E1445)","v":""},{"$f":"IF(ISBLANK(Import!E1445),\"\",(IFERROR(VLOOKUP(Import!C1445,Mapping!C:F,1,FALSE),\"HF, à reclasser\")))","v":""},{"$f":"IF(ISBLANK(Import!E1445),\"\",IF(B1442=(LEFT(A1442,3)),(IFERROR(VLOOKUP(Import!B1445,Mapping!D:F,2,FALSE),\"Cpte à créer dans Mapping\")),\"Cpte à reclasser\"))","v":""}]
[{"$f":"IF(ISBLANK(Import!E1446),\"\",Import!E1446)","v":""},{"$f":"IF(ISBLANK(Import!E1446),\"\",(IFERROR(VLOOKUP(Import!C1446,Mapping!C:F,1,FALSE),\"HF, à reclasser\")))","v":""},{"$f":"IF(ISBLANK(Import!E1446),\"\",IF(B1443=(LEFT(A1443,3)),(IFERROR(VLOOKUP(Import!B1446,Mapping!D:F,2,FALSE),\"Cpte à créer dans Mapping\")),\"Cpte à reclasser\"))","v":""}]
[{"$f":"IF(ISBLANK(Import!E1447),\"\",Import!E1447)","v":""},{"$f":"IF(ISBLANK(Import!E1447),\"\",(IFERROR(VLOOKUP(Import!C1447,Mapping!C:F,1,FALSE),\"HF, à reclasser\")))","v":""},{"$f":"IF(ISBLANK(Import!E1447),\"\",IF(B1444=(LEFT(A1444,3)),(IFERROR(VLOOKUP(Import!B1447,Mapping!D:F,2,FALSE),\"Cpte à créer dans Mapping\")),\"Cpte à reclasser\"))","v":""}]
[{"$f":"IF(ISBLANK(Import!E1448),\"\",Import!E1448)","v":""},{"$f":"IF(ISBLANK(Import!E1448),\"\",(IFERROR(VLOOKUP(Import!C1448,Mapping!C:F,1,FALSE),\"HF, à reclasser\")))","v":""},{"$f":"IF(ISBLANK(Import!E1448),\"\",IF(B1445=(LEFT(A1445,3)),(IFERROR(VLOOKUP(Import!B1448,Mapping!D:F,2,FALSE),\"Cpte à créer dans Mapping\")),\"Cpte à reclasser\"))","v":""}]
[{"$f":"IF(ISBLANK(Import!E1449),\"\",Import!E1449)","v":""},{"$f":"IF(ISBLANK(Import!E1449),\"\",(IFERROR(VLOOKUP(Import!C1449,Mapping!C:F,1,FALSE),\"HF, à reclasser\")))","v":""},{"$f":"IF(ISBLANK(Import!E1449),\"\",IF(B1446=(LEFT(A1446,3)),(IFERROR(VLOOKUP(Import!B1449,Mapping!D:F,2,FALSE),\"Cpte à créer dans Mapping\")),\"Cpte à reclasser\"))","v":""}]
[{"$f":"IF(ISBLANK(Import!E1450),\"\",Import!E1450)","v":""},{"$f":"IF(ISBLANK(Import!E1450),\"\",(IFERROR(VLOOKUP(Import!C1450,Mapping!C:F,1,FALSE),\"HF, à reclasser\")))","v":""},{"$f":"IF(ISBLANK(Import!E1450),\"\",IF(B1447=(LEFT(A1447,3)),(IFERROR(VLOOKUP(Import!B1450,Mapping!D:F,2,FALSE),\"Cpte à créer dans Mapping\")),\"Cpte à reclasser\"))","v":""}]
[{"$f":"IF(ISBLANK(Import!E1451),\"\",Import!E1451)","v":""},{"$f":"IF(ISBLANK(Import!E1451),\"\",(IFERROR(VLOOKUP(Import!C1451,Mapping!C:F,1,FALSE),\"HF, à reclasser\")))","v":""},{"$f":"IF(ISBLANK(Import!E1451),\"\",IF(B1448=(LEFT(A1448,3)),(IFERROR(VLOOKUP(Import!B1451,Mapping!D:F,2,FALSE),\"Cpte à créer dans Mapping\")),\"Cpte à reclasser\"))","v":""}]
[{"$f":"IF(ISBLANK(Import!E1452),\"\",Import!E1452)","v":""},{"$f":"IF(ISBLANK(Import!E1452),\"\",(IFERROR(VLOOKUP(Import!C1452,Mapping!C:F,1,FALSE),\"HF, à reclasser\")))","v":""},{"$f":"IF(ISBLANK(Import!E1452),\"\",IF(B1449=(LEFT(A1449,3)),(IFERROR(VLOOKUP(Import!B1452,Mapping!D:F,2,FALSE),\"Cpte à créer dans Mapping\")),\"Cpte à reclasser\"))","v":""}]
[{"$f":"IF(ISBLANK(Import!E1453),\"\",Import!E1453)","v":""},{"$f":"IF(ISBLANK(Import!E1453),\"\",(IFERROR(VLOOKUP(Import!C1453,Mapping!C:F,1,FALSE),\"HF, à reclasser\")))","v":""},{"$f":"IF(ISBLANK(Import!E1453),\"\",IF(B1450=(LEFT(A1450,3)),(IFERROR(VLOOKUP(Import!B1453,Mapping!D:F,2,FALSE),\"Cpte à créer dans Mapping\")),\"Cpte à reclasser\"))","v":""}]
[{"$f":"IF(ISBLANK(Import!E1454),\"\",Import!E1454)","v":""},{"$f":"IF(ISBLANK(Import!E1454),\"\",(IFERROR(VLOOKUP(Import!C1454,Mapping!C:F,1,FALSE),\"HF, à reclasser\")))","v":""},{"$f":"IF(ISBLANK(Import!E1454),\"\",IF(B1451=(LEFT(A1451,3)),(IFERROR(VLOOKUP(Import!B1454,Mapping!D:F,2,FALSE),\"Cpte à créer dans Mapping\")),\"Cpte à reclasser\"))","v":""}]
[{"$f":"IF(ISBLANK(Import!E1455),\"\",Import!E1455)","v":""},{"$f":"IF(ISBLANK(Import!E1455),\"\",(IFERROR(VLOOKUP(Import!C1455,Mapping!C:F,1,FALSE),\"HF, à reclasser\")))","v":""},{"$f":"IF(ISBLANK(Import!E1455),\"\",IF(B1452=(LEFT(A1452,3)),(IFERROR(VLOOKUP(Import!B1455,Mapping!D:F,2,FALSE),\"Cpte à créer dans Mapping\")),\"Cpte à reclasser\"))","v":""}]
[{"$f":"IF(ISBLANK(Import!E1456),\"\",Import!E1456)","v":""},{"$f":"IF(ISBLANK(Import!E1456),\"\",(IFERROR(VLOOKUP(Import!C1456,Mapping!C:F,1,FALSE),\"HF, à reclasser\")))","v":""},{"$f":"IF(ISBLANK(Import!E1456),\"\",IF(B1453=(LEFT(A1453,3)),(IFERROR(VLOOKUP(Import!B1456,Mapping!D:F,2,FALSE),\"Cpte à créer dans Mapping\")),\"Cpte à reclasser\"))","v":""}]
[{"$f":"IF(ISBLANK(Import!E1457),\"\",Import!E1457)","v":""},{"$f":"IF(ISBLANK(Import!E1457),\"\",(IFERROR(VLOOKUP(Import!C1457,Mapping!C:F,1,FALSE),\"HF, à reclasser\")))","v":""},{"$f":"IF(ISBLANK(Import!E1457),\"\",IF(B1454=(LEFT(A1454,3)),(IFERROR(VLOOKUP(Import!B1457,Mapping!D:F,2,FALSE),\"Cpte à créer dans Mapping\")),\"Cpte à reclasser\"))","v":""}]
[{"$f":"IF(ISBLANK(Import!E1458),\"\",Import!E1458)","v":""},{"$f":"IF(ISBLANK(Import!E1458),\"\",(IFERROR(VLOOKUP(Import!C1458,Mapping!C:F,1,FALSE),\"HF, à reclasser\")))","v":""},{"$f":"IF(ISBLANK(Import!E1458),\"\",IF(B1455=(LEFT(A1455,3)),(IFERROR(VLOOKUP(Import!B1458,Mapping!D:F,2,FALSE),\"Cpte à créer dans Mapping\")),\"Cpte à reclasser\"))","v":""}]
[{"$f":"IF(ISBLANK(Import!E1459),\"\",Import!E1459)","v":""},{"$f":"IF(ISBLANK(Import!E1459),\"\",(IFERROR(VLOOKUP(Import!C1459,Mapping!C:F,1,FALSE),\"HF, à reclasser\")))","v":""},{"$f":"IF(ISBLANK(Import!E1459),\"\",IF(B1456=(LEFT(A1456,3)),(IFERROR(VLOOKUP(Import!B1459,Mapping!D:F,2,FALSE),\"Cpte à créer dans Mapping\")),\"Cpte à reclasser\"))","v":""}]
[{"$f":"IF(ISBLANK(Import!E1460),\"\",Import!E1460)","v":""},{"$f":"IF(ISBLANK(Import!E1460),\"\",(IFERROR(VLOOKUP(Import!C1460,Mapping!C:F,1,FALSE),\"HF, à reclasser\")))","v":""},{"$f":"IF(ISBLANK(Import!E1460),\"\",IF(B1457=(LEFT(A1457,3)),(IFERROR(VLOOKUP(Import!B1460,Mapping!D:F,2,FALSE),\"Cpte à créer dans Mapping\")),\"Cpte à reclasser\"))","v":""}]
[{"$f":"IF(ISBLANK(Import!E1461),\"\",Import!E1461)","v":""},{"$f":"IF(ISBLANK(Import!E1461),\"\",(IFERROR(VLOOKUP(Import!C1461,Mapping!C:F,1,FALSE),\"HF, à reclasser\")))","v":""},{"$f":"IF(ISBLANK(Import!E1461),\"\",IF(B1458=(LEFT(A1458,3)),(IFERROR(VLOOKUP(Import!B1461,Mapping!D:F,2,FALSE),\"Cpte à créer dans Mapping\")),\"Cpte à reclasser\"))","v":""}]
[{"$f":"IF(ISBLANK(Import!E1462),\"\",Import!E1462)","v":""},{"$f":"IF(ISBLANK(Import!E1462),\"\",(IFERROR(VLOOKUP(Import!C1462,Mapping!C:F,1,FALSE),\"HF, à reclasser\")))","v":""},{"$f":"IF(ISBLANK(Import!E1462),\"\",IF(B1459=(LEFT(A1459,3)),(IFERROR(VLOOKUP(Import!B1462,Mapping!D:F,2,FALSE),\"Cpte à créer dans Mapping\")),\"Cpte à reclasser\"))","v":""}]
[{"$f":"IF(ISBLANK(Import!E1463),\"\",Import!E1463)","v":""},{"$f":"IF(ISBLANK(Import!E1463),\"\",(IFERROR(VLOOKUP(Import!C1463,Mapping!C:F,1,FALSE),\"HF, à reclasser\")))","v":""},{"$f":"IF(ISBLANK(Import!E1463),\"\",IF(B1460=(LEFT(A1460,3)),(IFERROR(VLOOKUP(Import!B1463,Mapping!D:F,2,FALSE),\"Cpte à créer dans Mapping\")),\"Cpte à reclasser\"))","v":""}]
[{"$f":"IF(ISBLANK(Import!E1464),\"\",Import!E1464)","v":""},{"$f":"IF(ISBLANK(Import!E1464),\"\",(IFERROR(VLOOKUP(Import!C1464,Mapping!C:F,1,FALSE),\"HF, à reclasser\")))","v":""},{"$f":"IF(ISBLANK(Import!E1464),\"\",IF(B1461=(LEFT(A1461,3)),(IFERROR(VLOOKUP(Import!B1464,Mapping!D:F,2,FALSE),\"Cpte à créer dans Mapping\")),\"Cpte à reclasser\"))","v":""}]
[{"$f":"IF(ISBLANK(Import!E1465),\"\",Import!E1465)","v":""},{"$f":"IF(ISBLANK(Import!E1465),\"\",(IFERROR(VLOOKUP(Import!C1465,Mapping!C:F,1,FALSE),\"HF, à reclasser\")))","v":""},{"$f":"IF(ISBLANK(Import!E1465),\"\",IF(B1462=(LEFT(A1462,3)),(IFERROR(VLOOKUP(Import!B1465,Mapping!D:F,2,FALSE),\"Cpte à créer dans Mapping\")),\"Cpte à reclasser\"))","v":""}]
[{"$f":"IF(ISBLANK(Import!E1466),\"\",Import!E1466)","v":""},{"$f":"IF(ISBLANK(Import!E1466),\"\",(IFERROR(VLOOKUP(Import!C1466,Mapping!C:F,1,FALSE),\"HF, à reclasser\")))","v":""},{"$f":"IF(ISBLANK(Import!E1466),\"\",IF(B1463=(LEFT(A1463,3)),(IFERROR(VLOOKUP(Import!B1466,Mapping!D:F,2,FALSE),\"Cpte à créer dans Mapping\")),\"Cpte à reclasser\"))","v":""}]
[{"$f":"IF(ISBLANK(Import!E1467),\"\",Import!E1467)","v":""},{"$f":"IF(ISBLANK(Import!E1467),\"\",(IFERROR(VLOOKUP(Import!C1467,Mapping!C:F,1,FALSE),\"HF, à reclasser\")))","v":""},{"$f":"IF(ISBLANK(Import!E1467),\"\",IF(B1464=(LEFT(A1464,3)),(IFERROR(VLOOKUP(Import!B1467,Mapping!D:F,2,FALSE),\"Cpte à créer dans Mapping\")),\"Cpte à reclasser\"))","v":""}]
[{"$f":"IF(ISBLANK(Import!E1468),\"\",Import!E1468)","v":""},{"$f":"IF(ISBLANK(Import!E1468),\"\",(IFERROR(VLOOKUP(Import!C1468,Mapping!C:F,1,FALSE),\"HF, à reclasser\")))","v":""},{"$f":"IF(ISBLANK(Import!E1468),\"\",IF(B1465=(LEFT(A1465,3)),(IFERROR(VLOOKUP(Import!B1468,Mapping!D:F,2,FALSE),\"Cpte à créer dans Mapping\")),\"Cpte à reclasser\"))","v":""}]
[{"$f":"IF(ISBLANK(Import!E1469),\"\",Import!E1469)","v":""},{"$f":"IF(ISBLANK(Import!E1469),\"\",(IFERROR(VLOOKUP(Import!C1469,Mapping!C:F,1,FALSE),\"HF, à reclasser\")))","v":""},{"$f":"IF(ISBLANK(Import!E1469),\"\",IF(B1466=(LEFT(A1466,3)),(IFERROR(VLOOKUP(Import!B1469,Mapping!D:F,2,FALSE),\"Cpte à créer dans Mapping\")),\"Cpte à reclasser\"))","v":""}]
[{"$f":"IF(ISBLANK(Import!E1470),\"\",Import!E1470)","v":""},{"$f":"IF(ISBLANK(Import!E1470),\"\",(IFERROR(VLOOKUP(Import!C1470,Mapping!C:F,1,FALSE),\"HF, à reclasser\")))","v":""},{"$f":"IF(ISBLANK(Import!E1470),\"\",IF(B1467=(LEFT(A1467,3)),(IFERROR(VLOOKUP(Import!B1470,Mapping!D:F,2,FALSE),\"Cpte à créer dans Mapping\")),\"Cpte à reclasser\"))","v":""}]
[{"$f":"IF(ISBLANK(Import!E1471),\"\",Import!E1471)","v":""},{"$f":"IF(ISBLANK(Import!E1471),\"\",(IFERROR(VLOOKUP(Import!C1471,Mapping!C:F,1,FALSE),\"HF, à reclasser\")))","v":""},{"$f":"IF(ISBLANK(Import!E1471),\"\",IF(B1468=(LEFT(A1468,3)),(IFERROR(VLOOKUP(Import!B1471,Mapping!D:F,2,FALSE),\"Cpte à créer dans Mapping\")),\"Cpte à reclasser\"))","v":""}]
[{"$f":"IF(ISBLANK(Import!E1472),\"\",Import!E1472)","v":""},{"$f":"IF(ISBLANK(Import!E1472),\"\",(IFERROR(VLOOKUP(Import!C1472,Mapping!C:F,1,FALSE),\"HF, à reclasser\")))","v":""},{"$f":"IF(ISBLANK(Import!E1472),\"\",IF(B1469=(LEFT(A1469,3)),(IFERROR(VLOOKUP(Import!B1472,Mapping!D:F,2,FALSE),\"Cpte à créer dans Mapping\")),\"Cpte à reclasser\"))","v":""}]
[{"$f":"IF(ISBLANK(Import!E1473),\"\",Import!E1473)","v":""},{"$f":"IF(ISBLANK(Import!E1473),\"\",(IFERROR(VLOOKUP(Import!C1473,Mapping!C:F,1,FALSE),\"HF, à reclasser\")))","v":""},{"$f":"IF(ISBLANK(Import!E1473),\"\",IF(B1470=(LEFT(A1470,3)),(IFERROR(VLOOKUP(Import!B1473,Mapping!D:F,2,FALSE),\"Cpte à créer dans Mapping\")),\"Cpte à reclasser\"))","v":""}]
[{"$f":"IF(ISBLANK(Import!E1474),\"\",Import!E1474)","v":""},{"$f":"IF(ISBLANK(Import!E1474),\"\",(IFERROR(VLOOKUP(Import!C1474,Mapping!C:F,1,FALSE),\"HF, à reclasser\")))","v":""},{"$f":"IF(ISBLANK(Import!E1474),\"\",IF(B1471=(LEFT(A1471,3)),(IFERROR(VLOOKUP(Import!B1474,Mapping!D:F,2,FALSE),\"Cpte à créer dans Mapping\")),\"Cpte à reclasser\"))","v":""}]
[{"$f":"IF(ISBLANK(Import!E1475),\"\",Import!E1475)","v":""},{"$f":"IF(ISBLANK(Import!E1475),\"\",(IFERROR(VLOOKUP(Import!C1475,Mapping!C:F,1,FALSE),\"HF, à reclasser\")))","v":""},{"$f":"IF(ISBLANK(Import!E1475),\"\",IF(B1472=(LEFT(A1472,3)),(IFERROR(VLOOKUP(Import!B1475,Mapping!D:F,2,FALSE),\"Cpte à créer dans Mapping\")),\"Cpte à reclasser\"))","v":""}]
[{"$f":"IF(ISBLANK(Import!E1476),\"\",Import!E1476)","v":""},{"$f":"IF(ISBLANK(Import!E1476),\"\",(IFERROR(VLOOKUP(Import!C1476,Mapping!C:F,1,FALSE),\"HF, à reclasser\")))","v":""},{"$f":"IF(ISBLANK(Import!E1476),\"\",IF(B1473=(LEFT(A1473,3)),(IFERROR(VLOOKUP(Import!B1476,Mapping!D:F,2,FALSE),\"Cpte à créer dans Mapping\")),\"Cpte à reclasser\"))","v":""}]
[{"$f":"IF(ISBLANK(Import!E1477),\"\",Import!E1477)","v":""},{"$f":"IF(ISBLANK(Import!E1477),\"\",(IFERROR(VLOOKUP(Import!C1477,Mapping!C:F,1,FALSE),\"HF, à reclasser\")))","v":""},{"$f":"IF(ISBLANK(Import!E1477),\"\",IF(B1474=(LEFT(A1474,3)),(IFERROR(VLOOKUP(Import!B1477,Mapping!D:F,2,FALSE),\"Cpte à créer dans Mapping\")),\"Cpte à reclasser\"))","v":""}]
[{"$f":"IF(ISBLANK(Import!E1478),\"\",Import!E1478)","v":""},{"$f":"IF(ISBLANK(Import!E1478),\"\",(IFERROR(VLOOKUP(Import!C1478,Mapping!C:F,1,FALSE),\"HF, à reclasser\")))","v":""},{"$f":"IF(ISBLANK(Import!E1478),\"\",IF(B1475=(LEFT(A1475,3)),(IFERROR(VLOOKUP(Import!B1478,Mapping!D:F,2,FALSE),\"Cpte à créer dans Mapping\")),\"Cpte à reclasser\"))","v":""}]
[{"$f":"IF(ISBLANK(Import!E1479),\"\",Import!E1479)","v":""},{"$f":"IF(ISBLANK(Import!E1479),\"\",(IFERROR(VLOOKUP(Import!C1479,Mapping!C:F,1,FALSE),\"HF, à reclasser\")))","v":""},{"$f":"IF(ISBLANK(Import!E1479),\"\",IF(B1476=(LEFT(A1476,3)),(IFERROR(VLOOKUP(Import!B1479,Mapping!D:F,2,FALSE),\"Cpte à créer dans Mapping\")),\"Cpte à reclasser\"))","v":""}]
[{"$f":"IF(ISBLANK(Import!E1480),\"\",Import!E1480)","v":""},{"$f":"IF(ISBLANK(Import!E1480),\"\",(IFERROR(VLOOKUP(Import!C1480,Mapping!C:F,1,FALSE),\"HF, à reclasser\")))","v":""},{"$f":"IF(ISBLANK(Import!E1480),\"\",IF(B1477=(LEFT(A1477,3)),(IFERROR(VLOOKUP(Import!B1480,Mapping!D:F,2,FALSE),\"Cpte à créer dans Mapping\")),\"Cpte à reclasser\"))","v":""}]
[{"$f":"IF(ISBLANK(Import!E1481),\"\",Import!E1481)","v":""},{"$f":"IF(ISBLANK(Import!E1481),\"\",(IFERROR(VLOOKUP(Import!C1481,Mapping!C:F,1,FALSE),\"HF, à reclasser\")))","v":""},{"$f":"IF(ISBLANK(Import!E1481),\"\",IF(B1478=(LEFT(A1478,3)),(IFERROR(VLOOKUP(Import!B1481,Mapping!D:F,2,FALSE),\"Cpte à créer dans Mapping\")),\"Cpte à reclasser\"))","v":""}]
[{"$f":"IF(ISBLANK(Import!E1482),\"\",Import!E1482)","v":""},{"$f":"IF(ISBLANK(Import!E1482),\"\",(IFERROR(VLOOKUP(Import!C1482,Mapping!C:F,1,FALSE),\"HF, à reclasser\")))","v":""},{"$f":"IF(ISBLANK(Import!E1482),\"\",IF(B1479=(LEFT(A1479,3)),(IFERROR(VLOOKUP(Import!B1482,Mapping!D:F,2,FALSE),\"Cpte à créer dans Mapping\")),\"Cpte à reclasser\"))","v":""}]
[{"$f":"IF(ISBLANK(Import!E1483),\"\",Import!E1483)","v":""},{"$f":"IF(ISBLANK(Import!E1483),\"\",(IFERROR(VLOOKUP(Import!C1483,Mapping!C:F,1,FALSE),\"HF, à reclasser\")))","v":""},{"$f":"IF(ISBLANK(Import!E1483),\"\",IF(B1480=(LEFT(A1480,3)),(IFERROR(VLOOKUP(Import!B1483,Mapping!D:F,2,FALSE),\"Cpte à créer dans Mapping\")),\"Cpte à reclasser\"))","v":""}]
[{"$f":"IF(ISBLANK(Import!E1484),\"\",Import!E1484)","v":""},{"$f":"IF(ISBLANK(Import!E1484),\"\",(IFERROR(VLOOKUP(Import!C1484,Mapping!C:F,1,FALSE),\"HF, à reclasser\")))","v":""},{"$f":"IF(ISBLANK(Import!E1484),\"\",IF(B1481=(LEFT(A1481,3)),(IFERROR(VLOOKUP(Import!B1484,Mapping!D:F,2,FALSE),\"Cpte à créer dans Mapping\")),\"Cpte à reclasser\"))","v":""}]
[{"$f":"IF(ISBLANK(Import!E1485),\"\",Import!E1485)","v":""},{"$f":"IF(ISBLANK(Import!E1485),\"\",(IFERROR(VLOOKUP(Import!C1485,Mapping!C:F,1,FALSE),\"HF, à reclasser\")))","v":""},{"$f":"IF(ISBLANK(Import!E1485),\"\",IF(B1482=(LEFT(A1482,3)),(IFERROR(VLOOKUP(Import!B1485,Mapping!D:F,2,FALSE),\"Cpte à créer dans Mapping\")),\"Cpte à reclasser\"))","v":""}]
[{"$f":"IF(ISBLANK(Import!E1486),\"\",Import!E1486)","v":""},{"$f":"IF(ISBLANK(Import!E1486),\"\",(IFERROR(VLOOKUP(Import!C1486,Mapping!C:F,1,FALSE),\"HF, à reclasser\")))","v":""},{"$f":"IF(ISBLANK(Import!E1486),\"\",IF(B1483=(LEFT(A1483,3)),(IFERROR(VLOOKUP(Import!B1486,Mapping!D:F,2,FALSE),\"Cpte à créer dans Mapping\")),\"Cpte à reclasser\"))","v":""}]
[{"$f":"IF(ISBLANK(Import!E1487),\"\",Import!E1487)","v":""},{"$f":"IF(ISBLANK(Import!E1487),\"\",(IFERROR(VLOOKUP(Import!C1487,Mapping!C:F,1,FALSE),\"HF, à reclasser\")))","v":""},{"$f":"IF(ISBLANK(Import!E1487),\"\",IF(B1484=(LEFT(A1484,3)),(IFERROR(VLOOKUP(Import!B1487,Mapping!D:F,2,FALSE),\"Cpte à créer dans Mapping\")),\"Cpte à reclasser\"))","v":""}]
[{"$f":"IF(ISBLANK(Import!E1488),\"\",Import!E1488)","v":""},{"$f":"IF(ISBLANK(Import!E1488),\"\",(IFERROR(VLOOKUP(Import!C1488,Mapping!C:F,1,FALSE),\"HF, à reclasser\")))","v":""},{"$f":"IF(ISBLANK(Import!E1488),\"\",IF(B1485=(LEFT(A1485,3)),(IFERROR(VLOOKUP(Import!B1488,Mapping!D:F,2,FALSE),\"Cpte à créer dans Mapping\")),\"Cpte à reclasser\"))","v":""}]
[{"$f":"IF(ISBLANK(Import!E1489),\"\",Import!E1489)","v":""},{"$f":"IF(ISBLANK(Import!E1489),\"\",(IFERROR(VLOOKUP(Import!C1489,Mapping!C:F,1,FALSE),\"HF, à reclasser\")))","v":""},{"$f":"IF(ISBLANK(Import!E1489),\"\",IF(B1486=(LEFT(A1486,3)),(IFERROR(VLOOKUP(Import!B1489,Mapping!D:F,2,FALSE),\"Cpte à créer dans Mapping\")),\"Cpte à reclasser\"))","v":""}]
[{"$f":"IF(ISBLANK(Import!E1490),\"\",Import!E1490)","v":""},{"$f":"IF(ISBLANK(Import!E1490),\"\",(IFERROR(VLOOKUP(Import!C1490,Mapping!C:F,1,FALSE),\"HF, à reclasser\")))","v":""},{"$f":"IF(ISBLANK(Import!E1490),\"\",IF(B1487=(LEFT(A1487,3)),(IFERROR(VLOOKUP(Import!B1490,Mapping!D:F,2,FALSE),\"Cpte à créer dans Mapping\")),\"Cpte à reclasser\"))","v":""}]
[{"$f":"IF(ISBLANK(Import!E1491),\"\",Import!E1491)","v":""},{"$f":"IF(ISBLANK(Import!E1491),\"\",(IFERROR(VLOOKUP(Import!C1491,Mapping!C:F,1,FALSE),\"HF, à reclasser\")))","v":""},{"$f":"IF(ISBLANK(Import!E1491),\"\",IF(B1488=(LEFT(A1488,3)),(IFERROR(VLOOKUP(Import!B1491,Mapping!D:F,2,FALSE),\"Cpte à créer dans Mapping\")),\"Cpte à reclasser\"))","v":""}]
[{"$f":"IF(ISBLANK(Import!E1492),\"\",Import!E1492)","v":""},{"$f":"IF(ISBLANK(Import!E1492),\"\",(IFERROR(VLOOKUP(Import!C1492,Mapping!C:F,1,FALSE),\"HF, à reclasser\")))","v":""},{"$f":"IF(ISBLANK(Import!E1492),\"\",IF(B1489=(LEFT(A1489,3)),(IFERROR(VLOOKUP(Import!B1492,Mapping!D:F,2,FALSE),\"Cpte à créer dans Mapping\")),\"Cpte à reclasser\"))","v":""}]
[{"$f":"IF(ISBLANK(Import!E1493),\"\",Import!E1493)","v":""},{"$f":"IF(ISBLANK(Import!E1493),\"\",(IFERROR(VLOOKUP(Import!C1493,Mapping!C:F,1,FALSE),\"HF, à reclasser\")))","v":""},{"$f":"IF(ISBLANK(Import!E1493),\"\",IF(B1490=(LEFT(A1490,3)),(IFERROR(VLOOKUP(Import!B1493,Mapping!D:F,2,FALSE),\"Cpte à créer dans Mapping\")),\"Cpte à reclasser\"))","v":""}]
[{"$f":"IF(ISBLANK(Import!E1494),\"\",Import!E1494)","v":""},{"$f":"IF(ISBLANK(Import!E1494),\"\",(IFERROR(VLOOKUP(Import!C1494,Mapping!C:F,1,FALSE),\"HF, à reclasser\")))","v":""},{"$f":"IF(ISBLANK(Import!E1494),\"\",IF(B1491=(LEFT(A1491,3)),(IFERROR(VLOOKUP(Import!B1494,Mapping!D:F,2,FALSE),\"Cpte à créer dans Mapping\")),\"Cpte à reclasser\"))","v":""}]
[{"$f":"IF(ISBLANK(Import!E1495),\"\",Import!E1495)","v":""},{"$f":"IF(ISBLANK(Import!E1495),\"\",(IFERROR(VLOOKUP(Import!C1495,Mapping!C:F,1,FALSE),\"HF, à reclasser\")))","v":""},{"$f":"IF(ISBLANK(Import!E1495),\"\",IF(B1492=(LEFT(A1492,3)),(IFERROR(VLOOKUP(Import!B1495,Mapping!D:F,2,FALSE),\"Cpte à créer dans Mapping\")),\"Cpte à reclasser\"))","v":""}]
[{"$f":"IF(ISBLANK(Import!E1496),\"\",Import!E1496)","v":""},{"$f":"IF(ISBLANK(Import!E1496),\"\",(IFERROR(VLOOKUP(Import!C1496,Mapping!C:F,1,FALSE),\"HF, à reclasser\")))","v":""},{"$f":"IF(ISBLANK(Import!E1496),\"\",IF(B1493=(LEFT(A1493,3)),(IFERROR(VLOOKUP(Import!B1496,Mapping!D:F,2,FALSE),\"Cpte à créer dans Mapping\")),\"Cpte à reclasser\"))","v":""}]
[{"$f":"IF(ISBLANK(Import!E1497),\"\",Import!E1497)","v":""},{"$f":"IF(ISBLANK(Import!E1497),\"\",(IFERROR(VLOOKUP(Import!C1497,Mapping!C:F,1,FALSE),\"HF, à reclasser\")))","v":""},{"$f":"IF(ISBLANK(Import!E1497),\"\",IF(B1494=(LEFT(A1494,3)),(IFERROR(VLOOKUP(Import!B1497,Mapping!D:F,2,FALSE),\"Cpte à créer dans Mapping\")),\"Cpte à reclasser\"))","v":""}]
[{"$f":"IF(ISBLANK(Import!E1498),\"\",Import!E1498)","v":""},{"$f":"IF(ISBLANK(Import!E1498),\"\",(IFERROR(VLOOKUP(Import!C1498,Mapping!C:F,1,FALSE),\"HF, à reclasser\")))","v":""},{"$f":"IF(ISBLANK(Import!E1498),\"\",IF(B1495=(LEFT(A1495,3)),(IFERROR(VLOOKUP(Import!B1498,Mapping!D:F,2,FALSE),\"Cpte à créer dans Mapping\")),\"Cpte à reclasser\"))","v":""}]
[{"$f":"IF(ISBLANK(Import!E1499),\"\",Import!E1499)","v":""},{"$f":"IF(ISBLANK(Import!E1499),\"\",(IFERROR(VLOOKUP(Import!C1499,Mapping!C:F,1,FALSE),\"HF, à reclasser\")))","v":""},{"$f":"IF(ISBLANK(Import!E1499),\"\",IF(B1496=(LEFT(A1496,3)),(IFERROR(VLOOKUP(Import!B1499,Mapping!D:F,2,FALSE),\"Cpte à créer dans Mapping\")),\"Cpte à reclasser\"))","v":""}]
[{"$f":"IF(ISBLANK(Import!E1500),\"\",Import!E1500)","v":""},{"$f":"IF(ISBLANK(Import!E1500),\"\",(IFERROR(VLOOKUP(Import!C1500,Mapping!C:F,1,FALSE),\"HF, à reclasser\")))","v":""},{"$f":"IF(ISBLANK(Import!E1500),\"\",IF(B1497=(LEFT(A1497,3)),(IFERROR(VLOOKUP(Import!B1500,Mapping!D:F,2,FALSE),\"Cpte à créer dans Mapping\")),\"Cpte à reclasser\"))","v":""}]
[{"$f":"IF(ISBLANK(Import!E1501),\"\",Import!E1501)","v":""},{"$f":"IF(ISBLANK(Import!E1501),\"\",(IFERROR(VLOOKUP(Import!C1501,Mapping!C:F,1,FALSE),\"HF, à reclasser\")))","v":""},{"$f":"IF(ISBLANK(Import!E1501),\"\",IF(B1498=(LEFT(A1498,3)),(IFERROR(VLOOKUP(Import!B1501,Mapping!D:F,2,FALSE),\"Cpte à créer dans Mapping\")),\"Cpte à reclasser\"))","v":""}]
[{"$f":"IF(ISBLANK(Import!E1502),\"\",Import!E1502)","v":""},{"$f":"IF(ISBLANK(Import!E1502),\"\",(IFERROR(VLOOKUP(Import!C1502,Mapping!C:F,1,FALSE),\"HF, à reclasser\")))","v":""},{"$f":"IF(ISBLANK(Import!E1502),\"\",IF(B1499=(LEFT(A1499,3)),(IFERROR(VLOOKUP(Import!B1502,Mapping!D:F,2,FALSE),\"Cpte à créer dans Mapping\")),\"Cpte à reclasser\"))","v":""}]
[{"$f":"IF(ISBLANK(Import!E1503),\"\",Import!E1503)","v":""},{"$f":"IF(ISBLANK(Import!E1503),\"\",(IFERROR(VLOOKUP(Import!C1503,Mapping!C:F,1,FALSE),\"HF, à reclasser\")))","v":""},{"$f":"IF(ISBLANK(Import!E1503),\"\",IF(B1500=(LEFT(A1500,3)),(IFERROR(VLOOKUP(Import!B1503,Mapping!D:F,2,FALSE),\"Cpte à créer dans Mapping\")),\"Cpte à reclasser\"))","v":""}]
[{"$f":"IF(ISBLANK(Import!E1504),\"\",Import!E1504)","v":""},{"$f":"IF(ISBLANK(Import!E1504),\"\",(IFERROR(VLOOKUP(Import!C1504,Mapping!C:F,1,FALSE),\"HF, à reclasser\")))","v":""},{"$f":"IF(ISBLANK(Import!E1504),\"\",IF(B1501=(LEFT(A1501,3)),(IFERROR(VLOOKUP(Import!B1504,Mapping!D:F,2,FALSE),\"Cpte à créer dans Mapping\")),\"Cpte à reclasser\"))","v":""}]
[{"$f":"IF(ISBLANK(Import!E1505),\"\",Import!E1505)","v":""},{"$f":"IF(ISBLANK(Import!E1505),\"\",(IFERROR(VLOOKUP(Import!C1505,Mapping!C:F,1,FALSE),\"HF, à reclasser\")))","v":""},{"$f":"IF(ISBLANK(Import!E1505),\"\",IF(B1502=(LEFT(A1502,3)),(IFERROR(VLOOKUP(Import!B1505,Mapping!D:F,2,FALSE),\"Cpte à créer dans Mapping\")),\"Cpte à reclasser\"))","v":""}]
[{"$f":"IF(ISBLANK(Import!E1506),\"\",Import!E1506)","v":""},{"$f":"IF(ISBLANK(Import!E1506),\"\",(IFERROR(VLOOKUP(Import!C1506,Mapping!C:F,1,FALSE),\"HF, à reclasser\")))","v":""},{"$f":"IF(ISBLANK(Import!E1506),\"\",IF(B1503=(LEFT(A1503,3)),(IFERROR(VLOOKUP(Import!B1506,Mapping!D:F,2,FALSE),\"Cpte à créer dans Mapping\")),\"Cpte à reclasser\"))","v":""}]
[{"$f":"IF(ISBLANK(Import!E1507),\"\",Import!E1507)","v":""},{"$f":"IF(ISBLANK(Import!E1507),\"\",(IFERROR(VLOOKUP(Import!C1507,Mapping!C:F,1,FALSE),\"HF, à reclasser\")))","v":""},{"$f":"IF(ISBLANK(Import!E1507),\"\",IF(B1504=(LEFT(A1504,3)),(IFERROR(VLOOKUP(Import!B1507,Mapping!D:F,2,FALSE),\"Cpte à créer dans Mapping\")),\"Cpte à reclasser\"))","v":""}]
[{"$f":"IF(ISBLANK(Import!E1508),\"\",Import!E1508)","v":""},{"$f":"IF(ISBLANK(Import!E1508),\"\",(IFERROR(VLOOKUP(Import!C1508,Mapping!C:F,1,FALSE),\"HF, à reclasser\")))","v":""},{"$f":"IF(ISBLANK(Import!E1508),\"\",IF(B1505=(LEFT(A1505,3)),(IFERROR(VLOOKUP(Import!B1508,Mapping!D:F,2,FALSE),\"Cpte à créer dans Mapping\")),\"Cpte à reclasser\"))","v":""}]
[{"$f":"IF(ISBLANK(Import!E1509),\"\",Import!E1509)","v":""},{"$f":"IF(ISBLANK(Import!E1509),\"\",(IFERROR(VLOOKUP(Import!C1509,Mapping!C:F,1,FALSE),\"HF, à reclasser\")))","v":""},{"$f":"IF(ISBLANK(Import!E1509),\"\",IF(B1506=(LEFT(A1506,3)),(IFERROR(VLOOKUP(Import!B1509,Mapping!D:F,2,FALSE),\"Cpte à créer dans Mapping\")),\"Cpte à reclasser\"))","v":""}]
[{"$f":"IF(ISBLANK(Import!E1510),\"\",Import!E1510)","v":""},{"$f":"IF(ISBLANK(Import!E1510),\"\",(IFERROR(VLOOKUP(Import!C1510,Mapping!C:F,1,FALSE),\"HF, à reclasser\")))","v":""},{"$f":"IF(ISBLANK(Import!E1510),\"\",IF(B1507=(LEFT(A1507,3)),(IFERROR(VLOOKUP(Import!B1510,Mapping!D:F,2,FALSE),\"Cpte à créer dans Mapping\")),\"Cpte à reclasser\"))","v":""}]
[{"$f":"IF(ISBLANK(Import!E1511),\"\",Import!E1511)","v":""},{"$f":"IF(ISBLANK(Import!E1511),\"\",(IFERROR(VLOOKUP(Import!C1511,Mapping!C:F,1,FALSE),\"HF, à reclasser\")))","v":""},{"$f":"IF(ISBLANK(Import!E1511),\"\",IF(B1508=(LEFT(A1508,3)),(IFERROR(VLOOKUP(Import!B1511,Mapping!D:F,2,FALSE),\"Cpte à créer dans Mapping\")),\"Cpte à reclasser\"))","v":""}]
[{"$f":"IF(ISBLANK(Import!E1512),\"\",Import!E1512)","v":""},{"$f":"IF(ISBLANK(Import!E1512),\"\",(IFERROR(VLOOKUP(Import!C1512,Mapping!C:F,1,FALSE),\"HF, à reclasser\")))","v":""},{"$f":"IF(ISBLANK(Import!E1512),\"\",IF(B1509=(LEFT(A1509,3)),(IFERROR(VLOOKUP(Import!B1512,Mapping!D:F,2,FALSE),\"Cpte à créer dans Mapping\")),\"Cpte à reclasser\"))","v":""}]
[{"$f":"IF(ISBLANK(Import!E1513),\"\",Import!E1513)","v":""},{"$f":"IF(ISBLANK(Import!E1513),\"\",(IFERROR(VLOOKUP(Import!C1513,Mapping!C:F,1,FALSE),\"HF, à reclasser\")))","v":""},{"$f":"IF(ISBLANK(Import!E1513),\"\",IF(B1510=(LEFT(A1510,3)),(IFERROR(VLOOKUP(Import!B1513,Mapping!D:F,2,FALSE),\"Cpte à créer dans Mapping\")),\"Cpte à reclasser\"))","v":""}]
[{"$f":"IF(ISBLANK(Import!E1514),\"\",Import!E1514)","v":""},{"$f":"IF(ISBLANK(Import!E1514),\"\",(IFERROR(VLOOKUP(Import!C1514,Mapping!C:F,1,FALSE),\"HF, à reclasser\")))","v":""},{"$f":"IF(ISBLANK(Import!E1514),\"\",IF(B1511=(LEFT(A1511,3)),(IFERROR(VLOOKUP(Import!B1514,Mapping!D:F,2,FALSE),\"Cpte à créer dans Mapping\")),\"Cpte à reclasser\"))","v":""}]
[{"$f":"IF(ISBLANK(Import!E1515),\"\",Import!E1515)","v":""},{"$f":"IF(ISBLANK(Import!E1515),\"\",(IFERROR(VLOOKUP(Import!C1515,Mapping!C:F,1,FALSE),\"HF, à reclasser\")))","v":""},{"$f":"IF(ISBLANK(Import!E1515),\"\",IF(B1512=(LEFT(A1512,3)),(IFERROR(VLOOKUP(Import!B1515,Mapping!D:F,2,FALSE),\"Cpte à créer dans Mapping\")),\"Cpte à reclasser\"))","v":""}]
[{"$f":"IF(ISBLANK(Import!E1516),\"\",Import!E1516)","v":""},{"$f":"IF(ISBLANK(Import!E1516),\"\",(IFERROR(VLOOKUP(Import!C1516,Mapping!C:F,1,FALSE),\"HF, à reclasser\")))","v":""},{"$f":"IF(ISBLANK(Import!E1516),\"\",IF(B1513=(LEFT(A1513,3)),(IFERROR(VLOOKUP(Import!B1516,Mapping!D:F,2,FALSE),\"Cpte à créer dans Mapping\")),\"Cpte à reclasser\"))","v":""}]
[{"$f":"IF(ISBLANK(Import!E1517),\"\",Import!E1517)","v":""},{"$f":"IF(ISBLANK(Import!E1517),\"\",(IFERROR(VLOOKUP(Import!C1517,Mapping!C:F,1,FALSE),\"HF, à reclasser\")))","v":""},{"$f":"IF(ISBLANK(Import!E1517),\"\",IF(B1514=(LEFT(A1514,3)),(IFERROR(VLOOKUP(Import!B1517,Mapping!D:F,2,FALSE),\"Cpte à créer dans Mapping\")),\"Cpte à reclasser\"))","v":""}]
[{"$f":"IF(ISBLANK(Import!E1518),\"\",Import!E1518)","v":""},{"$f":"IF(ISBLANK(Import!E1518),\"\",(IFERROR(VLOOKUP(Import!C1518,Mapping!C:F,1,FALSE),\"HF, à reclasser\")))","v":""},{"$f":"IF(ISBLANK(Import!E1518),\"\",IF(B1515=(LEFT(A1515,3)),(IFERROR(VLOOKUP(Import!B1518,Mapping!D:F,2,FALSE),\"Cpte à créer dans Mapping\")),\"Cpte à reclasser\"))","v":""}]
[{"$f":"IF(ISBLANK(Import!E1519),\"\",Import!E1519)","v":""},{"$f":"IF(ISBLANK(Import!E1519),\"\",(IFERROR(VLOOKUP(Import!C1519,Mapping!C:F,1,FALSE),\"HF, à reclasser\")))","v":""},{"$f":"IF(ISBLANK(Import!E1519),\"\",IF(B1516=(LEFT(A1516,3)),(IFERROR(VLOOKUP(Import!B1519,Mapping!D:F,2,FALSE),\"Cpte à créer dans Mapping\")),\"Cpte à reclasser\"))","v":""}]
[{"$f":"IF(ISBLANK(Import!E1520),\"\",Import!E1520)","v":""},{"$f":"IF(ISBLANK(Import!E1520),\"\",(IFERROR(VLOOKUP(Import!C1520,Mapping!C:F,1,FALSE),\"HF, à reclasser\")))","v":""},{"$f":"IF(ISBLANK(Import!E1520),\"\",IF(B1517=(LEFT(A1517,3)),(IFERROR(VLOOKUP(Import!B1520,Mapping!D:F,2,FALSE),\"Cpte à créer dans Mapping\")),\"Cpte à reclasser\"))","v":""}]
[{"$f":"IF(ISBLANK(Import!E1521),\"\",Import!E1521)","v":""},{"$f":"IF(ISBLANK(Import!E1521),\"\",(IFERROR(VLOOKUP(Import!C1521,Mapping!C:F,1,FALSE),\"HF, à reclasser\")))","v":""},{"$f":"IF(ISBLANK(Import!E1521),\"\",IF(B1518=(LEFT(A1518,3)),(IFERROR(VLOOKUP(Import!B1521,Mapping!D:F,2,FALSE),\"Cpte à créer dans Mapping\")),\"Cpte à reclasser\"))","v":""}]
[{"$f":"IF(ISBLANK(Import!E1522),\"\",Import!E1522)","v":""},{"$f":"IF(ISBLANK(Import!E1522),\"\",(IFERROR(VLOOKUP(Import!C1522,Mapping!C:F,1,FALSE),\"HF, à reclasser\")))","v":""},{"$f":"IF(ISBLANK(Import!E1522),\"\",IF(B1519=(LEFT(A1519,3)),(IFERROR(VLOOKUP(Import!B1522,Mapping!D:F,2,FALSE),\"Cpte à créer dans Mapping\")),\"Cpte à reclasser\"))","v":""}]
[{"$f":"IF(ISBLANK(Import!E1523),\"\",Import!E1523)","v":""},{"$f":"IF(ISBLANK(Import!E1523),\"\",(IFERROR(VLOOKUP(Import!C1523,Mapping!C:F,1,FALSE),\"HF, à reclasser\")))","v":""},{"$f":"IF(ISBLANK(Import!E1523),\"\",IF(B1520=(LEFT(A1520,3)),(IFERROR(VLOOKUP(Import!B1523,Mapping!D:F,2,FALSE),\"Cpte à créer dans Mapping\")),\"Cpte à reclasser\"))","v":""}]
[{"$f":"IF(ISBLANK(Import!E1524),\"\",Import!E1524)","v":""},{"$f":"IF(ISBLANK(Import!E1524),\"\",(IFERROR(VLOOKUP(Import!C1524,Mapping!C:F,1,FALSE),\"HF, à reclasser\")))","v":""},{"$f":"IF(ISBLANK(Import!E1524),\"\",IF(B1521=(LEFT(A1521,3)),(IFERROR(VLOOKUP(Import!B1524,Mapping!D:F,2,FALSE),\"Cpte à créer dans Mapping\")),\"Cpte à reclasser\"))","v":""}]
[{"$f":"IF(ISBLANK(Import!E1525),\"\",Import!E1525)","v":""},{"$f":"IF(ISBLANK(Import!E1525),\"\",(IFERROR(VLOOKUP(Import!C1525,Mapping!C:F,1,FALSE),\"HF, à reclasser\")))","v":""},{"$f":"IF(ISBLANK(Import!E1525),\"\",IF(B1522=(LEFT(A1522,3)),(IFERROR(VLOOKUP(Import!B1525,Mapping!D:F,2,FALSE),\"Cpte à créer dans Mapping\")),\"Cpte à reclasser\"))","v":""}]
[{"$f":"IF(ISBLANK(Import!E1526),\"\",Import!E1526)","v":""},{"$f":"IF(ISBLANK(Import!E1526),\"\",(IFERROR(VLOOKUP(Import!C1526,Mapping!C:F,1,FALSE),\"HF, à reclasser\")))","v":""},{"$f":"IF(ISBLANK(Import!E1526),\"\",IF(B1523=(LEFT(A1523,3)),(IFERROR(VLOOKUP(Import!B1526,Mapping!D:F,2,FALSE),\"Cpte à créer dans Mapping\")),\"Cpte à reclasser\"))","v":""}]
[{"$f":"IF(ISBLANK(Import!E1527),\"\",Import!E1527)","v":""},{"$f":"IF(ISBLANK(Import!E1527),\"\",(IFERROR(VLOOKUP(Import!C1527,Mapping!C:F,1,FALSE),\"HF, à reclasser\")))","v":""},{"$f":"IF(ISBLANK(Import!E1527),\"\",IF(B1524=(LEFT(A1524,3)),(IFERROR(VLOOKUP(Import!B1527,Mapping!D:F,2,FALSE),\"Cpte à créer dans Mapping\")),\"Cpte à reclasser\"))","v":""}]
[{"$f":"IF(ISBLANK(Import!E1528),\"\",Import!E1528)","v":""},{"$f":"IF(ISBLANK(Import!E1528),\"\",(IFERROR(VLOOKUP(Import!C1528,Mapping!C:F,1,FALSE),\"HF, à reclasser\")))","v":""},{"$f":"IF(ISBLANK(Import!E1528),\"\",IF(B1525=(LEFT(A1525,3)),(IFERROR(VLOOKUP(Import!B1528,Mapping!D:F,2,FALSE),\"Cpte à créer dans Mapping\")),\"Cpte à reclasser\"))","v":""}]
[{"$f":"IF(ISBLANK(Import!E1529),\"\",Import!E1529)","v":""},{"$f":"IF(ISBLANK(Import!E1529),\"\",(IFERROR(VLOOKUP(Import!C1529,Mapping!C:F,1,FALSE),\"HF, à reclasser\")))","v":""},{"$f":"IF(ISBLANK(Import!E1529),\"\",IF(B1526=(LEFT(A1526,3)),(IFERROR(VLOOKUP(Import!B1529,Mapping!D:F,2,FALSE),\"Cpte à créer dans Mapping\")),\"Cpte à reclasser\"))","v":""}]
[{"$f":"IF(ISBLANK(Import!E1530),\"\",Import!E1530)","v":""},{"$f":"IF(ISBLANK(Import!E1530),\"\",(IFERROR(VLOOKUP(Import!C1530,Mapping!C:F,1,FALSE),\"HF, à reclasser\")))","v":""},{"$f":"IF(ISBLANK(Import!E1530),\"\",IF(B1527=(LEFT(A1527,3)),(IFERROR(VLOOKUP(Import!B1530,Mapping!D:F,2,FALSE),\"Cpte à créer dans Mapping\")),\"Cpte à reclasser\"))","v":""}]
[{"$f":"IF(ISBLANK(Import!E1531),\"\",Import!E1531)","v":""},{"$f":"IF(ISBLANK(Import!E1531),\"\",(IFERROR(VLOOKUP(Import!C1531,Mapping!C:F,1,FALSE),\"HF, à reclasser\")))","v":""},{"$f":"IF(ISBLANK(Import!E1531),\"\",IF(B1528=(LEFT(A1528,3)),(IFERROR(VLOOKUP(Import!B1531,Mapping!D:F,2,FALSE),\"Cpte à créer dans Mapping\")),\"Cpte à reclasser\"))","v":""}]
[{"$f":"IF(ISBLANK(Import!E1532),\"\",Import!E1532)","v":""},{"$f":"IF(ISBLANK(Import!E1532),\"\",(IFERROR(VLOOKUP(Import!C1532,Mapping!C:F,1,FALSE),\"HF, à reclasser\")))","v":""},{"$f":"IF(ISBLANK(Import!E1532),\"\",IF(B1529=(LEFT(A1529,3)),(IFERROR(VLOOKUP(Import!B1532,Mapping!D:F,2,FALSE),\"Cpte à créer dans Mapping\")),\"Cpte à reclasser\"))","v":""}]
[{"$f":"IF(ISBLANK(Import!E1533),\"\",Import!E1533)","v":""},{"$f":"IF(ISBLANK(Import!E1533),\"\",(IFERROR(VLOOKUP(Import!C1533,Mapping!C:F,1,FALSE),\"HF, à reclasser\")))","v":""},{"$f":"IF(ISBLANK(Import!E1533),\"\",IF(B1530=(LEFT(A1530,3)),(IFERROR(VLOOKUP(Import!B1533,Mapping!D:F,2,FALSE),\"Cpte à créer dans Mapping\")),\"Cpte à reclasser\"))","v":""}]
[{"$f":"IF(ISBLANK(Import!E1534),\"\",Import!E1534)","v":""},{"$f":"IF(ISBLANK(Import!E1534),\"\",(IFERROR(VLOOKUP(Import!C1534,Mapping!C:F,1,FALSE),\"HF, à reclasser\")))","v":""},{"$f":"IF(ISBLANK(Import!E1534),\"\",IF(B1531=(LEFT(A1531,3)),(IFERROR(VLOOKUP(Import!B1534,Mapping!D:F,2,FALSE),\"Cpte à créer dans Mapping\")),\"Cpte à reclasser\"))","v":""}]
[{"$f":"IF(ISBLANK(Import!E1535),\"\",Import!E1535)","v":""},{"$f":"IF(ISBLANK(Import!E1535),\"\",(IFERROR(VLOOKUP(Import!C1535,Mapping!C:F,1,FALSE),\"HF, à reclasser\")))","v":""},{"$f":"IF(ISBLANK(Import!E1535),\"\",IF(B1532=(LEFT(A1532,3)),(IFERROR(VLOOKUP(Import!B1535,Mapping!D:F,2,FALSE),\"Cpte à créer dans Mapping\")),\"Cpte à reclasser\"))","v":""}]
[{"$f":"IF(ISBLANK(Import!E1536),\"\",Import!E1536)","v":""},{"$f":"IF(ISBLANK(Import!E1536),\"\",(IFERROR(VLOOKUP(Import!C1536,Mapping!C:F,1,FALSE),\"HF, à reclasser\")))","v":""},{"$f":"IF(ISBLANK(Import!E1536),\"\",IF(B1533=(LEFT(A1533,3)),(IFERROR(VLOOKUP(Import!B1536,Mapping!D:F,2,FALSE),\"Cpte à créer dans Mapping\")),\"Cpte à reclasser\"))","v":""}]
[{"$f":"IF(ISBLANK(Import!E1537),\"\",Import!E1537)","v":""},{"$f":"IF(ISBLANK(Import!E1537),\"\",(IFERROR(VLOOKUP(Import!C1537,Mapping!C:F,1,FALSE),\"HF, à reclasser\")))","v":""},{"$f":"IF(ISBLANK(Import!E1537),\"\",IF(B1534=(LEFT(A1534,3)),(IFERROR(VLOOKUP(Import!B1537,Mapping!D:F,2,FALSE),\"Cpte à créer dans Mapping\")),\"Cpte à reclasser\"))","v":""}]
[{"$f":"IF(ISBLANK(Import!E1538),\"\",Import!E1538)","v":""},{"$f":"IF(ISBLANK(Import!E1538),\"\",(IFERROR(VLOOKUP(Import!C1538,Mapping!C:F,1,FALSE),\"HF, à reclasser\")))","v":""},{"$f":"IF(ISBLANK(Import!E1538),\"\",IF(B1535=(LEFT(A1535,3)),(IFERROR(VLOOKUP(Import!B1538,Mapping!D:F,2,FALSE),\"Cpte à créer dans Mapping\")),\"Cpte à reclasser\"))","v":""}]
[{"$f":"IF(ISBLANK(Import!E1539),\"\",Import!E1539)","v":""},{"$f":"IF(ISBLANK(Import!E1539),\"\",(IFERROR(VLOOKUP(Import!C1539,Mapping!C:F,1,FALSE),\"HF, à reclasser\")))","v":""},{"$f":"IF(ISBLANK(Import!E1539),\"\",IF(B1536=(LEFT(A1536,3)),(IFERROR(VLOOKUP(Import!B1539,Mapping!D:F,2,FALSE),\"Cpte à créer dans Mapping\")),\"Cpte à reclasser\"))","v":""}]
[{"$f":"IF(ISBLANK(Import!E1540),\"\",Import!E1540)","v":""},{"$f":"IF(ISBLANK(Import!E1540),\"\",(IFERROR(VLOOKUP(Import!C1540,Mapping!C:F,1,FALSE),\"HF, à reclasser\")))","v":""},{"$f":"IF(ISBLANK(Import!E1540),\"\",IF(B1537=(LEFT(A1537,3)),(IFERROR(VLOOKUP(Import!B1540,Mapping!D:F,2,FALSE),\"Cpte à créer dans Mapping\")),\"Cpte à reclasser\"))","v":""}]
[{"$f":"IF(ISBLANK(Import!E1541),\"\",Import!E1541)","v":""},{"$f":"IF(ISBLANK(Import!E1541),\"\",(IFERROR(VLOOKUP(Import!C1541,Mapping!C:F,1,FALSE),\"HF, à reclasser\")))","v":""},{"$f":"IF(ISBLANK(Import!E1541),\"\",IF(B1538=(LEFT(A1538,3)),(IFERROR(VLOOKUP(Import!B1541,Mapping!D:F,2,FALSE),\"Cpte à créer dans Mapping\")),\"Cpte à reclasser\"))","v":""}]
[{"$f":"IF(ISBLANK(Import!E1542),\"\",Import!E1542)","v":""},{"$f":"IF(ISBLANK(Import!E1542),\"\",(IFERROR(VLOOKUP(Import!C1542,Mapping!C:F,1,FALSE),\"HF, à reclasser\")))","v":""},{"$f":"IF(ISBLANK(Import!E1542),\"\",IF(B1539=(LEFT(A1539,3)),(IFERROR(VLOOKUP(Import!B1542,Mapping!D:F,2,FALSE),\"Cpte à créer dans Mapping\")),\"Cpte à reclasser\"))","v":""}]
[{"$f":"IF(ISBLANK(Import!E1543),\"\",Import!E1543)","v":""},{"$f":"IF(ISBLANK(Import!E1543),\"\",(IFERROR(VLOOKUP(Import!C1543,Mapping!C:F,1,FALSE),\"HF, à reclasser\")))","v":""},{"$f":"IF(ISBLANK(Import!E1543),\"\",IF(B1540=(LEFT(A1540,3)),(IFERROR(VLOOKUP(Import!B1543,Mapping!D:F,2,FALSE),\"Cpte à créer dans Mapping\")),\"Cpte à reclasser\"))","v":""}]
[{"$f":"IF(ISBLANK(Import!E1544),\"\",Import!E1544)","v":""},{"$f":"IF(ISBLANK(Import!E1544),\"\",(IFERROR(VLOOKUP(Import!C1544,Mapping!C:F,1,FALSE),\"HF, à reclasser\")))","v":""},{"$f":"IF(ISBLANK(Import!E1544),\"\",IF(B1541=(LEFT(A1541,3)),(IFERROR(VLOOKUP(Import!B1544,Mapping!D:F,2,FALSE),\"Cpte à créer dans Mapping\")),\"Cpte à reclasser\"))","v":""}]
[{"$f":"IF(ISBLANK(Import!E1545),\"\",Import!E1545)","v":""},{"$f":"IF(ISBLANK(Import!E1545),\"\",(IFERROR(VLOOKUP(Import!C1545,Mapping!C:F,1,FALSE),\"HF, à reclasser\")))","v":""},{"$f":"IF(ISBLANK(Import!E1545),\"\",IF(B1542=(LEFT(A1542,3)),(IFERROR(VLOOKUP(Import!B1545,Mapping!D:F,2,FALSE),\"Cpte à créer dans Mapping\")),\"Cpte à reclasser\"))","v":""}]
[{"$f":"IF(ISBLANK(Import!E1546),\"\",Import!E1546)","v":""},{"$f":"IF(ISBLANK(Import!E1546),\"\",(IFERROR(VLOOKUP(Import!C1546,Mapping!C:F,1,FALSE),\"HF, à reclasser\")))","v":""},{"$f":"IF(ISBLANK(Import!E1546),\"\",IF(B1543=(LEFT(A1543,3)),(IFERROR(VLOOKUP(Import!B1546,Mapping!D:F,2,FALSE),\"Cpte à créer dans Mapping\")),\"Cpte à reclasser\"))","v":""}]
[{"$f":"IF(ISBLANK(Import!E1547),\"\",Import!E1547)","v":""},{"$f":"IF(ISBLANK(Import!E1547),\"\",(IFERROR(VLOOKUP(Import!C1547,Mapping!C:F,1,FALSE),\"HF, à reclasser\")))","v":""},{"$f":"IF(ISBLANK(Import!E1547),\"\",IF(B1544=(LEFT(A1544,3)),(IFERROR(VLOOKUP(Import!B1547,Mapping!D:F,2,FALSE),\"Cpte à créer dans Mapping\")),\"Cpte à reclasser\"))","v":""}]
[{"$f":"IF(ISBLANK(Import!E1548),\"\",Import!E1548)","v":""},{"$f":"IF(ISBLANK(Import!E1548),\"\",(IFERROR(VLOOKUP(Import!C1548,Mapping!C:F,1,FALSE),\"HF, à reclasser\")))","v":""},{"$f":"IF(ISBLANK(Import!E1548),\"\",IF(B1545=(LEFT(A1545,3)),(IFERROR(VLOOKUP(Import!B1548,Mapping!D:F,2,FALSE),\"Cpte à créer dans Mapping\")),\"Cpte à reclasser\"))","v":""}]
[{"$f":"IF(ISBLANK(Import!E1549),\"\",Import!E1549)","v":""},{"$f":"IF(ISBLANK(Import!E1549),\"\",(IFERROR(VLOOKUP(Import!C1549,Mapping!C:F,1,FALSE),\"HF, à reclasser\")))","v":""},{"$f":"IF(ISBLANK(Import!E1549),\"\",IF(B1546=(LEFT(A1546,3)),(IFERROR(VLOOKUP(Import!B1549,Mapping!D:F,2,FALSE),\"Cpte à créer dans Mapping\")),\"Cpte à reclasser\"))","v":""}]
[{"$f":"IF(ISBLANK(Import!E1550),\"\",Import!E1550)","v":""},{"$f":"IF(ISBLANK(Import!E1550),\"\",(IFERROR(VLOOKUP(Import!C1550,Mapping!C:F,1,FALSE),\"HF, à reclasser\")))","v":""},{"$f":"IF(ISBLANK(Import!E1550),\"\",IF(B1547=(LEFT(A1547,3)),(IFERROR(VLOOKUP(Import!B1550,Mapping!D:F,2,FALSE),\"Cpte à créer dans Mapping\")),\"Cpte à reclasser\"))","v":""}]
[{"$f":"IF(ISBLANK(Import!E1551),\"\",Import!E1551)","v":""},{"$f":"IF(ISBLANK(Import!E1551),\"\",(IFERROR(VLOOKUP(Import!C1551,Mapping!C:F,1,FALSE),\"HF, à reclasser\")))","v":""},{"$f":"IF(ISBLANK(Import!E1551),\"\",IF(B1548=(LEFT(A1548,3)),(IFERROR(VLOOKUP(Import!B1551,Mapping!D:F,2,FALSE),\"Cpte à créer dans Mapping\")),\"Cpte à reclasser\"))","v":""}]
[{"$f":"IF(ISBLANK(Import!E1552),\"\",Import!E1552)","v":""},{"$f":"IF(ISBLANK(Import!E1552),\"\",(IFERROR(VLOOKUP(Import!C1552,Mapping!C:F,1,FALSE),\"HF, à reclasser\")))","v":""},{"$f":"IF(ISBLANK(Import!E1552),\"\",IF(B1549=(LEFT(A1549,3)),(IFERROR(VLOOKUP(Import!B1552,Mapping!D:F,2,FALSE),\"Cpte à créer dans Mapping\")),\"Cpte à reclasser\"))","v":""}]
[{"$f":"IF(ISBLANK(Import!E1553),\"\",Import!E1553)","v":""},{"$f":"IF(ISBLANK(Import!E1553),\"\",(IFERROR(VLOOKUP(Import!C1553,Mapping!C:F,1,FALSE),\"HF, à reclasser\")))","v":""},{"$f":"IF(ISBLANK(Import!E1553),\"\",IF(B1550=(LEFT(A1550,3)),(IFERROR(VLOOKUP(Import!B1553,Mapping!D:F,2,FALSE),\"Cpte à créer dans Mapping\")),\"Cpte à reclasser\"))","v":""}]
[{"$f":"IF(ISBLANK(Import!E1554),\"\",Import!E1554)","v":""},{"$f":"IF(ISBLANK(Import!E1554),\"\",(IFERROR(VLOOKUP(Import!C1554,Mapping!C:F,1,FALSE),\"HF, à reclasser\")))","v":""},{"$f":"IF(ISBLANK(Import!E1554),\"\",IF(B1551=(LEFT(A1551,3)),(IFERROR(VLOOKUP(Import!B1554,Mapping!D:F,2,FALSE),\"Cpte à créer dans Mapping\")),\"Cpte à reclasser\"))","v":""}]
[{"$f":"IF(ISBLANK(Import!E1555),\"\",Import!E1555)","v":""},{"$f":"IF(ISBLANK(Import!E1555),\"\",(IFERROR(VLOOKUP(Import!C1555,Mapping!C:F,1,FALSE),\"HF, à reclasser\")))","v":""},{"$f":"IF(ISBLANK(Import!E1555),\"\",IF(B1552=(LEFT(A1552,3)),(IFERROR(VLOOKUP(Import!B1555,Mapping!D:F,2,FALSE),\"Cpte à créer dans Mapping\")),\"Cpte à reclasser\"))","v":""}]
[{"$f":"IF(ISBLANK(Import!E1556),\"\",Import!E1556)","v":""},{"$f":"IF(ISBLANK(Import!E1556),\"\",(IFERROR(VLOOKUP(Import!C1556,Mapping!C:F,1,FALSE),\"HF, à reclasser\")))","v":""},{"$f":"IF(ISBLANK(Import!E1556),\"\",IF(B1553=(LEFT(A1553,3)),(IFERROR(VLOOKUP(Import!B1556,Mapping!D:F,2,FALSE),\"Cpte à créer dans Mapping\")),\"Cpte à reclasser\"))","v":""}]
[{"$f":"IF(ISBLANK(Import!E1557),\"\",Import!E1557)","v":""},{"$f":"IF(ISBLANK(Import!E1557),\"\",(IFERROR(VLOOKUP(Import!C1557,Mapping!C:F,1,FALSE),\"HF, à reclasser\")))","v":""},{"$f":"IF(ISBLANK(Import!E1557),\"\",IF(B1554=(LEFT(A1554,3)),(IFERROR(VLOOKUP(Import!B1557,Mapping!D:F,2,FALSE),\"Cpte à créer dans Mapping\")),\"Cpte à reclasser\"))","v":""}]
[{"$f":"IF(ISBLANK(Import!E1558),\"\",Import!E1558)","v":""},{"$f":"IF(ISBLANK(Import!E1558),\"\",(IFERROR(VLOOKUP(Import!C1558,Mapping!C:F,1,FALSE),\"HF, à reclasser\")))","v":""},{"$f":"IF(ISBLANK(Import!E1558),\"\",IF(B1555=(LEFT(A1555,3)),(IFERROR(VLOOKUP(Import!B1558,Mapping!D:F,2,FALSE),\"Cpte à créer dans Mapping\")),\"Cpte à reclasser\"))","v":""}]
[{"$f":"IF(ISBLANK(Import!E1559),\"\",Import!E1559)","v":""},{"$f":"IF(ISBLANK(Import!E1559),\"\",(IFERROR(VLOOKUP(Import!C1559,Mapping!C:F,1,FALSE),\"HF, à reclasser\")))","v":""},{"$f":"IF(ISBLANK(Import!E1559),\"\",IF(B1556=(LEFT(A1556,3)),(IFERROR(VLOOKUP(Import!B1559,Mapping!D:F,2,FALSE),\"Cpte à créer dans Mapping\")),\"Cpte à reclasser\"))","v":""}]
[{"$f":"IF(ISBLANK(Import!E1560),\"\",Import!E1560)","v":""},{"$f":"IF(ISBLANK(Import!E1560),\"\",(IFERROR(VLOOKUP(Import!C1560,Mapping!C:F,1,FALSE),\"HF, à reclasser\")))","v":""},{"$f":"IF(ISBLANK(Import!E1560),\"\",IF(B1557=(LEFT(A1557,3)),(IFERROR(VLOOKUP(Import!B1560,Mapping!D:F,2,FALSE),\"Cpte à créer dans Mapping\")),\"Cpte à reclasser\"))","v":""}]
[{"$f":"IF(ISBLANK(Import!E1561),\"\",Import!E1561)","v":""},{"$f":"IF(ISBLANK(Import!E1561),\"\",(IFERROR(VLOOKUP(Import!C1561,Mapping!C:F,1,FALSE),\"HF, à reclasser\")))","v":""},{"$f":"IF(ISBLANK(Import!E1561),\"\",IF(B1558=(LEFT(A1558,3)),(IFERROR(VLOOKUP(Import!B1561,Mapping!D:F,2,FALSE),\"Cpte à créer dans Mapping\")),\"Cpte à reclasser\"))","v":""}]
[{"$f":"IF(ISBLANK(Import!E1562),\"\",Import!E1562)","v":""},{"$f":"IF(ISBLANK(Import!E1562),\"\",(IFERROR(VLOOKUP(Import!C1562,Mapping!C:F,1,FALSE),\"HF, à reclasser\")))","v":""},{"$f":"IF(ISBLANK(Import!E1562),\"\",IF(B1559=(LEFT(A1559,3)),(IFERROR(VLOOKUP(Import!B1562,Mapping!D:F,2,FALSE),\"Cpte à créer dans Mapping\")),\"Cpte à reclasser\"))","v":""}]
[{"$f":"IF(ISBLANK(Import!E1563),\"\",Import!E1563)","v":""},{"$f":"IF(ISBLANK(Import!E1563),\"\",(IFERROR(VLOOKUP(Import!C1563,Mapping!C:F,1,FALSE),\"HF, à reclasser\")))","v":""},{"$f":"IF(ISBLANK(Import!E1563),\"\",IF(B1560=(LEFT(A1560,3)),(IFERROR(VLOOKUP(Import!B1563,Mapping!D:F,2,FALSE),\"Cpte à créer dans Mapping\")),\"Cpte à reclasser\"))","v":""}]
[{"$f":"IF(ISBLANK(Import!E1564),\"\",Import!E1564)","v":""},{"$f":"IF(ISBLANK(Import!E1564),\"\",(IFERROR(VLOOKUP(Import!C1564,Mapping!C:F,1,FALSE),\"HF, à reclasser\")))","v":""},{"$f":"IF(ISBLANK(Import!E1564),\"\",IF(B1561=(LEFT(A1561,3)),(IFERROR(VLOOKUP(Import!B1564,Mapping!D:F,2,FALSE),\"Cpte à créer dans Mapping\")),\"Cpte à reclasser\"))","v":""}]
[{"$f":"IF(ISBLANK(Import!E1565),\"\",Import!E1565)","v":""},{"$f":"IF(ISBLANK(Import!E1565),\"\",(IFERROR(VLOOKUP(Import!C1565,Mapping!C:F,1,FALSE),\"HF, à reclasser\")))","v":""},{"$f":"IF(ISBLANK(Import!E1565),\"\",IF(B1562=(LEFT(A1562,3)),(IFERROR(VLOOKUP(Import!B1565,Mapping!D:F,2,FALSE),\"Cpte à créer dans Mapping\")),\"Cpte à reclasser\"))","v":""}]
[{"$f":"IF(ISBLANK(Import!E1566),\"\",Import!E1566)","v":""},{"$f":"IF(ISBLANK(Import!E1566),\"\",(IFERROR(VLOOKUP(Import!C1566,Mapping!C:F,1,FALSE),\"HF, à reclasser\")))","v":""},{"$f":"IF(ISBLANK(Import!E1566),\"\",IF(B1563=(LEFT(A1563,3)),(IFERROR(VLOOKUP(Import!B1566,Mapping!D:F,2,FALSE),\"Cpte à créer dans Mapping\")),\"Cpte à reclasser\"))","v":""}]
[{"$f":"IF(ISBLANK(Import!E1567),\"\",Import!E1567)","v":""},{"$f":"IF(ISBLANK(Import!E1567),\"\",(IFERROR(VLOOKUP(Import!C1567,Mapping!C:F,1,FALSE),\"HF, à reclasser\")))","v":""},{"$f":"IF(ISBLANK(Import!E1567),\"\",IF(B1564=(LEFT(A1564,3)),(IFERROR(VLOOKUP(Import!B1567,Mapping!D:F,2,FALSE),\"Cpte à créer dans Mapping\")),\"Cpte à reclasser\"))","v":""}]
[{"$f":"IF(ISBLANK(Import!E1568),\"\",Import!E1568)","v":""},{"$f":"IF(ISBLANK(Import!E1568),\"\",(IFERROR(VLOOKUP(Import!C1568,Mapping!C:F,1,FALSE),\"HF, à reclasser\")))","v":""},{"$f":"IF(ISBLANK(Import!E1568),\"\",IF(B1565=(LEFT(A1565,3)),(IFERROR(VLOOKUP(Import!B1568,Mapping!D:F,2,FALSE),\"Cpte à créer dans Mapping\")),\"Cpte à reclasser\"))","v":""}]
[{"$f":"IF(ISBLANK(Import!E1569),\"\",Import!E1569)","v":""},{"$f":"IF(ISBLANK(Import!E1569),\"\",(IFERROR(VLOOKUP(Import!C1569,Mapping!C:F,1,FALSE),\"HF, à reclasser\")))","v":""},{"$f":"IF(ISBLANK(Import!E1569),\"\",IF(B1566=(LEFT(A1566,3)),(IFERROR(VLOOKUP(Import!B1569,Mapping!D:F,2,FALSE),\"Cpte à créer dans Mapping\")),\"Cpte à reclasser\"))","v":""}]
[{"$f":"IF(ISBLANK(Import!E1570),\"\",Import!E1570)","v":""},{"$f":"IF(ISBLANK(Import!E1570),\"\",(IFERROR(VLOOKUP(Import!C1570,Mapping!C:F,1,FALSE),\"HF, à reclasser\")))","v":""},{"$f":"IF(ISBLANK(Import!E1570),\"\",IF(B1567=(LEFT(A1567,3)),(IFERROR(VLOOKUP(Import!B1570,Mapping!D:F,2,FALSE),\"Cpte à créer dans Mapping\")),\"Cpte à reclasser\"))","v":""}]
[{"$f":"IF(ISBLANK(Import!E1571),\"\",Import!E1571)","v":""},{"$f":"IF(ISBLANK(Import!E1571),\"\",(IFERROR(VLOOKUP(Import!C1571,Mapping!C:F,1,FALSE),\"HF, à reclasser\")))","v":""},{"$f":"IF(ISBLANK(Import!E1571),\"\",IF(B1568=(LEFT(A1568,3)),(IFERROR(VLOOKUP(Import!B1571,Mapping!D:F,2,FALSE),\"Cpte à créer dans Mapping\")),\"Cpte à reclasser\"))","v":""}]
[{"$f":"IF(ISBLANK(Import!E1572),\"\",Import!E1572)","v":""},{"$f":"IF(ISBLANK(Import!E1572),\"\",(IFERROR(VLOOKUP(Import!C1572,Mapping!C:F,1,FALSE),\"HF, à reclasser\")))","v":""},{"$f":"IF(ISBLANK(Import!E1572),\"\",IF(B1569=(LEFT(A1569,3)),(IFERROR(VLOOKUP(Import!B1572,Mapping!D:F,2,FALSE),\"Cpte à créer dans Mapping\")),\"Cpte à reclasser\"))","v":""}]
[{"$f":"IF(ISBLANK(Import!E1573),\"\",Import!E1573)","v":""},{"$f":"IF(ISBLANK(Import!E1573),\"\",(IFERROR(VLOOKUP(Import!C1573,Mapping!C:F,1,FALSE),\"HF, à reclasser\")))","v":""},{"$f":"IF(ISBLANK(Import!E1573),\"\",IF(B1570=(LEFT(A1570,3)),(IFERROR(VLOOKUP(Import!B1573,Mapping!D:F,2,FALSE),\"Cpte à créer dans Mapping\")),\"Cpte à reclasser\"))","v":""}]
[{"$f":"IF(ISBLANK(Import!E1574),\"\",Import!E1574)","v":""},{"$f":"IF(ISBLANK(Import!E1574),\"\",(IFERROR(VLOOKUP(Import!C1574,Mapping!C:F,1,FALSE),\"HF, à reclasser\")))","v":""},{"$f":"IF(ISBLANK(Import!E1574),\"\",IF(B1571=(LEFT(A1571,3)),(IFERROR(VLOOKUP(Import!B1574,Mapping!D:F,2,FALSE),\"Cpte à créer dans Mapping\")),\"Cpte à reclasser\"))","v":""}]
[{"$f":"IF(ISBLANK(Import!E1575),\"\",Import!E1575)","v":""},{"$f":"IF(ISBLANK(Import!E1575),\"\",(IFERROR(VLOOKUP(Import!C1575,Mapping!C:F,1,FALSE),\"HF, à reclasser\")))","v":""},{"$f":"IF(ISBLANK(Import!E1575),\"\",IF(B1572=(LEFT(A1572,3)),(IFERROR(VLOOKUP(Import!B1575,Mapping!D:F,2,FALSE),\"Cpte à créer dans Mapping\")),\"Cpte à reclasser\"))","v":""}]
[{"$f":"IF(ISBLANK(Import!E1576),\"\",Import!E1576)","v":""},{"$f":"IF(ISBLANK(Import!E1576),\"\",(IFERROR(VLOOKUP(Import!C1576,Mapping!C:F,1,FALSE),\"HF, à reclasser\")))","v":""},{"$f":"IF(ISBLANK(Import!E1576),\"\",IF(B1573=(LEFT(A1573,3)),(IFERROR(VLOOKUP(Import!B1576,Mapping!D:F,2,FALSE),\"Cpte à créer dans Mapping\")),\"Cpte à reclasser\"))","v":""}]
[{"$f":"IF(ISBLANK(Import!E1577),\"\",Import!E1577)","v":""},{"$f":"IF(ISBLANK(Import!E1577),\"\",(IFERROR(VLOOKUP(Import!C1577,Mapping!C:F,1,FALSE),\"HF, à reclasser\")))","v":""},{"$f":"IF(ISBLANK(Import!E1577),\"\",IF(B1574=(LEFT(A1574,3)),(IFERROR(VLOOKUP(Import!B1577,Mapping!D:F,2,FALSE),\"Cpte à créer dans Mapping\")),\"Cpte à reclasser\"))","v":""}]
[{"$f":"IF(ISBLANK(Import!E1578),\"\",Import!E1578)","v":""},{"$f":"IF(ISBLANK(Import!E1578),\"\",(IFERROR(VLOOKUP(Import!C1578,Mapping!C:F,1,FALSE),\"HF, à reclasser\")))","v":""},{"$f":"IF(ISBLANK(Import!E1578),\"\",IF(B1575=(LEFT(A1575,3)),(IFERROR(VLOOKUP(Import!B1578,Mapping!D:F,2,FALSE),\"Cpte à créer dans Mapping\")),\"Cpte à reclasser\"))","v":""}]
[{"$f":"IF(ISBLANK(Import!E1579),\"\",Import!E1579)","v":""},{"$f":"IF(ISBLANK(Import!E1579),\"\",(IFERROR(VLOOKUP(Import!C1579,Mapping!C:F,1,FALSE),\"HF, à reclasser\")))","v":""},{"$f":"IF(ISBLANK(Import!E1579),\"\",IF(B1576=(LEFT(A1576,3)),(IFERROR(VLOOKUP(Import!B1579,Mapping!D:F,2,FALSE),\"Cpte à créer dans Mapping\")),\"Cpte à reclasser\"))","v":""}]
[{"$f":"IF(ISBLANK(Import!E1580),\"\",Import!E1580)","v":""},{"$f":"IF(ISBLANK(Import!E1580),\"\",(IFERROR(VLOOKUP(Import!C1580,Mapping!C:F,1,FALSE),\"HF, à reclasser\")))","v":""},{"$f":"IF(ISBLANK(Import!E1580),\"\",IF(B1577=(LEFT(A1577,3)),(IFERROR(VLOOKUP(Import!B1580,Mapping!D:F,2,FALSE),\"Cpte à créer dans Mapping\")),\"Cpte à reclasser\"))","v":""}]
[{"$f":"IF(ISBLANK(Import!E1581),\"\",Import!E1581)","v":""},{"$f":"IF(ISBLANK(Import!E1581),\"\",(IFERROR(VLOOKUP(Import!C1581,Mapping!C:F,1,FALSE),\"HF, à reclasser\")))","v":""},{"$f":"IF(ISBLANK(Import!E1581),\"\",IF(B1578=(LEFT(A1578,3)),(IFERROR(VLOOKUP(Import!B1581,Mapping!D:F,2,FALSE),\"Cpte à créer dans Mapping\")),\"Cpte à reclasser\"))","v":""}]
[{"$f":"IF(ISBLANK(Import!E1582),\"\",Import!E1582)","v":""},{"$f":"IF(ISBLANK(Import!E1582),\"\",(IFERROR(VLOOKUP(Import!C1582,Mapping!C:F,1,FALSE),\"HF, à reclasser\")))","v":""},{"$f":"IF(ISBLANK(Import!E1582),\"\",IF(B1579=(LEFT(A1579,3)),(IFERROR(VLOOKUP(Import!B1582,Mapping!D:F,2,FALSE),\"Cpte à créer dans Mapping\")),\"Cpte à reclasser\"))","v":""}]
[{"$f":"IF(ISBLANK(Import!E1583),\"\",Import!E1583)","v":""},{"$f":"IF(ISBLANK(Import!E1583),\"\",(IFERROR(VLOOKUP(Import!C1583,Mapping!C:F,1,FALSE),\"HF, à reclasser\")))","v":""},{"$f":"IF(ISBLANK(Import!E1583),\"\",IF(B1580=(LEFT(A1580,3)),(IFERROR(VLOOKUP(Import!B1583,Mapping!D:F,2,FALSE),\"Cpte à créer dans Mapping\")),\"Cpte à reclasser\"))","v":""}]
[{"$f":"IF(ISBLANK(Import!E1584),\"\",Import!E1584)","v":""},{"$f":"IF(ISBLANK(Import!E1584),\"\",(IFERROR(VLOOKUP(Import!C1584,Mapping!C:F,1,FALSE),\"HF, à reclasser\")))","v":""},{"$f":"IF(ISBLANK(Import!E1584),\"\",IF(B1581=(LEFT(A1581,3)),(IFERROR(VLOOKUP(Import!B1584,Mapping!D:F,2,FALSE),\"Cpte à créer dans Mapping\")),\"Cpte à reclasser\"))","v":""}]
[{"$f":"IF(ISBLANK(Import!E1585),\"\",Import!E1585)","v":""},{"$f":"IF(ISBLANK(Import!E1585),\"\",(IFERROR(VLOOKUP(Import!C1585,Mapping!C:F,1,FALSE),\"HF, à reclasser\")))","v":""},{"$f":"IF(ISBLANK(Import!E1585),\"\",IF(B1582=(LEFT(A1582,3)),(IFERROR(VLOOKUP(Import!B1585,Mapping!D:F,2,FALSE),\"Cpte à créer dans Mapping\")),\"Cpte à reclasser\"))","v":""}]
[{"$f":"IF(ISBLANK(Import!E1586),\"\",Import!E1586)","v":""},{"$f":"IF(ISBLANK(Import!E1586),\"\",(IFERROR(VLOOKUP(Import!C1586,Mapping!C:F,1,FALSE),\"HF, à reclasser\")))","v":""},{"$f":"IF(ISBLANK(Import!E1586),\"\",IF(B1583=(LEFT(A1583,3)),(IFERROR(VLOOKUP(Import!B1586,Mapping!D:F,2,FALSE),\"Cpte à créer dans Mapping\")),\"Cpte à reclasser\"))","v":""}]
[{"$f":"IF(ISBLANK(Import!E1587),\"\",Import!E1587)","v":""},{"$f":"IF(ISBLANK(Import!E1587),\"\",(IFERROR(VLOOKUP(Import!C1587,Mapping!C:F,1,FALSE),\"HF, à reclasser\")))","v":""},{"$f":"IF(ISBLANK(Import!E1587),\"\",IF(B1584=(LEFT(A1584,3)),(IFERROR(VLOOKUP(Import!B1587,Mapping!D:F,2,FALSE),\"Cpte à créer dans Mapping\")),\"Cpte à reclasser\"))","v":""}]
[{"$f":"IF(ISBLANK(Import!E1588),\"\",Import!E1588)","v":""},{"$f":"IF(ISBLANK(Import!E1588),\"\",(IFERROR(VLOOKUP(Import!C1588,Mapping!C:F,1,FALSE),\"HF, à reclasser\")))","v":""},{"$f":"IF(ISBLANK(Import!E1588),\"\",IF(B1585=(LEFT(A1585,3)),(IFERROR(VLOOKUP(Import!B1588,Mapping!D:F,2,FALSE),\"Cpte à créer dans Mapping\")),\"Cpte à reclasser\"))","v":""}]
[{"$f":"IF(ISBLANK(Import!E1589),\"\",Import!E1589)","v":""},{"$f":"IF(ISBLANK(Import!E1589),\"\",(IFERROR(VLOOKUP(Import!C1589,Mapping!C:F,1,FALSE),\"HF, à reclasser\")))","v":""},{"$f":"IF(ISBLANK(Import!E1589),\"\",IF(B1586=(LEFT(A1586,3)),(IFERROR(VLOOKUP(Import!B1589,Mapping!D:F,2,FALSE),\"Cpte à créer dans Mapping\")),\"Cpte à reclasser\"))","v":""}]
[{"$f":"IF(ISBLANK(Import!E1590),\"\",Import!E1590)","v":""},{"$f":"IF(ISBLANK(Import!E1590),\"\",(IFERROR(VLOOKUP(Import!C1590,Mapping!C:F,1,FALSE),\"HF, à reclasser\")))","v":""},{"$f":"IF(ISBLANK(Import!E1590),\"\",IF(B1587=(LEFT(A1587,3)),(IFERROR(VLOOKUP(Import!B1590,Mapping!D:F,2,FALSE),\"Cpte à créer dans Mapping\")),\"Cpte à reclasser\"))","v":""}]
[{"$f":"IF(ISBLANK(Import!E1591),\"\",Import!E1591)","v":""},{"$f":"IF(ISBLANK(Import!E1591),\"\",(IFERROR(VLOOKUP(Import!C1591,Mapping!C:F,1,FALSE),\"HF, à reclasser\")))","v":""},{"$f":"IF(ISBLANK(Import!E1591),\"\",IF(B1588=(LEFT(A1588,3)),(IFERROR(VLOOKUP(Import!B1591,Mapping!D:F,2,FALSE),\"Cpte à créer dans Mapping\")),\"Cpte à reclasser\"))","v":""}]
[{"$f":"IF(ISBLANK(Import!E1592),\"\",Import!E1592)","v":""},{"$f":"IF(ISBLANK(Import!E1592),\"\",(IFERROR(VLOOKUP(Import!C1592,Mapping!C:F,1,FALSE),\"HF, à reclasser\")))","v":""},{"$f":"IF(ISBLANK(Import!E1592),\"\",IF(B1589=(LEFT(A1589,3)),(IFERROR(VLOOKUP(Import!B1592,Mapping!D:F,2,FALSE),\"Cpte à créer dans Mapping\")),\"Cpte à reclasser\"))","v":""}]
[{"$f":"IF(ISBLANK(Import!E1593),\"\",Import!E1593)","v":""},{"$f":"IF(ISBLANK(Import!E1593),\"\",(IFERROR(VLOOKUP(Import!C1593,Mapping!C:F,1,FALSE),\"HF, à reclasser\")))","v":""},{"$f":"IF(ISBLANK(Import!E1593),\"\",IF(B1590=(LEFT(A1590,3)),(IFERROR(VLOOKUP(Import!B1593,Mapping!D:F,2,FALSE),\"Cpte à créer dans Mapping\")),\"Cpte à reclasser\"))","v":""}]
[{"$f":"IF(ISBLANK(Import!E1594),\"\",Import!E1594)","v":""},{"$f":"IF(ISBLANK(Import!E1594),\"\",(IFERROR(VLOOKUP(Import!C1594,Mapping!C:F,1,FALSE),\"HF, à reclasser\")))","v":""},{"$f":"IF(ISBLANK(Import!E1594),\"\",IF(B1591=(LEFT(A1591,3)),(IFERROR(VLOOKUP(Import!B1594,Mapping!D:F,2,FALSE),\"Cpte à créer dans Mapping\")),\"Cpte à reclasser\"))","v":""}]
[{"$f":"IF(ISBLANK(Import!E1595),\"\",Import!E1595)","v":""},{"$f":"IF(ISBLANK(Import!E1595),\"\",(IFERROR(VLOOKUP(Import!C1595,Mapping!C:F,1,FALSE),\"HF, à reclasser\")))","v":""},{"$f":"IF(ISBLANK(Import!E1595),\"\",IF(B1592=(LEFT(A1592,3)),(IFERROR(VLOOKUP(Import!B1595,Mapping!D:F,2,FALSE),\"Cpte à créer dans Mapping\")),\"Cpte à reclasser\"))","v":""}]
[{"$f":"IF(ISBLANK(Import!E1596),\"\",Import!E1596)","v":""},{"$f":"IF(ISBLANK(Import!E1596),\"\",(IFERROR(VLOOKUP(Import!C1596,Mapping!C:F,1,FALSE),\"HF, à reclasser\")))","v":""},{"$f":"IF(ISBLANK(Import!E1596),\"\",IF(B1593=(LEFT(A1593,3)),(IFERROR(VLOOKUP(Import!B1596,Mapping!D:F,2,FALSE),\"Cpte à créer dans Mapping\")),\"Cpte à reclasser\"))","v":""}]
[{"$f":"IF(ISBLANK(Import!E1597),\"\",Import!E1597)","v":""},{"$f":"IF(ISBLANK(Import!E1597),\"\",(IFERROR(VLOOKUP(Import!C1597,Mapping!C:F,1,FALSE),\"HF, à reclasser\")))","v":""},{"$f":"IF(ISBLANK(Import!E1597),\"\",IF(B1594=(LEFT(A1594,3)),(IFERROR(VLOOKUP(Import!B1597,Mapping!D:F,2,FALSE),\"Cpte à créer dans Mapping\")),\"Cpte à reclasser\"))","v":""}]
[{"$f":"IF(ISBLANK(Import!E1598),\"\",Import!E1598)","v":""},{"$f":"IF(ISBLANK(Import!E1598),\"\",(IFERROR(VLOOKUP(Import!C1598,Mapping!C:F,1,FALSE),\"HF, à reclasser\")))","v":""},{"$f":"IF(ISBLANK(Import!E1598),\"\",IF(B1595=(LEFT(A1595,3)),(IFERROR(VLOOKUP(Import!B1598,Mapping!D:F,2,FALSE),\"Cpte à créer dans Mapping\")),\"Cpte à reclasser\"))","v":""}]
[{"$f":"IF(ISBLANK(Import!E1599),\"\",Import!E1599)","v":""},{"$f":"IF(ISBLANK(Import!E1599),\"\",(IFERROR(VLOOKUP(Import!C1599,Mapping!C:F,1,FALSE),\"HF, à reclasser\")))","v":""},{"$f":"IF(ISBLANK(Import!E1599),\"\",IF(B1596=(LEFT(A1596,3)),(IFERROR(VLOOKUP(Import!B1599,Mapping!D:F,2,FALSE),\"Cpte à créer dans Mapping\")),\"Cpte à reclasser\"))","v":""}]
[{"$f":"IF(ISBLANK(Import!E1600),\"\",Import!E1600)","v":""},{"$f":"IF(ISBLANK(Import!E1600),\"\",(IFERROR(VLOOKUP(Import!C1600,Mapping!C:F,1,FALSE),\"HF, à reclasser\")))","v":""},{"$f":"IF(ISBLANK(Import!E1600),\"\",IF(B1597=(LEFT(A1597,3)),(IFERROR(VLOOKUP(Import!B1600,Mapping!D:F,2,FALSE),\"Cpte à créer dans Mapping\")),\"Cpte à reclasser\"))","v":""}]
[{"$f":"IF(ISBLANK(Import!E1601),\"\",Import!E1601)","v":""},{"$f":"IF(ISBLANK(Import!E1601),\"\",(IFERROR(VLOOKUP(Import!C1601,Mapping!C:F,1,FALSE),\"HF, à reclasser\")))","v":""},{"$f":"IF(ISBLANK(Import!E1601),\"\",IF(B1598=(LEFT(A1598,3)),(IFERROR(VLOOKUP(Import!B1601,Mapping!D:F,2,FALSE),\"Cpte à créer dans Mapping\")),\"Cpte à reclasser\"))","v":""}]
[{"$f":"IF(ISBLANK(Import!E1602),\"\",Import!E1602)","v":""},{"$f":"IF(ISBLANK(Import!E1602),\"\",(IFERROR(VLOOKUP(Import!C1602,Mapping!C:F,1,FALSE),\"HF, à reclasser\")))","v":""},{"$f":"IF(ISBLANK(Import!E1602),\"\",IF(B1599=(LEFT(A1599,3)),(IFERROR(VLOOKUP(Import!B1602,Mapping!D:F,2,FALSE),\"Cpte à créer dans Mapping\")),\"Cpte à reclasser\"))","v":""}]
[{"$f":"IF(ISBLANK(Import!E1603),\"\",Import!E1603)","v":""},{"$f":"IF(ISBLANK(Import!E1603),\"\",(IFERROR(VLOOKUP(Import!C1603,Mapping!C:F,1,FALSE),\"HF, à reclasser\")))","v":""},{"$f":"IF(ISBLANK(Import!E1603),\"\",IF(B1600=(LEFT(A1600,3)),(IFERROR(VLOOKUP(Import!B1603,Mapping!D:F,2,FALSE),\"Cpte à créer dans Mapping\")),\"Cpte à reclasser\"))","v":""}]
[{"$f":"IF(ISBLANK(Import!E1604),\"\",Import!E1604)","v":""},{"$f":"IF(ISBLANK(Import!E1604),\"\",(IFERROR(VLOOKUP(Import!C1604,Mapping!C:F,1,FALSE),\"HF, à reclasser\")))","v":""},{"$f":"IF(ISBLANK(Import!E1604),\"\",IF(B1601=(LEFT(A1601,3)),(IFERROR(VLOOKUP(Import!B1604,Mapping!D:F,2,FALSE),\"Cpte à créer dans Mapping\")),\"Cpte à reclasser\"))","v":""}]
[{"$f":"IF(ISBLANK(Import!E1605),\"\",Import!E1605)","v":""},{"$f":"IF(ISBLANK(Import!E1605),\"\",(IFERROR(VLOOKUP(Import!C1605,Mapping!C:F,1,FALSE),\"HF, à reclasser\")))","v":""},{"$f":"IF(ISBLANK(Import!E1605),\"\",IF(B1602=(LEFT(A1602,3)),(IFERROR(VLOOKUP(Import!B1605,Mapping!D:F,2,FALSE),\"Cpte à créer dans Mapping\")),\"Cpte à reclasser\"))","v":""}]
[{"$f":"IF(ISBLANK(Import!E1606),\"\",Import!E1606)","v":""},{"$f":"IF(ISBLANK(Import!E1606),\"\",(IFERROR(VLOOKUP(Import!C1606,Mapping!C:F,1,FALSE),\"HF, à reclasser\")))","v":""},{"$f":"IF(ISBLANK(Import!E1606),\"\",IF(B1603=(LEFT(A1603,3)),(IFERROR(VLOOKUP(Import!B1606,Mapping!D:F,2,FALSE),\"Cpte à créer dans Mapping\")),\"Cpte à reclasser\"))","v":""}]
[{"$f":"IF(ISBLANK(Import!E1607),\"\",Import!E1607)","v":""},{"$f":"IF(ISBLANK(Import!E1607),\"\",(IFERROR(VLOOKUP(Import!C1607,Mapping!C:F,1,FALSE),\"HF, à reclasser\")))","v":""},{"$f":"IF(ISBLANK(Import!E1607),\"\",IF(B1604=(LEFT(A1604,3)),(IFERROR(VLOOKUP(Import!B1607,Mapping!D:F,2,FALSE),\"Cpte à créer dans Mapping\")),\"Cpte à reclasser\"))","v":""}]
[{"$f":"IF(ISBLANK(Import!E1608),\"\",Import!E1608)","v":""},{"$f":"IF(ISBLANK(Import!E1608),\"\",(IFERROR(VLOOKUP(Import!C1608,Mapping!C:F,1,FALSE),\"HF, à reclasser\")))","v":""},{"$f":"IF(ISBLANK(Import!E1608),\"\",IF(B1605=(LEFT(A1605,3)),(IFERROR(VLOOKUP(Import!B1608,Mapping!D:F,2,FALSE),\"Cpte à créer dans Mapping\")),\"Cpte à reclasser\"))","v":""}]
[{"$f":"IF(ISBLANK(Import!E1609),\"\",Import!E1609)","v":""},{"$f":"IF(ISBLANK(Import!E1609),\"\",(IFERROR(VLOOKUP(Import!C1609,Mapping!C:F,1,FALSE),\"HF, à reclasser\")))","v":""},{"$f":"IF(ISBLANK(Import!E1609),\"\",IF(B1606=(LEFT(A1606,3)),(IFERROR(VLOOKUP(Import!B1609,Mapping!D:F,2,FALSE),\"Cpte à créer dans Mapping\")),\"Cpte à reclasser\"))","v":""}]
[{"$f":"IF(ISBLANK(Import!E1610),\"\",Import!E1610)","v":""},{"$f":"IF(ISBLANK(Import!E1610),\"\",(IFERROR(VLOOKUP(Import!C1610,Mapping!C:F,1,FALSE),\"HF, à reclasser\")))","v":""},{"$f":"IF(ISBLANK(Import!E1610),\"\",IF(B1607=(LEFT(A1607,3)),(IFERROR(VLOOKUP(Import!B1610,Mapping!D:F,2,FALSE),\"Cpte à créer dans Mapping\")),\"Cpte à reclasser\"))","v":""}]
[{"$f":"IF(ISBLANK(Import!E1611),\"\",Import!E1611)","v":""},{"$f":"IF(ISBLANK(Import!E1611),\"\",(IFERROR(VLOOKUP(Import!C1611,Mapping!C:F,1,FALSE),\"HF, à reclasser\")))","v":""},{"$f":"IF(ISBLANK(Import!E1611),\"\",IF(B1608=(LEFT(A1608,3)),(IFERROR(VLOOKUP(Import!B1611,Mapping!D:F,2,FALSE),\"Cpte à créer dans Mapping\")),\"Cpte à reclasser\"))","v":""}]
[{"$f":"IF(ISBLANK(Import!E1612),\"\",Import!E1612)","v":""},{"$f":"IF(ISBLANK(Import!E1612),\"\",(IFERROR(VLOOKUP(Import!C1612,Mapping!C:F,1,FALSE),\"HF, à reclasser\")))","v":""},{"$f":"IF(ISBLANK(Import!E1612),\"\",IF(B1609=(LEFT(A1609,3)),(IFERROR(VLOOKUP(Import!B1612,Mapping!D:F,2,FALSE),\"Cpte à créer dans Mapping\")),\"Cpte à reclasser\"))","v":""}]
[{"$f":"IF(ISBLANK(Import!E1613),\"\",Import!E1613)","v":""},{"$f":"IF(ISBLANK(Import!E1613),\"\",(IFERROR(VLOOKUP(Import!C1613,Mapping!C:F,1,FALSE),\"HF, à reclasser\")))","v":""},{"$f":"IF(ISBLANK(Import!E1613),\"\",IF(B1610=(LEFT(A1610,3)),(IFERROR(VLOOKUP(Import!B1613,Mapping!D:F,2,FALSE),\"Cpte à créer dans Mapping\")),\"Cpte à reclasser\"))","v":""}]
[{"$f":"IF(ISBLANK(Import!E1614),\"\",Import!E1614)","v":""},{"$f":"IF(ISBLANK(Import!E1614),\"\",(IFERROR(VLOOKUP(Import!C1614,Mapping!C:F,1,FALSE),\"HF, à reclasser\")))","v":""},{"$f":"IF(ISBLANK(Import!E1614),\"\",IF(B1611=(LEFT(A1611,3)),(IFERROR(VLOOKUP(Import!B1614,Mapping!D:F,2,FALSE),\"Cpte à créer dans Mapping\")),\"Cpte à reclasser\"))","v":""}]
[{"$f":"IF(ISBLANK(Import!E1615),\"\",Import!E1615)","v":""},{"$f":"IF(ISBLANK(Import!E1615),\"\",(IFERROR(VLOOKUP(Import!C1615,Mapping!C:F,1,FALSE),\"HF, à reclasser\")))","v":""},{"$f":"IF(ISBLANK(Import!E1615),\"\",IF(B1612=(LEFT(A1612,3)),(IFERROR(VLOOKUP(Import!B1615,Mapping!D:F,2,FALSE),\"Cpte à créer dans Mapping\")),\"Cpte à reclasser\"))","v":""}]
[{"$f":"IF(ISBLANK(Import!E1616),\"\",Import!E1616)","v":""},{"$f":"IF(ISBLANK(Import!E1616),\"\",(IFERROR(VLOOKUP(Import!C1616,Mapping!C:F,1,FALSE),\"HF, à reclasser\")))","v":""},{"$f":"IF(ISBLANK(Import!E1616),\"\",IF(B1613=(LEFT(A1613,3)),(IFERROR(VLOOKUP(Import!B1616,Mapping!D:F,2,FALSE),\"Cpte à créer dans Mapping\")),\"Cpte à reclasser\"))","v":""}]
[{"$f":"IF(ISBLANK(Import!E1617),\"\",Import!E1617)","v":""},{"$f":"IF(ISBLANK(Import!E1617),\"\",(IFERROR(VLOOKUP(Import!C1617,Mapping!C:F,1,FALSE),\"HF, à reclasser\")))","v":""},{"$f":"IF(ISBLANK(Import!E1617),\"\",IF(B1614=(LEFT(A1614,3)),(IFERROR(VLOOKUP(Import!B1617,Mapping!D:F,2,FALSE),\"Cpte à créer dans Mapping\")),\"Cpte à reclasser\"))","v":""}]
[{"$f":"IF(ISBLANK(Import!E1618),\"\",Import!E1618)","v":""},{"$f":"IF(ISBLANK(Import!E1618),\"\",(IFERROR(VLOOKUP(Import!C1618,Mapping!C:F,1,FALSE),\"HF, à reclasser\")))","v":""},{"$f":"IF(ISBLANK(Import!E1618),\"\",IF(B1615=(LEFT(A1615,3)),(IFERROR(VLOOKUP(Import!B1618,Mapping!D:F,2,FALSE),\"Cpte à créer dans Mapping\")),\"Cpte à reclasser\"))","v":""}]
[{"$f":"IF(ISBLANK(Import!E1619),\"\",Import!E1619)","v":""},{"$f":"IF(ISBLANK(Import!E1619),\"\",(IFERROR(VLOOKUP(Import!C1619,Mapping!C:F,1,FALSE),\"HF, à reclasser\")))","v":""},{"$f":"IF(ISBLANK(Import!E1619),\"\",IF(B1616=(LEFT(A1616,3)),(IFERROR(VLOOKUP(Import!B1619,Mapping!D:F,2,FALSE),\"Cpte à créer dans Mapping\")),\"Cpte à reclasser\"))","v":""}]
[{"$f":"IF(ISBLANK(Import!E1620),\"\",Import!E1620)","v":""},{"$f":"IF(ISBLANK(Import!E1620),\"\",(IFERROR(VLOOKUP(Import!C1620,Mapping!C:F,1,FALSE),\"HF, à reclasser\")))","v":""},{"$f":"IF(ISBLANK(Import!E1620),\"\",IF(B1617=(LEFT(A1617,3)),(IFERROR(VLOOKUP(Import!B1620,Mapping!D:F,2,FALSE),\"Cpte à créer dans Mapping\")),\"Cpte à reclasser\"))","v":""}]
[{"$f":"IF(ISBLANK(Import!E1621),\"\",Import!E1621)","v":""},{"$f":"IF(ISBLANK(Import!E1621),\"\",(IFERROR(VLOOKUP(Import!C1621,Mapping!C:F,1,FALSE),\"HF, à reclasser\")))","v":""},{"$f":"IF(ISBLANK(Import!E1621),\"\",IF(B1618=(LEFT(A1618,3)),(IFERROR(VLOOKUP(Import!B1621,Mapping!D:F,2,FALSE),\"Cpte à créer dans Mapping\")),\"Cpte à reclasser\"))","v":""}]
[{"$f":"IF(ISBLANK(Import!E1622),\"\",Import!E1622)","v":""},{"$f":"IF(ISBLANK(Import!E1622),\"\",(IFERROR(VLOOKUP(Import!C1622,Mapping!C:F,1,FALSE),\"HF, à reclasser\")))","v":""},{"$f":"IF(ISBLANK(Import!E1622),\"\",IF(B1619=(LEFT(A1619,3)),(IFERROR(VLOOKUP(Import!B1622,Mapping!D:F,2,FALSE),\"Cpte à créer dans Mapping\")),\"Cpte à reclasser\"))","v":""}]
[{"$f":"IF(ISBLANK(Import!E1623),\"\",Import!E1623)","v":""},{"$f":"IF(ISBLANK(Import!E1623),\"\",(IFERROR(VLOOKUP(Import!C1623,Mapping!C:F,1,FALSE),\"HF, à reclasser\")))","v":""},{"$f":"IF(ISBLANK(Import!E1623),\"\",IF(B1620=(LEFT(A1620,3)),(IFERROR(VLOOKUP(Import!B1623,Mapping!D:F,2,FALSE),\"Cpte à créer dans Mapping\")),\"Cpte à reclasser\"))","v":""}]
[{"$f":"IF(ISBLANK(Import!E1624),\"\",Import!E1624)","v":""},{"$f":"IF(ISBLANK(Import!E1624),\"\",(IFERROR(VLOOKUP(Import!C1624,Mapping!C:F,1,FALSE),\"HF, à reclasser\")))","v":""},{"$f":"IF(ISBLANK(Import!E1624),\"\",IF(B1621=(LEFT(A1621,3)),(IFERROR(VLOOKUP(Import!B1624,Mapping!D:F,2,FALSE),\"Cpte à créer dans Mapping\")),\"Cpte à reclasser\"))","v":""}]
[{"$f":"IF(ISBLANK(Import!E1625),\"\",Import!E1625)","v":""},{"$f":"IF(ISBLANK(Import!E1625),\"\",(IFERROR(VLOOKUP(Import!C1625,Mapping!C:F,1,FALSE),\"HF, à reclasser\")))","v":""},{"$f":"IF(ISBLANK(Import!E1625),\"\",IF(B1622=(LEFT(A1622,3)),(IFERROR(VLOOKUP(Import!B1625,Mapping!D:F,2,FALSE),\"Cpte à créer dans Mapping\")),\"Cpte à reclasser\"))","v":""}]
[{"$f":"IF(ISBLANK(Import!E1626),\"\",Import!E1626)","v":""},{"$f":"IF(ISBLANK(Import!E1626),\"\",(IFERROR(VLOOKUP(Import!C1626,Mapping!C:F,1,FALSE),\"HF, à reclasser\")))","v":""},{"$f":"IF(ISBLANK(Import!E1626),\"\",IF(B1623=(LEFT(A1623,3)),(IFERROR(VLOOKUP(Import!B1626,Mapping!D:F,2,FALSE),\"Cpte à créer dans Mapping\")),\"Cpte à reclasser\"))","v":""}]
[{"$f":"IF(ISBLANK(Import!E1627),\"\",Import!E1627)","v":""},{"$f":"IF(ISBLANK(Import!E1627),\"\",(IFERROR(VLOOKUP(Import!C1627,Mapping!C:F,1,FALSE),\"HF, à reclasser\")))","v":""},{"$f":"IF(ISBLANK(Import!E1627),\"\",IF(B1624=(LEFT(A1624,3)),(IFERROR(VLOOKUP(Import!B1627,Mapping!D:F,2,FALSE),\"Cpte à créer dans Mapping\")),\"Cpte à reclasser\"))","v":""}]
[{"$f":"IF(ISBLANK(Import!E1628),\"\",Import!E1628)","v":""},{"$f":"IF(ISBLANK(Import!E1628),\"\",(IFERROR(VLOOKUP(Import!C1628,Mapping!C:F,1,FALSE),\"HF, à reclasser\")))","v":""},{"$f":"IF(ISBLANK(Import!E1628),\"\",IF(B1625=(LEFT(A1625,3)),(IFERROR(VLOOKUP(Import!B1628,Mapping!D:F,2,FALSE),\"Cpte à créer dans Mapping\")),\"Cpte à reclasser\"))","v":""}]
[{"$f":"IF(ISBLANK(Import!E1629),\"\",Import!E1629)","v":""},{"$f":"IF(ISBLANK(Import!E1629),\"\",(IFERROR(VLOOKUP(Import!C1629,Mapping!C:F,1,FALSE),\"HF, à reclasser\")))","v":""},{"$f":"IF(ISBLANK(Import!E1629),\"\",IF(B1626=(LEFT(A1626,3)),(IFERROR(VLOOKUP(Import!B1629,Mapping!D:F,2,FALSE),\"Cpte à créer dans Mapping\")),\"Cpte à reclasser\"))","v":""}]
[{"$f":"IF(ISBLANK(Import!E1630),\"\",Import!E1630)","v":""},{"$f":"IF(ISBLANK(Import!E1630),\"\",(IFERROR(VLOOKUP(Import!C1630,Mapping!C:F,1,FALSE),\"HF, à reclasser\")))","v":""},{"$f":"IF(ISBLANK(Import!E1630),\"\",IF(B1627=(LEFT(A1627,3)),(IFERROR(VLOOKUP(Import!B1630,Mapping!D:F,2,FALSE),\"Cpte à créer dans Mapping\")),\"Cpte à reclasser\"))","v":""}]
[{"$f":"IF(ISBLANK(Import!E1631),\"\",Import!E1631)","v":""},{"$f":"IF(ISBLANK(Import!E1631),\"\",(IFERROR(VLOOKUP(Import!C1631,Mapping!C:F,1,FALSE),\"HF, à reclasser\")))","v":""},{"$f":"IF(ISBLANK(Import!E1631),\"\",IF(B1628=(LEFT(A1628,3)),(IFERROR(VLOOKUP(Import!B1631,Mapping!D:F,2,FALSE),\"Cpte à créer dans Mapping\")),\"Cpte à reclasser\"))","v":""}]
[{"$f":"IF(ISBLANK(Import!E1632),\"\",Import!E1632)","v":""},{"$f":"IF(ISBLANK(Import!E1632),\"\",(IFERROR(VLOOKUP(Import!C1632,Mapping!C:F,1,FALSE),\"HF, à reclasser\")))","v":""},{"$f":"IF(ISBLANK(Import!E1632),\"\",IF(B1629=(LEFT(A1629,3)),(IFERROR(VLOOKUP(Import!B1632,Mapping!D:F,2,FALSE),\"Cpte à créer dans Mapping\")),\"Cpte à reclasser\"))","v":""}]
[{"$f":"IF(ISBLANK(Import!E1633),\"\",Import!E1633)","v":""},{"$f":"IF(ISBLANK(Import!E1633),\"\",(IFERROR(VLOOKUP(Import!C1633,Mapping!C:F,1,FALSE),\"HF, à reclasser\")))","v":""},{"$f":"IF(ISBLANK(Import!E1633),\"\",IF(B1630=(LEFT(A1630,3)),(IFERROR(VLOOKUP(Import!B1633,Mapping!D:F,2,FALSE),\"Cpte à créer dans Mapping\")),\"Cpte à reclasser\"))","v":""}]
[{"$f":"IF(ISBLANK(Import!E1634),\"\",Import!E1634)","v":""},{"$f":"IF(ISBLANK(Import!E1634),\"\",(IFERROR(VLOOKUP(Import!C1634,Mapping!C:F,1,FALSE),\"HF, à reclasser\")))","v":""},{"$f":"IF(ISBLANK(Import!E1634),\"\",IF(B1631=(LEFT(A1631,3)),(IFERROR(VLOOKUP(Import!B1634,Mapping!D:F,2,FALSE),\"Cpte à créer dans Mapping\")),\"Cpte à reclasser\"))","v":""}]
[{"$f":"IF(ISBLANK(Import!E1635),\"\",Import!E1635)","v":""},{"$f":"IF(ISBLANK(Import!E1635),\"\",(IFERROR(VLOOKUP(Import!C1635,Mapping!C:F,1,FALSE),\"HF, à reclasser\")))","v":""},{"$f":"IF(ISBLANK(Import!E1635),\"\",IF(B1632=(LEFT(A1632,3)),(IFERROR(VLOOKUP(Import!B1635,Mapping!D:F,2,FALSE),\"Cpte à créer dans Mapping\")),\"Cpte à reclasser\"))","v":""}]
[{"$f":"IF(ISBLANK(Import!E1636),\"\",Import!E1636)","v":""},{"$f":"IF(ISBLANK(Import!E1636),\"\",(IFERROR(VLOOKUP(Import!C1636,Mapping!C:F,1,FALSE),\"HF, à reclasser\")))","v":""},{"$f":"IF(ISBLANK(Import!E1636),\"\",IF(B1633=(LEFT(A1633,3)),(IFERROR(VLOOKUP(Import!B1636,Mapping!D:F,2,FALSE),\"Cpte à créer dans Mapping\")),\"Cpte à reclasser\"))","v":""}]
[{"$f":"IF(ISBLANK(Import!E1637),\"\",Import!E1637)","v":""},{"$f":"IF(ISBLANK(Import!E1637),\"\",(IFERROR(VLOOKUP(Import!C1637,Mapping!C:F,1,FALSE),\"HF, à reclasser\")))","v":""},{"$f":"IF(ISBLANK(Import!E1637),\"\",IF(B1634=(LEFT(A1634,3)),(IFERROR(VLOOKUP(Import!B1637,Mapping!D:F,2,FALSE),\"Cpte à créer dans Mapping\")),\"Cpte à reclasser\"))","v":""}]
[{"$f":"IF(ISBLANK(Import!E1638),\"\",Import!E1638)","v":""},{"$f":"IF(ISBLANK(Import!E1638),\"\",(IFERROR(VLOOKUP(Import!C1638,Mapping!C:F,1,FALSE),\"HF, à reclasser\")))","v":""},{"$f":"IF(ISBLANK(Import!E1638),\"\",IF(B1635=(LEFT(A1635,3)),(IFERROR(VLOOKUP(Import!B1638,Mapping!D:F,2,FALSE),\"Cpte à créer dans Mapping\")),\"Cpte à reclasser\"))","v":""}]
[{"$f":"IF(ISBLANK(Import!E1639),\"\",Import!E1639)","v":""},{"$f":"IF(ISBLANK(Import!E1639),\"\",(IFERROR(VLOOKUP(Import!C1639,Mapping!C:F,1,FALSE),\"HF, à reclasser\")))","v":""},{"$f":"IF(ISBLANK(Import!E1639),\"\",IF(B1636=(LEFT(A1636,3)),(IFERROR(VLOOKUP(Import!B1639,Mapping!D:F,2,FALSE),\"Cpte à créer dans Mapping\")),\"Cpte à reclasser\"))","v":""}]
[{"$f":"IF(ISBLANK(Import!E1640),\"\",Import!E1640)","v":""},{"$f":"IF(ISBLANK(Import!E1640),\"\",(IFERROR(VLOOKUP(Import!C1640,Mapping!C:F,1,FALSE),\"HF, à reclasser\")))","v":""},{"$f":"IF(ISBLANK(Import!E1640),\"\",IF(B1637=(LEFT(A1637,3)),(IFERROR(VLOOKUP(Import!B1640,Mapping!D:F,2,FALSE),\"Cpte à créer dans Mapping\")),\"Cpte à reclasser\"))","v":""}]
[{"$f":"IF(ISBLANK(Import!E1641),\"\",Import!E1641)","v":""},{"$f":"IF(ISBLANK(Import!E1641),\"\",(IFERROR(VLOOKUP(Import!C1641,Mapping!C:F,1,FALSE),\"HF, à reclasser\")))","v":""},{"$f":"IF(ISBLANK(Import!E1641),\"\",IF(B1638=(LEFT(A1638,3)),(IFERROR(VLOOKUP(Import!B1641,Mapping!D:F,2,FALSE),\"Cpte à créer dans Mapping\")),\"Cpte à reclasser\"))","v":""}]
[{"$f":"IF(ISBLANK(Import!E1642),\"\",Import!E1642)","v":""},{"$f":"IF(ISBLANK(Import!E1642),\"\",(IFERROR(VLOOKUP(Import!C1642,Mapping!C:F,1,FALSE),\"HF, à reclasser\")))","v":""},{"$f":"IF(ISBLANK(Import!E1642),\"\",IF(B1639=(LEFT(A1639,3)),(IFERROR(VLOOKUP(Import!B1642,Mapping!D:F,2,FALSE),\"Cpte à créer dans Mapping\")),\"Cpte à reclasser\"))","v":""}]
[{"$f":"IF(ISBLANK(Import!E1643),\"\",Import!E1643)","v":""},{"$f":"IF(ISBLANK(Import!E1643),\"\",(IFERROR(VLOOKUP(Import!C1643,Mapping!C:F,1,FALSE),\"HF, à reclasser\")))","v":""},{"$f":"IF(ISBLANK(Import!E1643),\"\",IF(B1640=(LEFT(A1640,3)),(IFERROR(VLOOKUP(Import!B1643,Mapping!D:F,2,FALSE),\"Cpte à créer dans Mapping\")),\"Cpte à reclasser\"))","v":""}]
[{"$f":"IF(ISBLANK(Import!E1644),\"\",Import!E1644)","v":""},{"$f":"IF(ISBLANK(Import!E1644),\"\",(IFERROR(VLOOKUP(Import!C1644,Mapping!C:F,1,FALSE),\"HF, à reclasser\")))","v":""},{"$f":"IF(ISBLANK(Import!E1644),\"\",IF(B1641=(LEFT(A1641,3)),(IFERROR(VLOOKUP(Import!B1644,Mapping!D:F,2,FALSE),\"Cpte à créer dans Mapping\")),\"Cpte à reclasser\"))","v":""}]
[{"$f":"IF(ISBLANK(Import!E1645),\"\",Import!E1645)","v":""},{"$f":"IF(ISBLANK(Import!E1645),\"\",(IFERROR(VLOOKUP(Import!C1645,Mapping!C:F,1,FALSE),\"HF, à reclasser\")))","v":""},{"$f":"IF(ISBLANK(Import!E1645),\"\",IF(B1642=(LEFT(A1642,3)),(IFERROR(VLOOKUP(Import!B1645,Mapping!D:F,2,FALSE),\"Cpte à créer dans Mapping\")),\"Cpte à reclasser\"))","v":""}]
[{"$f":"IF(ISBLANK(Import!E1646),\"\",Import!E1646)","v":""},{"$f":"IF(ISBLANK(Import!E1646),\"\",(IFERROR(VLOOKUP(Import!C1646,Mapping!C:F,1,FALSE),\"HF, à reclasser\")))","v":""},{"$f":"IF(ISBLANK(Import!E1646),\"\",IF(B1643=(LEFT(A1643,3)),(IFERROR(VLOOKUP(Import!B1646,Mapping!D:F,2,FALSE),\"Cpte à créer dans Mapping\")),\"Cpte à reclasser\"))","v":""}]
[{"$f":"IF(ISBLANK(Import!E1647),\"\",Import!E1647)","v":""},{"$f":"IF(ISBLANK(Import!E1647),\"\",(IFERROR(VLOOKUP(Import!C1647,Mapping!C:F,1,FALSE),\"HF, à reclasser\")))","v":""},{"$f":"IF(ISBLANK(Import!E1647),\"\",IF(B1644=(LEFT(A1644,3)),(IFERROR(VLOOKUP(Import!B1647,Mapping!D:F,2,FALSE),\"Cpte à créer dans Mapping\")),\"Cpte à reclasser\"))","v":""}]
[{"$f":"IF(ISBLANK(Import!E1648),\"\",Import!E1648)","v":""},{"$f":"IF(ISBLANK(Import!E1648),\"\",(IFERROR(VLOOKUP(Import!C1648,Mapping!C:F,1,FALSE),\"HF, à reclasser\")))","v":""},{"$f":"IF(ISBLANK(Import!E1648),\"\",IF(B1645=(LEFT(A1645,3)),(IFERROR(VLOOKUP(Import!B1648,Mapping!D:F,2,FALSE),\"Cpte à créer dans Mapping\")),\"Cpte à reclasser\"))","v":""}]
[{"$f":"IF(ISBLANK(Import!E1649),\"\",Import!E1649)","v":""},{"$f":"IF(ISBLANK(Import!E1649),\"\",(IFERROR(VLOOKUP(Import!C1649,Mapping!C:F,1,FALSE),\"HF, à reclasser\")))","v":""},{"$f":"IF(ISBLANK(Import!E1649),\"\",IF(B1646=(LEFT(A1646,3)),(IFERROR(VLOOKUP(Import!B1649,Mapping!D:F,2,FALSE),\"Cpte à créer dans Mapping\")),\"Cpte à reclasser\"))","v":""}]
[{"$f":"IF(ISBLANK(Import!E1650),\"\",Import!E1650)","v":""},{"$f":"IF(ISBLANK(Import!E1650),\"\",(IFERROR(VLOOKUP(Import!C1650,Mapping!C:F,1,FALSE),\"HF, à reclasser\")))","v":""},{"$f":"IF(ISBLANK(Import!E1650),\"\",IF(B1647=(LEFT(A1647,3)),(IFERROR(VLOOKUP(Import!B1650,Mapping!D:F,2,FALSE),\"Cpte à créer dans Mapping\")),\"Cpte à reclasser\"))","v":""}]
[{"$f":"IF(ISBLANK(Import!E1651),\"\",Import!E1651)","v":""},{"$f":"IF(ISBLANK(Import!E1651),\"\",(IFERROR(VLOOKUP(Import!C1651,Mapping!C:F,1,FALSE),\"HF, à reclasser\")))","v":""},{"$f":"IF(ISBLANK(Import!E1651),\"\",IF(B1648=(LEFT(A1648,3)),(IFERROR(VLOOKUP(Import!B1651,Mapping!D:F,2,FALSE),\"Cpte à créer dans Mapping\")),\"Cpte à reclasser\"))","v":""}]
[{"$f":"IF(ISBLANK(Import!E1652),\"\",Import!E1652)","v":""},{"$f":"IF(ISBLANK(Import!E1652),\"\",(IFERROR(VLOOKUP(Import!C1652,Mapping!C:F,1,FALSE),\"HF, à reclasser\")))","v":""},{"$f":"IF(ISBLANK(Import!E1652),\"\",IF(B1649=(LEFT(A1649,3)),(IFERROR(VLOOKUP(Import!B1652,Mapping!D:F,2,FALSE),\"Cpte à créer dans Mapping\")),\"Cpte à reclasser\"))","v":""}]
[{"$f":"IF(ISBLANK(Import!E1653),\"\",Import!E1653)","v":""},{"$f":"IF(ISBLANK(Import!E1653),\"\",(IFERROR(VLOOKUP(Import!C1653,Mapping!C:F,1,FALSE),\"HF, à reclasser\")))","v":""},{"$f":"IF(ISBLANK(Import!E1653),\"\",IF(B1650=(LEFT(A1650,3)),(IFERROR(VLOOKUP(Import!B1653,Mapping!D:F,2,FALSE),\"Cpte à créer dans Mapping\")),\"Cpte à reclasser\"))","v":""}]
[{"$f":"IF(ISBLANK(Import!E1654),\"\",Import!E1654)","v":""},{"$f":"IF(ISBLANK(Import!E1654),\"\",(IFERROR(VLOOKUP(Import!C1654,Mapping!C:F,1,FALSE),\"HF, à reclasser\")))","v":""},{"$f":"IF(ISBLANK(Import!E1654),\"\",IF(B1651=(LEFT(A1651,3)),(IFERROR(VLOOKUP(Import!B1654,Mapping!D:F,2,FALSE),\"Cpte à créer dans Mapping\")),\"Cpte à reclasser\"))","v":""}]
[{"$f":"IF(ISBLANK(Import!E1655),\"\",Import!E1655)","v":""},{"$f":"IF(ISBLANK(Import!E1655),\"\",(IFERROR(VLOOKUP(Import!C1655,Mapping!C:F,1,FALSE),\"HF, à reclasser\")))","v":""},{"$f":"IF(ISBLANK(Import!E1655),\"\",IF(B1652=(LEFT(A1652,3)),(IFERROR(VLOOKUP(Import!B1655,Mapping!D:F,2,FALSE),\"Cpte à créer dans Mapping\")),\"Cpte à reclasser\"))","v":""}]
[{"$f":"IF(ISBLANK(Import!E1656),\"\",Import!E1656)","v":""},{"$f":"IF(ISBLANK(Import!E1656),\"\",(IFERROR(VLOOKUP(Import!C1656,Mapping!C:F,1,FALSE),\"HF, à reclasser\")))","v":""},{"$f":"IF(ISBLANK(Import!E1656),\"\",IF(B1653=(LEFT(A1653,3)),(IFERROR(VLOOKUP(Import!B1656,Mapping!D:F,2,FALSE),\"Cpte à créer dans Mapping\")),\"Cpte à reclasser\"))","v":""}]
[{"$f":"IF(ISBLANK(Import!E1657),\"\",Import!E1657)","v":""},{"$f":"IF(ISBLANK(Import!E1657),\"\",(IFERROR(VLOOKUP(Import!C1657,Mapping!C:F,1,FALSE),\"HF, à reclasser\")))","v":""},{"$f":"IF(ISBLANK(Import!E1657),\"\",IF(B1654=(LEFT(A1654,3)),(IFERROR(VLOOKUP(Import!B1657,Mapping!D:F,2,FALSE),\"Cpte à créer dans Mapping\")),\"Cpte à reclasser\"))","v":""}]
[{"$f":"IF(ISBLANK(Import!E1658),\"\",Import!E1658)","v":""},{"$f":"IF(ISBLANK(Import!E1658),\"\",(IFERROR(VLOOKUP(Import!C1658,Mapping!C:F,1,FALSE),\"HF, à reclasser\")))","v":""},{"$f":"IF(ISBLANK(Import!E1658),\"\",IF(B1655=(LEFT(A1655,3)),(IFERROR(VLOOKUP(Import!B1658,Mapping!D:F,2,FALSE),\"Cpte à créer dans Mapping\")),\"Cpte à reclasser\"))","v":""}]
[{"$f":"IF(ISBLANK(Import!E1659),\"\",Import!E1659)","v":""},{"$f":"IF(ISBLANK(Import!E1659),\"\",(IFERROR(VLOOKUP(Import!C1659,Mapping!C:F,1,FALSE),\"HF, à reclasser\")))","v":""},{"$f":"IF(ISBLANK(Import!E1659),\"\",IF(B1656=(LEFT(A1656,3)),(IFERROR(VLOOKUP(Import!B1659,Mapping!D:F,2,FALSE),\"Cpte à créer dans Mapping\")),\"Cpte à reclasser\"))","v":""}]
[{"$f":"IF(ISBLANK(Import!E1660),\"\",Import!E1660)","v":""},{"$f":"IF(ISBLANK(Import!E1660),\"\",(IFERROR(VLOOKUP(Import!C1660,Mapping!C:F,1,FALSE),\"HF, à reclasser\")))","v":""},{"$f":"IF(ISBLANK(Import!E1660),\"\",IF(B1657=(LEFT(A1657,3)),(IFERROR(VLOOKUP(Import!B1660,Mapping!D:F,2,FALSE),\"Cpte à créer dans Mapping\")),\"Cpte à reclasser\"))","v":""}]
[{"$f":"IF(ISBLANK(Import!E1661),\"\",Import!E1661)","v":""},{"$f":"IF(ISBLANK(Import!E1661),\"\",(IFERROR(VLOOKUP(Import!C1661,Mapping!C:F,1,FALSE),\"HF, à reclasser\")))","v":""},{"$f":"IF(ISBLANK(Import!E1661),\"\",IF(B1658=(LEFT(A1658,3)),(IFERROR(VLOOKUP(Import!B1661,Mapping!D:F,2,FALSE),\"Cpte à créer dans Mapping\")),\"Cpte à reclasser\"))","v":""}]
[{"$f":"IF(ISBLANK(Import!E1662),\"\",Import!E1662)","v":""},{"$f":"IF(ISBLANK(Import!E1662),\"\",(IFERROR(VLOOKUP(Import!C1662,Mapping!C:F,1,FALSE),\"HF, à reclasser\")))","v":""},{"$f":"IF(ISBLANK(Import!E1662),\"\",IF(B1659=(LEFT(A1659,3)),(IFERROR(VLOOKUP(Import!B1662,Mapping!D:F,2,FALSE),\"Cpte à créer dans Mapping\")),\"Cpte à reclasser\"))","v":""}]
[{"$f":"IF(ISBLANK(Import!E1663),\"\",Import!E1663)","v":""},{"$f":"IF(ISBLANK(Import!E1663),\"\",(IFERROR(VLOOKUP(Import!C1663,Mapping!C:F,1,FALSE),\"HF, à reclasser\")))","v":""},{"$f":"IF(ISBLANK(Import!E1663),\"\",IF(B1660=(LEFT(A1660,3)),(IFERROR(VLOOKUP(Import!B1663,Mapping!D:F,2,FALSE),\"Cpte à créer dans Mapping\")),\"Cpte à reclasser\"))","v":""}]
[{"$f":"IF(ISBLANK(Import!E1664),\"\",Import!E1664)","v":""},{"$f":"IF(ISBLANK(Import!E1664),\"\",(IFERROR(VLOOKUP(Import!C1664,Mapping!C:F,1,FALSE),\"HF, à reclasser\")))","v":""},{"$f":"IF(ISBLANK(Import!E1664),\"\",IF(B1661=(LEFT(A1661,3)),(IFERROR(VLOOKUP(Import!B1664,Mapping!D:F,2,FALSE),\"Cpte à créer dans Mapping\")),\"Cpte à reclasser\"))","v":""}]
[{"$f":"IF(ISBLANK(Import!E1665),\"\",Import!E1665)","v":""},{"$f":"IF(ISBLANK(Import!E1665),\"\",(IFERROR(VLOOKUP(Import!C1665,Mapping!C:F,1,FALSE),\"HF, à reclasser\")))","v":""},{"$f":"IF(ISBLANK(Import!E1665),\"\",IF(B1662=(LEFT(A1662,3)),(IFERROR(VLOOKUP(Import!B1665,Mapping!D:F,2,FALSE),\"Cpte à créer dans Mapping\")),\"Cpte à reclasser\"))","v":""}]
[{"$f":"IF(ISBLANK(Import!E1666),\"\",Import!E1666)","v":""},{"$f":"IF(ISBLANK(Import!E1666),\"\",(IFERROR(VLOOKUP(Import!C1666,Mapping!C:F,1,FALSE),\"HF, à reclasser\")))","v":""},{"$f":"IF(ISBLANK(Import!E1666),\"\",IF(B1663=(LEFT(A1663,3)),(IFERROR(VLOOKUP(Import!B1666,Mapping!D:F,2,FALSE),\"Cpte à créer dans Mapping\")),\"Cpte à reclasser\"))","v":""}]
[{"$f":"IF(ISBLANK(Import!E1667),\"\",Import!E1667)","v":""},{"$f":"IF(ISBLANK(Import!E1667),\"\",(IFERROR(VLOOKUP(Import!C1667,Mapping!C:F,1,FALSE),\"HF, à reclasser\")))","v":""},{"$f":"IF(ISBLANK(Import!E1667),\"\",IF(B1664=(LEFT(A1664,3)),(IFERROR(VLOOKUP(Import!B1667,Mapping!D:F,2,FALSE),\"Cpte à créer dans Mapping\")),\"Cpte à reclasser\"))","v":""}]
[{"$f":"IF(ISBLANK(Import!E1668),\"\",Import!E1668)","v":""},{"$f":"IF(ISBLANK(Import!E1668),\"\",(IFERROR(VLOOKUP(Import!C1668,Mapping!C:F,1,FALSE),\"HF, à reclasser\")))","v":""},{"$f":"IF(ISBLANK(Import!E1668),\"\",IF(B1665=(LEFT(A1665,3)),(IFERROR(VLOOKUP(Import!B1668,Mapping!D:F,2,FALSE),\"Cpte à créer dans Mapping\")),\"Cpte à reclasser\"))","v":""}]
[{"$f":"IF(ISBLANK(Import!E1669),\"\",Import!E1669)","v":""},{"$f":"IF(ISBLANK(Import!E1669),\"\",(IFERROR(VLOOKUP(Import!C1669,Mapping!C:F,1,FALSE),\"HF, à reclasser\")))","v":""},{"$f":"IF(ISBLANK(Import!E1669),\"\",IF(B1666=(LEFT(A1666,3)),(IFERROR(VLOOKUP(Import!B1669,Mapping!D:F,2,FALSE),\"Cpte à créer dans Mapping\")),\"Cpte à reclasser\"))","v":""}]
[{"$f":"IF(ISBLANK(Import!E1670),\"\",Import!E1670)","v":""},{"$f":"IF(ISBLANK(Import!E1670),\"\",(IFERROR(VLOOKUP(Import!C1670,Mapping!C:F,1,FALSE),\"HF, à reclasser\")))","v":""},{"$f":"IF(ISBLANK(Import!E1670),\"\",IF(B1667=(LEFT(A1667,3)),(IFERROR(VLOOKUP(Import!B1670,Mapping!D:F,2,FALSE),\"Cpte à créer dans Mapping\")),\"Cpte à reclasser\"))","v":""}]
[{"$f":"IF(ISBLANK(Import!E1671),\"\",Import!E1671)","v":""},{"$f":"IF(ISBLANK(Import!E1671),\"\",(IFERROR(VLOOKUP(Import!C1671,Mapping!C:F,1,FALSE),\"HF, à reclasser\")))","v":""},{"$f":"IF(ISBLANK(Import!E1671),\"\",IF(B1668=(LEFT(A1668,3)),(IFERROR(VLOOKUP(Import!B1671,Mapping!D:F,2,FALSE),\"Cpte à créer dans Mapping\")),\"Cpte à reclasser\"))","v":""}]
[{"$f":"IF(ISBLANK(Import!E1672),\"\",Import!E1672)","v":""},{"$f":"IF(ISBLANK(Import!E1672),\"\",(IFERROR(VLOOKUP(Import!C1672,Mapping!C:F,1,FALSE),\"HF, à reclasser\")))","v":""},{"$f":"IF(ISBLANK(Import!E1672),\"\",IF(B1669=(LEFT(A1669,3)),(IFERROR(VLOOKUP(Import!B1672,Mapping!D:F,2,FALSE),\"Cpte à créer dans Mapping\")),\"Cpte à reclasser\"))","v":""}]
[{"$f":"IF(ISBLANK(Import!E1673),\"\",Import!E1673)","v":""},{"$f":"IF(ISBLANK(Import!E1673),\"\",(IFERROR(VLOOKUP(Import!C1673,Mapping!C:F,1,FALSE),\"HF, à reclasser\")))","v":""},{"$f":"IF(ISBLANK(Import!E1673),\"\",IF(B1670=(LEFT(A1670,3)),(IFERROR(VLOOKUP(Import!B1673,Mapping!D:F,2,FALSE),\"Cpte à créer dans Mapping\")),\"Cpte à reclasser\"))","v":""}]
[{"$f":"IF(ISBLANK(Import!E1674),\"\",Import!E1674)","v":""},{"$f":"IF(ISBLANK(Import!E1674),\"\",(IFERROR(VLOOKUP(Import!C1674,Mapping!C:F,1,FALSE),\"HF, à reclasser\")))","v":""},{"$f":"IF(ISBLANK(Import!E1674),\"\",IF(B1671=(LEFT(A1671,3)),(IFERROR(VLOOKUP(Import!B1674,Mapping!D:F,2,FALSE),\"Cpte à créer dans Mapping\")),\"Cpte à reclasser\"))","v":""}]
[{"$f":"IF(ISBLANK(Import!E1675),\"\",Import!E1675)","v":""},{"$f":"IF(ISBLANK(Import!E1675),\"\",(IFERROR(VLOOKUP(Import!C1675,Mapping!C:F,1,FALSE),\"HF, à reclasser\")))","v":""},{"$f":"IF(ISBLANK(Import!E1675),\"\",IF(B1672=(LEFT(A1672,3)),(IFERROR(VLOOKUP(Import!B1675,Mapping!D:F,2,FALSE),\"Cpte à créer dans Mapping\")),\"Cpte à reclasser\"))","v":""}]
[{"$f":"IF(ISBLANK(Import!E1676),\"\",Import!E1676)","v":""},{"$f":"IF(ISBLANK(Import!E1676),\"\",(IFERROR(VLOOKUP(Import!C1676,Mapping!C:F,1,FALSE),\"HF, à reclasser\")))","v":""},{"$f":"IF(ISBLANK(Import!E1676),\"\",IF(B1673=(LEFT(A1673,3)),(IFERROR(VLOOKUP(Import!B1676,Mapping!D:F,2,FALSE),\"Cpte à créer dans Mapping\")),\"Cpte à reclasser\"))","v":""}]
[{"$f":"IF(ISBLANK(Import!E1677),\"\",Import!E1677)","v":""},{"$f":"IF(ISBLANK(Import!E1677),\"\",(IFERROR(VLOOKUP(Import!C1677,Mapping!C:F,1,FALSE),\"HF, à reclasser\")))","v":""},{"$f":"IF(ISBLANK(Import!E1677),\"\",IF(B1674=(LEFT(A1674,3)),(IFERROR(VLOOKUP(Import!B1677,Mapping!D:F,2,FALSE),\"Cpte à créer dans Mapping\")),\"Cpte à reclasser\"))","v":""}]
[{"$f":"IF(ISBLANK(Import!E1678),\"\",Import!E1678)","v":""},{"$f":"IF(ISBLANK(Import!E1678),\"\",(IFERROR(VLOOKUP(Import!C1678,Mapping!C:F,1,FALSE),\"HF, à reclasser\")))","v":""},{"$f":"IF(ISBLANK(Import!E1678),\"\",IF(B1675=(LEFT(A1675,3)),(IFERROR(VLOOKUP(Import!B1678,Mapping!D:F,2,FALSE),\"Cpte à créer dans Mapping\")),\"Cpte à reclasser\"))","v":""}]
[{"$f":"IF(ISBLANK(Import!E1679),\"\",Import!E1679)","v":""},{"$f":"IF(ISBLANK(Import!E1679),\"\",(IFERROR(VLOOKUP(Import!C1679,Mapping!C:F,1,FALSE),\"HF, à reclasser\")))","v":""},{"$f":"IF(ISBLANK(Import!E1679),\"\",IF(B1676=(LEFT(A1676,3)),(IFERROR(VLOOKUP(Import!B1679,Mapping!D:F,2,FALSE),\"Cpte à créer dans Mapping\")),\"Cpte à reclasser\"))","v":""}]
[{"$f":"IF(ISBLANK(Import!E1680),\"\",Import!E1680)","v":""},{"$f":"IF(ISBLANK(Import!E1680),\"\",(IFERROR(VLOOKUP(Import!C1680,Mapping!C:F,1,FALSE),\"HF, à reclasser\")))","v":""},{"$f":"IF(ISBLANK(Import!E1680),\"\",IF(B1677=(LEFT(A1677,3)),(IFERROR(VLOOKUP(Import!B1680,Mapping!D:F,2,FALSE),\"Cpte à créer dans Mapping\")),\"Cpte à reclasser\"))","v":""}]
[{"$f":"IF(ISBLANK(Import!E1681),\"\",Import!E1681)","v":""},{"$f":"IF(ISBLANK(Import!E1681),\"\",(IFERROR(VLOOKUP(Import!C1681,Mapping!C:F,1,FALSE),\"HF, à reclasser\")))","v":""},{"$f":"IF(ISBLANK(Import!E1681),\"\",IF(B1678=(LEFT(A1678,3)),(IFERROR(VLOOKUP(Import!B1681,Mapping!D:F,2,FALSE),\"Cpte à créer dans Mapping\")),\"Cpte à reclasser\"))","v":""}]
[{"$f":"IF(ISBLANK(Import!E1682),\"\",Import!E1682)","v":""},{"$f":"IF(ISBLANK(Import!E1682),\"\",(IFERROR(VLOOKUP(Import!C1682,Mapping!C:F,1,FALSE),\"HF, à reclasser\")))","v":""},{"$f":"IF(ISBLANK(Import!E1682),\"\",IF(B1679=(LEFT(A1679,3)),(IFERROR(VLOOKUP(Import!B1682,Mapping!D:F,2,FALSE),\"Cpte à créer dans Mapping\")),\"Cpte à reclasser\"))","v":""}]
[{"$f":"IF(ISBLANK(Import!E1683),\"\",Import!E1683)","v":""},{"$f":"IF(ISBLANK(Import!E1683),\"\",(IFERROR(VLOOKUP(Import!C1683,Mapping!C:F,1,FALSE),\"HF, à reclasser\")))","v":""},{"$f":"IF(ISBLANK(Import!E1683),\"\",IF(B1680=(LEFT(A1680,3)),(IFERROR(VLOOKUP(Import!B1683,Mapping!D:F,2,FALSE),\"Cpte à créer dans Mapping\")),\"Cpte à reclasser\"))","v":""}]
[{"$f":"IF(ISBLANK(Import!E1684),\"\",Import!E1684)","v":""},{"$f":"IF(ISBLANK(Import!E1684),\"\",(IFERROR(VLOOKUP(Import!C1684,Mapping!C:F,1,FALSE),\"HF, à reclasser\")))","v":""},{"$f":"IF(ISBLANK(Import!E1684),\"\",IF(B1681=(LEFT(A1681,3)),(IFERROR(VLOOKUP(Import!B1684,Mapping!D:F,2,FALSE),\"Cpte à créer dans Mapping\")),\"Cpte à reclasser\"))","v":""}]
[{"$f":"IF(ISBLANK(Import!E1685),\"\",Import!E1685)","v":""},{"$f":"IF(ISBLANK(Import!E1685),\"\",(IFERROR(VLOOKUP(Import!C1685,Mapping!C:F,1,FALSE),\"HF, à reclasser\")))","v":""},{"$f":"IF(ISBLANK(Import!E1685),\"\",IF(B1682=(LEFT(A1682,3)),(IFERROR(VLOOKUP(Import!B1685,Mapping!D:F,2,FALSE),\"Cpte à créer dans Mapping\")),\"Cpte à reclasser\"))","v":""}]
[{"$f":"IF(ISBLANK(Import!E1686),\"\",Import!E1686)","v":""},{"$f":"IF(ISBLANK(Import!E1686),\"\",(IFERROR(VLOOKUP(Import!C1686,Mapping!C:F,1,FALSE),\"HF, à reclasser\")))","v":""},{"$f":"IF(ISBLANK(Import!E1686),\"\",IF(B1683=(LEFT(A1683,3)),(IFERROR(VLOOKUP(Import!B1686,Mapping!D:F,2,FALSE),\"Cpte à créer dans Mapping\")),\"Cpte à reclasser\"))","v":""}]
[{"$f":"IF(ISBLANK(Import!E1687),\"\",Import!E1687)","v":""},{"$f":"IF(ISBLANK(Import!E1687),\"\",(IFERROR(VLOOKUP(Import!C1687,Mapping!C:F,1,FALSE),\"HF, à reclasser\")))","v":""},{"$f":"IF(ISBLANK(Import!E1687),\"\",IF(B1684=(LEFT(A1684,3)),(IFERROR(VLOOKUP(Import!B1687,Mapping!D:F,2,FALSE),\"Cpte à créer dans Mapping\")),\"Cpte à reclasser\"))","v":""}]
[{"$f":"IF(ISBLANK(Import!E1688),\"\",Import!E1688)","v":""},{"$f":"IF(ISBLANK(Import!E1688),\"\",(IFERROR(VLOOKUP(Import!C1688,Mapping!C:F,1,FALSE),\"HF, à reclasser\")))","v":""},{"$f":"IF(ISBLANK(Import!E1688),\"\",IF(B1685=(LEFT(A1685,3)),(IFERROR(VLOOKUP(Import!B1688,Mapping!D:F,2,FALSE),\"Cpte à créer dans Mapping\")),\"Cpte à reclasser\"))","v":""}]
[{"$f":"IF(ISBLANK(Import!E1689),\"\",Import!E1689)","v":""},{"$f":"IF(ISBLANK(Import!E1689),\"\",(IFERROR(VLOOKUP(Import!C1689,Mapping!C:F,1,FALSE),\"HF, à reclasser\")))","v":""},{"$f":"IF(ISBLANK(Import!E1689),\"\",IF(B1686=(LEFT(A1686,3)),(IFERROR(VLOOKUP(Import!B1689,Mapping!D:F,2,FALSE),\"Cpte à créer dans Mapping\")),\"Cpte à reclasser\"))","v":""}]
[{"$f":"IF(ISBLANK(Import!E1690),\"\",Import!E1690)","v":""},{"$f":"IF(ISBLANK(Import!E1690),\"\",(IFERROR(VLOOKUP(Import!C1690,Mapping!C:F,1,FALSE),\"HF, à reclasser\")))","v":""},{"$f":"IF(ISBLANK(Import!E1690),\"\",IF(B1687=(LEFT(A1687,3)),(IFERROR(VLOOKUP(Import!B1690,Mapping!D:F,2,FALSE),\"Cpte à créer dans Mapping\")),\"Cpte à reclasser\"))","v":""}]
[{"$f":"IF(ISBLANK(Import!E1691),\"\",Import!E1691)","v":""},{"$f":"IF(ISBLANK(Import!E1691),\"\",(IFERROR(VLOOKUP(Import!C1691,Mapping!C:F,1,FALSE),\"HF, à reclasser\")))","v":""},{"$f":"IF(ISBLANK(Import!E1691),\"\",IF(B1688=(LEFT(A1688,3)),(IFERROR(VLOOKUP(Import!B1691,Mapping!D:F,2,FALSE),\"Cpte à créer dans Mapping\")),\"Cpte à reclasser\"))","v":""}]
[{"$f":"IF(ISBLANK(Import!E1692),\"\",Import!E1692)","v":""},{"$f":"IF(ISBLANK(Import!E1692),\"\",(IFERROR(VLOOKUP(Import!C1692,Mapping!C:F,1,FALSE),\"HF, à reclasser\")))","v":""},{"$f":"IF(ISBLANK(Import!E1692),\"\",IF(B1689=(LEFT(A1689,3)),(IFERROR(VLOOKUP(Import!B1692,Mapping!D:F,2,FALSE),\"Cpte à créer dans Mapping\")),\"Cpte à reclasser\"))","v":""}]
[{"$f":"IF(ISBLANK(Import!E1693),\"\",Import!E1693)","v":""},{"$f":"IF(ISBLANK(Import!E1693),\"\",(IFERROR(VLOOKUP(Import!C1693,Mapping!C:F,1,FALSE),\"HF, à reclasser\")))","v":""},{"$f":"IF(ISBLANK(Import!E1693),\"\",IF(B1690=(LEFT(A1690,3)),(IFERROR(VLOOKUP(Import!B1693,Mapping!D:F,2,FALSE),\"Cpte à créer dans Mapping\")),\"Cpte à reclasser\"))","v":""}]
[{"$f":"IF(ISBLANK(Import!E1694),\"\",Import!E1694)","v":""},{"$f":"IF(ISBLANK(Import!E1694),\"\",(IFERROR(VLOOKUP(Import!C1694,Mapping!C:F,1,FALSE),\"HF, à reclasser\")))","v":""},{"$f":"IF(ISBLANK(Import!E1694),\"\",IF(B1691=(LEFT(A1691,3)),(IFERROR(VLOOKUP(Import!B1694,Mapping!D:F,2,FALSE),\"Cpte à créer dans Mapping\")),\"Cpte à reclasser\"))","v":""}]
[{"$f":"IF(ISBLANK(Import!E1695),\"\",Import!E1695)","v":""},{"$f":"IF(ISBLANK(Import!E1695),\"\",(IFERROR(VLOOKUP(Import!C1695,Mapping!C:F,1,FALSE),\"HF, à reclasser\")))","v":""},{"$f":"IF(ISBLANK(Import!E1695),\"\",IF(B1692=(LEFT(A1692,3)),(IFERROR(VLOOKUP(Import!B1695,Mapping!D:F,2,FALSE),\"Cpte à créer dans Mapping\")),\"Cpte à reclasser\"))","v":""}]
[{"$f":"IF(ISBLANK(Import!E1696),\"\",Import!E1696)","v":""},{"$f":"IF(ISBLANK(Import!E1696),\"\",(IFERROR(VLOOKUP(Import!C1696,Mapping!C:F,1,FALSE),\"HF, à reclasser\")))","v":""},{"$f":"IF(ISBLANK(Import!E1696),\"\",IF(B1693=(LEFT(A1693,3)),(IFERROR(VLOOKUP(Import!B1696,Mapping!D:F,2,FALSE),\"Cpte à créer dans Mapping\")),\"Cpte à reclasser\"))","v":""}]
[{"$f":"IF(ISBLANK(Import!E1697),\"\",Import!E1697)","v":""},{"$f":"IF(ISBLANK(Import!E1697),\"\",(IFERROR(VLOOKUP(Import!C1697,Mapping!C:F,1,FALSE),\"HF, à reclasser\")))","v":""},{"$f":"IF(ISBLANK(Import!E1697),\"\",IF(B1694=(LEFT(A1694,3)),(IFERROR(VLOOKUP(Import!B1697,Mapping!D:F,2,FALSE),\"Cpte à créer dans Mapping\")),\"Cpte à reclasser\"))","v":""}]
[{"$f":"IF(ISBLANK(Import!E1698),\"\",Import!E1698)","v":""},{"$f":"IF(ISBLANK(Import!E1698),\"\",(IFERROR(VLOOKUP(Import!C1698,Mapping!C:F,1,FALSE),\"HF, à reclasser\")))","v":""},{"$f":"IF(ISBLANK(Import!E1698),\"\",IF(B1695=(LEFT(A1695,3)),(IFERROR(VLOOKUP(Import!B1698,Mapping!D:F,2,FALSE),\"Cpte à créer dans Mapping\")),\"Cpte à reclasser\"))","v":""}]
[{"$f":"IF(ISBLANK(Import!E1699),\"\",Import!E1699)","v":""},{"$f":"IF(ISBLANK(Import!E1699),\"\",(IFERROR(VLOOKUP(Import!C1699,Mapping!C:F,1,FALSE),\"HF, à reclasser\")))","v":""},{"$f":"IF(ISBLANK(Import!E1699),\"\",IF(B1696=(LEFT(A1696,3)),(IFERROR(VLOOKUP(Import!B1699,Mapping!D:F,2,FALSE),\"Cpte à créer dans Mapping\")),\"Cpte à reclasser\"))","v":""}]
[{"$f":"IF(ISBLANK(Import!E1700),\"\",Import!E1700)","v":""},{"$f":"IF(ISBLANK(Import!E1700),\"\",(IFERROR(VLOOKUP(Import!C1700,Mapping!C:F,1,FALSE),\"HF, à reclasser\")))","v":""},{"$f":"IF(ISBLANK(Import!E1700),\"\",IF(B1697=(LEFT(A1697,3)),(IFERROR(VLOOKUP(Import!B1700,Mapping!D:F,2,FALSE),\"Cpte à créer dans Mapping\")),\"Cpte à reclasser\"))","v":""}]
[{"$f":"IF(ISBLANK(Import!E1701),\"\",Import!E1701)","v":""},{"$f":"IF(ISBLANK(Import!E1701),\"\",(IFERROR(VLOOKUP(Import!C1701,Mapping!C:F,1,FALSE),\"HF, à reclasser\")))","v":""},{"$f":"IF(ISBLANK(Import!E1701),\"\",IF(B1698=(LEFT(A1698,3)),(IFERROR(VLOOKUP(Import!B1701,Mapping!D:F,2,FALSE),\"Cpte à créer dans Mapping\")),\"Cpte à reclasser\"))","v":""}]
[{"$f":"IF(ISBLANK(Import!E1702),\"\",Import!E1702)","v":""},{"$f":"IF(ISBLANK(Import!E1702),\"\",(IFERROR(VLOOKUP(Import!C1702,Mapping!C:F,1,FALSE),\"HF, à reclasser\")))","v":""},{"$f":"IF(ISBLANK(Import!E1702),\"\",IF(B1699=(LEFT(A1699,3)),(IFERROR(VLOOKUP(Import!B1702,Mapping!D:F,2,FALSE),\"Cpte à créer dans Mapping\")),\"Cpte à reclasser\"))","v":""}]
[{"$f":"IF(ISBLANK(Import!E1703),\"\",Import!E1703)","v":""},{"$f":"IF(ISBLANK(Import!E1703),\"\",(IFERROR(VLOOKUP(Import!C1703,Mapping!C:F,1,FALSE),\"HF, à reclasser\")))","v":""},{"$f":"IF(ISBLANK(Import!E1703),\"\",IF(B1700=(LEFT(A1700,3)),(IFERROR(VLOOKUP(Import!B1703,Mapping!D:F,2,FALSE),\"Cpte à créer dans Mapping\")),\"Cpte à reclasser\"))","v":""}]
[{"$f":"IF(ISBLANK(Import!E1704),\"\",Import!E1704)","v":""},{"$f":"IF(ISBLANK(Import!E1704),\"\",(IFERROR(VLOOKUP(Import!C1704,Mapping!C:F,1,FALSE),\"HF, à reclasser\")))","v":""},{"$f":"IF(ISBLANK(Import!E1704),\"\",IF(B1701=(LEFT(A1701,3)),(IFERROR(VLOOKUP(Import!B1704,Mapping!D:F,2,FALSE),\"Cpte à créer dans Mapping\")),\"Cpte à reclasser\"))","v":""}]
[{"$f":"IF(ISBLANK(Import!E1705),\"\",Import!E1705)","v":""},{"$f":"IF(ISBLANK(Import!E1705),\"\",(IFERROR(VLOOKUP(Import!C1705,Mapping!C:F,1,FALSE),\"HF, à reclasser\")))","v":""},{"$f":"IF(ISBLANK(Import!E1705),\"\",IF(B1702=(LEFT(A1702,3)),(IFERROR(VLOOKUP(Import!B1705,Mapping!D:F,2,FALSE),\"Cpte à créer dans Mapping\")),\"Cpte à reclasser\"))","v":""}]
[{"$f":"IF(ISBLANK(Import!E1706),\"\",Import!E1706)","v":""},{"$f":"IF(ISBLANK(Import!E1706),\"\",(IFERROR(VLOOKUP(Import!C1706,Mapping!C:F,1,FALSE),\"HF, à reclasser\")))","v":""},{"$f":"IF(ISBLANK(Import!E1706),\"\",IF(B1703=(LEFT(A1703,3)),(IFERROR(VLOOKUP(Import!B1706,Mapping!D:F,2,FALSE),\"Cpte à créer dans Mapping\")),\"Cpte à reclasser\"))","v":""}]
[{"$f":"IF(ISBLANK(Import!E1707),\"\",Import!E1707)","v":""},{"$f":"IF(ISBLANK(Import!E1707),\"\",(IFERROR(VLOOKUP(Import!C1707,Mapping!C:F,1,FALSE),\"HF, à reclasser\")))","v":""},{"$f":"IF(ISBLANK(Import!E1707),\"\",IF(B1704=(LEFT(A1704,3)),(IFERROR(VLOOKUP(Import!B1707,Mapping!D:F,2,FALSE),\"Cpte à créer dans Mapping\")),\"Cpte à reclasser\"))","v":""}]
[{"$f":"IF(ISBLANK(Import!E1708),\"\",Import!E1708)","v":""},{"$f":"IF(ISBLANK(Import!E1708),\"\",(IFERROR(VLOOKUP(Import!C1708,Mapping!C:F,1,FALSE),\"HF, à reclasser\")))","v":""},{"$f":"IF(ISBLANK(Import!E1708),\"\",IF(B1705=(LEFT(A1705,3)),(IFERROR(VLOOKUP(Import!B1708,Mapping!D:F,2,FALSE),\"Cpte à créer dans Mapping\")),\"Cpte à reclasser\"))","v":""}]
[{"$f":"IF(ISBLANK(Import!E1709),\"\",Import!E1709)","v":""},{"$f":"IF(ISBLANK(Import!E1709),\"\",(IFERROR(VLOOKUP(Import!C1709,Mapping!C:F,1,FALSE),\"HF, à reclasser\")))","v":""},{"$f":"IF(ISBLANK(Import!E1709),\"\",IF(B1706=(LEFT(A1706,3)),(IFERROR(VLOOKUP(Import!B1709,Mapping!D:F,2,FALSE),\"Cpte à créer dans Mapping\")),\"Cpte à reclasser\"))","v":""}]
[{"$f":"IF(ISBLANK(Import!E1710),\"\",Import!E1710)","v":""},{"$f":"IF(ISBLANK(Import!E1710),\"\",(IFERROR(VLOOKUP(Import!C1710,Mapping!C:F,1,FALSE),\"HF, à reclasser\")))","v":""},{"$f":"IF(ISBLANK(Import!E1710),\"\",IF(B1707=(LEFT(A1707,3)),(IFERROR(VLOOKUP(Import!B1710,Mapping!D:F,2,FALSE),\"Cpte à créer dans Mapping\")),\"Cpte à reclasser\"))","v":""}]
[{"$f":"IF(ISBLANK(Import!E1711),\"\",Import!E1711)","v":""},{"$f":"IF(ISBLANK(Import!E1711),\"\",(IFERROR(VLOOKUP(Import!C1711,Mapping!C:F,1,FALSE),\"HF, à reclasser\")))","v":""},{"$f":"IF(ISBLANK(Import!E1711),\"\",IF(B1708=(LEFT(A1708,3)),(IFERROR(VLOOKUP(Import!B1711,Mapping!D:F,2,FALSE),\"Cpte à créer dans Mapping\")),\"Cpte à reclasser\"))","v":""}]
[{"$f":"IF(ISBLANK(Import!E1712),\"\",Import!E1712)","v":""},{"$f":"IF(ISBLANK(Import!E1712),\"\",(IFERROR(VLOOKUP(Import!C1712,Mapping!C:F,1,FALSE),\"HF, à reclasser\")))","v":""},{"$f":"IF(ISBLANK(Import!E1712),\"\",IF(B1709=(LEFT(A1709,3)),(IFERROR(VLOOKUP(Import!B1712,Mapping!D:F,2,FALSE),\"Cpte à créer dans Mapping\")),\"Cpte à reclasser\"))","v":""}]
[{"$f":"IF(ISBLANK(Import!E1713),\"\",Import!E1713)","v":""},{"$f":"IF(ISBLANK(Import!E1713),\"\",(IFERROR(VLOOKUP(Import!C1713,Mapping!C:F,1,FALSE),\"HF, à reclasser\")))","v":""},{"$f":"IF(ISBLANK(Import!E1713),\"\",IF(B1710=(LEFT(A1710,3)),(IFERROR(VLOOKUP(Import!B1713,Mapping!D:F,2,FALSE),\"Cpte à créer dans Mapping\")),\"Cpte à reclasser\"))","v":""}]
[{"$f":"IF(ISBLANK(Import!E1714),\"\",Import!E1714)","v":""},{"$f":"IF(ISBLANK(Import!E1714),\"\",(IFERROR(VLOOKUP(Import!C1714,Mapping!C:F,1,FALSE),\"HF, à reclasser\")))","v":""},{"$f":"IF(ISBLANK(Import!E1714),\"\",IF(B1711=(LEFT(A1711,3)),(IFERROR(VLOOKUP(Import!B1714,Mapping!D:F,2,FALSE),\"Cpte à créer dans Mapping\")),\"Cpte à reclasser\"))","v":""}]
[{"$f":"IF(ISBLANK(Import!E1715),\"\",Import!E1715)","v":""},{"$f":"IF(ISBLANK(Import!E1715),\"\",(IFERROR(VLOOKUP(Import!C1715,Mapping!C:F,1,FALSE),\"HF, à reclasser\")))","v":""},{"$f":"IF(ISBLANK(Import!E1715),\"\",IF(B1712=(LEFT(A1712,3)),(IFERROR(VLOOKUP(Import!B1715,Mapping!D:F,2,FALSE),\"Cpte à créer dans Mapping\")),\"Cpte à reclasser\"))","v":""}]
[{"$f":"IF(ISBLANK(Import!E1716),\"\",Import!E1716)","v":""},{"$f":"IF(ISBLANK(Import!E1716),\"\",(IFERROR(VLOOKUP(Import!C1716,Mapping!C:F,1,FALSE),\"HF, à reclasser\")))","v":""},{"$f":"IF(ISBLANK(Import!E1716),\"\",IF(B1713=(LEFT(A1713,3)),(IFERROR(VLOOKUP(Import!B1716,Mapping!D:F,2,FALSE),\"Cpte à créer dans Mapping\")),\"Cpte à reclasser\"))","v":""}]
[{"$f":"IF(ISBLANK(Import!E1717),\"\",Import!E1717)","v":""},{"$f":"IF(ISBLANK(Import!E1717),\"\",(IFERROR(VLOOKUP(Import!C1717,Mapping!C:F,1,FALSE),\"HF, à reclasser\")))","v":""},{"$f":"IF(ISBLANK(Import!E1717),\"\",IF(B1714=(LEFT(A1714,3)),(IFERROR(VLOOKUP(Import!B1717,Mapping!D:F,2,FALSE),\"Cpte à créer dans Mapping\")),\"Cpte à reclasser\"))","v":""}]
[{"$f":"IF(ISBLANK(Import!E1718),\"\",Import!E1718)","v":""},{"$f":"IF(ISBLANK(Import!E1718),\"\",(IFERROR(VLOOKUP(Import!C1718,Mapping!C:F,1,FALSE),\"HF, à reclasser\")))","v":""},{"$f":"IF(ISBLANK(Import!E1718),\"\",IF(B1715=(LEFT(A1715,3)),(IFERROR(VLOOKUP(Import!B1718,Mapping!D:F,2,FALSE),\"Cpte à créer dans Mapping\")),\"Cpte à reclasser\"))","v":""}]
[{"$f":"IF(ISBLANK(Import!E1719),\"\",Import!E1719)","v":""},{"$f":"IF(ISBLANK(Import!E1719),\"\",(IFERROR(VLOOKUP(Import!C1719,Mapping!C:F,1,FALSE),\"HF, à reclasser\")))","v":""},{"$f":"IF(ISBLANK(Import!E1719),\"\",IF(B1716=(LEFT(A1716,3)),(IFERROR(VLOOKUP(Import!B1719,Mapping!D:F,2,FALSE),\"Cpte à créer dans Mapping\")),\"Cpte à reclasser\"))","v":""}]
[{"$f":"IF(ISBLANK(Import!E1720),\"\",Import!E1720)","v":""},{"$f":"IF(ISBLANK(Import!E1720),\"\",(IFERROR(VLOOKUP(Import!C1720,Mapping!C:F,1,FALSE),\"HF, à reclasser\")))","v":""},{"$f":"IF(ISBLANK(Import!E1720),\"\",IF(B1717=(LEFT(A1717,3)),(IFERROR(VLOOKUP(Import!B1720,Mapping!D:F,2,FALSE),\"Cpte à créer dans Mapping\")),\"Cpte à reclasser\"))","v":""}]
[{"$f":"IF(ISBLANK(Import!E1721),\"\",Import!E1721)","v":""},{"$f":"IF(ISBLANK(Import!E1721),\"\",(IFERROR(VLOOKUP(Import!C1721,Mapping!C:F,1,FALSE),\"HF, à reclasser\")))","v":""},{"$f":"IF(ISBLANK(Import!E1721),\"\",IF(B1718=(LEFT(A1718,3)),(IFERROR(VLOOKUP(Import!B1721,Mapping!D:F,2,FALSE),\"Cpte à créer dans Mapping\")),\"Cpte à reclasser\"))","v":""}]
[{"$f":"IF(ISBLANK(Import!E1722),\"\",Import!E1722)","v":""},{"$f":"IF(ISBLANK(Import!E1722),\"\",(IFERROR(VLOOKUP(Import!C1722,Mapping!C:F,1,FALSE),\"HF, à reclasser\")))","v":""},{"$f":"IF(ISBLANK(Import!E1722),\"\",IF(B1719=(LEFT(A1719,3)),(IFERROR(VLOOKUP(Import!B1722,Mapping!D:F,2,FALSE),\"Cpte à créer dans Mapping\")),\"Cpte à reclasser\"))","v":""}]
[{"$f":"IF(ISBLANK(Import!E1723),\"\",Import!E1723)","v":""},{"$f":"IF(ISBLANK(Import!E1723),\"\",(IFERROR(VLOOKUP(Import!C1723,Mapping!C:F,1,FALSE),\"HF, à reclasser\")))","v":""},{"$f":"IF(ISBLANK(Import!E1723),\"\",IF(B1720=(LEFT(A1720,3)),(IFERROR(VLOOKUP(Import!B1723,Mapping!D:F,2,FALSE),\"Cpte à créer dans Mapping\")),\"Cpte à reclasser\"))","v":""}]
[{"$f":"IF(ISBLANK(Import!E1724),\"\",Import!E1724)","v":""},{"$f":"IF(ISBLANK(Import!E1724),\"\",(IFERROR(VLOOKUP(Import!C1724,Mapping!C:F,1,FALSE),\"HF, à reclasser\")))","v":""},{"$f":"IF(ISBLANK(Import!E1724),\"\",IF(B1721=(LEFT(A1721,3)),(IFERROR(VLOOKUP(Import!B1724,Mapping!D:F,2,FALSE),\"Cpte à créer dans Mapping\")),\"Cpte à reclasser\"))","v":""}]
[{"$f":"IF(ISBLANK(Import!E1725),\"\",Import!E1725)","v":""},{"$f":"IF(ISBLANK(Import!E1725),\"\",(IFERROR(VLOOKUP(Import!C1725,Mapping!C:F,1,FALSE),\"HF, à reclasser\")))","v":""},{"$f":"IF(ISBLANK(Import!E1725),\"\",IF(B1722=(LEFT(A1722,3)),(IFERROR(VLOOKUP(Import!B1725,Mapping!D:F,2,FALSE),\"Cpte à créer dans Mapping\")),\"Cpte à reclasser\"))","v":""}]
[{"$f":"IF(ISBLANK(Import!E1726),\"\",Import!E1726)","v":""},{"$f":"IF(ISBLANK(Import!E1726),\"\",(IFERROR(VLOOKUP(Import!C1726,Mapping!C:F,1,FALSE),\"HF, à reclasser\")))","v":""},{"$f":"IF(ISBLANK(Import!E1726),\"\",IF(B1723=(LEFT(A1723,3)),(IFERROR(VLOOKUP(Import!B1726,Mapping!D:F,2,FALSE),\"Cpte à créer dans Mapping\")),\"Cpte à reclasser\"))","v":""}]
[{"$f":"IF(ISBLANK(Import!E1727),\"\",Import!E1727)","v":""},{"$f":"IF(ISBLANK(Import!E1727),\"\",(IFERROR(VLOOKUP(Import!C1727,Mapping!C:F,1,FALSE),\"HF, à reclasser\")))","v":""},{"$f":"IF(ISBLANK(Import!E1727),\"\",IF(B1724=(LEFT(A1724,3)),(IFERROR(VLOOKUP(Import!B1727,Mapping!D:F,2,FALSE),\"Cpte à créer dans Mapping\")),\"Cpte à reclasser\"))","v":""}]
[{"$f":"IF(ISBLANK(Import!E1728),\"\",Import!E1728)","v":""},{"$f":"IF(ISBLANK(Import!E1728),\"\",(IFERROR(VLOOKUP(Import!C1728,Mapping!C:F,1,FALSE),\"HF, à reclasser\")))","v":""},{"$f":"IF(ISBLANK(Import!E1728),\"\",IF(B1725=(LEFT(A1725,3)),(IFERROR(VLOOKUP(Import!B1728,Mapping!D:F,2,FALSE),\"Cpte à créer dans Mapping\")),\"Cpte à reclasser\"))","v":""}]
[{"$f":"IF(ISBLANK(Import!E1729),\"\",Import!E1729)","v":""},{"$f":"IF(ISBLANK(Import!E1729),\"\",(IFERROR(VLOOKUP(Import!C1729,Mapping!C:F,1,FALSE),\"HF, à reclasser\")))","v":""},{"$f":"IF(ISBLANK(Import!E1729),\"\",IF(B1726=(LEFT(A1726,3)),(IFERROR(VLOOKUP(Import!B1729,Mapping!D:F,2,FALSE),\"Cpte à créer dans Mapping\")),\"Cpte à reclasser\"))","v":""}]
[{"$f":"IF(ISBLANK(Import!E1730),\"\",Import!E1730)","v":""},{"$f":"IF(ISBLANK(Import!E1730),\"\",(IFERROR(VLOOKUP(Import!C1730,Mapping!C:F,1,FALSE),\"HF, à reclasser\")))","v":""},{"$f":"IF(ISBLANK(Import!E1730),\"\",IF(B1727=(LEFT(A1727,3)),(IFERROR(VLOOKUP(Import!B1730,Mapping!D:F,2,FALSE),\"Cpte à créer dans Mapping\")),\"Cpte à reclasser\"))","v":""}]
[{"$f":"IF(ISBLANK(Import!E1731),\"\",Import!E1731)","v":""},{"$f":"IF(ISBLANK(Import!E1731),\"\",(IFERROR(VLOOKUP(Import!C1731,Mapping!C:F,1,FALSE),\"HF, à reclasser\")))","v":""},{"$f":"IF(ISBLANK(Import!E1731),\"\",IF(B1728=(LEFT(A1728,3)),(IFERROR(VLOOKUP(Import!B1731,Mapping!D:F,2,FALSE),\"Cpte à créer dans Mapping\")),\"Cpte à reclasser\"))","v":""}]
[{"$f":"IF(ISBLANK(Import!E1732),\"\",Import!E1732)","v":""},{"$f":"IF(ISBLANK(Import!E1732),\"\",(IFERROR(VLOOKUP(Import!C1732,Mapping!C:F,1,FALSE),\"HF, à reclasser\")))","v":""},{"$f":"IF(ISBLANK(Import!E1732),\"\",IF(B1729=(LEFT(A1729,3)),(IFERROR(VLOOKUP(Import!B1732,Mapping!D:F,2,FALSE),\"Cpte à créer dans Mapping\")),\"Cpte à reclasser\"))","v":""}]
[{"$f":"IF(ISBLANK(Import!E1733),\"\",Import!E1733)","v":""},{"$f":"IF(ISBLANK(Import!E1733),\"\",(IFERROR(VLOOKUP(Import!C1733,Mapping!C:F,1,FALSE),\"HF, à reclasser\")))","v":""},{"$f":"IF(ISBLANK(Import!E1733),\"\",IF(B1730=(LEFT(A1730,3)),(IFERROR(VLOOKUP(Import!B1733,Mapping!D:F,2,FALSE),\"Cpte à créer dans Mapping\")),\"Cpte à reclasser\"))","v":""}]
[{"$f":"IF(ISBLANK(Import!E1734),\"\",Import!E1734)","v":""},{"$f":"IF(ISBLANK(Import!E1734),\"\",(IFERROR(VLOOKUP(Import!C1734,Mapping!C:F,1,FALSE),\"HF, à reclasser\")))","v":""},{"$f":"IF(ISBLANK(Import!E1734),\"\",IF(B1731=(LEFT(A1731,3)),(IFERROR(VLOOKUP(Import!B1734,Mapping!D:F,2,FALSE),\"Cpte à créer dans Mapping\")),\"Cpte à reclasser\"))","v":""}]
[{"$f":"IF(ISBLANK(Import!E1735),\"\",Import!E1735)","v":""},{"$f":"IF(ISBLANK(Import!E1735),\"\",(IFERROR(VLOOKUP(Import!C1735,Mapping!C:F,1,FALSE),\"HF, à reclasser\")))","v":""},{"$f":"IF(ISBLANK(Import!E1735),\"\",IF(B1732=(LEFT(A1732,3)),(IFERROR(VLOOKUP(Import!B1735,Mapping!D:F,2,FALSE),\"Cpte à créer dans Mapping\")),\"Cpte à reclasser\"))","v":""}]
[{"$f":"IF(ISBLANK(Import!E1736),\"\",Import!E1736)","v":""},{"$f":"IF(ISBLANK(Import!E1736),\"\",(IFERROR(VLOOKUP(Import!C1736,Mapping!C:F,1,FALSE),\"HF, à reclasser\")))","v":""},{"$f":"IF(ISBLANK(Import!E1736),\"\",IF(B1733=(LEFT(A1733,3)),(IFERROR(VLOOKUP(Import!B1736,Mapping!D:F,2,FALSE),\"Cpte à créer dans Mapping\")),\"Cpte à reclasser\"))","v":""}]
[{"$f":"IF(ISBLANK(Import!E1737),\"\",Import!E1737)","v":""},{"$f":"IF(ISBLANK(Import!E1737),\"\",(IFERROR(VLOOKUP(Import!C1737,Mapping!C:F,1,FALSE),\"HF, à reclasser\")))","v":""},{"$f":"IF(ISBLANK(Import!E1737),\"\",IF(B1734=(LEFT(A1734,3)),(IFERROR(VLOOKUP(Import!B1737,Mapping!D:F,2,FALSE),\"Cpte à créer dans Mapping\")),\"Cpte à reclasser\"))","v":""}]
[{"$f":"IF(ISBLANK(Import!E1738),\"\",Import!E1738)","v":""},{"$f":"IF(ISBLANK(Import!E1738),\"\",(IFERROR(VLOOKUP(Import!C1738,Mapping!C:F,1,FALSE),\"HF, à reclasser\")))","v":""},{"$f":"IF(ISBLANK(Import!E1738),\"\",IF(B1735=(LEFT(A1735,3)),(IFERROR(VLOOKUP(Import!B1738,Mapping!D:F,2,FALSE),\"Cpte à créer dans Mapping\")),\"Cpte à reclasser\"))","v":""}]
[{"$f":"IF(ISBLANK(Import!E1739),\"\",Import!E1739)","v":""},{"$f":"IF(ISBLANK(Import!E1739),\"\",(IFERROR(VLOOKUP(Import!C1739,Mapping!C:F,1,FALSE),\"HF, à reclasser\")))","v":""},{"$f":"IF(ISBLANK(Import!E1739),\"\",IF(B1736=(LEFT(A1736,3)),(IFERROR(VLOOKUP(Import!B1739,Mapping!D:F,2,FALSE),\"Cpte à créer dans Mapping\")),\"Cpte à reclasser\"))","v":""}]
[{"$f":"IF(ISBLANK(Import!E1740),\"\",Import!E1740)","v":""},{"$f":"IF(ISBLANK(Import!E1740),\"\",(IFERROR(VLOOKUP(Import!C1740,Mapping!C:F,1,FALSE),\"HF, à reclasser\")))","v":""},{"$f":"IF(ISBLANK(Import!E1740),\"\",IF(B1737=(LEFT(A1737,3)),(IFERROR(VLOOKUP(Import!B1740,Mapping!D:F,2,FALSE),\"Cpte à créer dans Mapping\")),\"Cpte à reclasser\"))","v":""}]
[{"$f":"IF(ISBLANK(Import!E1741),\"\",Import!E1741)","v":""},{"$f":"IF(ISBLANK(Import!E1741),\"\",(IFERROR(VLOOKUP(Import!C1741,Mapping!C:F,1,FALSE),\"HF, à reclasser\")))","v":""},{"$f":"IF(ISBLANK(Import!E1741),\"\",IF(B1738=(LEFT(A1738,3)),(IFERROR(VLOOKUP(Import!B1741,Mapping!D:F,2,FALSE),\"Cpte à créer dans Mapping\")),\"Cpte à reclasser\"))","v":""}]
[{"$f":"IF(ISBLANK(Import!E1742),\"\",Import!E1742)","v":""},{"$f":"IF(ISBLANK(Import!E1742),\"\",(IFERROR(VLOOKUP(Import!C1742,Mapping!C:F,1,FALSE),\"HF, à reclasser\")))","v":""},{"$f":"IF(ISBLANK(Import!E1742),\"\",IF(B1739=(LEFT(A1739,3)),(IFERROR(VLOOKUP(Import!B1742,Mapping!D:F,2,FALSE),\"Cpte à créer dans Mapping\")),\"Cpte à reclasser\"))","v":""}]
[{"$f":"IF(ISBLANK(Import!E1743),\"\",Import!E1743)","v":""},{"$f":"IF(ISBLANK(Import!E1743),\"\",(IFERROR(VLOOKUP(Import!C1743,Mapping!C:F,1,FALSE),\"HF, à reclasser\")))","v":""},{"$f":"IF(ISBLANK(Import!E1743),\"\",IF(B1740=(LEFT(A1740,3)),(IFERROR(VLOOKUP(Import!B1743,Mapping!D:F,2,FALSE),\"Cpte à créer dans Mapping\")),\"Cpte à reclasser\"))","v":""}]
[{"$f":"IF(ISBLANK(Import!E1744),\"\",Import!E1744)","v":""},{"$f":"IF(ISBLANK(Import!E1744),\"\",(IFERROR(VLOOKUP(Import!C1744,Mapping!C:F,1,FALSE),\"HF, à reclasser\")))","v":""},{"$f":"IF(ISBLANK(Import!E1744),\"\",IF(B1741=(LEFT(A1741,3)),(IFERROR(VLOOKUP(Import!B1744,Mapping!D:F,2,FALSE),\"Cpte à créer dans Mapping\")),\"Cpte à reclasser\"))","v":""}]
[{"$f":"IF(ISBLANK(Import!E1745),\"\",Import!E1745)","v":""},{"$f":"IF(ISBLANK(Import!E1745),\"\",(IFERROR(VLOOKUP(Import!C1745,Mapping!C:F,1,FALSE),\"HF, à reclasser\")))","v":""},{"$f":"IF(ISBLANK(Import!E1745),\"\",IF(B1742=(LEFT(A1742,3)),(IFERROR(VLOOKUP(Import!B1745,Mapping!D:F,2,FALSE),\"Cpte à créer dans Mapping\")),\"Cpte à reclasser\"))","v":""}]
[{"$f":"IF(ISBLANK(Import!E1746),\"\",Import!E1746)","v":""},{"$f":"IF(ISBLANK(Import!E1746),\"\",(IFERROR(VLOOKUP(Import!C1746,Mapping!C:F,1,FALSE),\"HF, à reclasser\")))","v":""},{"$f":"IF(ISBLANK(Import!E1746),\"\",IF(B1743=(LEFT(A1743,3)),(IFERROR(VLOOKUP(Import!B1746,Mapping!D:F,2,FALSE),\"Cpte à créer dans Mapping\")),\"Cpte à reclasser\"))","v":""}]
[{"$f":"IF(ISBLANK(Import!E1747),\"\",Import!E1747)","v":""},{"$f":"IF(ISBLANK(Import!E1747),\"\",(IFERROR(VLOOKUP(Import!C1747,Mapping!C:F,1,FALSE),\"HF, à reclasser\")))","v":""},{"$f":"IF(ISBLANK(Import!E1747),\"\",IF(B1744=(LEFT(A1744,3)),(IFERROR(VLOOKUP(Import!B1747,Mapping!D:F,2,FALSE),\"Cpte à créer dans Mapping\")),\"Cpte à reclasser\"))","v":""}]
[{"$f":"IF(ISBLANK(Import!E1748),\"\",Import!E1748)","v":""},{"$f":"IF(ISBLANK(Import!E1748),\"\",(IFERROR(VLOOKUP(Import!C1748,Mapping!C:F,1,FALSE),\"HF, à reclasser\")))","v":""},{"$f":"IF(ISBLANK(Import!E1748),\"\",IF(B1745=(LEFT(A1745,3)),(IFERROR(VLOOKUP(Import!B1748,Mapping!D:F,2,FALSE),\"Cpte à créer dans Mapping\")),\"Cpte à reclasser\"))","v":""}]
[{"$f":"IF(ISBLANK(Import!E1749),\"\",Import!E1749)","v":""},{"$f":"IF(ISBLANK(Import!E1749),\"\",(IFERROR(VLOOKUP(Import!C1749,Mapping!C:F,1,FALSE),\"HF, à reclasser\")))","v":""},{"$f":"IF(ISBLANK(Import!E1749),\"\",IF(B1746=(LEFT(A1746,3)),(IFERROR(VLOOKUP(Import!B1749,Mapping!D:F,2,FALSE),\"Cpte à créer dans Mapping\")),\"Cpte à reclasser\"))","v":""}]
[{"$f":"IF(ISBLANK(Import!E1750),\"\",Import!E1750)","v":""},{"$f":"IF(ISBLANK(Import!E1750),\"\",(IFERROR(VLOOKUP(Import!C1750,Mapping!C:F,1,FALSE),\"HF, à reclasser\")))","v":""},{"$f":"IF(ISBLANK(Import!E1750),\"\",IF(B1747=(LEFT(A1747,3)),(IFERROR(VLOOKUP(Import!B1750,Mapping!D:F,2,FALSE),\"Cpte à créer dans Mapping\")),\"Cpte à reclasser\"))","v":""}]
[{"$f":"IF(ISBLANK(Import!E1751),\"\",Import!E1751)","v":""},{"$f":"IF(ISBLANK(Import!E1751),\"\",(IFERROR(VLOOKUP(Import!C1751,Mapping!C:F,1,FALSE),\"HF, à reclasser\")))","v":""},{"$f":"IF(ISBLANK(Import!E1751),\"\",IF(B1748=(LEFT(A1748,3)),(IFERROR(VLOOKUP(Import!B1751,Mapping!D:F,2,FALSE),\"Cpte à créer dans Mapping\")),\"Cpte à reclasser\"))","v":""}]
[{"$f":"IF(ISBLANK(Import!E1752),\"\",Import!E1752)","v":""},{"$f":"IF(ISBLANK(Import!E1752),\"\",(IFERROR(VLOOKUP(Import!C1752,Mapping!C:F,1,FALSE),\"HF, à reclasser\")))","v":""},{"$f":"IF(ISBLANK(Import!E1752),\"\",IF(B1749=(LEFT(A1749,3)),(IFERROR(VLOOKUP(Import!B1752,Mapping!D:F,2,FALSE),\"Cpte à créer dans Mapping\")),\"Cpte à reclasser\"))","v":""}]
[{"$f":"IF(ISBLANK(Import!E1753),\"\",Import!E1753)","v":""},{"$f":"IF(ISBLANK(Import!E1753),\"\",(IFERROR(VLOOKUP(Import!C1753,Mapping!C:F,1,FALSE),\"HF, à reclasser\")))","v":""},{"$f":"IF(ISBLANK(Import!E1753),\"\",IF(B1750=(LEFT(A1750,3)),(IFERROR(VLOOKUP(Import!B1753,Mapping!D:F,2,FALSE),\"Cpte à créer dans Mapping\")),\"Cpte à reclasser\"))","v":""}]
[{"$f":"IF(ISBLANK(Import!E1754),\"\",Import!E1754)","v":""},{"$f":"IF(ISBLANK(Import!E1754),\"\",(IFERROR(VLOOKUP(Import!C1754,Mapping!C:F,1,FALSE),\"HF, à reclasser\")))","v":""},{"$f":"IF(ISBLANK(Import!E1754),\"\",IF(B1751=(LEFT(A1751,3)),(IFERROR(VLOOKUP(Import!B1754,Mapping!D:F,2,FALSE),\"Cpte à créer dans Mapping\")),\"Cpte à reclasser\"))","v":""}]
[{"$f":"IF(ISBLANK(Import!E1755),\"\",Import!E1755)","v":""},{"$f":"IF(ISBLANK(Import!E1755),\"\",(IFERROR(VLOOKUP(Import!C1755,Mapping!C:F,1,FALSE),\"HF, à reclasser\")))","v":""},{"$f":"IF(ISBLANK(Import!E1755),\"\",IF(B1752=(LEFT(A1752,3)),(IFERROR(VLOOKUP(Import!B1755,Mapping!D:F,2,FALSE),\"Cpte à créer dans Mapping\")),\"Cpte à reclasser\"))","v":""}]
[{"$f":"IF(ISBLANK(Import!E1756),\"\",Import!E1756)","v":""},{"$f":"IF(ISBLANK(Import!E1756),\"\",(IFERROR(VLOOKUP(Import!C1756,Mapping!C:F,1,FALSE),\"HF, à reclasser\")))","v":""},{"$f":"IF(ISBLANK(Import!E1756),\"\",IF(B1753=(LEFT(A1753,3)),(IFERROR(VLOOKUP(Import!B1756,Mapping!D:F,2,FALSE),\"Cpte à créer dans Mapping\")),\"Cpte à reclasser\"))","v":""}]
[{"$f":"IF(ISBLANK(Import!E1757),\"\",Import!E1757)","v":""},{"$f":"IF(ISBLANK(Import!E1757),\"\",(IFERROR(VLOOKUP(Import!C1757,Mapping!C:F,1,FALSE),\"HF, à reclasser\")))","v":""},{"$f":"IF(ISBLANK(Import!E1757),\"\",IF(B1754=(LEFT(A1754,3)),(IFERROR(VLOOKUP(Import!B1757,Mapping!D:F,2,FALSE),\"Cpte à créer dans Mapping\")),\"Cpte à reclasser\"))","v":""}]
[{"$f":"IF(ISBLANK(Import!E1758),\"\",Import!E1758)","v":""},{"$f":"IF(ISBLANK(Import!E1758),\"\",(IFERROR(VLOOKUP(Import!C1758,Mapping!C:F,1,FALSE),\"HF, à reclasser\")))","v":""},{"$f":"IF(ISBLANK(Import!E1758),\"\",IF(B1755=(LEFT(A1755,3)),(IFERROR(VLOOKUP(Import!B1758,Mapping!D:F,2,FALSE),\"Cpte à créer dans Mapping\")),\"Cpte à reclasser\"))","v":""}]
[{"$f":"IF(ISBLANK(Import!E1759),\"\",Import!E1759)","v":""},{"$f":"IF(ISBLANK(Import!E1759),\"\",(IFERROR(VLOOKUP(Import!C1759,Mapping!C:F,1,FALSE),\"HF, à reclasser\")))","v":""},{"$f":"IF(ISBLANK(Import!E1759),\"\",IF(B1756=(LEFT(A1756,3)),(IFERROR(VLOOKUP(Import!B1759,Mapping!D:F,2,FALSE),\"Cpte à créer dans Mapping\")),\"Cpte à reclasser\"))","v":""}]
[{"$f":"IF(ISBLANK(Import!E1760),\"\",Import!E1760)","v":""},{"$f":"IF(ISBLANK(Import!E1760),\"\",(IFERROR(VLOOKUP(Import!C1760,Mapping!C:F,1,FALSE),\"HF, à reclasser\")))","v":""},{"$f":"IF(ISBLANK(Import!E1760),\"\",IF(B1757=(LEFT(A1757,3)),(IFERROR(VLOOKUP(Import!B1760,Mapping!D:F,2,FALSE),\"Cpte à créer dans Mapping\")),\"Cpte à reclasser\"))","v":""}]
[{"$f":"IF(ISBLANK(Import!E1761),\"\",Import!E1761)","v":""},{"$f":"IF(ISBLANK(Import!E1761),\"\",(IFERROR(VLOOKUP(Import!C1761,Mapping!C:F,1,FALSE),\"HF, à reclasser\")))","v":""},{"$f":"IF(ISBLANK(Import!E1761),\"\",IF(B1758=(LEFT(A1758,3)),(IFERROR(VLOOKUP(Import!B1761,Mapping!D:F,2,FALSE),\"Cpte à créer dans Mapping\")),\"Cpte à reclasser\"))","v":""}]
[{"$f":"IF(ISBLANK(Import!E1762),\"\",Import!E1762)","v":""},{"$f":"IF(ISBLANK(Import!E1762),\"\",(IFERROR(VLOOKUP(Import!C1762,Mapping!C:F,1,FALSE),\"HF, à reclasser\")))","v":""},{"$f":"IF(ISBLANK(Import!E1762),\"\",IF(B1759=(LEFT(A1759,3)),(IFERROR(VLOOKUP(Import!B1762,Mapping!D:F,2,FALSE),\"Cpte à créer dans Mapping\")),\"Cpte à reclasser\"))","v":""}]
[{"$f":"IF(ISBLANK(Import!E1763),\"\",Import!E1763)","v":""},{"$f":"IF(ISBLANK(Import!E1763),\"\",(IFERROR(VLOOKUP(Import!C1763,Mapping!C:F,1,FALSE),\"HF, à reclasser\")))","v":""},{"$f":"IF(ISBLANK(Import!E1763),\"\",IF(B1760=(LEFT(A1760,3)),(IFERROR(VLOOKUP(Import!B1763,Mapping!D:F,2,FALSE),\"Cpte à créer dans Mapping\")),\"Cpte à reclasser\"))","v":""}]
[{"$f":"IF(ISBLANK(Import!E1764),\"\",Import!E1764)","v":""},{"$f":"IF(ISBLANK(Import!E1764),\"\",(IFERROR(VLOOKUP(Import!C1764,Mapping!C:F,1,FALSE),\"HF, à reclasser\")))","v":""},{"$f":"IF(ISBLANK(Import!E1764),\"\",IF(B1761=(LEFT(A1761,3)),(IFERROR(VLOOKUP(Import!B1764,Mapping!D:F,2,FALSE),\"Cpte à créer dans Mapping\")),\"Cpte à reclasser\"))","v":""}]
[{"$f":"IF(ISBLANK(Import!E1765),\"\",Import!E1765)","v":""},{"$f":"IF(ISBLANK(Import!E1765),\"\",(IFERROR(VLOOKUP(Import!C1765,Mapping!C:F,1,FALSE),\"HF, à reclasser\")))","v":""},{"$f":"IF(ISBLANK(Import!E1765),\"\",IF(B1762=(LEFT(A1762,3)),(IFERROR(VLOOKUP(Import!B1765,Mapping!D:F,2,FALSE),\"Cpte à créer dans Mapping\")),\"Cpte à reclasser\"))","v":""}]
[{"$f":"IF(ISBLANK(Import!E1766),\"\",Import!E1766)","v":""},{"$f":"IF(ISBLANK(Import!E1766),\"\",(IFERROR(VLOOKUP(Import!C1766,Mapping!C:F,1,FALSE),\"HF, à reclasser\")))","v":""},{"$f":"IF(ISBLANK(Import!E1766),\"\",IF(B1763=(LEFT(A1763,3)),(IFERROR(VLOOKUP(Import!B1766,Mapping!D:F,2,FALSE),\"Cpte à créer dans Mapping\")),\"Cpte à reclasser\"))","v":""}]
[{"$f":"IF(ISBLANK(Import!E1767),\"\",Import!E1767)","v":""},{"$f":"IF(ISBLANK(Import!E1767),\"\",(IFERROR(VLOOKUP(Import!C1767,Mapping!C:F,1,FALSE),\"HF, à reclasser\")))","v":""},{"$f":"IF(ISBLANK(Import!E1767),\"\",IF(B1764=(LEFT(A1764,3)),(IFERROR(VLOOKUP(Import!B1767,Mapping!D:F,2,FALSE),\"Cpte à créer dans Mapping\")),\"Cpte à reclasser\"))","v":""}]
[{"$f":"IF(ISBLANK(Import!E1768),\"\",Import!E1768)","v":""},{"$f":"IF(ISBLANK(Import!E1768),\"\",(IFERROR(VLOOKUP(Import!C1768,Mapping!C:F,1,FALSE),\"HF, à reclasser\")))","v":""},{"$f":"IF(ISBLANK(Import!E1768),\"\",IF(B1765=(LEFT(A1765,3)),(IFERROR(VLOOKUP(Import!B1768,Mapping!D:F,2,FALSE),\"Cpte à créer dans Mapping\")),\"Cpte à reclasser\"))","v":""}]
[{"$f":"IF(ISBLANK(Import!E1769),\"\",Import!E1769)","v":""},{"$f":"IF(ISBLANK(Import!E1769),\"\",(IFERROR(VLOOKUP(Import!C1769,Mapping!C:F,1,FALSE),\"HF, à reclasser\")))","v":""},{"$f":"IF(ISBLANK(Import!E1769),\"\",IF(B1766=(LEFT(A1766,3)),(IFERROR(VLOOKUP(Import!B1769,Mapping!D:F,2,FALSE),\"Cpte à créer dans Mapping\")),\"Cpte à reclasser\"))","v":""}]
[{"$f":"IF(ISBLANK(Import!E1770),\"\",Import!E1770)","v":""},{"$f":"IF(ISBLANK(Import!E1770),\"\",(IFERROR(VLOOKUP(Import!C1770,Mapping!C:F,1,FALSE),\"HF, à reclasser\")))","v":""},{"$f":"IF(ISBLANK(Import!E1770),\"\",IF(B1767=(LEFT(A1767,3)),(IFERROR(VLOOKUP(Import!B1770,Mapping!D:F,2,FALSE),\"Cpte à créer dans Mapping\")),\"Cpte à reclasser\"))","v":""}]
[{"$f":"IF(ISBLANK(Import!E1771),\"\",Import!E1771)","v":""},{"$f":"IF(ISBLANK(Import!E1771),\"\",(IFERROR(VLOOKUP(Import!C1771,Mapping!C:F,1,FALSE),\"HF, à reclasser\")))","v":""},{"$f":"IF(ISBLANK(Import!E1771),\"\",IF(B1768=(LEFT(A1768,3)),(IFERROR(VLOOKUP(Import!B1771,Mapping!D:F,2,FALSE),\"Cpte à créer dans Mapping\")),\"Cpte à reclasser\"))","v":""}]
[{"$f":"IF(ISBLANK(Import!E1772),\"\",Import!E1772)","v":""},{"$f":"IF(ISBLANK(Import!E1772),\"\",(IFERROR(VLOOKUP(Import!C1772,Mapping!C:F,1,FALSE),\"HF, à reclasser\")))","v":""},{"$f":"IF(ISBLANK(Import!E1772),\"\",IF(B1769=(LEFT(A1769,3)),(IFERROR(VLOOKUP(Import!B1772,Mapping!D:F,2,FALSE),\"Cpte à créer dans Mapping\")),\"Cpte à reclasser\"))","v":""}]
[{"$f":"IF(ISBLANK(Import!E1773),\"\",Import!E1773)","v":""},{"$f":"IF(ISBLANK(Import!E1773),\"\",(IFERROR(VLOOKUP(Import!C1773,Mapping!C:F,1,FALSE),\"HF, à reclasser\")))","v":""},{"$f":"IF(ISBLANK(Import!E1773),\"\",IF(B1770=(LEFT(A1770,3)),(IFERROR(VLOOKUP(Import!B1773,Mapping!D:F,2,FALSE),\"Cpte à créer dans Mapping\")),\"Cpte à reclasser\"))","v":""}]
[{"$f":"IF(ISBLANK(Import!E1774),\"\",Import!E1774)","v":""},{"$f":"IF(ISBLANK(Import!E1774),\"\",(IFERROR(VLOOKUP(Import!C1774,Mapping!C:F,1,FALSE),\"HF, à reclasser\")))","v":""},{"$f":"IF(ISBLANK(Import!E1774),\"\",IF(B1771=(LEFT(A1771,3)),(IFERROR(VLOOKUP(Import!B1774,Mapping!D:F,2,FALSE),\"Cpte à créer dans Mapping\")),\"Cpte à reclasser\"))","v":""}]
[{"$f":"IF(ISBLANK(Import!E1775),\"\",Import!E1775)","v":""},{"$f":"IF(ISBLANK(Import!E1775),\"\",(IFERROR(VLOOKUP(Import!C1775,Mapping!C:F,1,FALSE),\"HF, à reclasser\")))","v":""},{"$f":"IF(ISBLANK(Import!E1775),\"\",IF(B1772=(LEFT(A1772,3)),(IFERROR(VLOOKUP(Import!B1775,Mapping!D:F,2,FALSE),\"Cpte à créer dans Mapping\")),\"Cpte à reclasser\"))","v":""}]
[{"$f":"IF(ISBLANK(Import!E1776),\"\",Import!E1776)","v":""},{"$f":"IF(ISBLANK(Import!E1776),\"\",(IFERROR(VLOOKUP(Import!C1776,Mapping!C:F,1,FALSE),\"HF, à reclasser\")))","v":""},{"$f":"IF(ISBLANK(Import!E1776),\"\",IF(B1773=(LEFT(A1773,3)),(IFERROR(VLOOKUP(Import!B1776,Mapping!D:F,2,FALSE),\"Cpte à créer dans Mapping\")),\"Cpte à reclasser\"))","v":""}]
[{"$f":"IF(ISBLANK(Import!E1777),\"\",Import!E1777)","v":""},{"$f":"IF(ISBLANK(Import!E1777),\"\",(IFERROR(VLOOKUP(Import!C1777,Mapping!C:F,1,FALSE),\"HF, à reclasser\")))","v":""},{"$f":"IF(ISBLANK(Import!E1777),\"\",IF(B1774=(LEFT(A1774,3)),(IFERROR(VLOOKUP(Import!B1777,Mapping!D:F,2,FALSE),\"Cpte à créer dans Mapping\")),\"Cpte à reclasser\"))","v":""}]
[{"$f":"IF(ISBLANK(Import!E1778),\"\",Import!E1778)","v":""},{"$f":"IF(ISBLANK(Import!E1778),\"\",(IFERROR(VLOOKUP(Import!C1778,Mapping!C:F,1,FALSE),\"HF, à reclasser\")))","v":""},{"$f":"IF(ISBLANK(Import!E1778),\"\",IF(B1775=(LEFT(A1775,3)),(IFERROR(VLOOKUP(Import!B1778,Mapping!D:F,2,FALSE),\"Cpte à créer dans Mapping\")),\"Cpte à reclasser\"))","v":""}]
[{"$f":"IF(ISBLANK(Import!E1779),\"\",Import!E1779)","v":""},{"$f":"IF(ISBLANK(Import!E1779),\"\",(IFERROR(VLOOKUP(Import!C1779,Mapping!C:F,1,FALSE),\"HF, à reclasser\")))","v":""},{"$f":"IF(ISBLANK(Import!E1779),\"\",IF(B1776=(LEFT(A1776,3)),(IFERROR(VLOOKUP(Import!B1779,Mapping!D:F,2,FALSE),\"Cpte à créer dans Mapping\")),\"Cpte à reclasser\"))","v":""}]
[{"$f":"IF(ISBLANK(Import!E1780),\"\",Import!E1780)","v":""},{"$f":"IF(ISBLANK(Import!E1780),\"\",(IFERROR(VLOOKUP(Import!C1780,Mapping!C:F,1,FALSE),\"HF, à reclasser\")))","v":""},{"$f":"IF(ISBLANK(Import!E1780),\"\",IF(B1777=(LEFT(A1777,3)),(IFERROR(VLOOKUP(Import!B1780,Mapping!D:F,2,FALSE),\"Cpte à créer dans Mapping\")),\"Cpte à reclasser\"))","v":""}]
[{"$f":"IF(ISBLANK(Import!E1781),\"\",Import!E1781)","v":""},{"$f":"IF(ISBLANK(Import!E1781),\"\",(IFERROR(VLOOKUP(Import!C1781,Mapping!C:F,1,FALSE),\"HF, à reclasser\")))","v":""},{"$f":"IF(ISBLANK(Import!E1781),\"\",IF(B1778=(LEFT(A1778,3)),(IFERROR(VLOOKUP(Import!B1781,Mapping!D:F,2,FALSE),\"Cpte à créer dans Mapping\")),\"Cpte à reclasser\"))","v":""}]
[{"$f":"IF(ISBLANK(Import!E1782),\"\",Import!E1782)","v":""},{"$f":"IF(ISBLANK(Import!E1782),\"\",(IFERROR(VLOOKUP(Import!C1782,Mapping!C:F,1,FALSE),\"HF, à reclasser\")))","v":""},{"$f":"IF(ISBLANK(Import!E1782),\"\",IF(B1779=(LEFT(A1779,3)),(IFERROR(VLOOKUP(Import!B1782,Mapping!D:F,2,FALSE),\"Cpte à créer dans Mapping\")),\"Cpte à reclasser\"))","v":""}]
[{"$f":"IF(ISBLANK(Import!E1783),\"\",Import!E1783)","v":""},{"$f":"IF(ISBLANK(Import!E1783),\"\",(IFERROR(VLOOKUP(Import!C1783,Mapping!C:F,1,FALSE),\"HF, à reclasser\")))","v":""},{"$f":"IF(ISBLANK(Import!E1783),\"\",IF(B1780=(LEFT(A1780,3)),(IFERROR(VLOOKUP(Import!B1783,Mapping!D:F,2,FALSE),\"Cpte à créer dans Mapping\")),\"Cpte à reclasser\"))","v":""}]
[{"$f":"IF(ISBLANK(Import!E1784),\"\",Import!E1784)","v":""},{"$f":"IF(ISBLANK(Import!E1784),\"\",(IFERROR(VLOOKUP(Import!C1784,Mapping!C:F,1,FALSE),\"HF, à reclasser\")))","v":""},{"$f":"IF(ISBLANK(Import!E1784),\"\",IF(B1781=(LEFT(A1781,3)),(IFERROR(VLOOKUP(Import!B1784,Mapping!D:F,2,FALSE),\"Cpte à créer dans Mapping\")),\"Cpte à reclasser\"))","v":""}]
[{"$f":"IF(ISBLANK(Import!E1785),\"\",Import!E1785)","v":""},{"$f":"IF(ISBLANK(Import!E1785),\"\",(IFERROR(VLOOKUP(Import!C1785,Mapping!C:F,1,FALSE),\"HF, à reclasser\")))","v":""},{"$f":"IF(ISBLANK(Import!E1785),\"\",IF(B1782=(LEFT(A1782,3)),(IFERROR(VLOOKUP(Import!B1785,Mapping!D:F,2,FALSE),\"Cpte à créer dans Mapping\")),\"Cpte à reclasser\"))","v":""}]
[{"$f":"IF(ISBLANK(Import!E1786),\"\",Import!E1786)","v":""},{"$f":"IF(ISBLANK(Import!E1786),\"\",(IFERROR(VLOOKUP(Import!C1786,Mapping!C:F,1,FALSE),\"HF, à reclasser\")))","v":""},{"$f":"IF(ISBLANK(Import!E1786),\"\",IF(B1783=(LEFT(A1783,3)),(IFERROR(VLOOKUP(Import!B1786,Mapping!D:F,2,FALSE),\"Cpte à créer dans Mapping\")),\"Cpte à reclasser\"))","v":""}]
[{"$f":"IF(ISBLANK(Import!E1787),\"\",Import!E1787)","v":""},{"$f":"IF(ISBLANK(Import!E1787),\"\",(IFERROR(VLOOKUP(Import!C1787,Mapping!C:F,1,FALSE),\"HF, à reclasser\")))","v":""},{"$f":"IF(ISBLANK(Import!E1787),\"\",IF(B1784=(LEFT(A1784,3)),(IFERROR(VLOOKUP(Import!B1787,Mapping!D:F,2,FALSE),\"Cpte à créer dans Mapping\")),\"Cpte à reclasser\"))","v":""}]
[{"$f":"IF(ISBLANK(Import!E1788),\"\",Import!E1788)","v":""},{"$f":"IF(ISBLANK(Import!E1788),\"\",(IFERROR(VLOOKUP(Import!C1788,Mapping!C:F,1,FALSE),\"HF, à reclasser\")))","v":""},{"$f":"IF(ISBLANK(Import!E1788),\"\",IF(B1785=(LEFT(A1785,3)),(IFERROR(VLOOKUP(Import!B1788,Mapping!D:F,2,FALSE),\"Cpte à créer dans Mapping\")),\"Cpte à reclasser\"))","v":""}]
[{"$f":"IF(ISBLANK(Import!E1789),\"\",Import!E1789)","v":""},{"$f":"IF(ISBLANK(Import!E1789),\"\",(IFERROR(VLOOKUP(Import!C1789,Mapping!C:F,1,FALSE),\"HF, à reclasser\")))","v":""},{"$f":"IF(ISBLANK(Import!E1789),\"\",IF(B1786=(LEFT(A1786,3)),(IFERROR(VLOOKUP(Import!B1789,Mapping!D:F,2,FALSE),\"Cpte à créer dans Mapping\")),\"Cpte à reclasser\"))","v":""}]
[{"$f":"IF(ISBLANK(Import!E1790),\"\",Import!E1790)","v":""},{"$f":"IF(ISBLANK(Import!E1790),\"\",(IFERROR(VLOOKUP(Import!C1790,Mapping!C:F,1,FALSE),\"HF, à reclasser\")))","v":""},{"$f":"IF(ISBLANK(Import!E1790),\"\",IF(B1787=(LEFT(A1787,3)),(IFERROR(VLOOKUP(Import!B1790,Mapping!D:F,2,FALSE),\"Cpte à créer dans Mapping\")),\"Cpte à reclasser\"))","v":""}]
[{"$f":"IF(ISBLANK(Import!E1791),\"\",Import!E1791)","v":""},{"$f":"IF(ISBLANK(Import!E1791),\"\",(IFERROR(VLOOKUP(Import!C1791,Mapping!C:F,1,FALSE),\"HF, à reclasser\")))","v":""},{"$f":"IF(ISBLANK(Import!E1791),\"\",IF(B1788=(LEFT(A1788,3)),(IFERROR(VLOOKUP(Import!B1791,Mapping!D:F,2,FALSE),\"Cpte à créer dans Mapping\")),\"Cpte à reclasser\"))","v":""}]
[{"$f":"IF(ISBLANK(Import!E1792),\"\",Import!E1792)","v":""},{"$f":"IF(ISBLANK(Import!E1792),\"\",(IFERROR(VLOOKUP(Import!C1792,Mapping!C:F,1,FALSE),\"HF, à reclasser\")))","v":""},{"$f":"IF(ISBLANK(Import!E1792),\"\",IF(B1789=(LEFT(A1789,3)),(IFERROR(VLOOKUP(Import!B1792,Mapping!D:F,2,FALSE),\"Cpte à créer dans Mapping\")),\"Cpte à reclasser\"))","v":""}]
[{"$f":"IF(ISBLANK(Import!E1793),\"\",Import!E1793)","v":""},{"$f":"IF(ISBLANK(Import!E1793),\"\",(IFERROR(VLOOKUP(Import!C1793,Mapping!C:F,1,FALSE),\"HF, à reclasser\")))","v":""},{"$f":"IF(ISBLANK(Import!E1793),\"\",IF(B1790=(LEFT(A1790,3)),(IFERROR(VLOOKUP(Import!B1793,Mapping!D:F,2,FALSE),\"Cpte à créer dans Mapping\")),\"Cpte à reclasser\"))","v":""}]
[{"$f":"IF(ISBLANK(Import!E1794),\"\",Import!E1794)","v":""},{"$f":"IF(ISBLANK(Import!E1794),\"\",(IFERROR(VLOOKUP(Import!C1794,Mapping!C:F,1,FALSE),\"HF, à reclasser\")))","v":""},{"$f":"IF(ISBLANK(Import!E1794),\"\",IF(B1791=(LEFT(A1791,3)),(IFERROR(VLOOKUP(Import!B1794,Mapping!D:F,2,FALSE),\"Cpte à créer dans Mapping\")),\"Cpte à reclasser\"))","v":""}]
[{"$f":"IF(ISBLANK(Import!E1795),\"\",Import!E1795)","v":""},{"$f":"IF(ISBLANK(Import!E1795),\"\",(IFERROR(VLOOKUP(Import!C1795,Mapping!C:F,1,FALSE),\"HF, à reclasser\")))","v":""},{"$f":"IF(ISBLANK(Import!E1795),\"\",IF(B1792=(LEFT(A1792,3)),(IFERROR(VLOOKUP(Import!B1795,Mapping!D:F,2,FALSE),\"Cpte à créer dans Mapping\")),\"Cpte à reclasser\"))","v":""}]
[{"$f":"IF(ISBLANK(Import!E1796),\"\",Import!E1796)","v":""},{"$f":"IF(ISBLANK(Import!E1796),\"\",(IFERROR(VLOOKUP(Import!C1796,Mapping!C:F,1,FALSE),\"HF, à reclasser\")))","v":""},{"$f":"IF(ISBLANK(Import!E1796),\"\",IF(B1793=(LEFT(A1793,3)),(IFERROR(VLOOKUP(Import!B1796,Mapping!D:F,2,FALSE),\"Cpte à créer dans Mapping\")),\"Cpte à reclasser\"))","v":""}]
[{"$f":"IF(ISBLANK(Import!E1797),\"\",Import!E1797)","v":""},{"$f":"IF(ISBLANK(Import!E1797),\"\",(IFERROR(VLOOKUP(Import!C1797,Mapping!C:F,1,FALSE),\"HF, à reclasser\")))","v":""},{"$f":"IF(ISBLANK(Import!E1797),\"\",IF(B1794=(LEFT(A1794,3)),(IFERROR(VLOOKUP(Import!B1797,Mapping!D:F,2,FALSE),\"Cpte à créer dans Mapping\")),\"Cpte à reclasser\"))","v":""}]
[{"$f":"IF(ISBLANK(Import!E1798),\"\",Import!E1798)","v":""},{"$f":"IF(ISBLANK(Import!E1798),\"\",(IFERROR(VLOOKUP(Import!C1798,Mapping!C:F,1,FALSE),\"HF, à reclasser\")))","v":""},{"$f":"IF(ISBLANK(Import!E1798),\"\",IF(B1795=(LEFT(A1795,3)),(IFERROR(VLOOKUP(Import!B1798,Mapping!D:F,2,FALSE),\"Cpte à créer dans Mapping\")),\"Cpte à reclasser\"))","v":""}]
[{"$f":"IF(ISBLANK(Import!E1799),\"\",Import!E1799)","v":""},{"$f":"IF(ISBLANK(Import!E1799),\"\",(IFERROR(VLOOKUP(Import!C1799,Mapping!C:F,1,FALSE),\"HF, à reclasser\")))","v":""},{"$f":"IF(ISBLANK(Import!E1799),\"\",IF(B1796=(LEFT(A1796,3)),(IFERROR(VLOOKUP(Import!B1799,Mapping!D:F,2,FALSE),\"Cpte à créer dans Mapping\")),\"Cpte à reclasser\"))","v":""}]
[{"$f":"IF(ISBLANK(Import!E1800),\"\",Import!E1800)","v":""},{"$f":"IF(ISBLANK(Import!E1800),\"\",(IFERROR(VLOOKUP(Import!C1800,Mapping!C:F,1,FALSE),\"HF, à reclasser\")))","v":""},{"$f":"IF(ISBLANK(Import!E1800),\"\",IF(B1797=(LEFT(A1797,3)),(IFERROR(VLOOKUP(Import!B1800,Mapping!D:F,2,FALSE),\"Cpte à créer dans Mapping\")),\"Cpte à reclasser\"))","v":""}]
[{"$f":"IF(ISBLANK(Import!E1801),\"\",Import!E1801)","v":""},{"$f":"IF(ISBLANK(Import!E1801),\"\",(IFERROR(VLOOKUP(Import!C1801,Mapping!C:F,1,FALSE),\"HF, à reclasser\")))","v":""},{"$f":"IF(ISBLANK(Import!E1801),\"\",IF(B1798=(LEFT(A1798,3)),(IFERROR(VLOOKUP(Import!B1801,Mapping!D:F,2,FALSE),\"Cpte à créer dans Mapping\")),\"Cpte à reclasser\"))","v":""}]
[{"$f":"IF(ISBLANK(Import!E1802),\"\",Import!E1802)","v":""},{"$f":"IF(ISBLANK(Import!E1802),\"\",(IFERROR(VLOOKUP(Import!C1802,Mapping!C:F,1,FALSE),\"HF, à reclasser\")))","v":""},{"$f":"IF(ISBLANK(Import!E1802),\"\",IF(B1799=(LEFT(A1799,3)),(IFERROR(VLOOKUP(Import!B1802,Mapping!D:F,2,FALSE),\"Cpte à créer dans Mapping\")),\"Cpte à reclasser\"))","v":""}]
[{"$f":"IF(ISBLANK(Import!E1803),\"\",Import!E1803)","v":""},{"$f":"IF(ISBLANK(Import!E1803),\"\",(IFERROR(VLOOKUP(Import!C1803,Mapping!C:F,1,FALSE),\"HF, à reclasser\")))","v":""},{"$f":"IF(ISBLANK(Import!E1803),\"\",IF(B1800=(LEFT(A1800,3)),(IFERROR(VLOOKUP(Import!B1803,Mapping!D:F,2,FALSE),\"Cpte à créer dans Mapping\")),\"Cpte à reclasser\"))","v":""}]

{"sheet":"Notice","index":6,"n_rows":0,"n_cols":0,"rows_kept":0,"cut":false,"hidden":false,"merged":[]}

{"sheet":"Identification","index":7,"n_rows":28,"n_cols":2,"rows_kept":28,"cut":false,"hidden":false,"merged":[[5,1,5,3],[5,4,5,7],[2,1,2,7],[3,1,3,3],[3,4,3,7],[4,1,4,3],[4,4,4,7],[6,1,6,3],[6,4,6,7],[7,1,7,3],[7,4,7,7],[8,1,8,3],[8,4,8,7],[18,1,18,3],[18,4,18,7],[10,1,10,7],[11,1,11,3],[11,4,11,7],[12,1,12,3],[12,4,12,7],[13,1,13,3],[13,4,13,7],[14,1,14,3],[14,4,14,7],[16,1,16,7],[17,1,17,3],[17,4,17,7],[19,1,19,3],[19,4,19,7],[20,1,20,3],[20,4,20,7],[21,1,21,3],[21,4,21,7],[22,1,22,3],[22,4,22,7],[23,1,23,3],[23,4,23,7],[24,1,24,3],[24,4,24,7],[25,1,25,3],[25,4,25,7],[26,1,26,3],[26,4,26,7],[27,1,27,3],[27,4,27,7]]}
[]
[]
[null,"Veuillez compléter les informations suivantes :"]
[null,"Dénomination du parti politique"]
[null,"Adresse"]
[null,"Code postal"]
[null,"Ville"]
[null,"Tél."]
[null,"Courriel"]
[]
[null,"Les lettres de la CNCCFP relatives aux comptes déposés sont adressées à l'attention du dirigeant du parti. Ce dernier peut cependant désigner une personne (membre du parti, mandataire, expert-comptable) pouvant être contactée sur des points non substantiels par écrit ou oralement  par la CNCCFP avant l'engagement éventuel d'une procédure contradictoire écrite avec le parti politique concerné."]
[null,"Nom et prénom de la personne désignée"]
[null,"Qualité"]
[null,"Tél."]
[null,"Courriel"]
[]
[null,"Les lettres de la CNCCFP relatives à la procédure contradictoire écrite sont adressées à l'attention du dirigeant et des CAC du parti à l’adresse mail mentionnée dans l'encart suivant. En l'absence d'informations renseignées, elles sont envoyées par voie postale à l’adresse mentionnée dans les comptes déposés."]
[null,"Nom et prénom du dirigeant"]
[null,"Fonction"]
[null,"Date de désignation"]
[null,"Tél."]
[null,"Courriel"]
[null,"Nom et prénom du CAC"]
[null,"Courriel"]
[null,"Date de nomination"]
[null,"Nom et prénom du CAC"]
[null,"Couriel"]
[null,"Date de nomination"]

{"sheet":"Sommaire","index":8,"n_rows":91,"n_cols":11,"rows_kept":91,"cut":false,"hidden":false,"merged":[[1,2,1,10],[2,2,2,9],[4,2,4,9],[6,2,6,9],[8,2,8,9],[32,5,32,9],[10,2,10,9],[12,3,12,9],[14,4,14,9],[16,4,16,9],[18,4,18,9],[20,4,20,9],[22,5,22,9],[24,5,24,9],[26,5,26,9],[28,5,28,9],[30,4,30,9],[56,5,56,9],[34,5,34,9],[36,5,36,9],[38,5,38,9],[40,5,40,9],[42,5,42,9],[44,5,44,9],[46,5,46,9],[48,5,48,9],[50,5,50,9],[52,5,52,9],[54,5,54,9],[80,5,80,9],[58,5,58,9],[60,5,60,9],[62,5,62,9],[64,5,64,9],[66,5,66,9],[68,5,68,9],[70,5,70,9],[72,5,72,9],[74,4,74,9],[76,5,76,9],[78,5,78,9],[82,5,82,9],[84,5,84,9],[86,5,86,9],[88,5,88,9],[90,5,90,9]]}
[]
[]
[null,null,"SOMMAIRE",null,null,null,null,null,null,null,"Aller à"]
[]
[null,null,"1. Page de garde"]
[]
[null,null,"2. Bilan d'ensemble art. 421-1"]
[]
[null,null,"3. Compte de résultat d'ensemble art. 422-2"]
[]
[null,null,"4. Annexe aux comptes d'ensemble"]
[]
[null,null,null,"4. 1. Règles et méthodes comptables"]
[]
[null,null,null,null,"4. 1. 1. Principes généraux art. 431-1"]
[]
[null,null,null,null,"4. 1. 2. Référentiel comptable art. 432-1"]
[]
[null,null,null,null,"4. 1. 3. Méthodes comptables art. 433-1"]
[]
[null,null,null,null,"4. 1. 4. Périmètre comptable art. 434-1"]
[]
[null,null,null,null,null,"Critères retenus pour définir le périmètre des comptes d'ensemble"]
[]
[null,null,null,null,null,"Tableau des entités intégrées dans les comptes d'ensemble"]
[]
[null,null,null,null,null,"Liste des entités exclues des comptes d'ensemble"]
[]
[null,null,null,null,null,"Variation de périmètre"]
[]
[null,null,null,null,"4. 1. 5. Informations relatives aux postes du bilan et du compte de résultat"]
[]
[null,null,null,null,null,"État sur l'actif immobilisé (art. 435-1)"]
[]
[null,null,null,null,null,"Méthodes utilisées pour la détermination des écarts d'acquisition et leurs modalités de dépréciation, d'amortissement ou de reprise (art. 435-2)"]
[]
[null,null,null,null,null,"Méthode de réévaluation utilisée, écart dégagé, incidence sur les écarts d'évaluation et d'acquisition et sur les dotations aux amortissements et aux dépréciations relatives aux biens évalués en cas de réévaluation des immobilisations corporelles et financières de toutes les entités intégrées (art. 435-3)"]
[]
[null,null,null,null,null,"Détail du poste de titres de participation (art. 435-4)"]
[]
[null,null,null,null,null,"Liste des prêts octroyés à des personnes morales ou physiques non incluses dans les comptes d'ensemble (art. 435-5)"]
[]
[null,null,null,null,null,"Principales composantes des stocks (art. 435-6)"]
[]
[null,null,null,null,null,"État des créances (art. 435-7)"]
[]
[null,null,null,null,null,"État des provisions (art. 435-8)"]
[]
[null,null,null,null,null,"Informations sur les provisions constatées dans l'exercice au titre de pensions, de compléments de retraite ou de prévoyance, d'indemnités ou d'allocation en raison de départ à la retraite ou d'avantages similaires (art.435-9)"]
[]
[null,null,null,null,null,"État des passifs éventuels (art. 435-10)"]
[]
[null,null,null,null,null,"État des dettes à moins d'un an (art. 435-11)"]
[]
[null,null,null,null,null,"États des emprunts souscrits (art. 435-12) "]
[]
[null,null,null,null,null,"Calcul du montant de la diminution de la première fraction de l'aide publique (art. 435-13)"]
[]
[null,null,null,null,null,"Modalités de comptabilisation retenues pour les dons et les cotisations (art. 435-14)"]
[]
[null,null,null,null,null,"État des contributions financières octroyées par des partis politiques hors périmètre des comptes d'ensemble (art. 435-15)"]
[]
[null,null,null,null,null,"État des prestations de services facturées aux candidats (art. 435-16)"]
[]
[null,null,null,null,null,"État des contributions et des prises en charge de frais de campagnes électorales (art. 435-17)"]
[]
[null,null,null,null,null,"État des contributions octroyées à des partis politiques hors périmètre des comptes d'ensemble (art. 435-18)"]
[]
[null,null,null,null,null,"État des contributions octroyées à des organisations territoriales ou spécialisées du parti hors périmètre des comptes (art. 435-19)"]
[]
[null,null,null,null,null,"État des contributions octroyées à d'autres organismes hors périmètre des comptes (art. 435-20)"]
[]
[null,null,null,null,null,"Estimation globale des concours en nature dont les entités intégrés ont bénéficié de la part de personnes physiques ou d'autres partis ou groupements politiques (art. 435-21)"]
[]
[null,null,null,null,"4. 1. 6. Autres informations"]
[]
[null,null,null,null,null,"Effectifs moyens globaux par catégorie de toutes les entités intégrées (art. 436-1)"]
[]
[null,null,null,null,null,"Montant des engagements financiers suivants (art. 436-2)"]
[]
[null,null,null,null,null,"Redevances restant à payer et prix d'achat résiduel des biens pris en location-financement pour les contrats de location financement non comptabilisés à l'actif (art. 436-3)"]
[]
[null,null,null,null,null,"Rémunérations allouées aux dirigeants non-salariés du parti ayant un pouvoir d'administration, de direction ou de surveillance ; remboursement des frais ; avantages en nature (art. 436-4)"]
[]
[null,null,null,null,null,"Rémunérations ou honoraires alloués aux mandataires du parti et des ses organisations territoriales ou spécialisées (art. 436-5)"]
[]
[null,null,null,null,null,"Honoraires de chaque commissaire aux comptes (art. 436-6)"]
[]
[null,null,null,null,null,"Conditions d'octroi des prêts consentis par le parti ou par les entités intégrées (art. 436-7)"]
[]
[null,null,null,null,null,"Conditions d'octroi des emprunts souscrits par le parti ou par les entités intégrées (art. 436-8)"]

{"sheet":"Page de garde","index":9,"n_rows":16,"n_cols":1,"rows_kept":16,"cut":false,"hidden":false,"merged":[[3,0,3,6],[6,0,6,6],[8,0,8,6],[13,0,13,6],[15,0,15,6]]}
[]
[]
[]
["Exercice 2025"]
[]
[]
["Documents de synthèse d'ensemble"]
[]
["(Bilan, compte de résultat et annexe)"]
[]
[]
[]
[]
["Indiquez le nom de la formation politique"]
[]
["Indiquez l'adresse de la formation politique"]

{"sheet":"Balance","index":10,"n_rows":146,"n_cols":6,"rows_kept":146,"cut":false,"hidden":false,"merged":[]}
["INTITULES","SOLDE N","SOLDE N-1",null,"signe :","(+) Actif ; Charges"]
["ACTIF IMMOBILISE ",{"$f":"'Data BG'!S2","v":0},{"$f":"'Data BG'!T2","v":0},null,null,"(-) Passif ; Produits"]
["Écarts d'acquisition (brut) ",{"$f":"'Data BG'!S3","v":0},{"$f":"'Data BG'!T3","v":0}]
["Écarts d'acquisition (amortissements et dépréciations) ",{"$f":"'Data BG'!S4","v":0},{"$f":"'Data BG'!T4","v":0}]
["Immobilisations incorporelles (brut) ",{"$f":"'Data BG'!S5","v":0},{"$f":"'Data BG'!T5","v":0}]
["Immobilisations incorporelles (amortissements et dépréciations) ",{"$f":"'Data BG'!S6","v":0},{"$f":"'Data BG'!T6","v":0}]
["Immobilisations corporelles ",{"$f":"'Data BG'!S7","v":0},{"$f":"'Data BG'!T7","v":0}]
["Terrains et constructions (brut) ",{"$f":"'Data BG'!S8","v":0},{"$f":"'Data BG'!T8","v":0}]
["Terrains et constructions (amortissements et dépréciations) ",{"$f":"'Data BG'!S9","v":0},{"$f":"'Data BG'!T9","v":0}]
["Autres immobilisations corporelles (brut) ",{"$f":"'Data BG'!S10","v":0},{"$f":"'Data BG'!T10","v":0}]
["Autres immobilisations corporelles (amortissements et dépréciations) ",{"$f":"'Data BG'!S11","v":0},{"$f":"'Data BG'!T11","v":0}]
["Immobilisations financières ",{"$f":"'Data BG'!S12","v":0},{"$f":"'Data BG'!T12","v":0}]
["Participations et créances rattachées (brut) ",{"$f":"'Data BG'!S13","v":0},{"$f":"'Data BG'!T13","v":0}]
["Participations et créances rattachées (dépréciations) ",{"$f":"'Data BG'!S14","v":0},{"$f":"'Data BG'!T14","v":0}]
["Autres titres immobilisés (brut) ",{"$f":"'Data BG'!S15","v":0},{"$f":"'Data BG'!T15","v":0}]
["Autres titres immobilisés (dépréciations) ",{"$f":"'Data BG'!S16","v":0},{"$f":"'Data BG'!T16","v":0}]
["Prêts hors périmètre ",{"$f":"'Data BG'!S17","v":0},{"$f":"'Data BG'!T17","v":0}]
["Prêts à des partis ou groupements politiques (brut) ",{"$f":"'Data BG'!S18","v":0},{"$f":"'Data BG'!T18","v":0}]
["Prêts à des partis ou groupements politiques (dépréciations) ",{"$f":"'Data BG'!S19","v":0},{"$f":"'Data BG'!T19","v":0}]
["Prêts aux candidats (brut) ",{"$f":"'Data BG'!S20","v":0},{"$f":"'Data BG'!T20","v":0}]
["Prêts aux candidats (dépréciations) ",{"$f":"'Data BG'!S21","v":0},{"$f":"'Data BG'!T21","v":0}]
["Prêts aux organisations territoriales ou spécialisées du parti (brut) ",{"$f":"'Data BG'!S22","v":0},{"$f":"'Data BG'!T22","v":0}]
["Prêts aux organisations territoriales ou spécialisées du parti (dépréciations) ",{"$f":"'Data BG'!S23","v":0},{"$f":"'Data BG'!T23","v":0}]
["Prêts à d'autres organismes (brut) ",{"$f":"'Data BG'!S24","v":0},{"$f":"'Data BG'!T24","v":0}]
["Prêts à d'autres organismes (dépréciations) ",{"$f":"'Data BG'!S25","v":0},{"$f":"'Data BG'!T25","v":0}]
["Autres prêts (brut) ",{"$f":"'Data BG'!S26","v":0},{"$f":"'Data BG'!T26","v":0}]
["Autres prêts (dépréciations) ",{"$f":"'Data BG'!S27","v":0},{"$f":"'Data BG'!T27","v":0}]
["Autres immobilisations financières (brut) ",{"$f":"'Data BG'!S28","v":0},{"$f":"'Data BG'!T28","v":0}]
["Autres immobilisations financières (dépréciations) ",{"$f":"'Data BG'!S29","v":0},{"$f":"'Data BG'!T29","v":0}]
["ACTIF CIRCULANT ",{"$f":"'Data BG'!S30","v":0},{"$f":"'Data BG'!T30","v":0}]
["Stocks et en-cours (brut) ",{"$f":"'Data BG'!S31","v":0},{"$f":"'Data BG'!T31","v":0}]
["Stocks et en-cours (dépréciations) ",{"$f":"'Data BG'!S32","v":0},{"$f":"'Data BG'!T32","v":0}]
["Avances et acomptes versés sur commande (brut) ",{"$f":"'Data BG'!S33","v":0},{"$f":"'Data BG'!T33","v":0}]
["Avances et acomptes versés sur commande (dépréciations) ",{"$f":"'Data BG'!S34","v":0},{"$f":"'Data BG'!T34","v":0}]
["Créances clients et comptes rattachés (brut) ",{"$f":"'Data BG'!S35","v":0},{"$f":"'Data BG'!T35","v":0}]
["Créances clients et comptes rattachés (dépréciations) ",{"$f":"'Data BG'!S36","v":0},{"$f":"'Data BG'!T36","v":0}]
["Créances auprès de partis ou groupements politiques (brut) ",{"$f":"'Data BG'!S37","v":0},{"$f":"'Data BG'!T37","v":0}]
["Créances auprès de partis ou groupements politiques (dépréciations) ",{"$f":"'Data BG'!S38","v":0},{"$f":"'Data BG'!T38","v":0}]
["Autres créances (brut) ",{"$f":"'Data BG'!S39","v":0},{"$f":"'Data BG'!T39","v":0}]
["Autres créances (dépréciations) ",{"$f":"'Data BG'!S40","v":0},{"$f":"'Data BG'!T40","v":0}]
["Charges constatées d'avance (brut) ",{"$f":"'Data BG'!S41","v":0},{"$f":"'Data BG'!T41","v":0}]
["Valeurs mobilières de placement (brut) ",{"$f":"'Data BG'!S42","v":0},{"$f":"'Data BG'!T42","v":0}]
["Valeurs mobilières de placement (dépréciations) ",{"$f":"'Data BG'!S43","v":0},{"$f":"'Data BG'!T43","v":0}]
["Disponibilités (brut) ",{"$f":"'Data BG'!S44","v":0},{"$f":"'Data BG'!T44","v":0}]
["Actifs des entités non significatives (III) (brut) ",{"$f":"'Data BG'!S45","v":0},{"$f":"'Data BG'!T45","v":0}]
["Actifs des entités non significatives (III) (amortissements et dépréciations) ",{"$f":"'Data BG'!S46","v":0},{"$f":"'Data BG'!T46","v":0}]
["TOTAL ACTIF",{"$f":"ROUND('Data BG'!S47,0)","v":0},{"$f":"ROUND('Data BG'!T47,0)","v":0}]
["FONDS PROPRES ",{"$f":"'Data BG'!S48","v":0},{"$f":"'Data BG'!T48","v":0}]
["Réserves d'ensemble ",{"$f":"'Data BG'!S49","v":0},{"$f":"'Data BG'!T49","v":0}]
["Réserves ",{"$f":"'Data BG'!S50","v":0},{"$f":"'Data BG'!T50","v":0}]
["Réserves pour frais de campagnes électorales ",{"$f":"'Data BG'!S51","v":0},{"$f":"'Data BG'!T51","v":0}]
["Réserves pour frais de manifestation ",{"$f":"'Data BG'!S52","v":0},{"$f":"'Data BG'!T52","v":0}]
["Report à nouveau ",{"$f":"'Data BG'!S53","v":0},{"$f":"'Data BG'!T53","v":0}]
["Excédent ou déficit de l'exercice ",{"$f":"'Data BG'!S54","v":0},{"$f":"'Data BG'!T54","v":0}]
["Autres fonds propres ",{"$f":"'Data BG'!S55","v":0},{"$f":"'Data BG'!T55","v":0}]
["Intérêt des tiers ",{"$f":"'Data BG'!S56","v":0},{"$f":"'Data BG'!T56","v":0}]
["PROVISIONS ",{"$f":"'Data BG'!S57","v":0},{"$f":"'Data BG'!T57","v":0}]
["Provisions pour risques ",{"$f":"'Data BG'!S58","v":0},{"$f":"'Data BG'!T58","v":0}]
["Provisions pour charges ",{"$f":"'Data BG'!S59","v":0},{"$f":"'Data BG'!T59","v":0}]
["DETTES  ",{"$f":"'Data BG'!S60","v":0},{"$f":"'Data BG'!T60","v":0}]
["EMPRUNTS",{"$f":"'Data BG'!S61","v":0},{"$f":"'Data BG'!T61","v":0}]
["Emprunts et dettes auprès d'établissement de crédit ",{"$f":"'Data BG'!S62","v":0},{"$f":"'Data BG'!T62","v":0}]
["Emprunts et dettes auprès de personnes physiques à taux préférentiel ",{"$f":"'Data BG'!S63","v":0},{"$f":"'Data BG'!T63","v":0}]
["Autres emprunts et dettes auprès de personnes physiques ",{"$f":"'Data BG'!S64","v":0},{"$f":"'Data BG'!T64","v":0}]
["Emprunts et dettes auprès de partis ou groupements politiques ",{"$f":"'Data BG'!S65","v":0},{"$f":"'Data BG'!T65","v":0}]
["Dettes fournisseurs et comptes rattachés ",{"$f":"'Data BG'!S66","v":0},{"$f":"'Data BG'!T66","v":0}]
["Dettes fiscales et sociales ",{"$f":"'Data BG'!S67","v":0},{"$f":"'Data BG'!T67","v":0}]
["Dettes envers les candidats ",{"$f":"'Data BG'!S68","v":0},{"$f":"'Data BG'!T68","v":0}]
["Dettes envers les organisations territoriales et spécialisées ",{"$f":"'Data BG'!S69","v":0},{"$f":"'Data BG'!T69","v":0}]
["Autres dettes ",{"$f":"'Data BG'!S70","v":0},{"$f":"'Data BG'!T70","v":0}]
["Produits constatés d'avance ",{"$f":"'Data BG'!S71","v":0},{"$f":"'Data BG'!T71","v":0}]
["Passifs des entités non significatives (IV) ",{"$f":"'Data BG'!S72","v":0},{"$f":"'Data BG'!T72","v":0}]
["TOTAL PASSIF",{"$f":"ROUND('Data BG'!S73,0)","v":0},{"$f":"ROUND('Data BG'!T73,0)","v":0}]
["PRODUITS D'EXPLOITATION  ",{"$f":"'Data BG'!S74","v":0},{"$f":"'Data BG'!T74","v":0}]
["Cotisations des adhérents ",{"$f":"'Data BG'!S75","v":0},{"$f":"'Data BG'!T75","v":0}]
["Cotisations des élus ",{"$f":"'Data BG'!S76","v":0},{"$f":"'Data BG'!T76","v":0}]
["Aides publiques ",{"$f":"'Data BG'!S77","v":0},{"$f":"'Data BG'!T77","v":0}]
["Aide publique 1ère fraction ",{"$f":"'Data BG'!S78","v":0},{"$f":"'Data BG'!T78","v":0}]
["Aide publique 2nde fraction ",{"$f":"'Data BG'!S79","v":0},{"$f":"'Data BG'!T79","v":0}]
["Autres aides publiques ",{"$f":"'Data BG'!S80","v":0},{"$f":"'Data BG'!T80","v":0}]
["Dons de personnes physiques ",{"$f":"'Data BG'!S81","v":0},{"$f":"'Data BG'!T81","v":0}]
["Dévolutions de l'excédent des comptes de campagne ",{"$f":"'Data BG'!S82","v":0},{"$f":"'Data BG'!T82","v":0}]
["Dévolutions de partis ou groupements politiques ",{"$f":"'Data BG'!S83","v":0},{"$f":"'Data BG'!T83","v":0}]
["Contributions financières de partis ou groupements politiques ",{"$f":"'Data BG'!S84","v":0},{"$f":"'Data BG'!T84","v":0}]
["Prestations de services (manifestations et colloques) ",{"$f":"'Data BG'!S85","v":0},{"$f":"'Data BG'!T85","v":0}]
["Prestations de services aux candidats ",{"$f":"'Data BG'!S86","v":0},{"$f":"'Data BG'!T86","v":0}]
["Reprise sur amortissements, dépréciations, provisions ",{"$f":"'Data BG'!S87","v":0},{"$f":"'Data BG'!T87","v":0}]
["Ventes de marchandises, productions vendue (biens et services), production stockée et production immobilisée ",{"$f":"'Data BG'!S88","v":0},{"$f":"'Data BG'!T88","v":0}]
["Produits des entités non significatives ",{"$f":"'Data BG'!S89","v":0},{"$f":"'Data BG'!T90","v":0}]
["Produits des cessions d'immobilisations incorporelles et corporelles ",{"$f":"'Data BG'!S90","v":0}]
["Autres produits ",{"$f":"'Data BG'!S91","v":0},{"$f":"'Data BG'!T91","v":0}]
["CHARGES D'EXPLOITATION ",{"$f":"'Data BG'!S92","v":0},{"$f":"'Data BG'!T92","v":0}]
["Contributions aux candidats ",{"$f":"'Data BG'!S93","v":0},{"$f":"'Data BG'!T93","v":0}]
["Contributions versées aux candidats ",{"$f":"'Data BG'!S94","v":0},{"$f":"'Data BG'!T94","v":0}]
["Prises en charge de dépenses électorales ",{"$f":"'Data BG'!S95","v":0},{"$f":"'Data BG'!T95","v":0}]
["Autres contributions à des entités hors périmètre ",{"$f":"'Data BG'!S96","v":0},{"$f":"'Data BG'!T96","v":0}]
["Contributions à des partis ou groupements politiques ",{"$f":"'Data BG'!S97","v":0},{"$f":"'Data BG'!T97","v":0}]
["Contributions à des organisations territoriales ou spécialisées du parti ",{"$f":"'Data BG'!S98","v":0},{"$f":"'Data BG'!T98","v":0}]
["Contributions à d'autres organismes ",{"$f":"'Data BG'!S99","v":0},{"$f":"'Data BG'!T99","v":0}]
["Achats de marchandises et variation de stocks ",{"$f":"'Data BG'!S100","v":0},{"$f":"'Data BG'!T100","v":0}]
["Propagande et communication ",{"$f":"'Data BG'!S101","v":0},{"$f":"'Data BG'!T101","v":0}]
["Congrès, manifestation et université ",{"$f":"'Data BG'!S102","v":0},{"$f":"'Data BG'!T102","v":0}]
["Communication (presse, publications, télévisions, publicité, sites internet, réseaux sociaux) ",{"$f":"'Data BG'!S103","v":0},{"$f":"'Data BG'!T103","v":0}]
["Autres achats et charges externes ",{"$f":"'Data BG'!S104","v":0},{"$f":"'Data BG'!T104","v":0}]
["Locations, redevances de crédit-bail et charges locatives ",{"$f":"'Data BG'!S105","v":0},{"$f":"'Data BG'!T105","v":0}]
["Déplacements, missions et réceptions ",{"$f":"'Data BG'!S106","v":0},{"$f":"'Data BG'!T106","v":0}]
["Honoraires ",{"$f":"'Data BG'!S107","v":0},{"$f":"'Data BG'!T107","v":0}]
["Personnels extérieurs ",{"$f":"'Data BG'!S108","v":0},{"$f":"'Data BG'!T108","v":0}]
["Autres achats et autres charges externes ",{"$f":"'Data BG'!S109","v":0},{"$f":"'Data BG'!T109","v":0}]
["Impôts et taxes ",{"$f":"'Data BG'!S110","v":0},{"$f":"'Data BG'!T110","v":0}]
["Salaires et traitements ",{"$f":"'Data BG'!S111","v":0},{"$f":"'Data BG'!T111","v":0}]
["Charges sociales ",{"$f":"'Data BG'!S112","v":0},{"$f":"'Data BG'!T112","v":0}]
["Dotations aux amortissements et dépréciations sur immobilisations ",{"$f":"'Data BG'!S113","v":0},{"$f":"'Data BG'!T113","v":0}]
["Dotations aux dépréciations sur actif circulant ",{"$f":"'Data BG'!S114","v":0},{"$f":"'Data BG'!T114","v":0}]
["Dotations aux provisions ",{"$f":"'Data BG'!S115","v":0},{"$f":"'Data BG'!T115","v":0}]
["Charges des entités non significatives ",{"$f":"'Data BG'!S116","v":0},{"$f":"'Data BG'!T117","v":0}]
["Valeurs comptables des immobilisations incorporelles et corporelles cédées ",{"$f":"'Data BG'!S117","v":0}]
["Autres charges ",{"$f":"'Data BG'!S118","v":0},{"$f":"'Data BG'!T118","v":0}]
["PRODUITS FINANCIERS ",{"$f":"'Data BG'!S119","v":0},{"$f":"'Data BG'!T119","v":0}]
["Produits de participation ",{"$f":"'Data BG'!S120","v":0},{"$f":"'Data BG'!T120","v":0}]
["Produits des autres immobilisations financières ",{"$f":"'Data BG'!S121","v":0},{"$f":"'Data BG'!T121","v":0}]
["Autres intérêts et produits assimilés ",{"$f":"'Data BG'!S122","v":0},{"$f":"'Data BG'!T122","v":0}]
["Reprises sur dépréciations et provisions ",{"$f":"'Data BG'!S123","v":0},{"$f":"'Data BG'!T123","v":0}]
["Produits des cessions d'immobilisations financières ",{"$f":"'Data BG'!S124","v":0},{"$f":"'Data BG'!T123","v":0}]
["Produits nets sur cessions de valeurs mobilières de placement et d'instruments de trésorerie ",{"$f":"'Data BG'!S125","v":0},{"$f":"'Data BG'!T124","v":0}]
["CHARGES FINANCIERES  ",{"$f":"'Data BG'!S126","v":0},{"$f":"'Data BG'!T126","v":0}]
["Dotations aux amortissements, aux dépréciations et aux provisions ",{"$f":"'Data BG'!S127","v":0},{"$f":"'Data BG'!T127","v":0}]
["Intérêts et charges assimilées ",{"$f":"'Data BG'!S128","v":0},{"$f":"'Data BG'!T128","v":0}]
["Valeurs comptables des immobilisations financières cédées ",{"$f":"'Data BG'!S129","v":0},{"$f":"'Data BG'!T129","v":0}]
["Charges nettes sur cessions de valeurs mobilières de placement et d'instruments de trésorerie ",{"$f":"'Data BG'!S130","v":0},{"$f":"'Data BG'!T130","v":0}]
["PRODUITS EXCEPTIONNELS  ",{"$f":"'Data BG'!S131","v":0},{"$f":"'Data BG'!T131","v":0}]
["Produits exceptionnels ",{"$f":"'Data BG'!S132","v":0},{"$f":"'Data BG'!T132","v":0}]
[null,{"$f":"'Data BG'!S133","v":0},{"$f":"'Data BG'!T133","v":0}]
[null,{"$f":"'Data BG'!S134","v":0},{"$f":"'Data BG'!T134","v":0}]
["CHARGES EXCEPTIONNELLES : ",{"$f":"'Data BG'!S135","v":0},{"$f":"'Data BG'!S135","v":0}]
["Charges exceptionnelles ",{"$f":"'Data BG'!S136","v":0},{"$f":"'Data BG'!T136","v":0}]
[null,{"$f":"'Data BG'!S137","v":0},{"$f":"'Data BG'!T137","v":0}]
[null,{"$f":"'Data BG'!S138","v":0},{"$f":"'Data BG'!T138","v":0}]
["AUTRES OPERATIONS NON COURANTES",{"$f":"'Data BG'!S139","v":0},{"$f":"'Data BG'!T139","v":0}]
["Impôts sur les bénéfices (VII) ",{"$f":"'Data BG'!S140","v":0},{"$f":"'Data BG'!T140","v":0}]
["Dotations aux amortissements des écarts d'acquisition (VIII) ",{"$f":"'Data BG'!S141","v":0},{"$f":"'Data BG'!T141","v":0}]
["Intérêts des tiers (IX) ",{"$f":"'Data BG'!S142","v":0},{"$f":"'Data BG'!T142","v":0}]
["EXCEDENT OU DEFICIT D'ENSEMBLE ",{"$f":"'Data BG'!S143","v":0},{"$f":"'Data BG'!T143","v":0}]
[]
["Contrôle Actif",{"$f":"B47-'Donnees comptables'!BV4","v":0},{"$f":"+C47+C73","v":0}]
["Contrôle Passif",{"$f":"B73+'Donnees comptables'!CT4","v":0},{"$f":"+C73+C47","v":0}]

{"sheet":"Donnees comptables","index":11,"n_rows":4,"n_cols":164,"rows_kept":4,"cut":false,"hidden":false,"merged":[[0,85,0,89]]}
["Unité monétaire",null,"ACTIF IMMOBILISÉ",null,null,null,null,null,null,null,null,null,null,null,null,null,null,null,null,null,null,null,null,null,null,null,null,null,null,null,null,null,null,null,null,null,null,null,null,null,null,"ACTIF CIRCULANT",null,null,null,null,null,null,null,null,null,null,null,null,null,null,null,null,null,null,null,null,null,null,null,null,null,null,null,null,null,null,null,null,"FONDS PROPRES",null,null,null,null,null,null,null,"PROVISIONS",null,null,"DETTES",null,null,null,null,null,null,null,null,null,null,null,null,"PRODUITS D'EXPLOITATION",null,null,null,null,null,null,null,null,null,null,null,null,null,null,null,null,"CHARGES D'EXPLOITATION",null,null,null,null,null,null,null,null,null,null,null,null,null,null,null,null,null,null,null,null,null,null,null,"PRODUITS FINANCIERS",null,null,null,null,null,null,"CHARGES FINANCIÈRES",null,null,null,null,null,null,"PRODUITS EXCEPTIONNELS",null,"CHARGES EXCEPTIONNELLES"]
[null,null,null,null,null,null,null,null,"Immobilisations corporelles :",null,null,null,null,null,"Immobilisations financières :",null,null,null,null,null,"Prêts hors périmètre :",null,null,null,null,null,null,null,null,null,null,null,null,null,null,null,null,null,null,null,null,null,null,null,null,null,null,null,null,null,null,null,null,null,null,null,null,null,null,null,null,null,null,null,null,null,null,null,null,null,null,null,null,null,"Réserves d'ensemble :",null,null,null,null,null,null,null,null,null,null,"Emprunts :",null,null,null,null,null,null,null,null,null,null,null,null,null,null,"Aide publique :",null,null,null,null,null,null,null,null,null,null,null,null,null,null,"Contributions aux candidats :",null,"Autres contributions à des entités hors périmètre :",null,null,null,"Propagande et communication :",null,"Autres achats et charges externes :"]
[null,null,"Écarts d'acquisition (brut) ","Écarts d'acquisition (amortissements et dépréciations) ","Écarts d'acquisition (net) ","Immobilisations incorporelles (brut) ","Immobilisations incorporelles (amortissements et dépréciations) ","Immobilisations incorporelles (net) ","Terrains et constructions (brut) ","Terrains et constructions (amortissements et dépréciations) ","Terrains et constructions (net) ","Autres immobilisations corporelles (brut) ","Autres immobilisations corporelles (amortissements et dépréciations) ","Autres immobilisations corporelles (net) ","Participations et créances rattachées (brut) ","Participations et créances rattachées (dépréciations) ","Participations et créances rattachées (net) ","Autres titres immobilisés (brut) ","Autres titres immobilisés (dépréciations) ","Autres titres immobilisés (net) ","Prêts à des partis ou groupements politiques (brut) ","Prêts à des partis ou groupements politiques (dépréciations) ","Prêts à des partis ou groupements politiques (net) ","Prêts aux candidats (brut) ","Prêts aux candidats (dépréciations) ","Prêts aux candidats (net) ","Prêts aux organisations territoriales ou spécialisées du parti (brut) ","Prêts aux organisations territoriales ou spécialisées du parti (dépréciations) ","Prêts aux organisations territoriales ou spécialisées du parti (net) ","Prêts à d'autres organismes (brut) ","Prêts à d'autres organismes (dépréciations) ","Prêts à d'autres organismes (net) ","Autres prêts (brut) ","Autres prêts (dépréciations) ","Autres prêts (net) ","Autres immobilisations financières (brut) ","Autres immobilisations financières (dépréciations) ","Autres immobilisations financières (net) ","Total I (brut)","Total I (amortissements et dépréciations)","Total I (net)","Stocks et en-cours (brut) ","Stocks et en-cours (dépréciations) ","Stocks et en-cours (net) ","Avances et acomptes versés sur commande (brut) ","Avances et acomptes versés sur commande (dépréciations) ","Avances et acomptes versés sur commande (net) ","Créances clients et comptes rattachés (brut) ","Créances clients et comptes rattachés (dépréciations) ","Créances clients et comptes rattachés (net) ","Créances auprès de partis ou groupements politiques (brut) ","Créances auprès de partis ou groupements politiques (dépréciations) ","Créances auprès de partis ou groupements politiques (net) ","Autres créances (brut) ","Autres créances (dépréciations) ","Autres créances (net) ","Charges constatées d'avance (brut) ","Charges constatées d'avance (dépréciations) ","Charges constatées d'avance (net) ","Valeurs mobilières de placement (brut) ","Valeurs mobilières de placement (dépréciations) ","Valeurs mobilières de placement (net) ","Disponibilités (brut) ","Disponibilités (dépréciations) ","Disponibilités (net) ","Total II (brut)","Total II (amortissements et dépréciations)","Total II (net)","Actifs des entités non significatives (III) (brut) ","Actifs des entités non significatives (III) (amortissements et dépréciations) ","Actifs des entités non significatives (III) (net)","TOTAL GÉNÉRAL (I + II + III) (brut)","TOTAL GÉNÉRAL (I + II + III) (amortissements et dépréciations)","TOTAL GÉNÉRAL (I + II + III) (net)","Réserves ","Réserves pour frais de campagnes électorales ","Réserves pour frais de manifestation ","Report à nouveau ","Excédent ou déficit de l'exercice ","Autres fonds propres ","Intérêt des tiers ","Total I","Provisions pour risques ","Provisions pour charges ","Total II","Emprunts et dettes auprès d'établissement de crédit ","Emprunts et dettes auprès de personnes physiques à taux préférentiel ","Autres emprunts et dettes auprès de personnes physiques ","Emprunts et dettes auprès de partis ou groupements politiques ","Dettes fournisseurs et comptes rattachés ","Dettes fiscales et sociales ","Dettes envers les candidats ","Dettes envers les organisations territoriales et spécialisées ","Autres dettes ","Produits constatés d'avance ","Total III","Passifs des entités non significatives (IV) ","TOTAL GÉNÉRAL (I + II + III + IV)","Cotisations des adhérents ","Cotisations des élus ","Aide publique 1ère fraction ","Aide publique 2nde fraction ","Autres aides publiques ","Dons de personnes physiques ","Dévolutions de l'excédent des comptes de campagne ","Dévolutions de partis ou groupements politiques ","Contributions financières de partis ou groupements politiques ","Prestations de services (manifestations et colloques) ","Prestations de services aux candidats ","Reprise sur amortissements, dépréciations, provisions ","Ventes de marchandises, productions vendue (biens et services), production stockée et production immobilisée ","Produits des entités non significatives ","Produits des cessions d'immobilisations incorporelles et corporelles ","Autres produits ","Total I","Contributions versées aux candidats ","Prises en charge de dépenses électorales ","Contributions à des partis ou groupements politiques ","Contributions à des organisations territoriales ou spécialisées du parti ","Contributions à d'autres organismes ","Achats de marchandises et variation de stocks ","Congrès, manifestation et université ","Communication (presse, publications, télévisions, publicité, sites internet, réseaux sociaux) ","Locations, redevances de crédit-bail et charges locatives ","Déplacements, missions et réceptions ","Honoraires ","Personnels extérieurs ","Autres achats et autres charges externes ","Impôts et taxes ","Salaires et traitements ","Charges sociales ","Dotations aux amortissements et dépréciations sur immobilisations ","Dotations aux dépréciations sur actif circulant ","Dotations aux provisions ","Charges des entités non significatives ","Valeurs comptables des immobilisations incorporelles et corporelles cédées ","Autres charges ","Total II","1. RÉSULTAT DES ACTIVITÉS (I - II)","Produits de participation ","Produits des autres immobilisations financières ","Autres intérêts et produits assimilés ","Reprises sur dépréciations et provisions ","Produits des cessions d'immobilisations financières ","Produits nets sur cessions de valeurs mobilières de placement et d'instruments de trésorerie ","Total III","Dotations aux amortissements, aux dépréciations et aux provisions ","Intérêts et charges assimilées ","Valeurs comptables des immobilisations financières cédées ","Charges nettes sur cessions de valeurs mobilières de placement et d'instruments de trésorerie ","Total IV","2. RÉSULTAT FINANCIER (III - IV)","3. RÉSULTAT COURANT (I - II + III - IV)","Produits exceptionnels ","Total V","Charges exceptionnelles ","Total VI","4. RÉSULTAT EXCEPTIONNEL (V - VI)","Impôts sur les bénéfices (VII) ","Dotations aux amortissements des écarts d'acquisition (VIII) ","Intérêts des tiers (IX) ","Total des produits (I + III + V)","Total des charges (II + IV +VI + VII + VIII + IX)","EXCÉDENT OU DÉFICIT D'ENSEMBLE"]
[null,"Montant (sans les centimes) :",{"$f":"IFERROR(VLOOKUP(C3,Balance!$A:$C,2,FALSE),0)","v":0},{"$f":"IFERROR(-VLOOKUP(D3,Balance!$A:$C,2,FALSE),0)","v":0},{"$f":"C4-D4","v":0},{"$f":"IFERROR(VLOOKUP(F3,Balance!$A:$C,2,FALSE),0)","v":0},{"$f":"IFERROR(-VLOOKUP(G3,Balance!$A:$C,2,FALSE),0)","v":0},{"$f":"F4-G4","v":0},{"$f":"IFERROR(VLOOKUP(I3,Balance!$A:$C,2,FALSE),0)","v":0},{"$f":"IFERROR(-VLOOKUP(J3,Balance!$A:$C,2,FALSE),0)","v":0},{"$f":"I4-J4","v":0},{"$f":"IFERROR(VLOOKUP(L3,Balance!$A:$C,2,FALSE),0)","v":0},{"$f":"IFERROR(-VLOOKUP(M3,Balance!$A:$C,2,FALSE),0)","v":0},{"$f":"L4-M4","v":0},{"$f":"IFERROR(VLOOKUP(O3,Balance!$A:$C,2,FALSE),0)","v":0},{"$f":"IFERROR(-VLOOKUP(P3,Balance!$A:$C,2,FALSE),0)","v":0},{"$f":"O4-P4","v":0},{"$f":"IFERROR(VLOOKUP(R3,Balance!$A:$C,2,FALSE),0)","v":0},{"$f":"IFERROR(-VLOOKUP(S3,Balance!$A:$C,2,FALSE),0)","v":0},{"$f":"R4-S4","v":0},{"$f":"IFERROR(VLOOKUP(U3,Balance!$A:$C,2,FALSE),0)","v":0},{"$f":"IFERROR(-VLOOKUP(V3,Balance!$A:$C,2,FALSE),0)","v":0},{"$f":"U4-V4","v":0},{"$f":"IFERROR(VLOOKUP(X3,Balance!$A:$C,2,FALSE),0)","v":0},{"$f":"IFERROR(-VLOOKUP(Y3,Balance!$A:$C,2,FALSE),0)","v":0},{"$f":"X4-Y4","v":0},{"$f":"IFERROR(VLOOKUP(AA3,Balance!$A:$C,2,FALSE),0)","v":0},{"$f":"IFERROR(-VLOOKUP(AB3,Balance!$A:$C,2,FALSE),0)","v":0},{"$f":"AA4-AB4","v":0},{"$f":"IFERROR(VLOOKUP(AD3,Balance!$A:$C,2,FALSE),0)","v":0},{"$f":"IFERROR(-VLOOKUP(AE3,Balance!$A:$C,2,FALSE),0)","v":0},{"$f":"AD4-AE4","v":0},{"$f":"IFERROR(VLOOKUP(AG3,Balance!$A:$C,2,FALSE),0)","v":0},{"$f":"IFERROR(-VLOOKUP(AH3,Balance!$A:$C,2,FALSE),0)","v":0},{"$f":"AG4-AH4","v":0},{"$f":"IFERROR(VLOOKUP(AJ3,Balance!$A:$C,2,FALSE),0)","v":0},{"$f":"IFERROR(-VLOOKUP(AK3,Balance!$A:$C,2,FALSE),0)","v":0},{"$f":"AJ4-AK4","v":0},{"$f":"C4+F4+I4+L4+O4+R4+U4+X4+AA4+AD4+AG4+AJ4","v":0},{"$f":"D4+G4+J4+M4+P4+S4+V4+Y4+AB4+AE4+AH4+AK4","v":0},{"$f":"E4+H4+K4+N4+Q4+T4+W4+Z4+AC4+AF4+AI4+AL4","v":0},{"$f":"IFERROR(VLOOKUP(AP3,Balance!$A:$C,2,FALSE),0)","v":0},{"$f":"IFERROR(-VLOOKUP(AQ3,Balance!$A:$C,2,FALSE),0)","v":0},{"$f":"AP4-AQ4","v":0},{"$f":"IFERROR(VLOOKUP(AS3,Balance!$A:$C,2,FALSE),0)","v":0},{"$f":"IFERROR(-VLOOKUP(AT3,Balance!$A:$C,2,FALSE),0)","v":0},{"$f":"AS4-AT4","v":0},{"$f":"IFERROR(VLOOKUP(AV3,Balance!$A:$C,2,FALSE),0)","v":0},{"$f":"IFERROR(-VLOOKUP(AW3,Balance!$A:$C,2,FALSE),0)","v":0},{"$f":"AV4-AW4","v":0},{"$f":"IFERROR(VLOOKUP(AY3,Balance!$A:$C,2,FALSE),0)","v":0},{"$f":"IFERROR(-VLOOKUP(AZ3,Balance!$A:$C,2,FALSE),0)","v":0},{"$f":"AY4-AZ4","v":0},{"$f":"IFERROR(VLOOKUP(BB3,Balance!$A:$C,2,FALSE),0)","v":0},{"$f":"IFERROR(-VLOOKUP(BC3,Balance!$A:$C,2,FALSE),0)","v":0},{"$f":"BB4-BC4","v":0},{"$f":"IFERROR(VLOOKUP(BE3,Balance!$A:$C,2,FALSE),0)","v":0},{"$f":"IFERROR(-VLOOKUP(BF3,Balance!$A:$C,2,FALSE),0)","v":0},{"$f":"BE4-BF4","v":0},{"$f":"IFERROR(VLOOKUP(BH3,Balance!$A:$C,2,FALSE),0)","v":0},{"$f":"IFERROR(-VLOOKUP(BI3,Balance!$A:$C,2,FALSE),0)","v":0},{"$f":"BH4-BI4","v":0},{"$f":"IFERROR(VLOOKUP(BK3,Balance!$A:$C,2,FALSE),0)","v":0},{"$f":"IFERROR(-VLOOKUP(BL3,Balance!$A:$C,2,FALSE),0)","v":0},{"$f":"BK4-BL4","v":0},{"$f":"AP4+AS4+AV4+AY4+BB4+BH4+BK4+BE4","v":0},{"$f":"AQ4+AT4+AW4+AZ4+BC4+BI4+BL4+BF4","v":0},{"$f":"AR4+AU4+AX4+BA4+BD4+BJ4+BM4+BG4","v":0},{"$f":"IFERROR(VLOOKUP(BQ3,Balance!$A:$C,2,FALSE),0)","v":0},{"$f":"IFERROR(-VLOOKUP(BR3,Balance!$A:$C,2,FALSE),0)","v":0},{"$f":"BQ4-BR4","v":0},{"$f":"AM4+BN4+BQ4","v":0},{"$f":"AN4+BO4+BR4","v":0},{"$f":"AO4+BP4+BS4","v":0},{"$f":"IFERROR(-VLOOKUP(BW3,Balance!$A:$C,2,FALSE),0)","v":0},{"$f":"IFERROR(-VLOOKUP(BX3,Balance!$A:$C,2,FALSE),0)","v":0},{"$f":"IFERROR(-VLOOKUP(BY3,Balance!$A:$C,2,FALSE),0)","v":0},{"$f":"IFERROR(-VLOOKUP(BZ3,Balance!$A:$C,2,FALSE),0)","v":0},{"$f":"FH4","v":0},{"$f":"IFERROR(-VLOOKUP(CB3,Balance!$A:$C,2,FALSE),0)","v":0},{"$f":"IFERROR(-VLOOKUP(CC3,Balance!$A:$C,2,FALSE),0)","v":0},{"$f":"BW4+BX4+BY4+BZ4+CA4+CB4+CC4","v":0},{"$f":"IFERROR(-VLOOKUP(CE3,Balance!$A:$C,2,FALSE),0)","v":0},{"$f":"IFERROR(-VLOOKUP(CF3,Balance!$A:$C,2,FALSE),0)","v":0},{"$f":"CE4+CF4","v":0},{"$f":"IFERROR(-VLOOKUP(CH3,Balance!$A:$C,2,FALSE),0)","v":0},{"$f":"IFERROR(-VLOOKUP(CI3,Balance!$A:$C,2,FALSE),0)","v":0},{"$f":"IFERROR(-VLOOKUP(CJ3,Balance!$A:$C,2,FALSE),0)","v":0},{"$f":"IFERROR(-VLOOKUP(CK3,Balance!$A:$C,2,FALSE),0)","v":0},{"$f":"IFERROR(-VLOOKUP(CL3,Balance!$A:$C,2,FALSE),0)","v":0},{"$f":"IFERROR(-VLOOKUP(CM3,Balance!$A:$C,2,FALSE),0)","v":0},{"$f":"IFERROR(-VLOOKUP(CN3,Balance!$A:$C,2,FALSE),0)","v":0},{"$f":"IFERROR(-VLOOKUP(CO3,Balance!$A:$C,2,FALSE),0)","v":0},{"$f":"IFERROR(-VLOOKUP(CP3,Balance!$A:$C,2,FALSE),0)","v":0},{"$f":"IFERROR(-VLOOKUP(CQ3,Balance!$A:$C,2,FALSE),0)","v":0},{"$f":"CH4+CI4+CJ4+CK4+CL4+CM4+CN4+CO4+CP4+CQ4","v":0},{"$f":"IFERROR(-VLOOKUP(CS3,Balance!$A:$C,2,FALSE),0)","v":0},{"$f":"CD4+CG4+CR4+CS4","v":0},{"$f":"IFERROR(-VLOOKUP(CU3,Balance!$A:$C,2,FALSE),0)","v":0},{"$f":"IFERROR(-VLOOKUP(CV3,Balance!$A:$C,2,FALSE),0)","v":0},{"$f":"IFERROR(-VLOOKUP(CW3,Balance!$A:$C,2,FALSE),0)","v":0},{"$f":"IFERROR(-VLOOKUP(CX3,Balance!$A:$C,2,FALSE),0)","v":0},{"$f":"IFERROR(-VLOOKUP(CY3,Balance!$A:$C,2,FALSE),0)","v":0},{"$f":"IFERROR(-VLOOKUP(CZ3,Balance!$A:$C,2,FALSE),0)","v":0},{"$f":"IFERROR(-VLOOKUP(DA3,Balance!$A:$C,2,FALSE),0)","v":0},{"$f":"IFERROR(-VLOOKUP(DB3,Balance!$A:$C,2,FALSE),0)","v":0},{"$f":"IFERROR(-VLOOKUP(DC3,Balance!$A:$C,2,FALSE),0)","v":0},{"$f":"IFERROR(-VLOOKUP(DD3,Balance!$A:$C,2,FALSE),0)","v":0},{"$f":"IFERROR(-VLOOKUP(DE3,Balance!$A:$C,2,FALSE),0)","v":0},{"$f":"IFERROR(-VLOOKUP(DF3,Balance!$A:$C,2,FALSE),0)","v":0},{"$f":"IFERROR(-VLOOKUP(DG3,Balance!$A:$C,2,FALSE),0)","v":0},{"$f":"IFERROR(-VLOOKUP(DH3,Balance!$A:$C,2,FALSE),0)","v":0},{"$f":"IFERROR(-VLOOKUP(DI3,Balance!$A:$C,2,FALSE),0)","v":0},{"$f":"IFERROR(-VLOOKUP(DJ3,Balance!$A:$C,2,FALSE),0)","v":0},{"$f":"SUM(CU4:DJ4)","v":0},{"$f":"IFERROR(VLOOKUP(DL3,Balance!$A:$C,2,FALSE),0)","v":0},{"$f":"IFERROR(VLOOKUP(DM3,Balance!$A:$C,2,FALSE),0)","v":0},{"$f":"IFERROR(VLOOKUP(DN3,Balance!$A:$C,2,FALSE),0)","v":0},{"$f":"IFERROR(VLOOKUP(DO3,Balance!$A:$C,2,FALSE),0)","v":0},{"$f":"IFERROR(VLOOKUP(DP3,Balance!$A:$C,2,FALSE),0)","v":0},{"$f":"IFERROR(VLOOKUP(DQ3,Balance!$A:$C,2,FALSE),0)","v":0},{"$f":"IFERROR(VLOOKUP(DR3,Balance!$A:$C,2,FALSE),0)","v":0},{"$f":"IFERROR(VLOOKUP(DS3,Balance!$A:$C,2,FALSE),0)","v":0},{"$f":"IFERROR(VLOOKUP(DT3,Balance!$A:$C,2,FALSE),0)","v":0},{"$f":"IFERROR(VLOOKUP(DU3,Balance!$A:$C,2,FALSE),0)","v":0},{"$f":"IFERROR(VLOOKUP(DV3,Balance!$A:$C,2,FALSE),0)","v":0},{"$f":"IFERROR(VLOOKUP(DW3,Balance!$A:$C,2,FALSE),0)","v":0},{"$f":"IFERROR(VLOOKUP(DX3,Balance!$A:$C,2,FALSE),0)","v":0},{"$f":"IFERROR(VLOOKUP(DY3,Balance!$A:$C,2,FALSE),0)","v":0},{"$f":"IFERROR(VLOOKUP(DZ3,Balance!$A:$C,2,FALSE),0)","v":0},{"$f":"IFERROR(VLOOKUP(EA3,Balance!$A:$C,2,FALSE),0)","v":0},{"$f":"IFERROR(VLOOKUP(EB3,Balance!$A:$C,2,FALSE),0)","v":0},{"$f":"IFERROR(VLOOKUP(EC3,Balance!$A:$C,2,FALSE),0)","v":0},{"$f":"IFERROR(VLOOKUP(ED3,Balance!$A:$C,2,FALSE),0)","v":0},{"$f":"IFERROR(VLOOKUP(EE3,Balance!$A:$C,2,FALSE),0)","v":0},{"$f":"IFERROR(VLOOKUP(EF3,Balance!$A:$C,2,FALSE),0)","v":0},{"$f":"IFERROR(VLOOKUP(EG3,Balance!$A:$C,2,FALSE),0)","v":0},{"$f":"DL4+DM4+DN4+DO4+DP4+DQ4+DR4+DS4+DT4+DU4+DV4+DW4+DX4+DY4+DZ4+EA4+EB4+EC4+ED4+EE4+EG4+EF4","v":0},{"$f":"DK4-EH4","v":0},{"$f":"IFERROR(-VLOOKUP(EJ3,Balance!$A:$C,2,FALSE),0)","v":0},{"$f":"IFERROR(-VLOOKUP(EK3,Balance!$A:$C,2,FALSE),0)","v":0},{"$f":"IFERROR(-VLOOKUP(EL3,Balance!$A:$C,2,FALSE),0)","v":0},{"$f":"IFERROR(-VLOOKUP(EM3,Balance!$A:$C,2,FALSE),0)","v":0},{"$f":"IFERROR(-VLOOKUP(EN3,Balance!$A:$C,2,FALSE),0)","v":0},{"$f":"IFERROR(-VLOOKUP(EO3,Balance!$A:$C,2,FALSE),0)","v":0},{"$f":"EJ4+EK4+EL4+EM4+EO4+EN4","v":0},{"$f":"IFERROR(VLOOKUP(EQ3,Balance!$A:$C,2,FALSE),0)","v":0},{"$f":"IFERROR(VLOOKUP(ER3,Balance!$A:$C,2,FALSE),0)","v":0},{"$f":"IFERROR(VLOOKUP(ES3,Balance!$A:$C,2,FALSE),0)","v":0},{"$f":"IFERROR(VLOOKUP(ET3,Balance!$A:$C,2,FALSE),0)","v":0},{"$f":"EQ4+ER4+ES4+ET4","v":0},{"$f":"EP4-EU4","v":0},{"$f":"DK4-EH4+EP4-EU4","v":0},{"$f":"IFERROR(-VLOOKUP(EX3,Balance!$A:$C,2,FALSE),0)","v":0},{"$f":"EX4","v":0},{"$f":"IFERROR(VLOOKUP(EZ3,Balance!$A:$C,2,FALSE),0)","v":0},{"$f":"EZ4","v":0},{"$f":"EY4-FA4","v":0},{"$f":"IFERROR(VLOOKUP(FC3,Balance!$A:$C,2,FALSE),0)","v":0},{"$f":"IFERROR(VLOOKUP(FD3,Balance!$A:$C,2,FALSE),0)","v":0},{"$f":"IFERROR(VLOOKUP(FE3,Balance!$A:$C,2,FALSE),0)","v":0},{"$f":"DK4+EP4+EY4","v":0},{"$f":"EH4+EU4+FA4+FC4+FD4+FE4","v":0},{"$f":"FF4-FG4","v":0}]

{"sheet":"Bilan d'ensemble Actif","index":12,"n_rows":35,"n_cols":6,"rows_kept":35,"cut":false,"hidden":false,"merged":[[0,0,1,0],[0,2,0,4]]}
["ACTIF ",null,"Exercice 2025",null,null,"Exercice  2024"]
[null,null,"Brut ","Amortissements et dépréciations \n(à déduire) ","Net ","Net "]
["ACTIF IMMOBILISE "]
["Ecarts d'acquisition ","Amort./Déprec. Ecarts d'acquisition ",{"$f":"SUMIF('Data BG'!R:R,$A4,'Data BG'!S:S)","v":0},{"$f":"-SUMIF('Data BG'!R:R,$B4,'Data BG'!S:S)","v":0},{"$f":"C4-D4","v":0},{"$f":"SUMIF('Data BG'!R:R,$A4,'Data BG'!T:T)+SUMIF('Data BG'!R:R,$B4,'Data BG'!T:T)","v":0}]
["Immobilisations incorporelles ","Amort./ Dépréc. Immobilisations incorporelles ",{"$f":"SUMIF('Data BG'!R:R,$A5,'Data BG'!S:S)","v":0},{"$f":"-SUMIF('Data BG'!R:R,$B5,'Data BG'!S:S)","v":0},0,{"$f":"SUMIF('Data BG'!R:R,$A5,'Data BG'!T:T)+SUMIF('Data BG'!R:R,$B5,'Data BG'!T:T)","v":0}]
["Immobilisations corporelles ",null,{"$f":"SUMIF('Data BG'!R:R,$A6,'Data BG'!S:S)","v":0},{"$f":"-SUMIF('Data BG'!R:R,$B6,'Data BG'!S:S)","v":0},0,{"$f":"SUMIF('Data BG'!R:R,$A6,'Data BG'!T:T)+SUMIF('Data BG'!R:R,$B6,'Data BG'!T:T)","v":0}]
["Terrains et constructions ","Amort. constructions ",{"$f":"SUMIF('Data BG'!R:R,$A7,'Data BG'!S:S)","v":0},{"$f":"-SUMIF('Data BG'!R:R,$B7,'Data BG'!S:S)","v":0},0,{"$f":"SUMIF('Data BG'!R:R,$A7,'Data BG'!T:T)+SUMIF('Data BG'!R:R,$B7,'Data BG'!T:T)","v":0}]
["Autres immobilisations corporelles ","Amort. autres immobilisations corporelles ",{"$f":"SUMIF('Data BG'!R:R,$A8,'Data BG'!S:S)","v":0},{"$f":"-SUMIF('Data BG'!R:R,$B8,'Data BG'!S:S)","v":0},0,{"$f":"SUMIF('Data BG'!R:R,$A8,'Data BG'!T:T)+SUMIF('Data BG'!R:R,$B8,'Data BG'!T:T)","v":0}]
["Immobilisations financières ",null,{"$f":"SUMIF('Data BG'!R:R,$A9,'Data BG'!S:S)","v":0},{"$f":"-SUMIF('Data BG'!R:R,$B9,'Data BG'!S:S)","v":0},0,{"$f":"SUMIF('Data BG'!R:R,$A9,'Data BG'!T:T)+SUMIF('Data BG'!R:R,$B9,'Data BG'!T:T)","v":0}]
["Participations et créances rattachées ","Dépréc. Participations et créances rattachées ",{"$f":"SUMIF('Data BG'!R:R,$A10,'Data BG'!S:S)","v":0},{"$f":"-SUMIF('Data BG'!R:R,$B10,'Data BG'!S:S)","v":0},0,{"$f":"SUMIF('Data BG'!R:R,$A10,'Data BG'!T:T)+SUMIF('Data BG'!R:R,$B10,'Data BG'!T:T)","v":0}]
["Autres titres immobilisés ","Dépréc. Autres titres immobilisés ",{"$f":"SUMIF('Data BG'!R:R,$A11,'Data BG'!S:S)","v":0},{"$f":"-SUMIF('Data BG'!R:R,$B11,'Data BG'!S:S)","v":0},0,{"$f":"SUMIF('Data BG'!R:R,$A11,'Data BG'!T:T)+SUMIF('Data BG'!R:R,$B11,'Data BG'!T:T)","v":0}]
["Prêts hors périmètre ",null,{"$f":"SUMIF('Data BG'!R:R,$A12,'Data BG'!S:S)","v":0},{"$f":"-SUMIF('Data BG'!R:R,$B12,'Data BG'!S:S)","v":0},0,{"$f":"SUMIF('Data BG'!R:R,$A12,'Data BG'!T:T)+SUMIF('Data BG'!R:R,$B12,'Data BG'!T:T)","v":0}]
["Prêts à des partis ou groupements politiques ","Déprec. Prêts à des partis ou groupements politiques ",{"$f":"SUMIF('Data BG'!R:R,$A13,'Data BG'!S:S)","v":0},{"$f":"-SUMIF('Data BG'!R:R,$B13,'Data BG'!S:S)","v":0},0,{"$f":"SUMIF('Data BG'!R:R,$A13,'Data BG'!T:T)+SUMIF('Data BG'!R:R,$B13,'Data BG'!T:T)","v":0}]
["Prêts aux candidats ","Dépréc. Prêts aux candidats ",{"$f":"SUMIF('Data BG'!R:R,$A14,'Data BG'!S:S)","v":0},{"$f":"-SUMIF('Data BG'!R:R,$B14,'Data BG'!S:S)","v":0},0,{"$f":"SUMIF('Data BG'!R:R,$A14,'Data BG'!T:T)+SUMIF('Data BG'!R:R,$B14,'Data BG'!T:T)","v":0}]
["Prêts aux organisations territoriales ou spécialisées du parti ","Dépréc. Prêts aux organisations territoriales ou spécialisées du parti ",{"$f":"SUMIF('Data BG'!R:R,$A15,'Data BG'!S:S)","v":0},{"$f":"-SUMIF('Data BG'!R:R,$B15,'Data BG'!S:S)","v":0},0,{"$f":"SUMIF('Data BG'!R:R,$A15,'Data BG'!T:T)+SUMIF('Data BG'!R:R,$B15,'Data BG'!T:T)","v":0}]
["Prêts à d'autres organismes ","Dépréc. Prêts à d'autres organismes ",{"$f":"SUMIF('Data BG'!R:R,$A16,'Data BG'!S:S)","v":0},{"$f":"-SUMIF('Data BG'!R:R,$B16,'Data BG'!S:S)","v":0},0,{"$f":"SUMIF('Data BG'!R:R,$A16,'Data BG'!T:T)+SUMIF('Data BG'!R:R,$B16,'Data BG'!T:T)","v":0}]
["Autres prêts ","Dépréc. Autres prêts ",{"$f":"SUMIF('Data BG'!R:R,$A17,'Data BG'!S:S)","v":0},{"$f":"-SUMIF('Data BG'!R:R,$B17,'Data BG'!S:S)","v":0},0,{"$f":"SUMIF('Data BG'!R:R,$A17,'Data BG'!T:T)+SUMIF('Data BG'!R:R,$B17,'Data BG'!T:T)","v":0}]
["Autres immobilisations financières ","Dépréc. autres immobilisations financières ",{"$f":"SUMIF('Data BG'!R:R,$A18,'Data BG'!S:S)","v":0},{"$f":"-SUMIF('Data BG'!R:R,$B18,'Data BG'!S:S)","v":0},0,{"$f":"SUMIF('Data BG'!R:R,$A18,'Data BG'!T:T)+SUMIF('Data BG'!R:R,$B18,'Data BG'!T:T)","v":0}]
["Total I ",null,{"$f":"SUM(C3:C18)","v":0},{"$f":"SUM(D3:D18)","v":0},{"$f":"SUM(E3:E18)","v":0},{"$f":"SUM(F3:F18)","v":0}]
["ACTIF CIRCULANT "]
["Stocks et en-cours ","Dépréc. Stocks et en-cours ",{"$f":"SUMIF('Data BG'!R:R,$A21,'Data BG'!S:S)","v":0},{"$f":"-SUMIF('Data BG'!R:R,$B21,'Data BG'!S:S)","v":0},{"$f":"C21-D21","v":0},{"$f":"SUMIF('Data BG'!R:R,$A21,'Data BG'!T:T)+SUMIF('Data BG'!R:R,$B21,'Data BG'!T:T)","v":0}]
["Avances et acomptes versés sur commande ","Dépréc. Avances et acomptes versés sur commande ",{"$f":"SUMIF('Data BG'!R:R,$A22,'Data BG'!S:S)","v":0},{"$f":"-SUMIF('Data BG'!R:R,$B22,'Data BG'!S:S)","v":0},0,{"$f":"SUMIF('Data BG'!R:R,$A22,'Data BG'!T:T)+SUMIF('Data BG'!R:R,$B22,'Data BG'!T:T)","v":0}]
["Créances clients et comptes rattachés ","Dépréc. Créances clients et comptes rattachés ",{"$f":"SUMIF('Data BG'!R:R,$A23,'Data BG'!S:S)","v":0},{"$f":"-SUMIF('Data BG'!R:R,$B23,'Data BG'!S:S)","v":0},0,{"$f":"SUMIF('Data BG'!R:R,$A23,'Data BG'!T:T)+SUMIF('Data BG'!R:R,$B23,'Data BG'!T:T)","v":0}]
["Créances auprès de partis ou groupements politiques ","Dépréc. Créances auprès de partis ou groupements politiques ",{"$f":"SUMIF('Data BG'!R:R,$A24,'Data BG'!S:S)","v":0},{"$f":"-SUMIF('Data BG'!R:R,$B24,'Data BG'!S:S)","v":0},0,{"$f":"SUMIF('Data BG'!R:R,$A24,'Data BG'!T:T)+SUMIF('Data BG'!R:R,$B24,'Data BG'!T:T)","v":0}]
["Autres créances ","Déprec. Autres créances ",{"$f":"SUMIF('Data BG'!R:R,$A25,'Data BG'!S:S)","v":0},{"$f":"-SUMIF('Data BG'!R:R,$B25,'Data BG'!S:S)","v":0},0,{"$f":"SUMIF('Data BG'!R:R,$A25,'Data BG'!T:T)+SUMIF('Data BG'!R:R,$B25,'Data BG'!T:T)","v":0}]
["Charges constatées d'avance ",null,{"$f":"SUMIF('Data BG'!R:R,$A26,'Data BG'!S:S)","v":0},{"$f":"-SUMIF('Data BG'!R:R,$B26,'Data BG'!S:S)","v":0},{"$f":"C26-D26","v":0},{"$f":"SUMIF('Data BG'!R:R,$A26,'Data BG'!T:T)+SUMIF('Data BG'!R:R,$B26,'Data BG'!T:T)","v":0}]
["Valeurs mobilières de placement ","Dépréc. Valeurs mobilières de placement ",{"$f":"SUMIF('Data BG'!R:R,$A27,'Data BG'!S:S)","v":0},{"$f":"-SUMIF('Data BG'!R:R,$B27,'Data BG'!S:S)","v":0},0,{"$f":"SUMIF('Data BG'!R:R,$A27,'Data BG'!T:T)+SUMIF('Data BG'!R:R,$B27,'Data BG'!T:T)","v":0}]
["Disponibilités ",null,{"$f":"SUMIF('Data BG'!R:R,$A28,'Data BG'!S:S)","v":0},{"$f":"-SUMIF('Data BG'!R:R,$B28,'Data BG'!S:S)","v":0},0,{"$f":"SUMIF('Data BG'!R:R,$A28,'Data BG'!T:T)+SUMIF('Data BG'!R:R,$B28,'Data BG'!T:T)","v":0}]
[null,null,null,null,null,{"$f":"SUMIF('Data BG'!R:R,$A29,'Data BG'!T:T)+SUMIF('Data BG'!R:R,$B29,'Data BG'!T:T)","v":0}]
["Total II ",null,{"$f":"SUM(C20:C29)","v":0},{"$f":"SUM(D20:D29)","v":0},{"$f":"SUM(E20:E29)","v":0},{"$f":"SUM(F20:F29)","v":0}]
["Actifs des entités non significatives (III) ","Actifs des entités non significatives (amortissements et dépréciations) ",{"$f":"SUMIF('Data BG'!R:R,$A31,'Data BG'!S:S)","v":0},{"$f":"-SUMIF('Data BG'!R:R,$B31,'Data BG'!S:S)","v":0},{"$f":"+C31-D31","v":0},{"$f":"SUMIF('Data BG'!R:R,$A31,'Data BG'!T:T)+SUMIF('Data BG'!R:R,$B31,'Data BG'!T:T)","v":0}]
["TOTAL GENERAL (I + II+III) ",null,{"$f":"+C19+C30+C31","v":0},{"$f":"+D19+D30+D31","v":0},{"$f":"+E19+E30+E31","v":0},{"$f":"+F19+F30+F31","v":0}]
[]
[]
["Contrôle Bilan",null,null,null,{"$f":"E32-'Bilan d''ensemble Passif'!E30","v":0},{"$f":"F32-'Bilan d''ensemble Passif'!F30","v":0}]

{"sheet":"Bilan d'ensemble Passif","index":13,"n_rows":33,"n_cols":6,"rows_kept":33,"cut":false,"hidden":false,"merged":[[29,0,29,3],[0,0,0,3],[10,0,10,3],[14,0,14,3],[27,0,27,3]]}
["PASSIF ",null,null,null,"Exercice  2025","Exercice  2024"]
["FONDS PROPRES "]
["Réserves d'ensemble ",null,null,null,{"$f":"-SUMIF('Data BG'!$R$5:$R$145,$A3,'Data BG'!$S$5:$S$145)","v":0},{"$f":"-SUMIF('Data BG'!$R$5:$R$145,$A3,'Data BG'!$T$5:$T$145)","v":0}]
["Réserves ",null,null,null,{"$f":"-SUMIF('Data BG'!R:R,$A4,'Data BG'!S:S)","v":0},{"$f":"-SUMIF('Data BG'!R:R,$A4,'Data BG'!T:T)","v":0}]
["Réserves pour frais de campagnes électorales ",null,null,null,{"$f":"-SUMIF('Data BG'!R:R,$A5,'Data BG'!S:S)","v":0},{"$f":"-SUMIF('Data BG'!R:R,$A5,'Data BG'!T:T)","v":0}]
["Réserves pour frais de manifestation ",null,null,null,{"$f":"-SUMIF('Data BG'!R:R,$A6,'Data BG'!S:S)","v":0},{"$f":"-SUMIF('Data BG'!R:R,$A6,'Data BG'!T:T)","v":0}]
["Report à nouveau ",null,null,null,{"$f":"-SUMIF('Data BG'!R:R,$A7,'Data BG'!S:S)","v":0},{"$f":"-SUMIF('Data BG'!R:R,$A7,'Data BG'!T:T)","v":0}]
["Excédent ou déficit de l'exercice ",null,null,null,{"$f":"-SUMIF('Data BG'!R:R,$A8,'Data BG'!S:S)","v":0},{"$f":"-SUMIF('Data BG'!R:R,$A8,'Data BG'!T:T)","v":0}]
["Autres fonds propres ",null,null,null,{"$f":"-SUMIF('Data BG'!R:R,$A9,'Data BG'!S:S)","v":0},{"$f":"-SUMIF('Data BG'!R:R,$A9,'Data BG'!T:T)","v":0}]
["Intérêts des tiers ",null,null,null,{"$f":"-SUMIF('Data BG'!R:R,$A10,'Data BG'!S:S)","v":0},{"$f":"-SUMIF('Data BG'!R:R,$A10,'Data BG'!T:T)","v":0}]
["Total I ",null,null,null,{"$f":"SUM(E2:E10)","v":0},{"$f":"SUM(F2:F10)","v":0}]
["PROVISIONS "]
["Provisions pour risques ",null,null,null,{"$f":"-SUMIF('Data BG'!R:R,$A13,'Data BG'!S:S)","v":0},{"$f":"-SUMIF('Data BG'!R:R,$A13,'Data BG'!T:T)","v":0}]
["Provisions pour charges ",null,null,null,{"$f":"-SUMIF('Data BG'!R:R,$A14,'Data BG'!S:S)","v":0},{"$f":"-SUMIF('Data BG'!R:R,$A14,'Data BG'!T:T)","v":0}]
["Total II ",null,null,null,{"$f":"SUM(E12:E14)","v":0},{"$f":"SUM(F12:F14)","v":0}]
["DETTES "]
["Emprunts ",null,null,null,{"$f":"-SUMIF('Data BG'!R:R,$A17,'Data BG'!S:S)","v":0},{"$f":"-SUMIF('Data BG'!R:R,$A17,'Data BG'!T:T)","v":0}]
["Emprunts et dettes auprès d'établissements de crédit ",null,null,null,{"$f":"-SUMIF('Data BG'!R:R,$A18,'Data BG'!S:S)","v":0},{"$f":"-SUMIF('Data BG'!R:R,$A18,'Data BG'!T:T)","v":0}]
["Emprunts et dettes auprès des personnes physiques à taux préférentiel",null,null,null,{"$f":"-SUMIF('Data BG'!R:R,$A19,'Data BG'!S:S)","v":0},{"$f":"-SUMIF('Data BG'!R:R,$A19,'Data BG'!T:T)","v":0}]
["Emprunts et dettes auprès des personnes physiques",null,null,null,{"$f":"-SUMIF('Data BG'!R:R,$A20,'Data BG'!S:S)","v":0},{"$f":"-SUMIF('Data BG'!R:R,$A20,'Data BG'!T:T)","v":0}]
["Emprunts et dettes auprès de partis ou groupements politiques ",null,null,null,{"$f":"-SUMIF('Data BG'!R:R,$A21,'Data BG'!S:S)","v":0},{"$f":"-SUMIF('Data BG'!R:R,$A21,'Data BG'!T:T)","v":0}]
["Dettes fournisseurs et comptes rattachés ",null,null,null,{"$f":"-SUMIF('Data BG'!R:R,$A22,'Data BG'!S:S)","v":0},{"$f":"-SUMIF('Data BG'!R:R,$A22,'Data BG'!T:T)","v":0}]
["Dettes fiscales et sociales ",null,null,null,{"$f":"-SUMIF('Data BG'!R:R,$A23,'Data BG'!S:S)","v":0},{"$f":"-SUMIF('Data BG'!R:R,$A23,'Data BG'!T:T)","v":0}]
["Dettes envers les candidats ",null,null,null,{"$f":"-SUMIF('Data BG'!R:R,$A24,'Data BG'!S:S)","v":0},{"$f":"-SUMIF('Data BG'!R:R,$A24,'Data BG'!T:T)","v":0}]
["Dettes envers les organisations territoriales ou spécialisées ",null,null,null,{"$f":"-SUMIF('Data BG'!R:R,$A25,'Data BG'!S:S)","v":0},{"$f":"-SUMIF('Data BG'!R:R,$A25,'Data BG'!T:T)","v":0}]
["Autres dettes ",null,null,null,{"$f":"-SUMIF('Data BG'!R:R,$A26,'Data BG'!S:S)","v":0},{"$f":"-SUMIF('Data BG'!R:R,$A26,'Data BG'!T:T)","v":0}]
["Produits constatés d'avance ",null,null,null,{"$f":"-SUMIF('Data BG'!R:R,$A27,'Data BG'!S:S)","v":0},{"$f":"-SUMIF('Data BG'!R:R,$A27,'Data BG'!T:T)","v":0}]
["Total III ",null,null,null,{"$f":"SUM(E16:E27)","v":0},{"$f":"SUM(F16:F27)","v":0}]
["Passifs des entités non significatives (IV) ",null,null,null,{"$f":"-SUMIF('Data BG'!R:R,$A29,'Data BG'!S:S)","v":0},{"$f":"-SUMIF('Data BG'!R:R,$A29,'Data BG'!T:T)","v":0}]
["TOTAL GENERAL (I + II + III+IV) ",null,null,null,{"$f":"+E11+E15+E28+E29","v":0},{"$f":"+F11+F15+F28+F29","v":0}]
[]
[]
["Contrôle Bilan",null,null,null,{"$f":"'Bilan d''ensemble Actif'!E32-E30","v":0},{"$f":"'Bilan d''ensemble Actif'!F32-F30","v":0}]

{"sheet":"Compte de resultat d'ensemble","index":14,"n_rows":80,"n_cols":6,"rows_kept":80,"cut":false,"hidden":false,"merged":[[75,0,75,3],[76,0,76,3],[77,0,77,3],[56,0,56,3],[62,0,62,3],[63,0,63,3],[64,0,64,3],[67,0,67,3],[70,0,70,3],[0,0,0,3],[19,0,19,3],[47,0,47,3],[48,0,48,3],[71,0,71,3]]}
["COMPTE DE RESULTAT ",null,null,null,"Exercice 2025","Exercice 2024"]
["PRODUITS D'EXPLOITATION  "]
["Cotisations des adhérents ",null,null,null,{"$f":"-SUMIF('Data BG'!R:R,$A3,'Data BG'!S:S)","v":0},{"$f":"-SUMIF('Data BG'!R:R,$A3,'Data BG'!T:T)","v":0}]
["Cotisations des élus ",null,null,null,{"$f":"-SUMIF('Data BG'!R:R,$A4,'Data BG'!S:S)","v":0},{"$f":"-SUMIF('Data BG'!R:R,$A4,'Data BG'!T:T)","v":0}]
["Aides publiques ",null,null,null,{"$f":"-SUMIF('Data BG'!R:R,$A5,'Data BG'!S:S)","v":0},{"$f":"-SUMIF('Data BG'!R:R,$A5,'Data BG'!T:T)","v":0}]
["Aide publique 1ère fraction ",null,null,null,{"$f":"-SUMIF('Data BG'!R:R,$A6,'Data BG'!S:S)","v":0},{"$f":"-SUMIF('Data BG'!R:R,$A6,'Data BG'!T:T)","v":0}]
["Aide publique 2ème fraction ",null,null,null,{"$f":"-SUMIF('Data BG'!R:R,$A7,'Data BG'!S:S)","v":0},{"$f":"-SUMIF('Data BG'!R:R,$A7,'Data BG'!T:T)","v":0}]
["Autres aides publiques ",null,null,null,{"$f":"-SUMIF('Data BG'!R:R,$A8,'Data BG'!S:S)","v":0},{"$f":"-SUMIF('Data BG'!R:R,$A8,'Data BG'!T:T)","v":0}]
["Dons de personnes physiques ",null,null,null,{"$f":"-SUMIF('Data BG'!R:R,$A9,'Data BG'!S:S)","v":0},{"$f":"-SUMIF('Data BG'!R:R,$A9,'Data BG'!T:T)","v":0}]
["Dévolutions de l'excédent des comptes de campagne ",null,null,null,{"$f":"-SUMIF('Data BG'!R:R,$A10,'Data BG'!S:S)","v":0},{"$f":"-SUMIF('Data BG'!R:R,$A10,'Data BG'!T:T)","v":0}]
["Dévolutions de partis ou groupements politiques ",null,null,null,{"$f":"-SUMIF('Data BG'!R:R,$A11,'Data BG'!S:S)","v":0},{"$f":"-SUMIF('Data BG'!R:R,$A11,'Data BG'!T:T)","v":0}]
["Contributions financières de partis ou groupements politiques ",null,null,null,{"$f":"-SUMIF('Data BG'!R:R,$A12,'Data BG'!S:S)","v":0},{"$f":"-SUMIF('Data BG'!R:R,$A12,'Data BG'!T:T)","v":0}]
["Prestations de services (manifestations et colloques) ",null,null,null,{"$f":"-SUMIF('Data BG'!R:R,$A13,'Data BG'!S:S)","v":0},{"$f":"-SUMIF('Data BG'!R:R,$A13,'Data BG'!T:T)","v":0}]
["Prestations de services aux candidats ",null,null,null,{"$f":"-SUMIF('Data BG'!R:R,$A14,'Data BG'!S:S)","v":0},{"$f":"-SUMIF('Data BG'!R:R,$A14,'Data BG'!T:T)","v":0}]
["Reprises sur amortissements, dépréciations et provisions ",null,null,null,{"$f":"-SUMIF('Data BG'!R:R,$A15,'Data BG'!S:S)","v":0},{"$f":"-SUMIF('Data BG'!R:R,$A15,'Data BG'!T:T)","v":0}]
["Ventes de marchandises, production vendue (biens et services), production stockée et production immobilisée ",null,null,null,{"$f":"-SUMIF('Data BG'!R:R,$A16,'Data BG'!S:S)","v":0},{"$f":"-SUMIF('Data BG'!R:R,$A16,'Data BG'!T:T)","v":0}]
["Produits des entités non significatives ",null,null,null,{"$f":"-SUMIF('Data BG'!R:R,$A17,'Data BG'!S:S)","v":0},{"$f":"-SUMIF('Data BG'!R:R,$A17,'Data BG'!T:T)","v":0}]
["Produits des cessions d'immobilisations incorporelles et corporelles ",null,null,null,{"$f":"-SUMIF('Data BG'!R:R,$A18,'Data BG'!S:S)","v":0},{"$f":"-SUMIF('Data BG'!R:R,$A18,'Data BG'!T:T)","v":0}]
["Autres produits ",null,null,null,{"$f":"-SUMIF('Data BG'!R:R,$A19,'Data BG'!S:S)","v":0},{"$f":"-SUMIF('Data BG'!R:R,$A19,'Data BG'!T:T)","v":0}]
["Total I ",null,null,null,{"$f":"SUM(E2:E19)","v":0},{"$f":"SUM(F2:F19)","v":0}]
["CHARGES D'EXPLOITATION "]
["Contributions aux candidats ",null,null,null,{"$f":"SUMIF('Data BG'!R:R,$A22,'Data BG'!S:S)","v":0},{"$f":"SUMIF('Data BG'!R:R,$A22,'Data BG'!T:T)","v":0}]
["Contributions versées aux candidats ",null,null,null,{"$f":"SUMIF('Data BG'!R:R,$A23,'Data BG'!S:S)","v":0},{"$f":"SUMIF('Data BG'!R:R,$A23,'Data BG'!T:T)","v":0}]
["Prises en charge de dépenses électorales ",null,null,null,{"$f":"SUMIF('Data BG'!R:R,$A24,'Data BG'!S:S)","v":0},{"$f":"SUMIF('Data BG'!R:R,$A24,'Data BG'!T:T)","v":0}]
["Autres contributions à des entités hors périmètre ",null,null,null,{"$f":"SUMIF('Data BG'!R:R,$A25,'Data BG'!S:S)","v":0},{"$f":"SUMIF('Data BG'!R:R,$A25,'Data BG'!T:T)","v":0}]
["Contributions à des partis ou groupement politiques ",null,null,null,{"$f":"SUMIF('Data BG'!R:R,$A26,'Data BG'!S:S)","v":0},{"$f":"SUMIF('Data BG'!R:R,$A26,'Data BG'!T:T)","v":0}]
["Contributions à des organisations territoriales ou spécialisées du parti ",null,null,null,{"$f":"SUMIF('Data BG'!R:R,$A27,'Data BG'!S:S)","v":0},{"$f":"SUMIF('Data BG'!R:R,$A27,'Data BG'!T:T)","v":0}]
["Contributions à d'autres organismes ",null,null,null,{"$f":"SUMIF('Data BG'!R:R,$A28,'Data BG'!S:S)","v":0},{"$f":"SUMIF('Data BG'!R:R,$A28,'Data BG'!T:T)","v":0}]
["Achats de marchandises et variation de stocks ",null,null,null,{"$f":"SUMIF('Data BG'!R:R,$A29,'Data BG'!S:S)","v":0},{"$f":"SUMIF('Data BG'!R:R,$A29,'Data BG'!T:T)","v":0}]
["Propagande et communication ",null,null,null,{"$f":"SUMIF('Data BG'!R:R,$A30,'Data BG'!S:S)","v":0},{"$f":"SUMIF('Data BG'!R:R,$A30,'Data BG'!T:T)","v":0}]
["Congrès, manifestations et universités ",null,null,null,{"$f":"SUMIF('Data BG'!R:R,$A31,'Data BG'!S:S)","v":0},{"$f":"SUMIF('Data BG'!R:R,$A31,'Data BG'!T:T)","v":0}]
["Communication (presse, publications, télévisions, publicité, sites internet, réseaux sociaux) ",null,null,null,{"$f":"SUMIF('Data BG'!R:R,$A32,'Data BG'!S:S)","v":0},{"$f":"SUMIF('Data BG'!R:R,$A32,'Data BG'!T:T)","v":0}]
["Autres achats et charges externes ",null,null,null,{"$f":"SUMIF('Data BG'!R:R,$A33,'Data BG'!S:S)","v":0},{"$f":"SUMIF('Data BG'!R:R,$A33,'Data BG'!T:T)","v":0}]
["Locations, redevances de crédit-bail et charges locatives ",null,null,null,{"$f":"SUMIF('Data BG'!R:R,$A34,'Data BG'!S:S)","v":0},{"$f":"SUMIF('Data BG'!R:R,$A34,'Data BG'!T:T)","v":0}]
["Déplacements, missions et réceptions ",null,null,null,{"$f":"SUMIF('Data BG'!R:R,$A35,'Data BG'!S:S)","v":0},{"$f":"SUMIF('Data BG'!R:R,$A35,'Data BG'!T:T)","v":0}]
["Honoraires ",null,null,null,{"$f":"SUMIF('Data BG'!R:R,$A36,'Data BG'!S:S)","v":0},{"$f":"SUMIF('Data BG'!R:R,$A36,'Data BG'!T:T)","v":0}]
["Personnels extérieurs ",null,null,null,{"$f":"SUMIF('Data BG'!R:R,$A37,'Data BG'!S:S)","v":0},{"$f":"SUMIF('Data BG'!R:R,$A37,'Data BG'!T:T)","v":0}]
["Autres achats et autres charges externes ",null,null,null,{"$f":"SUMIF('Data BG'!R:R,$A38,'Data BG'!S:S)","v":0},{"$f":"SUMIF('Data BG'!R:R,$A38,'Data BG'!T:T)","v":0}]
["Impôts et taxes ",null,null,null,{"$f":"SUMIF('Data BG'!R:R,$A39,'Data BG'!S:S)","v":0},{"$f":"SUMIF('Data BG'!R:R,$A39,'Data BG'!T:T)","v":0}]
["Salaires et traitements ",null,null,null,{"$f":"SUMIF('Data BG'!R:R,$A40,'Data BG'!S:S)","v":0},{"$f":"SUMIF('Data BG'!R:R,$A40,'Data BG'!T:T)","v":0}]
["Charges sociales ",null,null,null,{"$f":"SUMIF('Data BG'!R:R,$A41,'Data BG'!S:S)","v":0},{"$f":"SUMIF('Data BG'!R:R,$A41,'Data BG'!T:T)","v":0}]
["Dotations aux amortissements et dépréciations sur immobilisations ",null,null,null,{"$f":"SUMIF('Data BG'!R:R,$A42,'Data BG'!S:S)","v":0},{"$f":"SUMIF('Data BG'!R:R,$A42,'Data BG'!T:T)","v":0}]
["Dotations aux dépréciations sur actif circulant ",null,null,null,{"$f":"SUMIF('Data BG'!R:R,$A43,'Data BG'!S:S)","v":0},{"$f":"SUMIF('Data BG'!R:R,$A43,'Data BG'!T:T)","v":0}]
["Dotations aux provisions ",null,null,null,{"$f":"SUMIF('Data BG'!R:R,$A44,'Data BG'!S:S)","v":0},{"$f":"SUMIF('Data BG'!R:R,$A44,'Data BG'!T:T)","v":0}]
["Charges des entités non significatives ",null,null,null,{"$f":"SUMIF('Data BG'!R:R,$A45,'Data BG'!S:S)","v":0},{"$f":"SUMIF('Data BG'!R:R,$A45,'Data BG'!T:T)","v":0}]
["Valeurs comptables des immobilisations incorporelles et corporelles cédées ",null,null,null,{"$f":"SUMIF('Data BG'!R:R,$A46,'Data BG'!S:S)","v":0},{"$f":"SUMIF('Data BG'!R:R,$A46,'Data BG'!T:T)","v":0}]
["Autres charges ",null,null,null,{"$f":"SUMIF('Data BG'!R:R,$A47,'Data BG'!S:S)","v":0},{"$f":"SUMIF('Data BG'!R:R,$A47,'Data BG'!T:T)","v":0}]
["Total II ",null,null,null,{"$f":"SUM(E21:E47)","v":0},{"$f":"SUM(F21:F47)","v":0}]
["1. RESULTAT DES ACTIVITES (I -II) ",null,null,null,{"$f":"+E20-E48","v":0},{"$f":"+F20-F48","v":0}]
["PRODUITS FINANCIERS "]
["Produits de participation ",null,null,null,{"$f":"-SUMIF('Data BG'!R:R,$A51,'Data BG'!S:S)","v":0},{"$f":"-SUMIF('Data BG'!R:R,$A51,'Data BG'!T:T)","v":0}]
["Produits des autres immobilisations financières ",null,null,null,{"$f":"-SUMIF('Data BG'!R:R,$A52,'Data BG'!S:S)","v":0},{"$f":"-SUMIF('Data BG'!R:R,$A52,'Data BG'!T:T)","v":0}]
["Autres intérêts et produits assimilés ",null,null,null,{"$f":"-SUMIF('Data BG'!R:R,$A53,'Data BG'!S:S)","v":0},{"$f":"-SUMIF('Data BG'!R:R,$A53,'Data BG'!T:T)","v":0}]
["Reprises sur dépréciations et provisions ",null,null,null,{"$f":"-SUMIF('Data BG'!R:R,$A54,'Data BG'!S:S)","v":0},{"$f":"-SUMIF('Data BG'!R:R,$A54,'Data BG'!T:T)","v":0}]
["Produits des cessions d'immobilisations financières ",null,null,null,{"$f":"-SUMIF('Data BG'!R:R,$A55,'Data BG'!S:S)","v":0},{"$f":"-SUMIF('Data BG'!R:R,$A55,'Data BG'!T:T)","v":0}]
["Produits nets sur cessions de valeurs mobilières de placement et d'instruments de trésorerie ",null,null,null,{"$f":"-SUMIF('Data BG'!R:R,$A56,'Data BG'!S:S)","v":0},{"$f":"-SUMIF('Data BG'!R:R,$A56,'Data BG'!T:T)","v":0}]
["Total III ",null,null,null,{"$f":"SUM(E50:E56)","v":0},{"$f":"SUM(F50:F56)","v":0}]
["CHARGES FINANCIERES  "]
["Dotations aux amortissements, aux dépréciations et aux provisions ",null,null,null,{"$f":"SUMIF('Data BG'!R:R,$A59,'Data BG'!S:S)","v":0},{"$f":"SUMIF('Data BG'!R:R,$A59,'Data BG'!T:T)","v":0}]
["Intérêts et charges assimilées ",null,null,null,{"$f":"SUMIF('Data BG'!R:R,$A60,'Data BG'!S:S)","v":0},{"$f":"SUMIF('Data BG'!R:R,$A60,'Data BG'!T:T)","v":0}]
["Valeurs comptables des immobilisations financières cédées ",null,null,null,{"$f":"SUMIF('Data BG'!R:R,$A61,'Data BG'!S:S)","v":0},{"$f":"SUMIF('Data BG'!R:R,$A61,'Data BG'!T:T)","v":0}]
["Charges nettes sur cessions de valeurs mobilières de placement et d'instruments de trésorerie ",null,null,null,{"$f":"SUMIF('Data BG'!R:R,$A62,'Data BG'!S:S)","v":0},{"$f":"SUMIF('Data BG'!R:R,$A62,'Data BG'!T:T)","v":0}]
["Total IV ",null,null,null,{"$f":"SUM(E58:E62)","v":0},{"$f":"SUM(F58:F62)","v":0}]
["2. RESULTAT FINANCIER (III - IV) ",null,null,null,{"$f":"+E57-E63","v":0},{"$f":"+F57-F63","v":0}]
["3. RESULTAT COURANT (I - II + III - IV) ",null,null,null,{"$f":"+E49+E64","v":0},{"$f":"+F49+F64","v":0}]
["PRODUITS EXCEPTIONNELS  "]
["Produits exceptionnels",null,null,null,{"$f":"-SUMIF('Data BG'!R:R,$A67,'Data BG'!S:S)","v":0},{"$f":"-SUMIF('Data BG'!R:R,$A67,'Data BG'!T:T)","v":0}]
["Total V ",null,null,null,{"$f":"SUM(E66:E67)","v":0},{"$f":"SUM(F66:F67)","v":0}]
["CHARGES EXCEPTIONNELLES : "]
["Charges exceptionnelles",null,null,null,{"$f":"SUMIF('Data BG'!R:R,$A70,'Data BG'!S:S)","v":0},{"$f":"SUMIF('Data BG'!R:R,$A70,'Data BG'!T:T)","v":0}]
["Total VI ",null,null,null,{"$f":"SUM(E69:E70)","v":0},{"$f":"SUM(F69:F70)","v":0}]
["4. RESULTAT EXCEPTIONNEL (V - VI) ",null,null,null,{"$f":"+E68-E71","v":0},{"$f":"+F68-F71","v":0}]
["Impôts sur les bénéfices (VII) ",null,null,null,{"$f":"SUMIF('Data BG'!R:R,$A73,'Data BG'!S:S)","v":0},{"$f":"SUMIF('Data BG'!R:R,$A73,'Data BG'!T:T)","v":0}]
["Dotations aux amortissements des écarts d'acquisition (VIII) ",null,null,null,{"$f":"SUMIF('Data BG'!R:R,$A74,'Data BG'!S:S)","v":0},{"$f":"SUMIF('Data BG'!R:R,$A74,'Data BG'!T:T)","v":0}]
["Intérêts des tiers (IX) ",null,null,null,{"$f":"SUMIF('Data BG'!R:R,$A75,'Data BG'!S:S)","v":0},{"$f":"SUMIF('Data BG'!R:R,$A75,'Data BG'!T:T)","v":0}]
["Total des produits (I + III + V ) ",null,null,null,{"$f":"+E20+E57+E68","v":0},{"$f":"IF(F75<0,+F20+F57+F68-F75,+F20+F57+F68)","v":0}]
["Total des charges (II + IV + VI + VII + VIII + IX ) ",null,null,null,{"$f":"+E48+E63+E71+E73+E74+E75","v":0},{"$f":"IF(F75>0,+F48+F63+F71+F73+F74+F75,+F48+F63+F71+F73+F74)","v":0}]
["EXCEDENT OU DEFICIT D'ENSEMBLE ",null,null,null,{"$f":"+E76-E77","v":0},{"$f":"+F76-F77","v":0}]
[]
["Contröle compte de résultat",null,null,null,{"$f":"+E78-'Bilan d''ensemble Passif'!E8","v":0},{"$f":"+F78-'Bilan d''ensemble Passif'!F8","v":0}]

{"sheet":"Annexe Principes et ref.","index":15,"n_rows":31,"n_cols":1,"rows_kept":31,"cut":false,"hidden":false,"merged":[[30,0,30,6],[0,0,0,6],[1,0,1,6],[4,0,4,5],[5,0,5,6],[29,0,29,6],[2,0,3,6]]}
["4. RÈGLES ET MÉTHODES COMPTABLES"]
["Préambule"]
[]
[]
["4. 1.1. PRINCIPES GÉNÉRAUX"]
["L’annexe doit comporter toute information de caractère significatif permettant aux utilisateurs des comptes d’ensemble de porter une appréciation sur le patrimoine, la situation financière et le résultat de l'ensemble constitué par les entités comprises dans le périmètre des comptes d’ensemble. \nLa liste des informations recensées ci-après, dont l’ordre est indicatif, ne doit en aucun cas être considérée comme limitative. En revanche, celles qui ne présentent pas un caractère significatif ne sont pas à fournir. \nDans l'hypothèse où un événement n'ayant aucun lien direct prépondérant avec une situation existant à la clôture de l'exercice survient entre la date de clôture et la date d'établissement des comptes, une information est donnée dans l’annexe.(art. 431-1)."]
[]
[]
[]
[]
[]
[]
[]
[]
[]
[]
[]
[]
[]
[]
[]
[]
[]
[]
[]
[]
[]
[]
[]
["4. 1. 2. RÉFÉRENTIEL COMPTABLE"]
["Le parti mentionne dans l’annexe le règlement comptable de l’Autorité des normes comptables utilisé pour l’élaboration des comptes d’ensemble (art. 432-1). "]

{"sheet":"Annexe Methodes","index":16,"n_rows":2,"n_cols":1,"rows_kept":2,"cut":false,"hidden":false,"merged":[[0,0,0,6],[1,0,1,6]]}
["4. 1. 3. MÉTHODES COMPTABLES"]
["Le parti mentionne dans l’annexe les informations suivantes portant sur les méthodes comptables, d’estimation et les corrections d’erreurs : méthodes comptables et d’estimation utilisées lorsqu’il existe un choix de méthode ; indication et justification des changements de méthode comptable ou d’estimation et de leurs incidences sur le résultat d’ensemble et les fonds propres d’ensemble ; indication et justification des corrections d’erreurs et de leurs incidences sur le résultat d’ensemble et présentation des principaux postes corrigés des erreurs des exercices antérieurs (art. 433-1).\nLe parti doit mentionner les méthodes comptables retenues en application du règlement ANC n° 2014-03 relatif au plan comptable général : contrats long terme ; frais d’augmentation de capital, de fusion de scission et d’apport ; frais de constitution, de transformation, de premier établissement ; frais de création de site internet ; coûts de développement ; frais d’émission d’emprunt.\nLe parti doit mentionner les méthodes comptables ou d’estimations retenues en application du règlement 2018-03 relatif aux comptes d'ensemble des partis ou groupements politiques pour les cotisations et les contrats de location financement (IR3)."]

{"sheet":"Perimetre 434-1","index":17,"n_rows":16,"n_cols":5,"rows_kept":16,"cut":false,"hidden":false,"merged":[[15,0,15,4],[0,0,0,4],[2,0,2,4],[3,0,3,4],[5,0,5,4],[8,0,8,4],[4,0,4,4]]}
["4. 1. 4. PÉRIMÈTRE COMPTABLE"]
[]
["CRITÈRES RETENUS POUR DÉFINIR LE PÉRIMÈTRE DES COMPTES D'ENSEMBLE"]
["Le parti mentionne les critères retenus pour définir le périmètre de ses comptes d'ensemble (art. 434-1). Le parti mentionne pour chaque entité, intégrée ou intégrante, le mandataire qu’elle a désigné en application de l’article 11 de la loi n°88-227 du 11 mars 1988 relative à la transparence financière de la vie politique.       "]
[]
["TABLEAU DES ENTITÉS INTÉGRÉES DANS LES COMPTES D'ENSEMBLE (art. 434-1)"]
["Entités intégrées","Adresse","Mode d'intégration","Date de clôture","Pourcentage de capital détenu"]
[]
["A - Mandataire(s) (association de financement ou mandataire financier personne physique)"]
[]
[]
[]
[]
[]
[]
["B - Entités concernées"]

{"sheet":"Perimetre suite 434-1","index":18,"n_rows":38,"n_cols":6,"rows_kept":38,"cut":false,"hidden":false,"merged":[[6,2,6,5],[0,0,0,4],[2,2,2,5],[3,2,3,5],[4,2,4,5],[5,2,5,5],[37,0,37,4],[7,2,7,5],[8,2,8,5],[9,2,9,5],[11,0,11,4],[15,0,16,0],[15,1,16,1],[15,2,16,2],[15,3,16,3],[15,4,15,5],[27,0,28,0],[27,1,28,1],[27,2,28,2],[27,3,28,3],[27,4,27,5]]}
["LISTE DES ENTITÉS EXCLUES DES COMPTES D'ENSEMBLE (art. 434-1)"]
[]
["Entités exclues","Adresse","Motifs d'exclusion"]
[]
[]
[]
[]
[]
[]
[]
[]
["VARIATION DE PÉRIMÈTRE (art. 434-1)"]
[]
["Liste des entrées :"]
[]
["Entités concernées","Adresse","Modification du pourcentage de détention","Modification du mode d'intégration","Incidence de ces variations sur les comptes"]
[null,null,null,null,"Sur fonds propres","Sur le résultat d'ensemble"]
[]
[]
[]
[]
[]
[]
[]
[]
["Liste des sorties :"]
[]
["Entités concernées","Adresse","Modification du pourcentage de détention","Modification du mode d'intégration","Incidence de ces variations sur les comptes"]
[null,null,null,null,"Sur fonds propres","Sur le résultat d'ensemble"]
[]
[]
[]
[]
[]
[]
[]
[]
["Informations significatives concernant les modifications du périmètre  intervenues entre la date de clôture et la date de transmission des comptes d'ensemble à la CNCCFP (art. 434-1) :"]

{"sheet":"Etat sur l'actif 435-1","index":19,"n_rows":25,"n_cols":10,"rows_kept":25,"cut":false,"hidden":false,"merged":[[24,0,24,1],[20,0,20,1],[22,0,22,1],[2,0,2,5],[15,0,15,1],[16,0,16,1],[17,0,17,1],[18,0,18,1],[19,0,19,1],[13,0,13,1],[6,0,6,1],[7,0,7,1],[9,0,9,1],[10,0,10,1],[11,0,11,1],[12,0,12,1],[1,0,1,5],[3,0,3,1],[4,0,4,1],[5,0,5,1],[0,0,0,5]]}
["4. 1. 5. INFORMATIONS RELATIVES AUX POSTES DU BILAN ET DU COMPTE DE RÉSULTAT"]
["Le parti mentionne dans l’annexe des états portant sur l’actif immobilisé qui présentent pour chaque poste d’actifs immobilisés figurant au bilan, les valeurs brutes, les amortissements et les dépréciations ainsi que l’analyse des principaux soldes et mouvements de l’exercice (art. 435-1)."]
["État sur l'actif immobilisé (art. 435-1)",null,null,null,null,null,"Ctrl","Ctrl","Ctrl"]
["Immobilisations",null,"Valeur brute à l'ouverture","Augmentations","Diminutions","Valeur brute à la clôture"]
["Immobilisations incorporelles",null,{"$f":"'Data BG'!T3+'Data BG'!T5","v":0},null,null,{"$f":"+'Bilan d''ensemble Actif'!C4+'Bilan d''ensemble Actif'!C5","v":0},{"$f":"+C5+D5-E5-F5","v":0}]
["Immobilisations corporelles",null,{"$f":"+'Data BG'!T8+'Data BG'!T10","v":0},null,null,{"$f":"+'Bilan d''ensemble Actif'!C7+'Bilan d''ensemble Actif'!C8","v":0},{"$f":"+C6+D6-E6-F6","v":0}]
["Immobilisations financières",null,{"$f":"SUM('Data BG'!T13,'Data BG'!T15,'Data BG'!T18,'Data BG'!T20,'Data BG'!T22,'Data BG'!T24,'Data BG'!T26,'Data BG'!T28)","v":0},null,null,{"$f":"SUM('Bilan d''ensemble Actif'!C9:C18)","v":0},0]
["TOTAL",null,{"$f":"+SUM(C5:C7)","v":0},{"$f":"+SUM(D5:D7)","v":0},0,{"$f":"+SUM(F5:F7)","v":0},0]
[]
["Amortissements",null,"Amortissements cumulés à l'ouverture","Augmentations","Diminutions","Amortissements cumulés à la clôture"]
["Immobilisations incorporelles",null,null,null,null,null,{"$f":"+C11+D11-E11-F11","v":0}]
["Immobilisations corporelles",null,null,null,null,null,0]
["Immobilisations financières",null,null,null,null,null,0]
["TOTAL",null,{"$f":"+SUM(C11:C13)","v":0},{"$f":"+SUM(D11:D13)","v":0},0,0,0]
[]
["Dépréciations",null,"Dépréciations cumulées à l'ouverture","Augmentations","Diminutions","Dépréciations cumulées à la clôture"]
["Immobilisations incorporelles",null,null,null,null,null,{"$f":"+C17+D17-E17-F17","v":0}]
["Immobilisations corporelles",null,null,null,null,null,0]
["Immobilisations financières",null,{"$f":"-SUM('Data BG'!T14,'Data BG'!T16,'Data BG'!T19,'Data BG'!T21,'Data BG'!T23,'Data BG'!T25,'Data BG'!T27,'Data BG'!T29)","v":0},null,null,{"$f":"SUM('Bilan d''ensemble Actif'!D10,'Bilan d''ensemble Actif'!D11,'Bilan d''ensemble Actif'!D13,'Bilan d''ensemble Actif'!D14,'Bilan d''ensemble Actif'!D15,'Bilan d''ensemble Actif'!D16,'Bilan d''ensemble Actif'!D17,'Bilan d''ensemble Actif'!D18)","v":0},0]
["Stocks",null,{"$f":"+-'Data BG'!T32","v":0},null,null,{"$f":"'Bilan d''ensemble Actif'!D21","v":0},0]
["Créances (dont actifs des entités non significatives)",null,{"$f":"-(+'Data BG'!T34+'Data BG'!T36+'Data BG'!T38+'Data BG'!T40+'Data BG'!T46)","v":0},null,null,{"$f":"SUM('Bilan d''ensemble Actif'!D22+'Bilan d''ensemble Actif'!D23+'Bilan d''ensemble Actif'!D24+'Bilan d''ensemble Actif'!D25+'Bilan d''ensemble Actif'!D31)","v":0},0]
["Valeurs mobilières de placement",null,{"$f":"+-'Data BG'!T43","v":0},null,null,{"$f":"+'Bilan d''ensemble Actif'!D27","v":0},{"$f":"+C22+D22-E22-F22","v":0}]
["TOTAL",null,{"$f":"SUM(C17:C22)","v":0},0,0,{"$f":"SUM(F17:F22)","v":0}]
[]
["TOTAL Amortissements et Dépréciations",null,{"$f":"C14+C23","v":0},{"$f":"D14+D23","v":0},{"$f":"E14+E23","v":0},{"$f":"F14+F23","v":0},{"$f":"+C25+D25-E25-F25","v":0},{"$f":"+'Bilan d''ensemble Actif'!D19+'Bilan d''ensemble Actif'!D30+'Bilan d''ensemble Actif'!D31","v":0},{"$f":"F25-H25","v":0},{"$f":"IF(I25=0,\"OK\",\"faux\")","v":"OK"}]

{"sheet":"Determination des ecarts 435-2","index":20,"n_rows":2,"n_cols":1,"rows_kept":2,"cut":false,"hidden":false,"merged":[[0,0,0,3],[1,0,1,3],[2,0,2,3]]}
["4. 1. 5. INFORMATIONS RELATIVES AUX POSTES DU BILAN\nET DU COMPTE DE RÉSULTAT"]
["Méthodes utilisées pour la détermination des écarts d'acquisition et leurs modalités de dépréciation, d'amortissement ou de reprise (art. 435-2)"]

{"sheet":"Reevaluation des ecarts 435-3","index":21,"n_rows":2,"n_cols":1,"rows_kept":2,"cut":false,"hidden":false,"merged":[[0,0,0,3],[1,0,1,3],[2,0,2,3]]}
["4. 1. 5. INFORMATIONS RELATIVES AUX POSTES DU BILAN ET DU\nCOMPTE DE RÉSULTAT"]
["Méthode de réévaluation utilisée, écart dégagé, incidence sur les écarts d'évaluation et d'acquisition et sur les dotations aux amortissements et aux dépréciations relatives aux biens évalués en cas de réévaluation des immobilisations corporelles et financières de toutes les entités intégrées (art. 435-3)"]

{"sheet":"Titres de participation 435-4","index":22,"n_rows":5,"n_cols":6,"rows_kept":5,"cut":false,"hidden":false,"merged":[[0,0,0,5],[2,0,2,5]]}
["4. 1. 5. INFORMATIONS RELATIVES AUX POSTES DU BILAN ET DU COMPTE DE RÉSULTAT"]
[]
["Détail du poste de titres de participation (art. 435-4)"]
[]
["Nom de l'entité non intégrée","Adresse","Fraction de capital détenu directement ou indirectement","Montant des capitaux propres","Résultat du dernier exercice","Valeur nette comptable des titres détenus"]

{"sheet":"Liste des prets octroyes 435-5","index":23,"n_rows":21,"n_cols":6,"rows_kept":21,"cut":false,"hidden":false,"merged":[[0,0,0,5],[1,0,1,5]]}
["4. 1. 5. INFORMATIONS RELATIVES AUX POSTES DU BILAN\nET DU COMPTE DE RÉSULTAT"]
["Liste des prêts octroyés à des personnes morales ou physiques non incluses dans les comptes d'ensemble (pour les prêts octroyés à des personnes morales, les montants sont ventilés par emprunteur et le nom de l'emprunteur est exigé) (art. 435-5)"]
["Prêts à des personnes (hors périmètre)","Capital initial","Capital remboursé","Capital restant dû","Intérêts courus non échus","Nom de l'emprunteur"]
["Prêt à des partis ou groupements politiques 1"]
["Prêt à des partis ou groupements politiques 2"]
["Prêt à des partis ou groupements politiques N"]
["Prêts aux candidats 1"]
["Prêts aux candidats 2"]
["Prêts aux candidats N"]
["Prêts aux organisations territoriales ou spécialisées du parti 1"]
["Prêts aux organisations territoriales ou spécialisées du parti 2"]
["Prêts aux organisations territoriales ou spécialisées du parti N"]
["Prêts à d'autres organismes 1"]
["Prêts à d'autres organismes 2"]
["Prêts à d'autres organismes N"]
["Autres prêts 1"]
["Autres prêts 2"]
["Autres prêts N"]
["TOTAL",{"$f":"SUM(B4:B18)","v":0},{"$f":"SUM(C4:C18)","v":0},0,0]
["Contrôles",null,null,{"$f":"'Bilan d''ensemble Actif'!C12+'Bilan d''ensemble Actif'!C13+'Bilan d''ensemble Actif'!C14+'Bilan d''ensemble Actif'!C15+'Bilan d''ensemble Actif'!C16+'Bilan d''ensemble Actif'!C17","v":0}]
["Ecarts",null,null,{"$f":"D19-D20","v":0}]

{"sheet":"Stocks 435-6","index":24,"n_rows":52,"n_cols":5,"rows_kept":52,"cut":false,"hidden":false,"merged":[[50,0,50,1],[6,0,6,1],[0,0,0,4],[1,0,1,4],[3,0,3,1],[4,0,4,1],[5,0,5,1],[18,0,18,1],[7,0,7,1],[8,0,8,1],[9,0,9,1],[10,0,10,1],[11,0,11,1],[12,0,12,1],[13,0,13,1],[14,0,14,1],[15,0,15,1],[16,0,16,1],[17,0,17,1],[29,0,29,1],[19,0,19,1],[20,0,20,1],[21,0,21,1],[22,0,22,1],[23,0,23,1],[24,0,24,1],[25,0,25,1],[26,0,26,1],[27,0,27,1],[28,0,28,1],[41,0,41,1],[30,0,30,1],[31,0,31,1],[32,0,32,1],[33,0,33,1],[34,0,34,1],[35,0,35,1],[36,0,36,1],[37,0,37,1],[38,0,38,1],[39,0,39,1],[40,0,40,1],[47,0,47,1],[48,0,48,1],[49,0,49,1],[42,0,42,1],[43,0,43,1],[44,0,44,1],[45,0,45,1],[46,0,46,1]]}
["4. 1. 5. INFORMATIONS RELATIVES AUX POSTES DU BILAN\nET DU COMPTE DE RÉSULTAT"]
["Principales composantes des stocks (art. 435-6)"]
[]
["Catégorie de stocks",null,"Valeur brute","Dépréciation","Valeur nette"]
[]
[]
[]
[]
[]
[]
[]
[]
[]
[]
[]
[]
[]
[]
[]
[]
[]
[]
[]
[]
[]
[]
[]
[]
[]
[]
[]
[]
[]
[]
[]
[]
[]
[]
[]
[]
[]
[]
[]
[]
[]
[]
[]
[]
[]
["TOTAL",null,{"$f":"SUM(C5:C49)","v":0},{"$f":"SUM(D5:D49)","v":0},{"$f":"SUM(E5:E49)","v":0}]
["Contrôles",null,{"$f":"'Bilan d''ensemble Actif'!C21","v":0},{"$f":"'Bilan d''ensemble Actif'!D21","v":0},{"$f":"'Bilan d''ensemble Actif'!E21","v":0}]
["Ecarts",null,{"$f":"C50-C51","v":0},{"$f":"D50-D51","v":0},0]

{"sheet":"Creances 435-7","index":25,"n_rows":12,"n_cols":7,"rows_kept":12,"cut":false,"hidden":false,"merged":[[6,0,6,1],[0,0,0,4],[1,0,1,4],[3,0,3,1],[4,0,4,1],[5,0,5,1],[7,0,7,1],[8,0,8,1],[9,0,9,1],[10,0,10,1],[11,0,11,1]]}
["4. 1. 5. INFORMATIONS RELATIVES AUX POSTES DU BILAN\nET DU COMPTE DE RÉSULTAT"]
["État des créances (art. 435-7)"]
[]
["Créances",null,"Montant brut","Échéances à moins d'un an","Échéances à plus d'un an"]
["Créances rattachées à des participations",null,null,null,null,{"$f":"+C5-D5-E5","v":0}]
["Prêts hors périmètre",null,{"$f":"SUM('Bilan d''ensemble Actif'!C13:C17)","v":0},null,null,{"$f":"+C6-D6-E6","v":0}]
["Autres créances de l'actif immobilisé",null,{"$f":"+'Bilan d''ensemble Actif'!C18","v":0},null,null,0]
["Créances clients et comptes rattachés",null,{"$f":"+'Bilan d''ensemble Actif'!C23","v":0},null,null,0]
["Créances auprès de partis ou groupements politiques",null,{"$f":"+'Bilan d''ensemble Actif'!C24","v":0},null,null,0]
["Autres créances de l'actif circulant",null,{"$f":"+'Bilan d''ensemble Actif'!C25","v":0},null,null,0]
["Charges constatées d'avance",null,{"$f":"+'Bilan d''ensemble Actif'!C26","v":0},null,null,0]
["TOTAL",null,{"$f":"SUM(C5:C11)","v":0},{"$f":"SUM(D5:D11)","v":0},{"$f":"SUM(E5:E11)","v":0},{"$f":"+C12-D12-E12","v":0},{"$f":"SUM(F5:F11)","v":0}]

{"sheet":"Provisions 435-8","index":26,"n_rows":7,"n_cols":6,"rows_kept":7,"cut":false,"hidden":false,"merged":[[0,0,0,4],[1,0,1,4]]}
["4. 1. 5. INFORMATIONS RELATIVES AUX POSTES DU BILAN\nET DU COMPTE DE RÉSULTAT"]
["État des provisions (art. 435-8)"]
[]
["Provisions","Montant à l'ouverture","Augmentations","Diminutions","Montant à clôture","Ctrl"]
["Provisions pour risques",{"$f":"'Bilan d''ensemble Passif'!F13","v":0},null,null,{"$f":"'Bilan d''ensemble Passif'!E13","v":0},{"$f":"B5+C5-D5-E5","v":0}]
["Provisions pour charges",{"$f":"'Bilan d''ensemble Passif'!F14","v":0},null,null,{"$f":"'Bilan d''ensemble Passif'!E14","v":0},{"$f":"B6+C6-D6-E6","v":0}]
["TOTAL",{"$f":"SUM(B5:B6)","v":0},{"$f":"SUM(C5:C6)","v":0},0,0]

{"sheet":"Pensions et retraites 435-9","index":27,"n_rows":2,"n_cols":1,"rows_kept":2,"cut":false,"hidden":false,"merged":[[0,0,0,3],[1,0,1,3],[2,0,2,3]]}
["4. 1. 5. INFORMATIONS RELATIVES AUX POSTES DU BILAN\nET DU COMPTE DE RÉSULTAT"]
["Informations sur les provisions constatées dans l'exercice au titre de pensions, de compléments de retraite ou de prévoyance, d'indemnités ou d'allocation en raison de départ à la retraite ou d'avantages similaires (art. 435-9)"]

{"sheet":"Passifs 435-10","index":28,"n_rows":2,"n_cols":1,"rows_kept":2,"cut":false,"hidden":false,"merged":[[0,0,0,3],[1,0,1,3]]}
["4. 1. 5. INFORMATIONS RELATIVES AUX POSTES DU BILAN\nET DU COMPTE DE RÉSULTAT"]
["État des passifs éventuels (art. 435-10)"]

{"sheet":"Dettes 435-11","index":29,"n_rows":17,"n_cols":8,"rows_kept":17,"cut":false,"hidden":false,"merged":[[6,0,6,1],[0,0,0,5],[1,0,1,5],[3,0,3,1],[4,0,4,1],[5,0,5,1],[13,0,13,1],[14,0,14,1],[7,0,7,1],[8,0,8,1],[9,0,9,1],[10,0,10,1],[11,0,11,1],[12,0,12,1]]}
["4. 1. 5. INFORMATIONS RELATIVES AUX POSTES DU BILAN\nET DU COMPTE DE RÉSULTAT"]
["État des dettes à moins d'un an (art. 435-11)"]
[]
["Dettes",null,"Montant brut","Échéance à moins d'un an","Échéances à plus d'un an et moins de cinq ans","Échéances à plus de cinq ans"]
["Emprunts et dettes auprès des établissements de crédit",null,{"$f":"'Bilan d''ensemble Passif'!E18","v":0},null,null,null,{"$f":"C5-D5-E5-F5","v":0}]
["Emprunts et dettes auprès de personnes physiques à taux préférentiel",null,{"$f":"'Bilan d''ensemble Passif'!E19","v":0},null,null,null,{"$f":"C6-D6-E6-F6","v":0}]
["Autres emprunts et dettes auprès de personnes physiques",null,{"$f":"'Bilan d''ensemble Passif'!E20","v":0},null,null,null,0]
["Emprunts et dettes auprès de partis ou groupements politiques",null,{"$f":"'Bilan d''ensemble Passif'!E21","v":0},null,null,null,0]
["Dettes fournisseurs et comptes rattachés",null,{"$f":"'Bilan d''ensemble Passif'!E22","v":0},null,null,null,0]
["Dettes fiscales et sociales",null,{"$f":"'Bilan d''ensemble Passif'!E23","v":0},null,null,null,0]
["Dettes envers les candidats",null,{"$f":"'Bilan d''ensemble Passif'!E24","v":0},null,null,null,0]
["Dettes envers les organisations territoriales ou spécialisées",null,{"$f":"'Bilan d''ensemble Passif'!E25","v":0},null,null,null,0]
["Autres dettes",null,{"$f":"'Bilan d''ensemble Passif'!E26","v":0},null,null,null,0]
["Produits constatés d'avance",null,{"$f":"'Bilan d''ensemble Passif'!E27","v":0},null,null,null,0]
["TOTAL",null,{"$f":"SUM(C5:C14)","v":0},0,{"$f":"SUM(E5:E14)","v":0},0,{"$f":"SUM(G5:G14)","v":0},{"$f":"+C15-D15-E15-F15","v":0}]
["Contrôles",null,{"$f":"'Bilan d''ensemble Passif'!E28","v":0}]
["Ecarts",null,{"$f":"C15-C16","v":0}]

{"sheet":"Emprunts souscrits 435-12","index":30,"n_rows":18,"n_cols":6,"rows_kept":18,"cut":false,"hidden":false,"merged":[[0,0,0,5],[1,0,1,5]]}
["4. 1. 5. INFORMATIONS RELATIVES AUX POSTES DU BILAN\nET DU COMPTE DE RÉSULTAT"]
["États des emprunts souscrits (Pour les emprunts souscrits auprès d’établissements de crédit et de partis ou groupements politiques, les montants sont ventilés par prêteur et le nom du prêteur est exigé) (art. 435-12) "]
["Emprunts","Capital initial","Capital remboursé au cours de l'exercice","Capital restant dû","Intérêts courus non échus","Nom du prêteur"]
["Emprunt auprès d'établissement de crédit 1"]
["Emprunt auprès d'établissement de crédit 2"]
["Emprunt auprès d'établissement de crédit N"]
["Emprunts auprès de personnes physiques à taux préférentiel 1"]
["Emprunts auprès de personnes physiques à taux préférentiel 2"]
["Emprunts auprès de personnes physiques à taux préférentiel N"]
["Autres emprunts auprès de personnes physiques 1"]
["Autres emprunts auprès de personnes physiques 2"]
["Autres emprunts auprès de personnes physiques N"]
["Emprunts et dettes auprès de partis ou groupements politiques 1"]
["Emprunts et dettes auprès de partis ou groupements politiques 2"]
["Emprunts et dettes auprès de partis ou groupements politiques N"]
["TOTAL",{"$f":"SUM(B4:B15)","v":0},{"$f":"SUM(C4:C15)","v":0},{"$f":"SUM(D4:D15)","v":0},{"$f":"SUM(E4:E15)","v":0}]
["Contrôles",null,null,{"$f":"'Bilan d''ensemble Passif'!E18+'Bilan d''ensemble Passif'!E19+'Bilan d''ensemble Passif'!E20+'Bilan d''ensemble Passif'!E21","v":0}]
["Ecarts",null,null,{"$f":"D16+E16-D17","v":0}]

{"sheet":"Aide publique 435-13","index":31,"n_rows":4,"n_cols":5,"rows_kept":4,"cut":false,"hidden":false,"merged":[[0,0,0,4],[1,0,1,4]]}
["4. 1. 5. INFORMATIONS RELATIVES AUX POSTES DU BILAN\nET DU COMPTE DE RÉSULTAT"]
["Calcul du montant de la diminution de la première fraction de l'aide publique (art. 435-13)"]
[]
["Nombre de voix prises en compte","Nombre de candidat femmes","Nombre de candidats hommes","Montant de la modulation pour non-respect de la parité","1e fraction de l'aide publique"]

{"sheet":"Dons et cotisations 435-14","index":32,"n_rows":7,"n_cols":3,"rows_kept":7,"cut":false,"hidden":false,"merged":[[5,0,5,1],[5,2,5,4],[6,0,6,1],[6,2,6,4],[0,0,0,4],[1,0,1,4],[3,0,3,1],[3,2,3,4],[4,0,4,1],[4,2,4,4]]}
["4. 1. 5. INFORMATIONS RELATIVES AUX POSTES DU BILAN\nET DU COMPTE DE RÉSULTAT"]
["Modalités de comptabilisation retenues pour les dons et les cotisations (art. 435-14)\nLes cotisations des adhérents ou des élus sont comptabilisées en produits lors de leur encaissement effectif. Toutefois, si le parti ou une entité intégrée peut justifier d’un droit d’agir en recouvrement, généré par un appel de cotisation, cet appel est le fait générateur de la reconnaissance du produit."]
[]
["Nature du versement",null,"Modalités de comptabilisation"]
["Dons de personnes physiques"]
["Cotisations d'adhérents"]
["Cotisations des élus"]

{"sheet":"Contributions 435-15","index":33,"n_rows":44,"n_cols":5,"rows_kept":44,"cut":false,"hidden":false,"merged":[[0,0,0,4],[1,0,1,4],[3,1,3,2],[4,1,4,2],[5,1,5,2],[6,1,6,2],[16,61,16,62],[16,66,16,67],[16,71,16,72],[16,16,16,17],[16,21,16,22],[16,26,16,27],[16,31,16,32],[16,36,16,37],[16,41,16,42],[13,1,13,2],[14,1,14,2],[15,1,15,2],[16,1,16,2],[16,6,16,7],[16,11,16,12],[7,1,7,2],[8,1,8,2],[9,1,9,2],[10,1,10,2],[11,1,11,2],[12,1,12,2],[16,251,16,252],[16,196,16,197],[16,201,16,202],[16,206,16,207],[16,211,16,212],[16,216,16,217],[16,221,16,222],[16,166,16,167],[16,171,16,172],[16,176,16,177],[16,181,16,182],[16,186,16,187],[16,191,16,192],[16,136,16,137],[16,141,16,142],[16,146,16,147],[16,151,16,152],[16,156,16,157],[16,161,16,162],[17,31,17,32],[17,36,17,37],[17,41,17,42],[17,46,17,47],[17,51,17,52],[17,56,17,57],[17,1,17,2],[17,6,17,7],[17,11,17,12],[17,16,17,17],[17,21,17,22],[17,26,17,27],[16,226,16,227],[16,231,16,232],[16,236,16,237],[16,241,16,242],[16,246,16,247],[16,106,16,107],[16,111,16,112],[16,116,16,117],[16,121,16,122],[16,126,16,127],[16,131,16,132],[16,76,16,77],[16,81,16,82],[16,86,16,87],[16,91,16,92],[16,96,16,97],[16,101,16,102],[16,46,16,47],[16,51,16,52],[16,56,16,57],[17,171,17,172],[17,176,17,177],[17,121,17,122],[17,126,17,127],[17,131,17,132],[17,136,17,137],[17,141,17,142],[17,146,17,147],[17,91,17,92],[17,96,17,97],[17,101,17,102],[17,106,17,107],[17,111,17,112],[17,116,17,117],[17,61,17,62],[17,66,17,67],[17,71,17,72],[17,76,17,77],[17,81,17,82],[17,86,17,87],[18,36,18,37],[18,41,18,42],[18,46,18,47],[18,51,18,52],[18,56,18,57],[18,61,18,62],[17,241,17,242],[17,246,17,247],[17,251,17,252],[18,1,18,2],[18,6,18,7],[18,11,18,12],[18,16,18,17],[18,21,18,22],[18,26,18,27],[18,31,18,32],[17,211,17,212],[17,216,17,217],[17,221,17,222],[17,226,17,227],[17,231,17,232],[17,236,17,237],[17,181,17,182],[17,186,17,187],[17,191,17,192],[17,196,17,197],[17,201,17,202],[17,206,17,207],[17,151,17,152],[17,156,17,157],[17,161,17,162],[17,166,17,167],[18,176,18,177],[18,181,18,182],[18,126,18,127],[18,131,18,132],[18,136,18,137],[18,141,18,142],[18,146,18,147],[18,151,18,152],[18,96,18,97],[18,101,18,102],[18,106,18,107],[18,111,18,112],[18,116,18,117],[18,121,18,122],[18,66,18,67],[18,71,18,72],[18,76,18,77],[18,81,18,82],[18,86,18,87],[18,91,18,92],[19,41,19,42],[19,46,19,47],[19,51,19,52],[19,56,19,57],[19,61,19,62],[19,66,19,67],[18,246,18,247],[18,251,18,252],[19,1,19,2],[19,6,19,7],[19,11,19,12],[19,16,19,17],[19,21,19,22],[19,26,19,27],[19,31,19,32],[19,36,19,37],[18,216,18,217],[18,221,18,222],[18,226,18,227],[18,231,18,232],[18,236,18,237],[18,241,18,242],[18,186,18,187],[18,191,18,192],[18,196,18,197],[18,201,18,202],[18,206,18,207],[18,211,18,212],[18,156,18,157],[18,161,18,162],[18,166,18,167],[18,171,18,172],[19,136,19,137],[19,141,19,142],[19,146,19,147],[19,151,19,152],[19,156,19,157],[19,101,19,102],[19,106,19,107],[19,111,19,112],[19,116,19,117],[19,121,19,122],[19,126,19,127],[19,71,19,72],[19,76,19,77],[19,81,19,82],[19,86,19,87],[19,91,19,92],[19,96,19,97],[20,61,20,62],[20,66,20,67],[20,71,20,72],[19,251,19,252],[20,1,20,2],[20,6,20,7],[20,11,20,12],[20,16,20,17],[20,21,20,22],[20,26,20,27],[20,31,20,32],[20,36,20,37],[20,41,20,42],[19,221,19,222],[19,226,19,227],[19,231,19,232],[19,236,19,237],[19,241,19,242],[19,246,19,247],[19,191,19,192],[19,196,19,197],[19,201,19,202],[19,206,19,207],[19,211,19,212],[19,216,19,217],[19,161,19,162],[19,166,19,167],[19,171,19,172],[19,176,19,177],[19,181,19,182],[19,186,19,187],[19,131,19,132],[20,251,20,252],[20,196,20,197],[20,201,20,202],[20,206,20,207],[20,211,20,212],[20,216,20,217],[20,221,20,222],[20,166,20,167],[20,171,20,172],[20,176,20,177],[20,181,20,182],[20,186,20,187],[20,191,20,192],[20,136,20,137],[20,141,20,142],[20,146,20,147],[20,151,20,152],[20,156,20,157],[20,161,20,162],[21,31,21,32],[21,36,21,37],[21,41,21,42],[21,46,21,47],[21,51,21,52],[21,56,21,57],[21,1,21,2],[21,6,21,7],[21,11,21,12],[21,16,21,17],[21,21,21,22],[21,26,21,27],[20,226,20,227],[20,231,20,232],[20,236,20,237],[20,241,20,242],[20,246,20,247],[20,106,20,107],[20,111,20,112],[20,116,20,117],[20,121,20,122],[20,126,20,127],[20,131,20,132],[20,76,20,77],[20,81,20,82],[20,86,20,87],[20,91,20,92],[20,96,20,97],[20,101,20,102],[20,46,20,47],[20,51,20,52],[20,56,20,57],[21,171,21,172],[21,176,21,177],[21,121,21,122],[21,126,21,127],[21,131,21,132],[21,136,21,137],[21,141,21,142],[21,146,21,147],[21,91,21,92],[21,96,21,97],[21,101,21,102],[21,106,21,107],[21,111,21,112],[21,116,21,117],[21,61,21,62],[21,66,21,67],[21,71,21,72],[21,76,21,77],[21,81,21,82],[21,86,21,87],[22,36,22,37],[22,41,22,42],[22,46,22,47],[22,51,22,52],[22,56,22,57],[22,61,22,62],[21,241,21,242],[21,246,21,247],[21,251,21,252],[22,1,22,2],[22,6,22,7],[22,11,22,12],[22,16,22,17],[22,21,22,22],[22,26,22,27],[22,31,22,32],[21,211,21,212],[21,216,21,217],[21,221,21,222],[21,226,21,227],[21,231,21,232],[21,236,21,237],[21,181,21,182],[21,186,21,187],[21,191,21,192],[21,196,21,197],[21,201,21,202],[21,206,21,207],[21,151,21,152],[21,156,21,157],[21,161,21,162],[21,166,21,167],[22,176,22,177],[22,181,22,182],[22,126,22,127],[22,131,22,132],[22,136,22,137],[22,141,22,142],[22,146,22,147],[22,151,22,152],[22,96,22,97],[22,101,22,102],[22,106,22,107],[22,111,22,112],[22,116,22,117],[22,121,22,122],[22,66,22,67],[22,71,22,72],[22,76,22,77],[22,81,22,82],[22,86,22,87],[22,91,22,92],[23,41,23,42],[23,46,23,47],[23,51,23,52],[23,56,23,57],[23,61,23,62],[23,66,23,67],[22,246,22,247],[22,251,22,252],[23,1,23,2],[23,6,23,7],[23,11,23,12],[23,16,23,17],[23,21,23,22],[23,26,23,27],[23,31,23,32],[23,36,23,37],[22,216,22,217],[22,221,22,222],[22,226,22,227],[22,231,22,232],[22,236,22,237],[22,241,22,242],[22,186,22,187],[22,191,22,192],[22,196,22,197],[22,201,22,202],[22,206,22,207],[22,211,22,212],[22,156,22,157],[22,161,22,162],[22,166,22,167],[22,171,22,172],[23,136,23,137],[23,141,23,142],[23,146,23,147],[23,151,23,152],[23,156,23,157],[23,101,23,102],[23,106,23,107],[23,111,23,112],[23,116,23,117],[23,121,23,122],[23,126,23,127],[23,71,23,72],[23,76,23,77],[23,81,23,82],[23,86,23,87],[23,91,23,92],[23,96,23,97],[24,61,24,62],[24,66,24,67],[24,71,24,72],[23,251,23,252],[24,1,24,2],[24,6,24,7],[24,11,24,12],[24,16,24,17],[24,21,24,22],[24,26,24,27],[24,31,24,32],[24,36,24,37],[24,41,24,42],[23,221,23,222],[23,226,23,227],[23,231,23,232],[23,236,23,237],[23,241,23,242],[23,246,23,247],[23,191,23,192],[23,196,23,197],[23,201,23,202],[23,206,23,207],[23,211,23,212],[23,216,23,217],[23,161,23,162],[23,166,23,167],[23,171,23,172],[23,176,23,177],[23,181,23,182],[23,186,23,187],[23,131,23,132],[24,251,24,252],[24,196,24,197],[24,201,24,202],[24,206,24,207],[24,211,24,212],[24,216,24,217],[24,221,24,222],[24,166,24,167],[24,171,24,172],[24,176,24,177],[24,181,24,182],[24,186,24,187],[24,191,24,192],[24,136,24,137],[24,141,24,142],[24,146,24,147],[24,151,24,152],[24,156,24,157],[24,161,24,162],[25,31,25,32],[25,36,25,37],[25,41,25,42],[25,46,25,47],[25,51,25,52],[25,56,25,57],[25,1,25,2],[25,6,25,7],[25,11,25,12],[25,16,25,17],[25,21,25,22],[25,26,25,27],[24,226,24,227],[24,231,24,232],[24,236,24,237],[24,241,24,242],[24,246,24,247],[24,106,24,107],[24,111,24,112],[24,116,24,117],[24,121,24,122],[24,126,24,127],[24,131,24,132],[24,76,24,77],[24,81,24,82],[24,86,24,87],[24,91,24,92],[24,96,24,97],[24,101,24,102],[24,46,24,47],[24,51,24,52],[24,56,24,57],[25,171,25,172],[25,176,25,177],[25,121,25,122],[25,126,25,127],[25,131,25,132],[25,136,25,137],[25,141,25,142],[25,146,25,147],[25,91,25,92],[25,96,25,97],[25,101,25,102],[25,106,25,107],[25,111,25,112],[25,116,25,117],[25,61,25,62],[25,66,25,67],[25,71,25,72],[25,76,25,77],[25,81,25,82],[25,86,25,87],[26,36,26,37],[26,41,26,42],[26,46,26,47],[26,51,26,52],[26,56,26,57],[26,61,26,62],[25,241,25,242],[25,246,25,247],[25,251,25,252],[26,1,26,2],[26,6,26,7],[26,11,26,12],[26,16,26,17],[26,21,26,22],[26,26,26,27],[26,31,26,32],[25,211,25,212],[25,216,25,217],[25,221,25,222],[25,226,25,227],[25,231,25,232],[25,236,25,237],[25,181,25,182],[25,186,25,187],[25,191,25,192],[25,196,25,197],[25,201,25,202],[25,206,25,207],[25,151,25,152],[25,156,25,157],[25,161,25,162],[25,166,25,167],[26,176,26,177],[26,181,26,182],[26,126,26,127],[26,131,26,132],[26,136,26,137],[26,141,26,142],[26,146,26,147],[26,151,26,152],[26,96,26,97],[26,101,26,102],[26,106,26,107],[26,111,26,112],[26,116,26,117],[26,121,26,122],[26,66,26,67],[26,71,26,72],[26,76,26,77],[26,81,26,82],[26,86,26,87],[26,91,26,92],[27,41,27,42],[27,46,27,47],[27,51,27,52],[27,56,27,57],[27,61,27,62],[27,66,27,67],[26,246,26,247],[26,251,26,252],[27,1,27,2],[27,6,27,7],[27,11,27,12],[27,16,27,17],[27,21,27,22],[27,26,27,27],[27,31,27,32],[27,36,27,37],[26,216,26,217],[26,221,26,222],[26,226,26,227],[26,231,26,232],[26,236,26,237],[26,241,26,242],[26,186,26,187],[26,191,26,192],[26,196,26,197],[26,201,26,202],[26,206,26,207],[26,211,26,212],[26,156,26,157],[26,161,26,162],[26,166,26,167],[26,171,26,172],[27,136,27,137],[27,141,27,142],[27,146,27,147],[27,151,27,152],[27,156,27,157],[27,101,27,102],[27,106,27,107],[27,111,27,112],[27,116,27,117],[27,121,27,122],[27,126,27,127],[27,71,27,72],[27,76,27,77],[27,81,27,82],[27,86,27,87],[27,91,27,92],[27,96,27,97],[28,61,28,62],[28,66,28,67],[28,71,28,72],[27,251,27,252],[28,1,28,2],[28,6,28,7],[28,11,28,12],[28,16,28,17],[28,21,28,22],[28,26,28,27],[28,31,28,32],[28,36,28,37],[28,41,28,42],[27,221,27,222],[27,226,27,227],[27,231,27,232],[27,236,27,237],[27,241,27,242],[27,246,27,247],[27,191,27,192],[27,196,27,197],[27,201,27,202],[27,206,27,207],[27,211,27,212],[27,216,27,217],[27,161,27,162],[27,166,27,167],[27,171,27,172],[27,176,27,177],[27,181,27,182],[27,186,27,187],[27,131,27,132],[28,251,28,252],[28,196,28,197],[28,201,28,202],[28,206,28,207],[28,211,28,212],[28,216,28,217],[28,221,28,222],[28,166,28,167],[28,171,28,172],[28,176,28,177],[28,181,28,182],[28,186,28,187],[28,191,28,192],[28,136,28,137],[28,141,28,142],[28,146,28,147],[28,151,28,152],[28,156,28,157],[28,161,28,162],[29,31,29,32],[29,36,29,37],[29,41,29,42],[29,46,29,47],[29,51,29,52],[29,56,29,57],[29,1,29,2],[29,6,29,7],[29,11,29,12],[29,16,29,17],[29,21,29,22],[29,26,29,27],[28,226,28,227],[28,231,28,232],[28,236,28,237],[28,241,28,242],[28,246,28,247],[28,106,28,107],[28,111,28,112],[28,116,28,117],[28,121,28,122],[28,126,28,127],[28,131,28,132],[28,76,28,77],[28,81,28,82],[28,86,28,87],[28,91,28,92],[28,96,28,97],[28,101,28,102],[28,46,28,47],[28,51,28,52],[28,56,28,57],[29,171,29,172],[29,176,29,177],[29,121,29,122],[29,126,29,127],[29,131,29,132],[29,136,29,137],[29,141,29,142],[29,146,29,147],[29,91,29,92],[29,96,29,97],[29,101,29,102],[29,106,29,107],[29,111,29,112],[29,116,29,117],[29,61,29,62],[29,66,29,67],[29,71,29,72],[29,76,29,77],[29,81,29,82],[29,86,29,87],[30,36,30,37],[30,41,30,42],[30,46,30,47],[30,51,30,52],[30,56,30,57],[30,61,30,62],[29,241,29,242],[29,246,29,247],[29,251,29,252],[30,1,30,2],[30,6,30,7],[30,11,30,12],[30,16,30,17],[30,21,30,22],[30,26,30,27],[30,31,30,32],[29,211,29,212],[29,216,29,217],[29,221,29,222],[29,226,29,227],[29,231,29,232],[29,236,29,237],[29,181,29,182],[29,186,29,187],[29,191,29,192],[29,196,29,197],[29,201,29,202],[29,206,29,207],[29,151,29,152],[29,156,29,157],[29,161,29,162],[29,166,29,167],[30,176,30,177],[30,181,30,182],[30,126,30,127],[30,131,30,132],[30,136,30,137],[30,141,30,142],[30,146,30,147],[30,151,30,152],[30,96,30,97],[30,101,30,102],[30,106,30,107],[30,111,30,112],[30,116,30,117],[30,121,30,122],[30,66,30,67],[30,71,30,72],[30,76,30,77],[30,81,30,82],[30,86,30,87],[30,91,30,92],[31,41,31,42],[31,46,31,47],[31,51,31,52],[31,56,31,57],[31,61,31,62],[31,66,31,67],[30,246,30,247],[30,251,30,252],[31,1,31,2],[31,6,31,7],[31,11,31,12],[31,16,31,17],[31,21,31,22],[31,26,31,27],[31,31,31,32],[31,36,31,37],[30,216,30,217],[30,221,30,222],[30,226,30,227],[30,231,30,232],[30,236,30,237],[30,241,30,242],[30,186,30,187],[30,191,30,192],[30,196,30,197],[30,201,30,202],[30,206,30,207],[30,211,30,212],[30,156,30,157],[30,161,30,162],[30,166,30,167],[30,171,30,172],[31,136,31,137],[31,141,31,142],[31,146,31,147],[31,151,31,152],[31,156,31,157],[31,101,31,102],[31,106,31,107],[31,111,31,112],[31,116,31,117],[31,121,31,122],[31,126,31,127],[31,71,31,72],[31,76,31,77],[31,81,31,82],[31,86,31,87],[31,91,31,92],[31,96,31,97],[32,61,32,62],[32,66,32,67],[32,71,32,72],[31,251,31,252],[32,1,32,2],[32,6,32,7],[32,11,32,12],[32,16,32,17],[32,21,32,22],[32,26,32,27],[32,31,32,32],[32,36,32,37],[32,41,32,42],[31,221,31,222],[31,226,31,227],[31,231,31,232],[31,236,31,237],[31,241,31,242],[31,246,31,247],[31,191,31,192],[31,196,31,197],[31,201,31,202],[31,206,31,207],[31,211,31,212],[31,216,31,217],[31,161,31,162],[31,166,31,167],[31,171,31,172],[31,176,31,177],[31,181,31,182],[31,186,31,187],[31,131,31,132],[32,251,32,252],[32,196,32,197],[32,201,32,202],[32,206,32,207],[32,211,32,212],[32,216,32,217],[32,221,32,222],[32,166,32,167],[32,171,32,172],[32,176,32,177],[32,181,32,182],[32,186,32,187],[32,191,32,192],[32,136,32,137],[32,141,32,142],[32,146,32,147],[32,151,32,152],[32,156,32,157],[32,161,32,162],[33,31,33,32],[33,36,33,37],[33,41,33,42],[33,46,33,47],[33,51,33,52],[33,56,33,57],[33,1,33,2],[33,6,33,7],[33,11,33,12],[33,16,33,17],[33,21,33,22],[33,26,33,27],[32,226,32,227],[32,231,32,232],[32,236,32,237],[32,241,32,242],[32,246,32,247],[32,106,32,107],[32,111,32,112],[32,116,32,117],[32,121,32,122],[32,126,32,127],[32,131,32,132],[32,76,32,77],[32,81,32,82],[32,86,32,87],[32,91,32,92],[32,96,32,97],[32,101,32,102],[32,46,32,47],[32,51,32,52],[32,56,32,57],[33,171,33,172],[33,176,33,177],[33,121,33,122],[33,126,33,127],[33,131,33,132],[33,136,33,137],[33,141,33,142],[33,146,33,147],[33,91,33,92],[33,96,33,97],[33,101,33,102],[33,106,33,107],[33,111,33,112],[33,116,33,117],[33,61,33,62],[33,66,33,67],[33,71,33,72],[33,76,33,77],[33,81,33,82],[33,86,33,87],[34,36,34,37],[34,41,34,42],[34,46,34,47],[34,51,34,52],[34,56,34,57],[34,61,34,62],[33,241,33,242],[33,246,33,247],[33,251,33,252],[34,1,34,2],[34,6,34,7],[34,11,34,12],[34,16,34,17],[34,21,34,22],[34,26,34,27],[34,31,34,32],[33,211,33,212],[33,216,33,217],[33,221,33,222],[33,226,33,227],[33,231,33,232],[33,236,33,237],[33,181,33,182],[33,186,33,187],[33,191,33,192],[33,196,33,197],[33,201,33,202],[33,206,33,207],[33,151,33,152],[33,156,33,157],[33,161,33,162],[33,166,33,167],[34,176,34,177],[34,181,34,182],[34,126,34,127],[34,131,34,132],[34,136,34,137],[34,141,34,142],[34,146,34,147],[34,151,34,152],[34,96,34,97],[34,101,34,102],[34,106,34,107],[34,111,34,112],[34,116,34,117],[34,121,34,122],[34,66,34,67],[34,71,34,72],[34,76,34,77],[34,81,34,82],[34,86,34,87],[34,91,34,92],[35,41,35,42],[35,46,35,47],[35,51,35,52],[35,56,35,57],[35,61,35,62],[35,66,35,67],[34,246,34,247],[34,251,34,252],[35,1,35,2],[35,6,35,7],[35,11,35,12],[35,16,35,17],[35,21,35,22],[35,26,35,27],[35,31,35,32],[35,36,35,37],[34,216,34,217],[34,221,34,222],[34,226,34,227],[34,231,34,232],[34,236,34,237],[34,241,34,242],[34,186,34,187],[34,191,34,192],[34,196,34,197],[34,201,34,202],[34,206,34,207],[34,211,34,212],[34,156,34,157],[34,161,34,162],[34,166,34,167],[34,171,34,172],[35,136,35,137],[35,141,35,142]],"merged_total":1192,"flags":["merged_cut"]}
["4. 1. 5. INFORMATIONS RELATIVES AUX POSTES DU BILAN\nET DU COMPTE DE RÉSULTAT"]
["État des contributions financières octroyées par des partis politiques hors périmètre des comptes d'ensemble (art. 435-15)"]
[]
["Nom du parti","adresse",null,"Montant octroyé dans l'exercice","Dont aide publique reversée"]
[]
[]
[]
[]
[]
[]
[]
[]
[]
[]
[]
[]
[]
[]
[]
[]
[]
[]
[]
[]
[]
[]
[]
[]
[]
[]
[]
[]
[]
[]
[]
[]
[]
[]
[]
[]
[]
["TOTAL",null,null,{"$f":"SUM(D5:D41)","v":0},{"$f":"SUM(E5:E41)","v":0}]
["Contrôles",null,null,{"$f":"'Compte de resultat d''ensemble'!E12","v":0}]
["Ecarts",null,null,{"$f":"D42-D43","v":0}]

{"sheet":"Facturation 435-16","index":34,"n_rows":29,"n_cols":5,"rows_kept":29,"cut":false,"hidden":false,"merged":[[5,1,5,3],[0,0,0,4],[1,0,1,4],[2,0,2,3],[3,0,3,3],[4,1,4,3],[17,1,17,3],[6,0,6,3],[7,1,7,3],[8,1,8,3],[9,0,9,3],[10,1,10,3],[11,1,11,3],[12,0,12,3],[13,1,13,3],[14,1,14,3],[15,0,15,3],[16,1,16,3],[24,0,24,3],[25,1,25,3],[26,0,26,3],[18,0,18,3],[19,1,19,3],[20,1,20,3],[21,0,21,3],[22,1,22,3],[23,1,23,3]]}
["4. 1. 5. INFORMATIONS RELATIVES AUX POSTES DU BILAN\nET DU COMPTE DE RÉSULTAT"]
["État des prestations de services facturées aux candidats (art. 435-16)\n(Ventilées par catégorie d’élection, type de candidat (tenu ou non de déposer un compte de campagne))"]
["Prestations de services aux candidats",null,null,null,"Montant des prestations"]
["Élections municipales"]
[null,"Prestation de services aux candidats tenus de déposer un compte de campagne"]
[null,"Prestation de services aux candidats non tenus de déposer un compte de campagne"]
["Élections départementales"]
[null,"Prestation de services aux candidats tenus de déposer un compte de campagne"]
[null,"Prestation de services aux candidats non tenus de déposer un compte de campagne"]
["Élections régionales"]
[null,"Prestation de services aux candidats tenus de déposer un compte de campagne"]
[null,"Prestation de services aux candidats non tenus de déposer un compte de campagne"]
["Élections territoriales"]
[null,"Prestation de services aux candidats tenus de déposer un compte de campagne"]
[null,"Prestation de services aux candidats non tenus de déposer un compte de campagne"]
["Élections législatives"]
[null,"Prestation de services aux candidats tenus de déposer un compte de campagne"]
[null,"Prestation de services aux candidats non tenus de déposer un compte de campagne"]
["Élections sénatoriales"]
[null,"Prestation de services aux candidats tenus de déposer un compte de campagne"]
[null,"Prestation de services aux candidats non tenus de déposer un compte de campagne"]
["Élections européennes"]
[null,"Prestation de services aux candidats tenus de déposer un compte de campagne"]
[null,"Prestation de services aux candidats non tenus de déposer un compte de campagne"]
["Élection présidentielle"]
[null,"Prestation de services aux candidats tenus de déposer un compte de campagne"]
["TOTAL",null,null,null,{"$f":"SUM(E4:E26)","v":0}]
["Contrôles",null,null,null,{"$f":"'Compte de resultat d''ensemble'!E14","v":0}]
["Ecarts",null,null,null,{"$f":"E27-E28","v":0}]

{"sheet":"Frais de campagne 435-17","index":35,"n_rows":34,"n_cols":10,"rows_kept":34,"cut":false,"hidden":false,"merged":[[0,0,0,8],[1,0,1,8],[3,1,3,8],[17,1,17,8]]}
["4. 1. 5. INFORMATIONS RELATIVES AUX POSTES DU BILAN ET DU COMPTE DE RÉSULTAT"]
["État des contributions et des prises en charge de frais de campagnes électorales (art. 435-17) \n(Ventilées par catégorie d’élection, type de candidats (tenus ou non de déposer un compte de campagne) et par poste de charges.)"]
["Contributions et prises en charge de frais de campagnes électorales","Élections municipales","Élections européennes","Élections sénatoriales","Élections territoriales","Élections départementales","Élections régionales","Élections législatives","Élection présidentielle","TOTAUX"]
["Aux candidats tenus de déposer un compte de campagne"]
["Contributions aux candidats"]
["Prise en charge de dépenses électorales"]
["Achats de marchandises et variation de stocks"]
["Congrès, manifestation et université"]
["Communication (presse, publications, télévisions, publicité, sites internet, réseaux sociaux)"]
["Locations, redevances de crédit-bail et charges locatives"]
["Déplacements, missions et réceptions"]
["Honoraires"]
["Personnels extérieurs"]
["Autres achats et charges externes"]
["Impôts et taxes"]
["Salaires et traitements"]
["Charges sociales"]
["Aux candidats non tenus de déposer un compte de campagne"]
["Contributions aux candidats"]
["Prise en charge de dépenses électorales"]
["Achats de marchandises et variation de stocks"]
["Congrès, manifestation et université"]
["Communication (presse, publications, télévisions, publicité, sites internet, réseaux sociaux)"]
["Locations, redevances de crédit-bail et charges locatives"]
["Déplacements, missions et réceptions"]
["Honoraires"]
["Personnels extérieurs"]
["Autres achats et charges externes"]
["Impôts et taxes"]
["Salaires et traitements"]
["Charges sociales"]
["TOTAL",{"$f":"SUM(B4:B31)","v":0},0,0,0,0,0,0,0,{"$f":"SUM(B32:I32)","v":0}]
["Contrôles",null,null,null,null,null,null,null,null,{"$f":"'Compte de resultat d''ensemble'!E23+'Compte de resultat d''ensemble'!E24","v":0}]
["Ecarts",null,null,null,null,null,null,null,null,{"$f":"J32-J33","v":0}]

{"sheet":"Contributions partis 435-18","index":36,"n_rows":27,"n_cols":5,"rows_kept":27,"cut":false,"hidden":false,"merged":[[0,0,0,4],[1,0,1,4],[2,1,2,2],[3,1,3,2],[7,1,7,2],[4,1,4,2],[5,1,5,2],[6,1,6,2],[19,1,19,2],[8,1,8,2],[9,1,9,2],[10,1,10,2],[11,1,11,2],[12,1,12,2],[13,1,13,2],[14,1,14,2],[15,1,15,2],[16,1,16,2],[17,1,17,2],[18,1,18,2],[20,1,20,2],[21,1,21,2],[22,1,22,2],[23,1,23,2],[24,0,24,2]]}
["4. 1. 5. INFORMATIONS RELATIVES AUX POSTES DU BILAN\nET DU COMPTE DE RÉSULTAT"]
["État des contributions octroyées à des partis politiques hors périmètre des comptes d'ensemble (art. 435-18)"]
["Nom du parti","Adresse",null,"Montant octroyé dans l'exercice","dont aide publique reversée"]
[]
[]
[]
[]
[]
[]
[]
[]
[]
[]
[]
[]
[]
[]
[]
[]
[]
[]
[]
[]
[]
["TOTAL",null,null,{"$f":"SUM(D4:D24)","v":0},{"$f":"SUM(E4:E24)","v":0}]
["Contrôles",null,null,{"$f":"'Compte de resultat d''ensemble'!E26","v":0}]
["Ecarts",null,null,{"$f":"D25-D26","v":0}]

{"sheet":"Contributions HP 435-19","index":37,"n_rows":17,"n_cols":4,"rows_kept":17,"cut":false,"hidden":false,"merged":[[5,1,5,2],[0,0,0,3],[1,0,1,3],[2,1,2,2],[3,1,3,2],[4,1,4,2],[12,1,12,2],[13,1,13,2],[14,0,14,2],[6,1,6,2],[7,1,7,2],[8,1,8,2],[9,1,9,2],[10,1,10,2],[11,1,11,2]]}
["4. 1. 5. INFORMATIONS RELATIVES AUX POSTES DU BILAN\nET DU COMPTE DE RÉSULTAT"]
["État des contributions octroyées à des organisations territoriales ou spécialisées du parti hors périmètre des comptes (art. 435-19)"]
["Nom de l'organisation","Adresse",null,"Montant octroyé dans l'exercice"]
[]
[]
[]
[]
[]
[]
[]
[]
[]
[]
[]
["TOTAL",null,null,{"$f":"SUM(D4:D14)","v":0}]
["Contrôles",null,null,{"$f":"'Compte de resultat d''ensemble'!E27","v":0}]
["Ecarts",null,null,{"$f":"D15-D16","v":0}]

{"sheet":"Contributions org. HP 435-20","index":38,"n_rows":32,"n_cols":4,"rows_kept":32,"cut":false,"hidden":false,"merged":[[5,1,5,2],[0,0,0,3],[1,0,1,3],[2,1,2,2],[3,1,3,2],[4,1,4,2],[17,1,17,2],[6,1,6,2],[7,1,7,2],[8,1,8,2],[9,1,9,2],[10,1,10,2],[11,1,11,2],[12,1,12,2],[13,1,13,2],[14,1,14,2],[15,1,15,2],[16,1,16,2],[29,0,29,2],[18,1,18,2],[19,1,19,2],[20,1,20,2],[21,1,21,2],[22,1,22,2],[23,1,23,2],[24,1,24,2],[25,1,25,2],[26,1,26,2],[27,1,27,2],[28,1,28,2]]}
["4. 1. 5. INFORMATIONS RELATIVES AUX POSTES DU BILAN\nET DU COMPTE DE RÉSULTAT"]
["État des contributions octroyées à d'autres organismes hors périmètre des comptes (art. 435-20)"]
["Nom de l'organisme","Adresse",null,"Montant octroyé dans l'exercice"]
[]
[]
[]
[]
[]
[]
[]
[]
[]
[]
[]
[]
[]
[]
[]
[]
[]
[]
[]
[]
[]
[]
[]
[]
[]
[]
["TOTAL",null,null,{"$f":"SUM(D4:D29)","v":0}]
["Contrôles",null,null,{"$f":"'Compte de resultat d''ensemble'!E28","v":0}]
["Ecarts",null,null,{"$f":"D30-D31","v":0}]

{"sheet":"Concours en nature 435-21","index":39,"n_rows":2,"n_cols":1,"rows_kept":2,"cut":false,"hidden":false,"merged":[[0,0,0,2],[1,0,1,2]]}
["4. 1. 5. INFORMATIONS RELATIVES AUX POSTES DU BILAN\nET DU COMPTE DE RÉSULTAT"]
["Estimation globale des concours en nature dont les entités intégrées ont bénéficié de la part de personnes physiques ou d'autres partis ou groupements politiques (art. 435-21)"]

{"sheet":"Autres informations","index":40,"n_rows":2,"n_cols":1,"rows_kept":2,"cut":false,"hidden":false,"merged":[]}
["4. 1. 6. AUTRES INFORMATIONS"]
["   "]

{"sheet":"Effectifs 436-1","index":41,"n_rows":6,"n_cols":2,"rows_kept":6,"cut":false,"hidden":false,"merged":[[0,0,0,1],[1,0,1,1]]}
["4. 1. 6. AUTRES INFORMATIONS"]
["Effectifs moyens globaux par catégorie de toutes les entités intégrées (art. 436-1)"]
["Catégorie de salariés","Effectifs moyens"]
["Non cadre"]
["ETAM"]
["Cadre"]

{"sheet":"Engagements financiers 436-2","index":42,"n_rows":7,"n_cols":2,"rows_kept":7,"cut":false,"hidden":false,"merged":[[0,0,0,1]]}
["4. 1. 6. AUTRES INFORMATIONS"]
["Montant des engagements financiers suivants (art. 436-2)"]
[]
["Engagements financiers","Montant"]
["Avals, cautionnements et garanties"]
["Créances cédées non échues"]
["Autres engagements non comptabilisés au bilan des comptes d'ensemble"]

{"sheet":"Redevances 436-3","index":43,"n_rows":8,"n_cols":2,"rows_kept":8,"cut":false,"hidden":false,"merged":[[0,0,0,1],[1,0,1,1]]}
["4. 1. 6. AUTRES INFORMATIONS"]
["Redevances restant à payer et prix d'achat résiduel des biens pris en location-financement pour les contrats de location financement non comptabilisés à l'actif (art. 436-3)"]
[]
["Redevances et prix d'achat","Montant"]
["Redevances restant à payer des biens mobiliers"]
["Redevances restant à payer des biens immobiliers"]
["Prix d'achat résiduel des biens pris en location portant sur des biens mobiliers"]
["Prix d'achat résiduel des biens pris en location portant sur des biens immobiliers"]

{"sheet":"Honoraires CAC 436-6","index":44,"n_rows":6,"n_cols":3,"rows_kept":6,"cut":false,"hidden":false,"merged":[[0,0,0,2],[1,0,1,2]]}
["4. 1. 6. AUTRES INFORMATIONS"]
["Honoraires de chaque commissaire aux comptes (art. 436-6)"]
["Nature de la mission","Montant (1er CAC)","Montant (2e CAC)"]
["Honoraires afférents à la certification des comptes"]
["Honoraires afférents aux autres services"]
["TOTAL",{"$f":"SUM(B4:B5)","v":0},{"$f":"SUM(C4:C5)","v":0}]

{"sheet":"Remunerations dirigeants 436-4","index":45,"n_rows":20,"n_cols":4,"rows_kept":20,"cut":false,"hidden":false,"merged":[[0,0,0,3],[1,0,1,3]]}
["4. 1. 6. AUTRES INFORMATIONS"]
["Rémunérations allouées aux dirigeants non-salariés du parti ayant un pouvoir d'administration, de direction ou de surveillance ; remboursement des frais ; avantages en nature (art. 436-4)"]
["Fonction","Montant de la rémunération","Montant des remboursements de frais forfaitaires ou sur justificatifs","Avantages en nature"]
[]
[]
[]
[]
[]
[]
[]
[]
[]
[]
[]
[]
[]
[]
[]
[]
["Total",{"$f":"SUM(B4:B19)","v":0},{"$f":"SUM(C4:C19)","v":0}]

{"sheet":"Remunerations mandataires 436-5","index":46,"n_rows":17,"n_cols":3,"rows_kept":17,"cut":false,"hidden":false,"merged":[[11,2,11,3],[0,0,0,3],[1,0,1,3],[2,2,2,3],[3,2,3,3],[4,2,4,3],[5,2,5,3],[6,2,6,3],[7,2,7,3],[8,2,8,3],[9,2,9,3],[10,2,10,3],[12,2,12,3],[13,2,13,3],[14,2,14,3],[15,2,15,3],[16,2,16,3]]}
["4. 1. 6. AUTRES INFORMATIONS"]
["Rémunérations ou honoraires alloués aux mandataires du parti et des ses organisations territoriales ou spécialisées (art. 436-5)"]
["Fonction","Montant de la rémunération ou des honoraires","Nom de l'organisation"]
[]
[]
[]
[]
[]
[]
[]
[]
[]
[]
[]
[]
[]
["Total",{"$f":"SUM(B4:B16)","v":0}]

{"sheet":"Prets 436-7","index":47,"n_rows":33,"n_cols":9,"rows_kept":33,"cut":false,"hidden":false,"merged":[[0,0,0,8],[1,0,1,8]]}
["4. 1. 6. AUTRES INFORMATIONS"]
["Conditions d'octroi des prêts consentis par le parti ou par les entités intégrées (art. 436-7)"]
["Prêts","Date début","Capital initial","Durée du remboursement","Mode amortissement","Capital restant dû","Taux fixe ou référence + marge","Plancher\nou plafond garantie","Nom de l'emprunteur"]
[]
[]
[]
[]
[]
[]
[]
[]
[]
[]
[]
[]
[]
[]
[]
[]
[]
[]
[]
[]
[]
[]
[]
[]
[]
[]
[]
["TOTAL",null,null,null,null,{"$f":"SUM(F4:F30)","v":0}]
["Contrôles",null,null,null,null,{"$f":"'Bilan d''ensemble Actif'!C13+'Bilan d''ensemble Actif'!C14+'Bilan d''ensemble Actif'!C15+'Bilan d''ensemble Actif'!C16+'Bilan d''ensemble Actif'!C17","v":0}]
["Ecarts",null,null,null,null,{"$f":"+F31-F32","v":0}]

{"sheet":"Emprunts 436-8","index":48,"n_rows":33,"n_cols":9,"rows_kept":33,"cut":false,"hidden":false,"merged":[[0,0,0,8],[1,0,1,8]]}
["4. 1. 6. AUTRES INFORMATIONS"]
["Conditions d'octroi des emprunts souscrits par le parti ou par les entités intégrées (art. 436-8)"]
["Emprunts","Date souscription","Capital initial","Durée du remboursement","Mode amortissement","Capital restant dû","Taux fixe ou référence + marge","plancher ou plafond garantie","Nom du prêteur"]
[]
[]
[]
[]
[]
[]
[]
[]
[]
[]
[]
[]
[]
[]
[]
[]
[]
[]
[]
[]
[]
[]
[]
[]
[]
[]
[]
["TOTAL",null,null,null,null,{"$f":"SUM(F4:F30)","v":0}]
["Contrôles",null,null,null,null,{"$f":"'Bilan d''ensemble Passif'!E18+'Bilan d''ensemble Passif'!E19+'Bilan d''ensemble Passif'!E20+'Bilan d''ensemble Passif'!E21","v":0}]
["Ecarts",null,null,null,null,{"$f":"F31-F32","v":0}]